{"text_format":"1","workbook":"xlsx","n_sheets":23,"sheets":["om lv","skjermbilde","utskrvalgtd","TegnVinklVert","TegnVinklHori","utskrskjerm","kopierFraUtsVT","skjult liste","beregninger og logiske tester","liste","tekst","datagrunnlag","rullegardinmenyer","Betingede formater","knapper","UI","LSR","LEV","LKR","LKRV","LKL","LKK","LKKV"],"not_rendered":{"charts":0,"images":27,"macros":1,"external_links":0,"defined_names":4,"comments":0,"pivot_tables":0},"unopened":[],"bounds":{"document_bytes":16777216,"sheet_cells":100000,"rows_first":2000,"rows_last":500,"rows_between":2000,"halvings":0,"cell_chars":16384,"cell_head_chars":4096},"cells_cut":0,"cells_raw":0,"read":"whole","date_system":"1900"}

{"sheet":"om lv","index":0,"n_rows":4,"n_cols":3,"rows_kept":4,"cut":false,"hidden":false,"merged":[]}
[]
[]
[null,{"$f":"+tekst!A2","v":"Lyddempervalg 5.0"}]
[null,"©","Trox Auranor 2020"]

{"sheet":"skjermbilde","index":1,"n_rows":35,"n_cols":19,"rows_kept":35,"cut":false,"hidden":false,"merged":[[4,20,4,22]]}
[null,null,{"$f":"tekst!A2","v":"Lyddempervalg 5.0"},null,null,null,null,null,null,null,{"$f":"+tekst!A69","v":"Kopiér bilde (side)"}]
[null,null,null,1,null,null,63,125,250,"500    Hz",1000,2000,4000,8000,null,null,null,null,"Please use printer symbol"]
[null,{"$f":"+IF(knapper!B1=2,tekst!A9,IF(knapper!B1=1,tekst!A6))","v":"Bredde [mm]"},null,800,null,null,null,null,null,null,null,null,null,null,true]
[null,{"$f":"+IF(knapper!B1=1,tekst!A7,IF(knapper!B1=2,tekst!A10))","v":"Høyde [mm]"},null,"r",2,{"$f":"+tekst!A18","v":"Lydkrav etter demper"},{"$f":"ROUND($O4*0.8+35,0)","v":75},{"$f":"ROUND($O4*0.864+22.1,0)","v":65},{"$f":"ROUND($O4*0.936+11.9,0)","v":59},{"$f":"ROUND($O4*0.9738+4.62335,0)","v":53},{"$f":"ROUND($O4,0)","v":50},{"$f":"ROUND($O4-3,0)","v":47},{"$f":"ROUND($O4*1.0197-5.97,0)","v":45},{"$f":"ROUND($O4*1.0369-8.44,0)","v":43},50]
[null,{"$f":"+tekst!A11","v":"Luftmengde"}]
[null,{"$f":"IF($E$15=\"u/i\",tekst!A40,tekst!A8)","v":"Lengde [mm]"},null,null,false,{"$f":"+tekst!A21","v":"Tilleggsdempning:"}]
[null,{"$f":"+tekst!A12","v":"Maksimalt trykktap"},null,null,null,{"$f":"+tekst!A20","v":"Toleranse:"}]
[null,null,null,null,null,null,null," "]
[null,null,null,null,{"$f":"tekst!A22","v":" = må fylles ut"}]
[null,null,null,null,{"$f":"tekst!A16","v":" = valgfri utfylling"},null,null,null,null,null,null,null,null,1,false]
[]
[]
[null,{"$f":"CONCATENATE(tekst!$A$15,'beregninger og logiske tester'!$BH$11)","v":"Dempere funnet:0"},{"$f":"IF(knapper!$B$1=1,tekst!$A37,\"\")","v":"Bredde"},{"$f":"IF(knapper!$B$1=1,tekst!$A36,\"\")","v":"Høyde"},{"$f":"tekst!$A28","v":"Lengde"},{"$f":"+tekst!A25","v":"Trykktap"},null,null,null,{"$f":"+tekst!A26","v":"Lyddempning [dB]"},null,null,null,null,{"$f":"+tekst!A27","v":"Lp"}]
[null,null,{"$f":"IF(knapper!$B$1=1,\"[mm]\",\"\")","v":"[mm]"},{"$f":"IF(knapper!$B$1=1,\"[mm]\",\"\")","v":"[mm]"},{"$f":"IF(knapper!$B$1=1,\"[mm]\",\"\")","v":"[mm]"},"[Pa]",63,125,250,500,"1k","2k","4k","8k","[dB(A)]"]
[null,{"$f":"tekst!A57","v":"Dempningskrav:"},null,null,{"$f":"+IF(AND('beregninger og logiske tester'!$B$7=\"r\",$N$10=2),\"U/I\",\"\")","v":""},null,{"$f":"+IF(ROUND(('beregninger og logiske tester'!Y11+$G$7),0)>0,ROUND(('beregninger og logiske tester'!Y11+$G$7),0),0)","v":0},{"$f":"+IF(ROUND(('beregninger og logiske tester'!Z11+$G$7),0)>0,ROUND(('beregninger og logiske tester'!Z11+$G$7),0),0)","v":0},{"$f":"+IF(ROUND(('beregninger og logiske tester'!AA11+$G$7),0)>0,ROUND(('beregninger og logiske tester'!AA11+$G$7),0),0)","v":0},{"$f":"+IF(ROUND(('beregninger og logiske tester'!AB11+$G$7),0)>0,ROUND(('beregninger og logiske tester'!AB11+$G$7),0),0)","v":0},{"$f":"+IF(ROUND(('beregninger og logiske tester'!AC11+$G$7),0)>0,ROUND(('beregninger og logiske tester'!AC11+$G$7),0),0)","v":0},{"$f":"+IF(ROUND(('beregninger og logiske tester'!AD11+$G$7),0)>0,ROUND(('beregninger og logiske tester'!AD11+$G$7),0),0)","v":0},{"$f":"+IF(ROUND(('beregninger og logiske tester'!AE11+$G$7),0)>0,ROUND(('beregninger og logiske tester'!AE11+$G$7),0),0)","v":0},{"$f":"+IF(ROUND(('beregninger og logiske tester'!AF11+$G$7),0)>0,ROUND(('beregninger og logiske tester'!AF11+$G$7),0),0)","v":0}]
[{"$f":"+'beregninger og logiske tester'!CX17","v":""},{"$f":"+'beregninger og logiske tester'!CY17","v":""},{"$f":"IF(VLOOKUP($A16,'beregninger og logiske tester'!$A$16:$CS$261,21,TRUE)=\"r\",VLOOKUP($A16,'beregninger og logiske tester'!$A$16:$CS$261,14,TRUE),\"\")","v":{"$error":"#N/A"}},{"$f":"IF(VLOOKUP($A16,'beregninger og logiske tester'!$A$16:$CS$261,21,TRUE)=\"r\",VLOOKUP($A16,'beregninger og logiske tester'!$A$16:$CS$261,15,TRUE),\"\")","v":{"$error":"#N/A"}},{"$f":"VLOOKUP($A16,'beregninger og logiske tester'!$A$16:$CS$261,17,TRUE)","v":{"$error":"#N/A"}},{"$f":"VLOOKUP($A16,'beregninger og logiske tester'!$A$16:$CS$261,24,TRUE)","v":{"$error":"#N/A"}},{"$f":"ROUND(VLOOKUP($A16,'beregninger og logiske tester'!$A$16:$CS$261,25,TRUE),0)","v":{"$error":"#N/A"}},{"$f":"ROUND(VLOOKUP($A16,'beregninger og logiske tester'!$A$16:$CS$261,26,TRUE),0)","v":{"$error":"#N/A"}},{"$f":"ROUND(VLOOKUP($A16,'beregninger og logiske tester'!$A$16:$CS$261,27,TRUE),0)","v":{"$error":"#N/A"}},{"$f":"ROUND(VLOOKUP($A16,'beregninger og logiske tester'!$A$16:$CS$261,28,TRUE),0)","v":{"$error":"#N/A"}},{"$f":"ROUND(VLOOKUP($A16,'beregninger og logiske tester'!$A$16:$CS$261,29,TRUE),0)","v":{"$error":"#N/A"}},{"$f":"ROUND(VLOOKUP($A16,'beregninger og logiske tester'!$A$16:$CS$261,30,TRUE),0)","v":{"$error":"#N/A"}},{"$f":"ROUND(VLOOKUP($A16,'beregninger og logiske tester'!$A$16:$CS$261,31,TRUE),0)","v":{"$error":"#N/A"}},{"$f":"ROUND(VLOOKUP($A16,'beregninger og logiske tester'!$A$16:$CS$261,32,TRUE),0)","v":{"$error":"#N/A"}},{"$f":"IF(VLOOKUP($A16,'beregninger og logiske tester'!$A$16:$CS$261,43,TRUE)<20,\"<20\",VLOOKUP($A16,'beregninger og logiske tester'!$A$16:$CS$261,43,TRUE))","v":{"$error":"#N/A"}}]
[{"$f":"+'beregninger og logiske tester'!CX18","v":""},{"$f":"+'beregninger og logiske tester'!CY18","v":""},{"$f":"IF(VLOOKUP($A17,'beregninger og logiske tester'!$A$16:$CS$261,21,TRUE)=\"r\",VLOOKUP($A17,'beregninger og logiske tester'!$A$16:$CS$261,14,TRUE),\"\")","v":{"$error":"#N/A"}},{"$f":"IF(VLOOKUP($A17,'beregninger og logiske tester'!$A$16:$CS$261,21,TRUE)=\"r\",VLOOKUP($A17,'beregninger og logiske tester'!$A$16:$CS$261,15,TRUE),\"\")","v":{"$error":"#N/A"}},{"$f":"VLOOKUP($A17,'beregninger og logiske tester'!$A$16:$CS$261,17,TRUE)","v":{"$error":"#N/A"}},{"$f":"VLOOKUP($A17,'beregninger og logiske tester'!$A$16:$CS$261,24,TRUE)","v":{"$error":"#N/A"}},{"$f":"ROUND(VLOOKUP($A17,'beregninger og logiske tester'!$A$16:$CS$261,25,TRUE),0)","v":{"$error":"#N/A"}},{"$f":"ROUND(VLOOKUP($A17,'beregninger og logiske tester'!$A$16:$CS$261,26,TRUE),0)","v":{"$error":"#N/A"}},{"$f":"ROUND(VLOOKUP($A17,'beregninger og logiske tester'!$A$16:$CS$261,27,TRUE),0)","v":{"$error":"#N/A"}},{"$f":"ROUND(VLOOKUP($A17,'beregninger og logiske tester'!$A$16:$CS$261,28,TRUE),0)","v":{"$error":"#N/A"}},{"$f":"ROUND(VLOOKUP($A17,'beregninger og logiske tester'!$A$16:$CS$261,29,TRUE),0)","v":{"$error":"#N/A"}},{"$f":"ROUND(VLOOKUP($A17,'beregninger og logiske tester'!$A$16:$CS$261,30,TRUE),0)","v":{"$error":"#N/A"}},{"$f":"ROUND(VLOOKUP($A17,'beregninger og logiske tester'!$A$16:$CS$261,31,TRUE),0)","v":{"$error":"#N/A"}},{"$f":"ROUND(VLOOKUP($A17,'beregninger og logiske tester'!$A$16:$CS$261,32,TRUE),0)","v":{"$error":"#N/A"}},{"$f":"IF(VLOOKUP($A17,'beregninger og logiske tester'!$A$16:$CS$261,43,TRUE)<20,\"<20\",VLOOKUP($A17,'beregninger og logiske tester'!$A$16:$CS$261,43,TRUE))","v":{"$error":"#N/A"}}]
[{"$f":"+'beregninger og logiske tester'!CX19","v":""},{"$f":"+'beregninger og logiske tester'!CY19","v":""},{"$f":"IF(VLOOKUP($A18,'beregninger og logiske tester'!$A$16:$CS$261,21,TRUE)=\"r\",VLOOKUP($A18,'beregninger og logiske tester'!$A$16:$CS$261,14,TRUE),\"\")","v":{"$error":"#N/A"}},{"$f":"IF(VLOOKUP($A18,'beregninger og logiske tester'!$A$16:$CS$261,21,TRUE)=\"r\",VLOOKUP($A18,'beregninger og logiske tester'!$A$16:$CS$261,15,TRUE),\"\")","v":{"$error":"#N/A"}},{"$f":"VLOOKUP($A18,'beregninger og logiske tester'!$A$16:$CS$261,17,TRUE)","v":{"$error":"#N/A"}},{"$f":"VLOOKUP($A18,'beregninger og logiske tester'!$A$16:$CS$261,24,TRUE)","v":{"$error":"#N/A"}},{"$f":"ROUND(VLOOKUP($A18,'beregninger og logiske tester'!$A$16:$CS$261,25,TRUE),0)","v":{"$error":"#N/A"}},{"$f":"ROUND(VLOOKUP($A18,'beregninger og logiske tester'!$A$16:$CS$261,26,TRUE),0)","v":{"$error":"#N/A"}},{"$f":"ROUND(VLOOKUP($A18,'beregninger og logiske tester'!$A$16:$CS$261,27,TRUE),0)","v":{"$error":"#N/A"}},{"$f":"ROUND(VLOOKUP($A18,'beregninger og logiske tester'!$A$16:$CS$261,28,TRUE),0)","v":{"$error":"#N/A"}},{"$f":"ROUND(VLOOKUP($A18,'beregninger og logiske tester'!$A$16:$CS$261,29,TRUE),0)","v":{"$error":"#N/A"}},{"$f":"ROUND(VLOOKUP($A18,'beregninger og logiske tester'!$A$16:$CS$261,30,TRUE),0)","v":{"$error":"#N/A"}},{"$f":"ROUND(VLOOKUP($A18,'beregninger og logiske tester'!$A$16:$CS$261,31,TRUE),0)","v":{"$error":"#N/A"}},{"$f":"ROUND(VLOOKUP($A18,'beregninger og logiske tester'!$A$16:$CS$261,32,TRUE),0)","v":{"$error":"#N/A"}},{"$f":"IF(VLOOKUP($A18,'beregninger og logiske tester'!$A$16:$CS$261,43,TRUE)<20,\"<20\",VLOOKUP($A18,'beregninger og logiske tester'!$A$16:$CS$261,43,TRUE))","v":{"$error":"#N/A"}}]
[{"$f":"+'beregninger og logiske tester'!CX20","v":""},{"$f":"+'beregninger og logiske tester'!CY20","v":""},{"$f":"IF(VLOOKUP($A19,'beregninger og logiske tester'!$A$16:$CS$261,21,TRUE)=\"r\",VLOOKUP($A19,'beregninger og logiske tester'!$A$16:$CS$261,14,TRUE),\"\")","v":{"$error":"#N/A"}},{"$f":"IF(VLOOKUP($A19,'beregninger og logiske tester'!$A$16:$CS$261,21,TRUE)=\"r\",VLOOKUP($A19,'beregninger og logiske tester'!$A$16:$CS$261,15,TRUE),\"\")","v":{"$error":"#N/A"}},{"$f":"VLOOKUP($A19,'beregninger og logiske tester'!$A$16:$CS$261,17,TRUE)","v":{"$error":"#N/A"}},{"$f":"VLOOKUP($A19,'beregninger og logiske tester'!$A$16:$CS$261,24,TRUE)","v":{"$error":"#N/A"}},{"$f":"ROUND(VLOOKUP($A19,'beregninger og logiske tester'!$A$16:$CS$261,25,TRUE),0)","v":{"$error":"#N/A"}},{"$f":"ROUND(VLOOKUP($A19,'beregninger og logiske tester'!$A$16:$CS$261,26,TRUE),0)","v":{"$error":"#N/A"}},{"$f":"ROUND(VLOOKUP($A19,'beregninger og logiske tester'!$A$16:$CS$261,27,TRUE),0)","v":{"$error":"#N/A"}},{"$f":"ROUND(VLOOKUP($A19,'beregninger og logiske tester'!$A$16:$CS$261,28,TRUE),0)","v":{"$error":"#N/A"}},{"$f":"ROUND(VLOOKUP($A19,'beregninger og logiske tester'!$A$16:$CS$261,29,TRUE),0)","v":{"$error":"#N/A"}},{"$f":"ROUND(VLOOKUP($A19,'beregninger og logiske tester'!$A$16:$CS$261,30,TRUE),0)","v":{"$error":"#N/A"}},{"$f":"ROUND(VLOOKUP($A19,'beregninger og logiske tester'!$A$16:$CS$261,31,TRUE),0)","v":{"$error":"#N/A"}},{"$f":"ROUND(VLOOKUP($A19,'beregninger og logiske tester'!$A$16:$CS$261,32,TRUE),0)","v":{"$error":"#N/A"}},{"$f":"IF(VLOOKUP($A19,'beregninger og logiske tester'!$A$16:$CS$261,43,TRUE)<20,\"<20\",VLOOKUP($A19,'beregninger og logiske tester'!$A$16:$CS$261,43,TRUE))","v":{"$error":"#N/A"}}]
[{"$f":"+'beregninger og logiske tester'!CX21","v":""},{"$f":"+'beregninger og logiske tester'!CY21","v":""},{"$f":"IF(VLOOKUP($A20,'beregninger og logiske tester'!$A$16:$CS$261,21,TRUE)=\"r\",VLOOKUP($A20,'beregninger og logiske tester'!$A$16:$CS$261,14,TRUE),\"\")","v":{"$error":"#N/A"}},{"$f":"IF(VLOOKUP($A20,'beregninger og logiske tester'!$A$16:$CS$261,21,TRUE)=\"r\",VLOOKUP($A20,'beregninger og logiske tester'!$A$16:$CS$261,15,TRUE),\"\")","v":{"$error":"#N/A"}},{"$f":"VLOOKUP($A20,'beregninger og logiske tester'!$A$16:$CS$261,17,TRUE)","v":{"$error":"#N/A"}},{"$f":"VLOOKUP($A20,'beregninger og logiske tester'!$A$16:$CS$261,24,TRUE)","v":{"$error":"#N/A"}},{"$f":"ROUND(VLOOKUP($A20,'beregninger og logiske tester'!$A$16:$CS$261,25,TRUE),0)","v":{"$error":"#N/A"}},{"$f":"ROUND(VLOOKUP($A20,'beregninger og logiske tester'!$A$16:$CS$261,26,TRUE),0)","v":{"$error":"#N/A"}},{"$f":"ROUND(VLOOKUP($A20,'beregninger og logiske tester'!$A$16:$CS$261,27,TRUE),0)","v":{"$error":"#N/A"}},{"$f":"ROUND(VLOOKUP($A20,'beregninger og logiske tester'!$A$16:$CS$261,28,TRUE),0)","v":{"$error":"#N/A"}},{"$f":"ROUND(VLOOKUP($A20,'beregninger og logiske tester'!$A$16:$CS$261,29,TRUE),0)","v":{"$error":"#N/A"}},{"$f":"ROUND(VLOOKUP($A20,'beregninger og logiske tester'!$A$16:$CS$261,30,TRUE),0)","v":{"$error":"#N/A"}},{"$f":"ROUND(VLOOKUP($A20,'beregninger og logiske tester'!$A$16:$CS$261,31,TRUE),0)","v":{"$error":"#N/A"}},{"$f":"ROUND(VLOOKUP($A20,'beregninger og logiske tester'!$A$16:$CS$261,32,TRUE),0)","v":{"$error":"#N/A"}},{"$f":"IF(VLOOKUP($A20,'beregninger og logiske tester'!$A$16:$CS$261,43,TRUE)<20,\"<20\",VLOOKUP($A20,'beregninger og logiske tester'!$A$16:$CS$261,43,TRUE))","v":{"$error":"#N/A"}}]
[{"$f":"+'beregninger og logiske tester'!CX22","v":""},{"$f":"+'beregninger og logiske tester'!CY22","v":""},{"$f":"IF(VLOOKUP($A21,'beregninger og logiske tester'!$A$16:$CS$261,21,TRUE)=\"r\",VLOOKUP($A21,'beregninger og logiske tester'!$A$16:$CS$261,14,TRUE),\"\")","v":{"$error":"#N/A"}},{"$f":"IF(VLOOKUP($A21,'beregninger og logiske tester'!$A$16:$CS$261,21,TRUE)=\"r\",VLOOKUP($A21,'beregninger og logiske tester'!$A$16:$CS$261,15,TRUE),\"\")","v":{"$error":"#N/A"}},{"$f":"VLOOKUP($A21,'beregninger og logiske tester'!$A$16:$CS$261,17,TRUE)","v":{"$error":"#N/A"}},{"$f":"VLOOKUP($A21,'beregninger og logiske tester'!$A$16:$CS$261,24,TRUE)","v":{"$error":"#N/A"}},{"$f":"ROUND(VLOOKUP($A21,'beregninger og logiske tester'!$A$16:$CS$261,25,TRUE),0)","v":{"$error":"#N/A"}},{"$f":"ROUND(VLOOKUP($A21,'beregninger og logiske tester'!$A$16:$CS$261,26,TRUE),0)","v":{"$error":"#N/A"}},{"$f":"ROUND(VLOOKUP($A21,'beregninger og logiske tester'!$A$16:$CS$261,27,TRUE),0)","v":{"$error":"#N/A"}},{"$f":"ROUND(VLOOKUP($A21,'beregninger og logiske tester'!$A$16:$CS$261,28,TRUE),0)","v":{"$error":"#N/A"}},{"$f":"ROUND(VLOOKUP($A21,'beregninger og logiske tester'!$A$16:$CS$261,29,TRUE),0)","v":{"$error":"#N/A"}},{"$f":"ROUND(VLOOKUP($A21,'beregninger og logiske tester'!$A$16:$CS$261,30,TRUE),0)","v":{"$error":"#N/A"}},{"$f":"ROUND(VLOOKUP($A21,'beregninger og logiske tester'!$A$16:$CS$261,31,TRUE),0)","v":{"$error":"#N/A"}},{"$f":"ROUND(VLOOKUP($A21,'beregninger og logiske tester'!$A$16:$CS$261,32,TRUE),0)","v":{"$error":"#N/A"}},{"$f":"IF(VLOOKUP($A21,'beregninger og logiske tester'!$A$16:$CS$261,43,TRUE)<20,\"<20\",VLOOKUP($A21,'beregninger og logiske tester'!$A$16:$CS$261,43,TRUE))","v":{"$error":"#N/A"}}]
[{"$f":"+'beregninger og logiske tester'!CX23","v":""},{"$f":"+'beregninger og logiske tester'!CY23","v":""},{"$f":"IF(VLOOKUP($A22,'beregninger og logiske tester'!$A$16:$CS$261,21,TRUE)=\"r\",VLOOKUP($A22,'beregninger og logiske tester'!$A$16:$CS$261,14,TRUE),\"\")","v":{"$error":"#N/A"}},{"$f":"IF(VLOOKUP($A22,'beregninger og logiske tester'!$A$16:$CS$261,21,TRUE)=\"r\",VLOOKUP($A22,'beregninger og logiske tester'!$A$16:$CS$261,15,TRUE),\"\")","v":{"$error":"#N/A"}},{"$f":"VLOOKUP($A22,'beregninger og logiske tester'!$A$16:$CS$261,17,TRUE)","v":{"$error":"#N/A"}},{"$f":"VLOOKUP($A22,'beregninger og logiske tester'!$A$16:$CS$261,24,TRUE)","v":{"$error":"#N/A"}},{"$f":"ROUND(VLOOKUP($A22,'beregninger og logiske tester'!$A$16:$CS$261,25,TRUE),0)","v":{"$error":"#N/A"}},{"$f":"ROUND(VLOOKUP($A22,'beregninger og logiske tester'!$A$16:$CS$261,26,TRUE),0)","v":{"$error":"#N/A"}},{"$f":"ROUND(VLOOKUP($A22,'beregninger og logiske tester'!$A$16:$CS$261,27,TRUE),0)","v":{"$error":"#N/A"}},{"$f":"ROUND(VLOOKUP($A22,'beregninger og logiske tester'!$A$16:$CS$261,28,TRUE),0)","v":{"$error":"#N/A"}},{"$f":"ROUND(VLOOKUP($A22,'beregninger og logiske tester'!$A$16:$CS$261,29,TRUE),0)","v":{"$error":"#N/A"}},{"$f":"ROUND(VLOOKUP($A22,'beregninger og logiske tester'!$A$16:$CS$261,30,TRUE),0)","v":{"$error":"#N/A"}},{"$f":"ROUND(VLOOKUP($A22,'beregninger og logiske tester'!$A$16:$CS$261,31,TRUE),0)","v":{"$error":"#N/A"}},{"$f":"ROUND(VLOOKUP($A22,'beregninger og logiske tester'!$A$16:$CS$261,32,TRUE),0)","v":{"$error":"#N/A"}},{"$f":"IF(VLOOKUP($A22,'beregninger og logiske tester'!$A$16:$CS$261,43,TRUE)<20,\"<20\",VLOOKUP($A22,'beregninger og logiske tester'!$A$16:$CS$261,43,TRUE))","v":{"$error":"#N/A"}}]
[{"$f":"+'beregninger og logiske tester'!CX24","v":""},{"$f":"+'beregninger og logiske tester'!CY24","v":""},{"$f":"IF(VLOOKUP($A23,'beregninger og logiske tester'!$A$16:$CS$261,21,TRUE)=\"r\",VLOOKUP($A23,'beregninger og logiske tester'!$A$16:$CS$261,14,TRUE),\"\")","v":{"$error":"#N/A"}},{"$f":"IF(VLOOKUP($A23,'beregninger og logiske tester'!$A$16:$CS$261,21,TRUE)=\"r\",VLOOKUP($A23,'beregninger og logiske tester'!$A$16:$CS$261,15,TRUE),\"\")","v":{"$error":"#N/A"}},{"$f":"VLOOKUP($A23,'beregninger og logiske tester'!$A$16:$CS$261,17,TRUE)","v":{"$error":"#N/A"}},{"$f":"VLOOKUP($A23,'beregninger og logiske tester'!$A$16:$CS$261,24,TRUE)","v":{"$error":"#N/A"}},{"$f":"ROUND(VLOOKUP($A23,'beregninger og logiske tester'!$A$16:$CS$261,25,TRUE),0)","v":{"$error":"#N/A"}},{"$f":"ROUND(VLOOKUP($A23,'beregninger og logiske tester'!$A$16:$CS$261,26,TRUE),0)","v":{"$error":"#N/A"}},{"$f":"ROUND(VLOOKUP($A23,'beregninger og logiske tester'!$A$16:$CS$261,27,TRUE),0)","v":{"$error":"#N/A"}},{"$f":"ROUND(VLOOKUP($A23,'beregninger og logiske tester'!$A$16:$CS$261,28,TRUE),0)","v":{"$error":"#N/A"}},{"$f":"ROUND(VLOOKUP($A23,'beregninger og logiske tester'!$A$16:$CS$261,29,TRUE),0)","v":{"$error":"#N/A"}},{"$f":"ROUND(VLOOKUP($A23,'beregninger og logiske tester'!$A$16:$CS$261,30,TRUE),0)","v":{"$error":"#N/A"}},{"$f":"ROUND(VLOOKUP($A23,'beregninger og logiske tester'!$A$16:$CS$261,31,TRUE),0)","v":{"$error":"#N/A"}},{"$f":"ROUND(VLOOKUP($A23,'beregninger og logiske tester'!$A$16:$CS$261,32,TRUE),0)","v":{"$error":"#N/A"}},{"$f":"IF(VLOOKUP($A23,'beregninger og logiske tester'!$A$16:$CS$261,43,TRUE)<20,\"<20\",VLOOKUP($A23,'beregninger og logiske tester'!$A$16:$CS$261,43,TRUE))","v":{"$error":"#N/A"}}]
[{"$f":"+'beregninger og logiske tester'!CX25","v":""},{"$f":"+'beregninger og logiske tester'!CY25","v":""},{"$f":"IF(VLOOKUP($A24,'beregninger og logiske tester'!$A$16:$CS$261,21,TRUE)=\"r\",VLOOKUP($A24,'beregninger og logiske tester'!$A$16:$CS$261,14,TRUE),\"\")","v":{"$error":"#N/A"}},{"$f":"IF(VLOOKUP($A24,'beregninger og logiske tester'!$A$16:$CS$261,21,TRUE)=\"r\",VLOOKUP($A24,'beregninger og logiske tester'!$A$16:$CS$261,15,TRUE),\"\")","v":{"$error":"#N/A"}},{"$f":"VLOOKUP($A24,'beregninger og logiske tester'!$A$16:$CS$261,17,TRUE)","v":{"$error":"#N/A"}},{"$f":"VLOOKUP($A24,'beregninger og logiske tester'!$A$16:$CS$261,24,TRUE)","v":{"$error":"#N/A"}},{"$f":"ROUND(VLOOKUP($A24,'beregninger og logiske tester'!$A$16:$CS$261,25,TRUE),0)","v":{"$error":"#N/A"}},{"$f":"ROUND(VLOOKUP($A24,'beregninger og logiske tester'!$A$16:$CS$261,26,TRUE),0)","v":{"$error":"#N/A"}},{"$f":"ROUND(VLOOKUP($A24,'beregninger og logiske tester'!$A$16:$CS$261,27,TRUE),0)","v":{"$error":"#N/A"}},{"$f":"ROUND(VLOOKUP($A24,'beregninger og logiske tester'!$A$16:$CS$261,28,TRUE),0)","v":{"$error":"#N/A"}},{"$f":"ROUND(VLOOKUP($A24,'beregninger og logiske tester'!$A$16:$CS$261,29,TRUE),0)","v":{"$error":"#N/A"}},{"$f":"ROUND(VLOOKUP($A24,'beregninger og logiske tester'!$A$16:$CS$261,30,TRUE),0)","v":{"$error":"#N/A"}},{"$f":"ROUND(VLOOKUP($A24,'beregninger og logiske tester'!$A$16:$CS$261,31,TRUE),0)","v":{"$error":"#N/A"}},{"$f":"ROUND(VLOOKUP($A24,'beregninger og logiske tester'!$A$16:$CS$261,32,TRUE),0)","v":{"$error":"#N/A"}},{"$f":"IF(VLOOKUP($A24,'beregninger og logiske tester'!$A$16:$CS$261,43,TRUE)<20,\"<20\",VLOOKUP($A24,'beregninger og logiske tester'!$A$16:$CS$261,43,TRUE))","v":{"$error":"#N/A"}}]
[{"$f":"+'beregninger og logiske tester'!CX26","v":""},{"$f":"+'beregninger og logiske tester'!CY26","v":""},{"$f":"IF(VLOOKUP($A25,'beregninger og logiske tester'!$A$16:$CS$261,21,TRUE)=\"r\",VLOOKUP($A25,'beregninger og logiske tester'!$A$16:$CS$261,14,TRUE),\"\")","v":{"$error":"#N/A"}},{"$f":"IF(VLOOKUP($A25,'beregninger og logiske tester'!$A$16:$CS$261,21,TRUE)=\"r\",VLOOKUP($A25,'beregninger og logiske tester'!$A$16:$CS$261,15,TRUE),\"\")","v":{"$error":"#N/A"}},{"$f":"VLOOKUP($A25,'beregninger og logiske tester'!$A$16:$CS$261,17,TRUE)","v":{"$error":"#N/A"}},{"$f":"VLOOKUP($A25,'beregninger og logiske tester'!$A$16:$CS$261,24,TRUE)","v":{"$error":"#N/A"}},{"$f":"ROUND(VLOOKUP($A25,'beregninger og logiske tester'!$A$16:$CS$261,25,TRUE),0)","v":{"$error":"#N/A"}},{"$f":"ROUND(VLOOKUP($A25,'beregninger og logiske tester'!$A$16:$CS$261,26,TRUE),0)","v":{"$error":"#N/A"}},{"$f":"ROUND(VLOOKUP($A25,'beregninger og logiske tester'!$A$16:$CS$261,27,TRUE),0)","v":{"$error":"#N/A"}},{"$f":"ROUND(VLOOKUP($A25,'beregninger og logiske tester'!$A$16:$CS$261,28,TRUE),0)","v":{"$error":"#N/A"}},{"$f":"ROUND(VLOOKUP($A25,'beregninger og logiske tester'!$A$16:$CS$261,29,TRUE),0)","v":{"$error":"#N/A"}},{"$f":"ROUND(VLOOKUP($A25,'beregninger og logiske tester'!$A$16:$CS$261,30,TRUE),0)","v":{"$error":"#N/A"}},{"$f":"ROUND(VLOOKUP($A25,'beregninger og logiske tester'!$A$16:$CS$261,31,TRUE),0)","v":{"$error":"#N/A"}},{"$f":"ROUND(VLOOKUP($A25,'beregninger og logiske tester'!$A$16:$CS$261,32,TRUE),0)","v":{"$error":"#N/A"}},{"$f":"IF(VLOOKUP($A25,'beregninger og logiske tester'!$A$16:$CS$261,43,TRUE)<20,\"<20\",VLOOKUP($A25,'beregninger og logiske tester'!$A$16:$CS$261,43,TRUE))","v":{"$error":"#N/A"}}]
[]
[null,{"$f":"+tekst!A17","v":"Valgt lyddemper:"}]
[null,{"$f":"VLOOKUP($A$28,'beregninger og logiske tester'!$A$16:$CQ$261,2,TRUE)","v":{"$error":"#N/A"}},{"$f":"IF(VLOOKUP($A$28,'beregninger og logiske tester'!$A$16:$CS$261,21,TRUE)=\"r\",VLOOKUP($A$28,'beregninger og logiske tester'!$A$16:$CS$261,14,TRUE),\"\")","v":{"$error":"#N/A"}},{"$f":"IF(VLOOKUP($A$28,'beregninger og logiske tester'!$A$16:$CS$261,21,TRUE)=\"r\",VLOOKUP($A$28,'beregninger og logiske tester'!$A$16:$CS$261,15,TRUE),\"\")","v":{"$error":"#N/A"}},{"$f":"VLOOKUP($A$28,'beregninger og logiske tester'!$A$16:$CQ$261,17,TRUE)","v":{"$error":"#N/A"}},{"$f":"VLOOKUP($A$28,'beregninger og logiske tester'!$A$16:$CS$261,24,TRUE)","v":{"$error":"#N/A"}},{"$f":"ROUND(VLOOKUP($A28,'beregninger og logiske tester'!$A$16:$CS$261,25,TRUE),0)","v":{"$error":"#N/A"}},{"$f":"ROUND(VLOOKUP($A28,'beregninger og logiske tester'!$A$16:$CS$261,26,TRUE),0)","v":{"$error":"#N/A"}},{"$f":"ROUND(VLOOKUP($A28,'beregninger og logiske tester'!$A$16:$CS$261,27,TRUE),0)","v":{"$error":"#N/A"}},{"$f":"ROUND(VLOOKUP($A28,'beregninger og logiske tester'!$A$16:$CS$261,28,TRUE),0)","v":{"$error":"#N/A"}},{"$f":"ROUND(VLOOKUP($A28,'beregninger og logiske tester'!$A$16:$CS$261,29,TRUE),0)","v":{"$error":"#N/A"}},{"$f":"ROUND(VLOOKUP($A28,'beregninger og logiske tester'!$A$16:$CS$261,30,TRUE),0)","v":{"$error":"#N/A"}},{"$f":"ROUND(VLOOKUP($A28,'beregninger og logiske tester'!$A$16:$CS$261,31,TRUE),0)","v":{"$error":"#N/A"}},{"$f":"ROUND(VLOOKUP($A28,'beregninger og logiske tester'!$A$16:$CS$261,32,TRUE),0)","v":{"$error":"#N/A"}},{"$f":"IF(VLOOKUP($A$28,'beregninger og logiske tester'!$A$16:$CS$261,43,TRUE)<20,\"<20\",VLOOKUP($A$28,'beregninger og logiske tester'!$A$16:$CS$261,43,TRUE))","v":{"$error":"#N/A"}}]
[null,null,null,null,null,"","","","","","","","","",""]
[null,null,null,null,null,"","","","","","","","","",""]
[null,null,null,null,null,"","","","","","","","","",""]
[null,null,null,null,null,"","","","","","","","","",""]
[null,null,null,null,null,"",0,"","",5,7,19,29,27,""]
[null,20,"","",null,"","","","","","","","","",""]
[null,21,"","",null,"","","","","","","","","",""]

{"sheet":"utskrvalgtd","index":2,"n_rows":42,"n_cols":17,"rows_kept":42,"cut":false,"hidden":false,"merged":[[4,2,4,13],[33,1,33,4],[34,1,34,4],[5,2,5,13],[7,2,7,13],[8,2,8,13],[6,2,6,13]]}
[null,null,null,null,null,null,null,null,null,null,null,null,null,null,null,16,2]
[]
[null,null,null,null,null,{"$f":"+tekst!A2","v":"Lyddempervalg 5.0"}]
[]
[null,{"$f":"tekst!A33","v":"Dato:"},{"$f":"+NOW()","v":"2020-12-19T18:50:58.150"}]
[null,{"$f":"+tekst!A48","v":"Prosjekt:"},null,null,null,null,null,null,null,null,null,null,null,null,0]
[null,"Kunde:"]
[null,{"$f":"tekst!A49","v":"System:"}]
[]
[]
[null,{"$f":"+tekst!A61","v":"Krav:"}]
[null,{"$f":"+tekst!A3","v":"Anslutningsform"},null,{"$f":"+IF(knapper!B1=1,tekst!A5,tekst!A4)","v":"Rektangulær"}]
[null,{"$f":"+tekst!A9","v":"Anslutningsdiameter"},null,{"$f":"+IF(knapper!B1=2,skjermbilde!D3,\"\")","v":""},{"$f":"IF(knapper!B1=2,\"mm\",\"\")","v":""}]
[null,{"$f":"+tekst!A6","v":"Bredde [mm]"},null,{"$f":"IF(knapper!B1=1,skjermbilde!C3,\"\")","v":0},{"$f":"IF(knapper!B1=1,\"mm\",\"\")","v":"mm"}]
[null,{"$f":"+tekst!A7","v":"Høyde [mm]"},null,{"$f":"IF(knapper!B1=1,skjermbilde!C4,\"\")","v":0},{"$f":"IF(knapper!B1=1,\"mm\",\"\")","v":"mm"}]
[null,{"$f":"+tekst!A8","v":"Lengde [mm]"},null,{"$f":"+IF(knapper!B1=1,skjermbilde!C6,skjermbilde!D6)","v":0},"mm"]
[null,{"$f":"+tekst!A12","v":"Maksimalt trykktap"},null,{"$f":"+IF(knapper!B1=1,skjermbilde!C7,skjermbilde!D7)","v":0},"Pa"]
[null,{"$f":"+tekst!A11","v":"Luftmengde"},null,{"$f":"+IF(knapper!B1=1,skjermbilde!C5,skjermbilde!D5)","v":0},{"$f":"+IF(knapper!B7=1,\"m³/h\",\"l/s\")","v":"m³/h"},null,{"$f":"+tekst!A75","v":"Legg til liste"},null,null,null,{"$f":"+tekst!A78","v":"Vis liste"}]
[]
[null,{"$f":"+tekst!A24","v":"Lyddemperkode"},{"$f":"+IF(skjermbilde!C13<>0,skjermbilde!C13,\"\")","v":"Bredde"},{"$f":"+IF(skjermbilde!D13<>0,skjermbilde!D13,\"\")","v":"Høyde"},{"$f":"+IF(skjermbilde!E13<>0,skjermbilde!E13,\"\")","v":"Lengde"},{"$f":"+IF(skjermbilde!F13<>0,skjermbilde!F13,\"\")","v":"Trykktap"},null,null,null,{"$f":"+IF(skjermbilde!J13<>0,skjermbilde!J13,\"\")","v":"Lyddempning [dB]"}]
[null,{"$f":"+IF(skjermbilde!B14<>0,skjermbilde!B14,\"\")","v":""},{"$f":"+IF(skjermbilde!C14<>0,skjermbilde!C14,\"\")","v":"[mm]"},{"$f":"+IF(skjermbilde!D14<>0,skjermbilde!D14,\"\")","v":"[mm]"},{"$f":"+IF(skjermbilde!E14<>0,skjermbilde!E14,\"\")","v":"[mm]"},{"$f":"+IF(skjermbilde!F14<>0,skjermbilde!F14,\"\")","v":"[Pa]"},{"$f":"+IF(skjermbilde!G14<>0,skjermbilde!G14,\"\")","v":63},{"$f":"+IF(skjermbilde!H14<>0,skjermbilde!H14,\"\")","v":125},{"$f":"+IF(skjermbilde!I14<>0,skjermbilde!I14,\"\")","v":250},{"$f":"+IF(skjermbilde!J14<>0,skjermbilde!J14,\"\")","v":500},{"$f":"+IF(skjermbilde!K14<>0,skjermbilde!K14,\"\")","v":"1k"},{"$f":"+IF(skjermbilde!L14<>0,skjermbilde!L14,\"\")","v":"2k"},{"$f":"+IF(skjermbilde!M14<>0,skjermbilde!M14,\"\")","v":"4k"},{"$f":"+IF(skjermbilde!N14<>0,skjermbilde!N14,\"\")","v":"8k"}]
[null,{"$f":"+IF(AND(skjermbilde!B28<>0,skjermbilde!D2=2),CONCATENATE(\"2 x \",skjermbilde!B28),IF(skjermbilde!B28<>0,skjermbilde!B28,\"\"))","v":{"$error":"#N/A"}},{"$f":"+IF(skjermbilde!C28<>0,skjermbilde!C28,\"\")","v":{"$error":"#N/A"}},{"$f":"+IF(skjermbilde!D28<>0,skjermbilde!D28,\"\")","v":{"$error":"#N/A"}},{"$f":"+IF(skjermbilde!E28<>0,skjermbilde!E28,\"\")","v":{"$error":"#N/A"}},{"$f":"+IF(skjermbilde!F28<>0,skjermbilde!F28,\"\")","v":{"$error":"#N/A"}},{"$f":"+IF(skjermbilde!G28<>0,skjermbilde!G28,\"\")","v":{"$error":"#N/A"}},{"$f":"+IF(skjermbilde!H28<>0,skjermbilde!H28,\"\")","v":{"$error":"#N/A"}},{"$f":"+IF(skjermbilde!I28<>0,skjermbilde!I28,\"\")","v":{"$error":"#N/A"}},{"$f":"+IF(skjermbilde!J28<>0,skjermbilde!J28,\"\")","v":{"$error":"#N/A"}},{"$f":"+IF(skjermbilde!K28<>0,skjermbilde!K28,\"\")","v":{"$error":"#N/A"}},{"$f":"+IF(skjermbilde!L28<>0,skjermbilde!L28,\"\")","v":{"$error":"#N/A"}},{"$f":"+IF(skjermbilde!M28<>0,skjermbilde!M28,\"\")","v":{"$error":"#N/A"}},{"$f":"+IF(skjermbilde!N28<>0,skjermbilde!N28,\"\")","v":{"$error":"#N/A"}}]
[null,{"$f":"IF(skjermbilde!$N$10=1,CONCATENATE(MID(B22,1,3),\"S\"),CONCATENATE(MID(B22,1,3),\"V\"))","v":{"$error":"#N/A"}},null,null,null,{"$f":"tekst!$A$57","v":"Dempningskrav:"},{"$f":"skjermbilde!G15","v":0},{"$f":"skjermbilde!H15","v":0},{"$f":"skjermbilde!I15","v":0},{"$f":"skjermbilde!J15","v":0},{"$f":"skjermbilde!K15","v":0},{"$f":"skjermbilde!L15","v":0},{"$f":"skjermbilde!M15","v":0},{"$f":"skjermbilde!N15","v":0}]
[null,null,null,null,null,{"$f":"IF(skjermbilde!$E$4=1,\"\",tekst!$A$60)","v":"Viftestøy:"},{"$f":"IF(skjermbilde!$E$4=1,\"\",skjermbilde!G3)","v":0},{"$f":"IF(skjermbilde!$E$4=1,\"\",skjermbilde!H3)","v":0},{"$f":"IF(skjermbilde!$E$4=1,\"\",skjermbilde!I3)","v":0},{"$f":"IF(skjermbilde!$E$4=1,\"\",skjermbilde!J3)","v":0},{"$f":"IF(skjermbilde!$E$4=1,\"\",skjermbilde!K3)","v":0},{"$f":"IF(skjermbilde!$E$4=1,\"\",skjermbilde!L3)","v":0},{"$f":"IF(skjermbilde!$E$4=1,\"\",skjermbilde!M3)","v":0},{"$f":"IF(skjermbilde!$E$4=1,\"\",skjermbilde!N3)","v":0}]
[null,null,null,null,null,{"$f":"IF(skjermbilde!$E$4=1,\"\",skjermbilde!$O$4)","v":50},{"$f":"IF(skjermbilde!$E$4=1,\"\",skjermbilde!G4)","v":75},{"$f":"IF(skjermbilde!$E$4=1,\"\",skjermbilde!H4)","v":65},{"$f":"IF(skjermbilde!$E$4=1,\"\",skjermbilde!I4)","v":59},{"$f":"IF(skjermbilde!$E$4=1,\"\",skjermbilde!J4)","v":53},{"$f":"IF(skjermbilde!$E$4=1,\"\",skjermbilde!K4)","v":50},{"$f":"IF(skjermbilde!$E$4=1,\"\",skjermbilde!L4)","v":47},{"$f":"IF(skjermbilde!$E$4=1,\"\",skjermbilde!M4)","v":45},{"$f":"IF(skjermbilde!$E$4=1,\"\",skjermbilde!N4)","v":43}]
[null,null,null,null,null,{"$f":"IF(OR(skjermbilde!$O$10=FALSE,skjermbilde!$E$4=1),\"\",tekst!$A$62)","v":""},{"$f":"IF(NOT(ISNUMBER(G24-G22)),\"\",IF(skjermbilde!$O$10=FALSE,\"\",IF((G24-G22)<20,\"<20\",IF(skjermbilde!$E$4=1,\"\"\"\",G24-G22))))","v":""},{"$f":"IF(NOT(ISNUMBER(H24-H22)),\"\",IF(skjermbilde!$O$10=FALSE,\"\",IF((H24-H22)<20,\"<20\",IF(skjermbilde!$E$4=1,\"\"\"\",H24-H22))))","v":""},{"$f":"IF(NOT(ISNUMBER(I24-I22)),\"\",IF(skjermbilde!$O$10=FALSE,\"\",IF((I24-I22)<20,\"<20\",IF(skjermbilde!$E$4=1,\"\"\"\",I24-I22))))","v":""},{"$f":"IF(NOT(ISNUMBER(J24-J22)),\"\",IF(skjermbilde!$O$10=FALSE,\"\",IF((J24-J22)<20,\"<20\",IF(skjermbilde!$E$4=1,\"\"\"\",J24-J22))))","v":""},{"$f":"IF(NOT(ISNUMBER(K24-K22)),\"\",IF(skjermbilde!$O$10=FALSE,\"\",IF((K24-K22)<20,\"<20\",IF(skjermbilde!$E$4=1,\"\"\"\",K24-K22))))","v":""},{"$f":"IF(NOT(ISNUMBER(L24-L22)),\"\",IF(skjermbilde!$O$10=FALSE,\"\",IF((L24-L22)<20,\"<20\",IF(skjermbilde!$E$4=1,\"\"\"\",L24-L22))))","v":""},{"$f":"IF(NOT(ISNUMBER(M24-M22)),\"\",IF(skjermbilde!$O$10=FALSE,\"\",IF((M24-M22)<20,\"<20\",IF(skjermbilde!$E$4=1,\"\"\"\",M24-M22))))","v":""},{"$f":"IF(NOT(ISNUMBER(N24-N22)),\"\",IF(skjermbilde!$O$10=FALSE,\"\",IF((N24-N22)<20,\"<20\",IF(skjermbilde!$E$4=1,\"\"\"\",N24-N22))))","v":""}]
[]
[null,null,null,null,null,null,null,null,null,{"$f":"+tekst!A69","v":"Kopiér bilde (side)"}]
[null,null,null,null,null,null,null,null,null,{"$f":"+tekst!A67","v":"Kopiér bilde"}]
[]
[]
[]
[]
[null,{"$f":"CONCATENATE(B40,\" B=\",C40,\" H=\",D40,\" L=\",E40,\" \",F40,\"Pa\")","v":{"$error":"#N/A"}}]
[null,{"$f":"CONCATENATE(B42,\" 63-8k: \",C42,\", \",D42,\", \",E42,\", \",F42,\", \",G42,\", \",H42,\", \",I42,\", \",J42)","v":{"$error":"#N/A"}}]
[]
[]
[null,{"$f":"+B20","v":"Lyddemperkode"},"Bredde","Høyde","Lengde","Trykktap"]
[null,"","[mm]","[mm]","[mm]","[Pa]"]
[null,{"$f":"+B22","v":{"$error":"#N/A"}},{"$f":"+C22","v":{"$error":"#N/A"}},{"$f":"+D22","v":{"$error":"#N/A"}},{"$f":"+E22","v":{"$error":"#N/A"}},{"$f":"ROUND(F22,0)","v":{"$error":"#N/A"}}]
[null,null,{"$f":"+G21","v":63},125,250,500,"1k","2k","4k","8k"]
[null,{"$f":"+tekst!A26","v":"Lyddempning [dB]"},{"$error":"#N/A"},{"$error":"#N/A"},{"$error":"#N/A"},{"$error":"#N/A"},{"$error":"#N/A"},{"$error":"#N/A"},{"$error":"#N/A"},{"$error":"#N/A"}]

{"sheet":"TegnVinklVert","index":3,"n_rows":48,"n_cols":14,"rows_kept":48,"cut":false,"hidden":false,"merged":[[1,9,1,12],[3,1,3,4],[6,1,6,4],[7,1,7,4],[4,1,4,4],[5,1,5,4],[1,5,1,8],[1,1,1,4],[2,1,2,4],[10,1,10,13],[3,5,3,8],[4,5,4,8],[5,5,5,8],[6,5,6,8],[7,5,7,8],[8,5,8,8],[8,1,8,4]]}
[]
[null,"Måltegning LKK-V:"]
[null,"Dimensjon:",null,null,null,{"$f":"SUM(H14)","v":0},{"$f":"SUM(C16)","v":0},{"$f":"K20","v":{"$error":"#N/A"}},{"$f":"K22","v":{"$error":"#N/A"}}]
[null,"Kunde:",null,null,null,{"$f":"utskrvalgtd!C7","v":0}]
[null,"Kode:",null,null,null,{"$f":"utskrvalgtd!B22","v":{"$error":"#N/A"}}]
[null,"Dato:",null,null,null,{"$f":"utskrvalgtd!C5","v":"2020-12-19T18:50:58.150"}]
[null,"Prosjekt:",null,null,null,{"$f":"utskrvalgtd!C6","v":0}]
[null,"Merking:",null,null,null,{"$f":"utskrvalgtd!C8","v":0}]
[null,"Ordrenummer:"]
[]
[null,"VERTIKALT MONTERT"]
[]
[]
[null,null,null,null,null,null,"BREDDE",{"$f":"utskrvalgtd!D14","v":0},"mm "]
[]
[null,"HØYDE",{"$f":"utskrvalgtd!D15","v":0},"mm "]
[]
[]
[]
[null,null,null,null,null,null,null,null,null,"U",{"$f":"LEFT(utskrvalgtd!E22,FIND(\"/\",utskrvalgtd!E22)-1)","v":{"$error":"#N/A"}},"mm "]
[]
[null,null,null,null,null,null,null,null,null,"I",{"$f":"RIGHT(utskrvalgtd!E22,FIND(\"/\",utskrvalgtd!E22)-1)","v":{"$error":"#N/A"}},"mm "]
[]
[]
[]
[]
[]
[]
[]
[null,null,null,null,null,null,null,null,null,null,null,"BREDDE",{"$f":"H14","v":0},"mm "]
[]
[]
[]
[]
[]
[]
[]
[]
[]
[null,null,null,null,null,null,null,null,null,null,null,"HØYDE",{"$f":"C16","v":0},"mm "]
[]
[]
[]
[]
[]
[]
[null,null,"Godkjent av kunde"]
[null,null,"dato",null,"signatur"]

{"sheet":"TegnVinklHori","index":4,"n_rows":45,"n_cols":14,"rows_kept":45,"cut":false,"hidden":false,"merged":[[4,1,4,4],[4,5,4,8],[1,1,1,4],[1,5,1,8],[2,1,2,4],[3,1,3,4],[3,5,3,8],[8,1,8,4],[8,5,8,8],[10,1,10,13],[5,1,5,4],[5,5,5,8],[6,1,6,4],[6,5,6,8],[7,1,7,4],[7,5,7,8]]}
[]
[null,"Måltegning LKK-V:"]
[null,"Dimensjon:",null,null,null,{"$f":"SUM(C35)","v":0},{"$f":"SUM(M27)","v":0},{"$f":"I37","v":{"$error":"#N/A"}},{"$f":"G38","v":{"$error":"#N/A"}}]
[null,"Kunde:",null,null,null,{"$f":"TegnVinklVert!F4","v":0}]
[null,"Kode:",null,null,null,{"$f":"utskrvalgtd!B22","v":{"$error":"#N/A"}}]
[null,"Dato:",null,null,null,{"$f":"utskrvalgtd!C5","v":"2020-12-19T18:50:58.150"}]
[null,"Prosjekt:",null,null,null,{"$f":"utskrvalgtd!C6","v":0}]
[null,"Merking:",null,null,null,{"$f":"utskrvalgtd!C8","v":0}]
[null,"Ordrenummer:"]
[]
[null,"HORISONTALT MONTERT"]
[]
[null,null,null,null,null,null,null,null,null," "]
[]
[]
[]
[null,"HØYDE",{"$f":"utskrvalgtd!D15","v":0},"mm "]
[]
[]
[]
[]
[]
[]
[]
[]
[]
[null,null,null,null,null,null,null,null,null,null,null,"HØYDE",{"$f":"C17","v":0},"mm "]
[]
[]
[]
[]
[]
[]
[]
[null,"BREDDE",{"$f":"utskrvalgtd!D14","v":0},"mm "]
[]
[null,null,null,null,null,null,"I","U",{"$f":"LEFT(utskrvalgtd!E22,FIND(\"/\",utskrvalgtd!E22)-1)","v":{"$error":"#N/A"}},"mm "]
[null,null,null,null,null,null,{"$f":" RIGHT(utskrvalgtd!E22,FIND(\"/\",utskrvalgtd!E22)-1)","v":{"$error":"#N/A"}},"mm ",null,null,null,"BREDDE",{"$f":"C35","v":0},"mm "]
[]
[]
[]
[]
[]
[null,null,"Godkjent av kunde"]
[null,null,"dato",null,"signatur"]

{"sheet":"utskrskjerm","index":5,"n_rows":0,"n_cols":0,"rows_kept":0,"cut":false,"hidden":false,"merged":[]}

{"sheet":"kopierFraUtsVT","index":6,"n_rows":16,"n_cols":14,"rows_kept":16,"cut":false,"hidden":false,"merged":[[0,1,0,12],[7,2,7,3]]}
[]
[]
[]
[]
[]
[]
[null,{"$f":"utskrvalgtd!B8","v":"System:"},{"$f":"utskrvalgtd!C8","v":0}]
[null,{"$f":"utskrvalgtd!B18","v":"Luftmengde"},{"$f":"utskrvalgtd!D18","v":0},null,{"$f":"utskrvalgtd!E18","v":"m³/h"}]
[]
[]
[null,{"$f":"utskrvalgtd!B20","v":"Lyddemperkode"},{"$f":"utskrvalgtd!C20","v":"Bredde"},{"$f":"utskrvalgtd!D20","v":"Høyde"},{"$f":"utskrvalgtd!E20","v":"Lengde"},{"$f":"utskrvalgtd!F20","v":"Trykktap"},null,null,null,{"$f":"utskrvalgtd!J20","v":"Lyddempning [dB]"}]
[null,{"$f":"utskrvalgtd!B21","v":""},{"$f":"utskrvalgtd!C21","v":"[mm]"},{"$f":"utskrvalgtd!D21","v":"[mm]"},{"$f":"utskrvalgtd!E21","v":"[mm]"},{"$f":"utskrvalgtd!F21","v":"[Pa]"},{"$f":"utskrvalgtd!G21","v":63},{"$f":"utskrvalgtd!H21","v":125},{"$f":"utskrvalgtd!I21","v":250},{"$f":"utskrvalgtd!J21","v":500},{"$f":"utskrvalgtd!K21","v":"1k"},{"$f":"utskrvalgtd!L21","v":"2k"},{"$f":"utskrvalgtd!M21","v":"4k"},{"$f":"utskrvalgtd!N21","v":"8k"}]
[null,{"$f":"utskrvalgtd!B22","v":{"$error":"#N/A"}},{"$f":"utskrvalgtd!C22","v":{"$error":"#N/A"}},{"$f":"utskrvalgtd!D22","v":{"$error":"#N/A"}},{"$f":"utskrvalgtd!E22","v":{"$error":"#N/A"}},{"$f":"utskrvalgtd!F22","v":{"$error":"#N/A"}},{"$f":"utskrvalgtd!G22","v":{"$error":"#N/A"}},{"$f":"utskrvalgtd!H22","v":{"$error":"#N/A"}},{"$f":"utskrvalgtd!I22","v":{"$error":"#N/A"}},{"$f":"utskrvalgtd!J22","v":{"$error":"#N/A"}},{"$f":"utskrvalgtd!K22","v":{"$error":"#N/A"}},{"$f":"utskrvalgtd!L22","v":{"$error":"#N/A"}},{"$f":"utskrvalgtd!M22","v":{"$error":"#N/A"}},{"$f":"utskrvalgtd!N22","v":{"$error":"#N/A"}}]
[null,null,null,null,null,{"$f":"utskrvalgtd!F23","v":"Dempningskrav:"},{"$f":"skjermbilde!G15","v":0},{"$f":"skjermbilde!H15","v":0},{"$f":"skjermbilde!I15","v":0},{"$f":"skjermbilde!J15","v":0},{"$f":"skjermbilde!K15","v":0},{"$f":"skjermbilde!L15","v":0},{"$f":"skjermbilde!M15","v":0},{"$f":"skjermbilde!N15","v":0}]
[null,null,null,null,null,{"$f":"utskrvalgtd!F24","v":"Viftestøy:"},{"$f":"IF(skjermbilde!$E$4=1,\"\",skjermbilde!G3)","v":0},{"$f":"IF(skjermbilde!$E$4=1,\"\",skjermbilde!H3)","v":0},{"$f":"IF(skjermbilde!$E$4=1,\"\",skjermbilde!I3)","v":0},{"$f":"IF(skjermbilde!$E$4=1,\"\",skjermbilde!J3)","v":0},{"$f":"IF(skjermbilde!$E$4=1,\"\",skjermbilde!K3)","v":0},{"$f":"IF(skjermbilde!$E$4=1,\"\",skjermbilde!L3)","v":0},{"$f":"IF(skjermbilde!$E$4=1,\"\",skjermbilde!M3)","v":0},{"$f":"IF(skjermbilde!$E$4=1,\"\",skjermbilde!N3)","v":0}]
[null,null,null,null,null,{"$f":"IF(skjermbilde!$E$4=1,\"\",skjermbilde!$O$4)","v":50},{"$f":"utskrvalgtd!G25","v":75},{"$f":"utskrvalgtd!H25","v":65},{"$f":"utskrvalgtd!I25","v":59},{"$f":"utskrvalgtd!J25","v":53},{"$f":"utskrvalgtd!K25","v":50},{"$f":"utskrvalgtd!L25","v":47},{"$f":"utskrvalgtd!M25","v":45},{"$f":"utskrvalgtd!N25","v":43}]

{"sheet":"skjult liste","index":7,"n_rows":4,"n_cols":19,"rows_kept":4,"cut":false,"hidden":false,"merged":[]}
[43347.428526388889,43347.42854976852,"Rektangulær","LKK-V-105D",1000,1000,"300/400","",10000,"m³/h",33.475767451017646,8,13,26,44,49,49,35,35]
[43347.428551851852,43347.428585300928,"Rektangulær","LKK-V-105D",1000,1000,"300/400","",10000,"m³/h",33.475767451017646,8,13,26,44,49,49,35,35]
[43347.428587268521]
[43347.428621874998]

{"sheet":"beregninger og logiske tester","index":8,"n_rows":184,"n_cols":119,"rows_kept":184,"cut":false,"hidden":true,"merged":[]}
["Verdier fra bruker"]
["maks p:",{"$f":"+IF(knapper!$B$1=1,skjermbilde!$C$7,IF(knapper!$B$1=2,skjermbilde!$D$7,\"\"))","v":0},null,"U:",{"$f":"+UI!J14","v":300}]
["maks H:",{"$f":"+skjermbilde!$C$4","v":0},null,"I:",{"$f":"+UI!J15","v":400}]
["maks L:",{"$f":"+IF(knapper!$B$1=1,skjermbilde!$C$6,IF(knapper!$B$1=2,skjermbilde!$D$6,\"\"))","v":0}]
["q:",{"$f":"+IF(knapper!$B$1=1,skjermbilde!$C$5,IF(knapper!$B$1=2,skjermbilde!$D$5,\"\"))","v":0}]
["l/s:",{"$f":"+IF(knapper!B7=2,B5,B5/3.6)","v":0}]
["Ansl:",{"$f":"+IF(knapper!$B$1=1,\"r\",\"s\")","v":"r"}]
["Toleranse:",{"$f":"+skjermbilde!$G$7","v":0}]
[]
[null,"Datagrunnlag",null,null,null,null,null,null,null,null,null,null,null,null,null,null,null,null,"Verdier fra bruker",null,null,null,null,"Beregninger",null,null,null,null,null,null,null,null,null,null,null,null,null,null,null,null,null,null,null,"Logiske tester",null,null,null,null,null,null,null,null,null,null,null,null,null,null,null,null,"Utvelgelse av dempere",null,null,null,null,null,null,null,null,null,null,null,null,null,null,null,null,null,null,null,null,null,null,null,null,null,null,null,null,null,null,null,null,null,null,null,null,null,null,null,null,null,null,null,null,null,null,null,null,null,null,null,"tillegg på dp",null,"Søkefunksjon"]
[null,null,null,null,null,null,null,null,null,null,null,null,null,null,null,"Endres med språk",null,null,null,null,null,null,null,"Dempingskrav:",{"$f":"+IF(skjermbilde!$E$4=2,skjermbilde!G3-skjermbilde!G4-$B$8-0.1,skjermbilde!G5-$B$8-0.1)","v":-75.099999999999994},{"$f":"+IF(skjermbilde!$E$4=2,skjermbilde!H3-skjermbilde!H4-$B$8-0.1,skjermbilde!H5-$B$8-0.1)","v":-65.099999999999994},{"$f":"+IF(skjermbilde!$E$4=2,skjermbilde!I3-skjermbilde!I4-$B$8-0.1,skjermbilde!I5-$B$8-0.1)","v":-59.1},{"$f":"+IF(skjermbilde!$E$4=2,skjermbilde!J3-skjermbilde!J4-$B$8-0.1,skjermbilde!J5-$B$8-0.1)","v":-53.1},{"$f":"+IF(skjermbilde!$E$4=2,skjermbilde!K3-skjermbilde!K4-$B$8-0.1,skjermbilde!K5-$B$8-0.1)","v":-50.1},{"$f":"+IF(skjermbilde!$E$4=2,skjermbilde!L3-skjermbilde!L4-$B$8-0.1,skjermbilde!L5-$B$8-0.1)","v":-47.1},{"$f":"+IF(skjermbilde!$E$4=2,skjermbilde!M3-skjermbilde!M4-$B$8-0.1,skjermbilde!M5-$B$8-0.1)","v":-45.1},{"$f":"+IF(skjermbilde!$E$4=2,skjermbilde!N3-skjermbilde!N4-$B$8-0.1,skjermbilde!N5-$B$8-0.1)","v":-43.1},null,"Beregning av A-verdi i 10 m² Sabinerom",null,null,null,null,null,null,null,null,null,null,null,null,null,null,null,null,null,null,null,null,null,null,null,null,"Antall lyddempere funnet:",{"$f":"COUNTIF(BH17:BH261,\"=1\")","v":0},null,null,null,null,null,null,null,null,null,null,null,null,null,null,null,null,null,null,null,"Sorterer med trykktap i første kolonne",null,null,null,null,null,null,null,null,null,null,null,null,null,null,null,null,null,null,null,null,null,null,null,null,null,null,null,null,null,null,null,null,"for at ikke to"]
[null,null,null,null,null,null,null,null,null,null,"Data lenket med 'datagrunnlag'",null,null,null,null,null,null,null,null,null,null,null,null,null,null,null,null,null,null,null,null,null,null,"A-korr.:",-26.2,-16.100000000000001,-8.6,-3.2,0,1.2,1,-1.1000000000000001,null,null,null,null,null,null,null,null,null,null,null,null,null,null,null,null,null,null,null,null,null,null,null,null,null,null,null,null,null,null,null,null,null,null,null,null,null,null,null,"Dempning",null,null,null,null,null,null,null,null,null,null,null,null,null,null,"Sorterer etter trykktap",null,null,null,null,null,null,null,null,null,null,null,null,null,null,null,"skal være like"]
[null,{"$f":"+datagrunnlag!H2","v":"kode"},{"$f":"+datagrunnlag!I2","v":"lyddempning"},null,null,null,null,null,null,null,{"$f":"+datagrunnlag!A2","v":"type"},{"$f":"+datagrunnlag!B2","v":"anslutning"},{"$f":"+datagrunnlag!C2","v":"dim"},{"$f":"+datagrunnlag!D2","v":"bredde"},{"$f":"+datagrunnlag!E2","v":"høyde"},null,{"$f":"+datagrunnlag!G2","v":"lengde"},{"$f":"+datagrunnlag!Q2","v":"Trykktapskoeffisient"},"q","maks p","Ansl.","maks","maks","p","Dempning",null,null,null,null,null,null,null,null,null,"Lp i rom",null,null,null,null,null,null,null,null,"maks","lydkrav",null,null,null,null,null,null,null,"Ansl.","Utv. ","Vinkel","Ansl.","bredde","høyde","lengde","alle krav",null,null,null,null,"Finner lyddempere",null,null,null,null,null,null,null,null,null,null,null,null,null,null,null,null,null,null,null,null,null,null,null,null,null,null,null,null,null,null,null,"Finner lyddempere"]
["Demper nr.",null,{"$f":"+datagrunnlag!I3","v":63},{"$f":"+datagrunnlag!J3","v":125},{"$f":"+datagrunnlag!K3","v":250},{"$f":"+datagrunnlag!L3","v":500},{"$f":"+datagrunnlag!M3","v":"1k"},{"$f":"+datagrunnlag!N3","v":"2k"},{"$f":"+datagrunnlag!O3","v":"4k"},{"$f":"+datagrunnlag!P3","v":"8k"},null,null,"LKK-nettobredde",null,null,null,null,{"$f":"+datagrunnlag!Q3","v":"k"},"l/s","Pa","form","høyde","lengde","Pa",63,125,250,500,"1k","2k","4k","8k",null,null,63,125,250,500,"1k","2k","4k","8k","LpA10m²S","trykktap",63,125,250,500,"1k","2k","4k","8k","form","form",null,"dim",null,null,null,"tilfredsst.",null,null,null,null,"kode",null,null,null,null,null,null,null,null,null,null,null,null,null,null,"Trykktap",null,"kode",null,null,null,null,null,null,null,null,null,null,null,null,"LpA",null,"trykktap",null,null,null,null,"nr","kode",63,125,250,500,"1k","2k","4k","8k",null,null,null,"søketekst:",{"$f":"IF(ISTEXT(skjermbilde!U5),skjermbilde!U5,\"\")","v":""}]
["kolonne nr.",2,3,4,5,6,7,8,9,10,11,12,13,14,15,16,17,18,19,20,21,22,23,24,25,26,27,28,29,30,31,32,33,34,35,36,37,38,39,40,41,42,43,44,45,46,47,48,49,50,51,52,53,54,54,55,56,57,58,59,null,null,null,63,64,null,null,null,null,null,null,null,null,null,null,null,null,null,null,79,63,80,null,null,null,null,null,null,null,null,null,null,null,null,93,null,94,null,null,null,null,99,99,null,null,null,null,null,null,null,null,null,null,"rangering","gyldig=tall",null,"Finner liste over søkeresultat"]
[1,null,null,null,null,null,null,null,null,null,null,null,null,null,null,null,null,null,null,null,null,null,null,null,null,null,null,null,null,null,null,null,null,null,null,null,null,null,null,null,null,null,null,null,null,null,null,null,null,null,null,null,null,null,null,null,null,null,null,null,null,null,null,1,null,null,null,null,null,null,null,null,null,null,null,null,null,null,null,null,null,null,null,null,null,null,null,null,null,null,null,null,null,null,null,1,null,null,null,null,null,1,null,null,null,null,null,null,null,null,null,null,0]
[2,{"$f":"datagrunnlag!H17","v":0},{"$f":"datagrunnlag!I17","v":0},{"$f":"datagrunnlag!J17","v":0},{"$f":"datagrunnlag!K17","v":0},{"$f":"datagrunnlag!L17","v":0},{"$f":"datagrunnlag!M17","v":0},{"$f":"datagrunnlag!N17","v":0},{"$f":"datagrunnlag!O17","v":0},{"$f":"datagrunnlag!P17","v":0},{"$f":"+datagrunnlag!A17","v":"LSR"},{"$f":"+datagrunnlag!B17","v":0},{"$f":"+datagrunnlag!C17","v":0},null,null,{"$f":"++IF(datagrunnlag!F17=\"s\",\"c\",datagrunnlag!F17)","v":0},{"$f":"+datagrunnlag!G17","v":0},{"$f":"+datagrunnlag!Q17","v":0},{"$f":"+$B$6","v":0},{"$f":"+IF($B$2=0,201,$B$2)","v":201},{"$f":"+$B$7","v":"r"},{"$f":"+$B$3","v":0},{"$f":"+$B$4","v":0},{"$f":"IF(skjermbilde!$D$2=1,S17^2*R17,2*S17^2*R17)","v":0},{"$f":"IF(C17=\"\",\"\",IF(skjermbilde!$D$2=1,C17,IF(AND(skjermbilde!$D$2=2,2*C17>60),60,IF(skjermbilde!$D$2=2,2*C17))))","v":0},{"$f":"IF(skjermbilde!$D$2=1,D17,IF(AND(skjermbilde!$D$2=2,2*D17>60),60,IF(skjermbilde!$D$2=2,2*D17)))","v":0},{"$f":"IF(skjermbilde!$D$2=1,E17,IF(AND(skjermbilde!$D$2=2,2*E17>60),60,IF(skjermbilde!$D$2=2,2*E17)))","v":0},{"$f":"IF(skjermbilde!$D$2=1,F17,IF(AND(skjermbilde!$D$2=2,2*F17>60),60,IF(skjermbilde!$D$2=2,2*F17)))","v":0},{"$f":"IF(skjermbilde!$D$2=1,G17,IF(AND(skjermbilde!$D$2=2,2*G17>60),60,IF(skjermbilde!$D$2=2,2*G17)))","v":0},{"$f":"IF(skjermbilde!$D$2=1,H17,IF(AND(skjermbilde!$D$2=2,2*H17>60),60,IF(skjermbilde!$D$2=2,2*H17)))","v":0},{"$f":"IF(skjermbilde!$D$2=1,I17,IF(AND(skjermbilde!$D$2=2,2*I17>60),60,IF(skjermbilde!$D$2=2,2*I17)))","v":0},{"$f":"IF(J17=\"\",\"\",IF(skjermbilde!$D$2=1,J17,IF(AND(skjermbilde!$D$2=2,2*J17>60),60,IF(skjermbilde!$D$2=2,2*J17))))","v":0},null,{"$f":"+IF($BH17=1,X17,\"\")","v":""},{"$f":"+IF(ISNUMBER(skjermbilde!G$3-Y17-skjermbilde!G$6-4),skjermbilde!G$3-Y17-skjermbilde!G$6-4,0)","v":-4},{"$f":"+IF(ISNUMBER(skjermbilde!H$3-Z17-skjermbilde!H$6-4),skjermbilde!H$3-Z17-skjermbilde!H$6-4,0)","v":-4},{"$f":"+IF(ISNUMBER(skjermbilde!I$3-AA17-skjermbilde!I$6-4),skjermbilde!I$3-AA17-skjermbilde!I$6-4,0)","v":-4},{"$f":"+IF(ISNUMBER(skjermbilde!J$3-AB17-skjermbilde!J$6-4),skjermbilde!J$3-AB17-skjermbilde!J$6-4,0)","v":-4},{"$f":"+IF(ISNUMBER(skjermbilde!K$3-AC17-skjermbilde!K$6-4),skjermbilde!K$3-AC17-skjermbilde!K$6-4,0)","v":-4},{"$f":"+IF(ISNUMBER(skjermbilde!L$3-AD17-skjermbilde!L$6-4),skjermbilde!L$3-AD17-skjermbilde!L$6-4,0)","v":-4},{"$f":"+IF(ISNUMBER(skjermbilde!M$3-AE17-skjermbilde!M$6-4),skjermbilde!M$3-AE17-skjermbilde!M$6-4,0)","v":-4},{"$f":"+IF(ISNUMBER(skjermbilde!N$3-AF17-skjermbilde!N$6-4),skjermbilde!N$3-AF17-skjermbilde!N$6-4,0)","v":-4},{"$f":"IF(skjermbilde!$O$10=TRUE,10*LOG10(10^(0.1*(AI17+AI$12))+10^(0.1*(AJ17+AJ$12))+10^(0.1*(AK17+AK$12))+10^(0.1*(AL17+AL$12))+10^(0.1*(AM17+AM$12))+10^(0.1*(AN17+AN$12))+10^(0.1*(AO17+AO$12))+10^(0.1*(AP17+AP$12))),\"\")","v":""},{"$f":"+IF(AND(X17-1<T17,X17<201),1,0)","v":1},{"$f":"+IF(Y17>Y$11,1,0)","v":1},{"$f":"+IF(Z17>Z$11,1,0)","v":1},{"$f":"+IF(AA17>AA$11,1,0)","v":1},{"$f":"+IF(AB17>AB$11,1,0)","v":1},{"$f":"+IF(AC17>AC$11,1,0)","v":1},{"$f":"+IF(AD17>AD$11,1,0)","v":1},{"$f":"+IF(AE17>AE$11,1,0)","v":1},{"$f":"+IF(AF17>AF$11,1,0)","v":1},{"$f":"+IF(U17=L17,1,0)","v":0},{"$f":"IF(skjermbilde!$D$4=\"\",1,IF(P17=skjermbilde!$D$4,1,0))","v":0},{"$f":"+IF(skjermbilde!$N$10=1,1,0)","v":1},{"$f":"+IF(U17=\"r\",1,IF(M17=skjermbilde!$D$3,1,0))","v":1},{"$f":"+IF(U17=\"s\",1,IF(N17=skjermbilde!$C$3,1,0))","v":1},{"$f":"+IF(U17=\"s\",1,IF(O17=skjermbilde!$C$4,1,0))","v":1},{"$f":"+IF(OR(W17=Q17,W17=0),1,0)","v":1},{"$f":"+IF(SUM(AR17:BG17)=16,1,0)","v":0},null,null,null,{"$f":"+A17","v":2},{"$f":"+IF($BH17=1,$B17,\"\")","v":""},null,null,null,null,null,null,null,null,null,null,null,null,null,null,{"$f":"+IF($BH17=1,$X17+DI17,\"\")","v":""},{"$f":"+BL17","v":2},{"$f":"+IF($BH17=1,$B17,\"\")","v":""},null,null,null,null,null,null,null,null,null,null,null,null,{"$f":"+IF($BH17=1,$AQ17,\"\")","v":""},{"$f":"+CR16+1","v":2},{"$f":"IF(ISERROR(SMALL(CB$17:CB$261,BL16)),\"\",SMALL(CB$17:CB$261,BL16))","v":""},null,null,null,null,{"$f":"+IF(CS17=\"\",\"\",VLOOKUP($CS17,$CB$17:$CD$261,2,FALSE))","v":""},{"$f":"IF(skjermbilde!$D$2=1,VLOOKUP($CS17,$CB$17:$CD$261,3,FALSE),CONCATENATE(\"2 x \",VLOOKUP($CS17,$CB$17:$CD$261,3,FALSE)))","v":""},null,null,null,null,null,null,null,null,null,{"$f":"0.00000001+DI16","v":1E-8},{"$f":"IF(ISNUMBER(DK17),DK17+DI17,\"\")","v":1.0000000099999999},{"$f":"SEARCH($DL$14,B17,1)","v":1},{"$f":"IF(ISNUMBER(DK17),B17,\"\")","v":0},{"$f":"IF(ISERROR(SMALL(DJ$17:DJ$261,BL16)),\"\",SMALL(DJ$17:DJ$261,BL16))","v":1.0000000099999999},{"$f":"VLOOKUP(DM17,DJ$17:DM$261,3,FALSE)","v":0},{"$f":"VLOOKUP(DN17,$B$17:$CQ$261,62,FALSE)","v":0}]
[{"$f":"+A17+1","v":3},{"$f":"datagrunnlag!H18","v":0},{"$f":"datagrunnlag!I18","v":0},{"$f":"datagrunnlag!J18","v":0},{"$f":"datagrunnlag!K18","v":0},{"$f":"datagrunnlag!L18","v":0},{"$f":"datagrunnlag!M18","v":0},{"$f":"datagrunnlag!N18","v":0},{"$f":"datagrunnlag!O18","v":0},{"$f":"datagrunnlag!P18","v":0},{"$f":"+datagrunnlag!A18","v":"LSR"},{"$f":"+datagrunnlag!B18","v":0},{"$f":"+datagrunnlag!C18","v":0},null,null,{"$f":"++IF(datagrunnlag!F18=\"s\",\"c\",datagrunnlag!F18)","v":0},{"$f":"+datagrunnlag!G18","v":0},{"$f":"+datagrunnlag!Q18","v":0},0,{"$f":"+IF($B$2=0,201,$B$2)","v":201},"r",0,0,{"$f":"IF(skjermbilde!$D$2=1,S18^2*R18,2*S18^2*R18)","v":0},{"$f":"IF(C18=\"\",\"\",IF(skjermbilde!$D$2=1,C18,IF(AND(skjermbilde!$D$2=2,2*C18>60),60,IF(skjermbilde!$D$2=2,2*C18))))","v":0},{"$f":"IF(skjermbilde!$D$2=1,D18,IF(AND(skjermbilde!$D$2=2,2*D18>60),60,IF(skjermbilde!$D$2=2,2*D18)))","v":0},{"$f":"IF(skjermbilde!$D$2=1,E18,IF(AND(skjermbilde!$D$2=2,2*E18>60),60,IF(skjermbilde!$D$2=2,2*E18)))","v":0},{"$f":"IF(skjermbilde!$D$2=1,F18,IF(AND(skjermbilde!$D$2=2,2*F18>60),60,IF(skjermbilde!$D$2=2,2*F18)))","v":0},{"$f":"IF(skjermbilde!$D$2=1,G18,IF(AND(skjermbilde!$D$2=2,2*G18>60),60,IF(skjermbilde!$D$2=2,2*G18)))","v":0},{"$f":"IF(skjermbilde!$D$2=1,H18,IF(AND(skjermbilde!$D$2=2,2*H18>60),60,IF(skjermbilde!$D$2=2,2*H18)))","v":0},{"$f":"IF(skjermbilde!$D$2=1,I18,IF(AND(skjermbilde!$D$2=2,2*I18>60),60,IF(skjermbilde!$D$2=2,2*I18)))","v":0},{"$f":"IF(J18=\"\",\"\",IF(skjermbilde!$D$2=1,J18,IF(AND(skjermbilde!$D$2=2,2*J18>60),60,IF(skjermbilde!$D$2=2,2*J18))))","v":0},null,null,{"$f":"+IF(ISNUMBER(skjermbilde!G$3-Y18-skjermbilde!G$6-4),skjermbilde!G$3-Y18-skjermbilde!G$6-4,0)","v":-4},{"$f":"+IF(ISNUMBER(skjermbilde!H$3-Z18-skjermbilde!H$6-4),skjermbilde!H$3-Z18-skjermbilde!H$6-4,0)","v":-4},{"$f":"+IF(ISNUMBER(skjermbilde!I$3-AA18-skjermbilde!I$6-4),skjermbilde!I$3-AA18-skjermbilde!I$6-4,0)","v":-4},{"$f":"+IF(ISNUMBER(skjermbilde!J$3-AB18-skjermbilde!J$6-4),skjermbilde!J$3-AB18-skjermbilde!J$6-4,0)","v":-4},{"$f":"+IF(ISNUMBER(skjermbilde!K$3-AC18-skjermbilde!K$6-4),skjermbilde!K$3-AC18-skjermbilde!K$6-4,0)","v":-4},{"$f":"+IF(ISNUMBER(skjermbilde!L$3-AD18-skjermbilde!L$6-4),skjermbilde!L$3-AD18-skjermbilde!L$6-4,0)","v":-4},{"$f":"+IF(ISNUMBER(skjermbilde!M$3-AE18-skjermbilde!M$6-4),skjermbilde!M$3-AE18-skjermbilde!M$6-4,0)","v":-4},{"$f":"+IF(ISNUMBER(skjermbilde!N$3-AF18-skjermbilde!N$6-4),skjermbilde!N$3-AF18-skjermbilde!N$6-4,0)","v":-4},{"$f":"IF(skjermbilde!$O$10=TRUE,10*LOG10(10^(0.1*(AI18+AI$12))+10^(0.1*(AJ18+AJ$12))+10^(0.1*(AK18+AK$12))+10^(0.1*(AL18+AL$12))+10^(0.1*(AM18+AM$12))+10^(0.1*(AN18+AN$12))+10^(0.1*(AO18+AO$12))+10^(0.1*(AP18+AP$12))),\"\")","v":""},{"$f":"+IF(AND(X18-1<T18,X18<201),1,0)","v":1},1,1,1,1,1,1,1,1,0,{"$f":"IF(skjermbilde!$D$4=\"\",1,IF(P18=skjermbilde!$D$4,1,0))","v":0},{"$f":"+IF(skjermbilde!$N$10=1,1,0)","v":1},{"$f":"+IF(U18=\"r\",1,IF(M18=skjermbilde!$D$3,1,0))","v":1},{"$f":"+IF(U18=\"s\",1,IF(N18=skjermbilde!$C$3,1,0))","v":1},{"$f":"+IF(U18=\"s\",1,IF(O18=skjermbilde!$C$4,1,0))","v":1},{"$f":"+IF(OR(W18=Q18,W18=0),1,0)","v":1},{"$f":"+IF(SUM(AR18:BG18)=16,1,0)","v":0},null,null,null,{"$f":"+A18","v":3},"",null,null,null,null,null,null,null,null,null,null,null,null,null,null,"",{"$f":"+BL18","v":3},"",null,null,null,null,null,null,null,null,null,null,null,null,{"$f":"+IF($BH18=1,$AQ18,\"\")","v":""},{"$f":"+CR17+1","v":3},"",null,null,null,null,"",{"$f":"IF(skjermbilde!$D$2=1,VLOOKUP($CS18,$CB$17:$CD$261,3,FALSE),CONCATENATE(\"2 x \",VLOOKUP($CS18,$CB$17:$CD$261,3,FALSE)))","v":""},null,null,null,null,null,null,null,null,null,{"$f":"0.00000001+DI17","v":2E-8},{"$f":"IF(ISNUMBER(DK18),DK18+DI18,\"\")","v":1.0000000200000001},1,0,1.0000000099999999,0,0]
[4,{"$f":"datagrunnlag!H19","v":0},{"$f":"datagrunnlag!I19","v":0},{"$f":"datagrunnlag!J19","v":0},{"$f":"datagrunnlag!K19","v":0},{"$f":"datagrunnlag!L19","v":0},{"$f":"datagrunnlag!M19","v":0},{"$f":"datagrunnlag!N19","v":0},{"$f":"datagrunnlag!O19","v":0},{"$f":"datagrunnlag!P19","v":0},{"$f":"+datagrunnlag!A19","v":"LSR"},{"$f":"+datagrunnlag!B19","v":0},{"$f":"+datagrunnlag!C19","v":0},null,null,{"$f":"++IF(datagrunnlag!F19=\"s\",\"c\",datagrunnlag!F19)","v":0},{"$f":"+datagrunnlag!G19","v":0},{"$f":"+datagrunnlag!Q19","v":0},0,201,"r",0,0,{"$f":"IF(skjermbilde!$D$2=1,S19^2*R19,2*S19^2*R19)","v":0},{"$f":"IF(C19=\"\",\"\",IF(skjermbilde!$D$2=1,C19,IF(AND(skjermbilde!$D$2=2,2*C19>60),60,IF(skjermbilde!$D$2=2,2*C19))))","v":0},{"$f":"IF(skjermbilde!$D$2=1,D19,IF(AND(skjermbilde!$D$2=2,2*D19>60),60,IF(skjermbilde!$D$2=2,2*D19)))","v":0},{"$f":"IF(skjermbilde!$D$2=1,E19,IF(AND(skjermbilde!$D$2=2,2*E19>60),60,IF(skjermbilde!$D$2=2,2*E19)))","v":0},{"$f":"IF(skjermbilde!$D$2=1,F19,IF(AND(skjermbilde!$D$2=2,2*F19>60),60,IF(skjermbilde!$D$2=2,2*F19)))","v":0},{"$f":"IF(skjermbilde!$D$2=1,G19,IF(AND(skjermbilde!$D$2=2,2*G19>60),60,IF(skjermbilde!$D$2=2,2*G19)))","v":0},{"$f":"IF(skjermbilde!$D$2=1,H19,IF(AND(skjermbilde!$D$2=2,2*H19>60),60,IF(skjermbilde!$D$2=2,2*H19)))","v":0},{"$f":"IF(skjermbilde!$D$2=1,I19,IF(AND(skjermbilde!$D$2=2,2*I19>60),60,IF(skjermbilde!$D$2=2,2*I19)))","v":0},{"$f":"IF(J19=\"\",\"\",IF(skjermbilde!$D$2=1,J19,IF(AND(skjermbilde!$D$2=2,2*J19>60),60,IF(skjermbilde!$D$2=2,2*J19))))","v":0},null,null,{"$f":"+IF(ISNUMBER(skjermbilde!G$3-Y19-skjermbilde!G$6-4),skjermbilde!G$3-Y19-skjermbilde!G$6-4,0)","v":-4},{"$f":"+IF(ISNUMBER(skjermbilde!H$3-Z19-skjermbilde!H$6-4),skjermbilde!H$3-Z19-skjermbilde!H$6-4,0)","v":-4},{"$f":"+IF(ISNUMBER(skjermbilde!I$3-AA19-skjermbilde!I$6-4),skjermbilde!I$3-AA19-skjermbilde!I$6-4,0)","v":-4},{"$f":"+IF(ISNUMBER(skjermbilde!J$3-AB19-skjermbilde!J$6-4),skjermbilde!J$3-AB19-skjermbilde!J$6-4,0)","v":-4},{"$f":"+IF(ISNUMBER(skjermbilde!K$3-AC19-skjermbilde!K$6-4),skjermbilde!K$3-AC19-skjermbilde!K$6-4,0)","v":-4},{"$f":"+IF(ISNUMBER(skjermbilde!L$3-AD19-skjermbilde!L$6-4),skjermbilde!L$3-AD19-skjermbilde!L$6-4,0)","v":-4},{"$f":"+IF(ISNUMBER(skjermbilde!M$3-AE19-skjermbilde!M$6-4),skjermbilde!M$3-AE19-skjermbilde!M$6-4,0)","v":-4},{"$f":"+IF(ISNUMBER(skjermbilde!N$3-AF19-skjermbilde!N$6-4),skjermbilde!N$3-AF19-skjermbilde!N$6-4,0)","v":-4},{"$f":"IF(skjermbilde!$O$10=TRUE,10*LOG10(10^(0.1*(AI19+AI$12))+10^(0.1*(AJ19+AJ$12))+10^(0.1*(AK19+AK$12))+10^(0.1*(AL19+AL$12))+10^(0.1*(AM19+AM$12))+10^(0.1*(AN19+AN$12))+10^(0.1*(AO19+AO$12))+10^(0.1*(AP19+AP$12))),\"\")","v":""},1,1,1,1,1,1,1,1,1,0,{"$f":"IF(skjermbilde!$D$4=\"\",1,IF(P19=skjermbilde!$D$4,1,0))","v":0},{"$f":"+IF(skjermbilde!$N$10=1,1,0)","v":1},{"$f":"+IF(U19=\"r\",1,IF(M19=skjermbilde!$D$3,1,0))","v":1},{"$f":"+IF(U19=\"s\",1,IF(N19=skjermbilde!$C$3,1,0))","v":1},{"$f":"+IF(U19=\"s\",1,IF(O19=skjermbilde!$C$4,1,0))","v":1},1,0,null,null,null,4,"",null,null,null,null,null,null,null,null,null,null,null,null,null,null,"",4,"",null,null,null,null,null,null,null,null,null,null,null,null,"",4,"",null,null,null,null,"",{"$f":"IF(skjermbilde!$D$2=1,VLOOKUP($CS19,$CB$17:$CD$261,3,FALSE),CONCATENATE(\"2 x \",VLOOKUP($CS19,$CB$17:$CD$261,3,FALSE)))","v":""},null,null,null,null,null,null,null,null,null,3.0000000000000004E-8,1.00000003,1,0,1.0000000200000001,0,0]
[5,{"$f":"datagrunnlag!H20","v":0},{"$f":"datagrunnlag!I20","v":0},{"$f":"datagrunnlag!J20","v":0},{"$f":"datagrunnlag!K20","v":0},{"$f":"datagrunnlag!L20","v":0},{"$f":"datagrunnlag!M20","v":0},{"$f":"datagrunnlag!N20","v":0},{"$f":"datagrunnlag!O20","v":0},{"$f":"datagrunnlag!P20","v":0},{"$f":"+datagrunnlag!A20","v":"LSR"},{"$f":"+datagrunnlag!B20","v":0},{"$f":"+datagrunnlag!C20","v":0},null,null,{"$f":"++IF(datagrunnlag!F20=\"s\",\"c\",datagrunnlag!F20)","v":0},{"$f":"+datagrunnlag!G20","v":0},{"$f":"+datagrunnlag!Q20","v":0},0,201,"r",0,0,{"$f":"IF(skjermbilde!$D$2=1,S20^2*R20,2*S20^2*R20)","v":0},{"$f":"IF(C20=\"\",\"\",IF(skjermbilde!$D$2=1,C20,IF(AND(skjermbilde!$D$2=2,2*C20>60),60,IF(skjermbilde!$D$2=2,2*C20))))","v":0},{"$f":"IF(skjermbilde!$D$2=1,D20,IF(AND(skjermbilde!$D$2=2,2*D20>60),60,IF(skjermbilde!$D$2=2,2*D20)))","v":0},{"$f":"IF(skjermbilde!$D$2=1,E20,IF(AND(skjermbilde!$D$2=2,2*E20>60),60,IF(skjermbilde!$D$2=2,2*E20)))","v":0},{"$f":"IF(skjermbilde!$D$2=1,F20,IF(AND(skjermbilde!$D$2=2,2*F20>60),60,IF(skjermbilde!$D$2=2,2*F20)))","v":0},{"$f":"IF(skjermbilde!$D$2=1,G20,IF(AND(skjermbilde!$D$2=2,2*G20>60),60,IF(skjermbilde!$D$2=2,2*G20)))","v":0},{"$f":"IF(skjermbilde!$D$2=1,H20,IF(AND(skjermbilde!$D$2=2,2*H20>60),60,IF(skjermbilde!$D$2=2,2*H20)))","v":0},{"$f":"IF(skjermbilde!$D$2=1,I20,IF(AND(skjermbilde!$D$2=2,2*I20>60),60,IF(skjermbilde!$D$2=2,2*I20)))","v":0},{"$f":"IF(J20=\"\",\"\",IF(skjermbilde!$D$2=1,J20,IF(AND(skjermbilde!$D$2=2,2*J20>60),60,IF(skjermbilde!$D$2=2,2*J20))))","v":0},null,null,{"$f":"+IF(ISNUMBER(skjermbilde!G$3-Y20-skjermbilde!G$6-4),skjermbilde!G$3-Y20-skjermbilde!G$6-4,0)","v":-4},{"$f":"+IF(ISNUMBER(skjermbilde!H$3-Z20-skjermbilde!H$6-4),skjermbilde!H$3-Z20-skjermbilde!H$6-4,0)","v":-4},{"$f":"+IF(ISNUMBER(skjermbilde!I$3-AA20-skjermbilde!I$6-4),skjermbilde!I$3-AA20-skjermbilde!I$6-4,0)","v":-4},{"$f":"+IF(ISNUMBER(skjermbilde!J$3-AB20-skjermbilde!J$6-4),skjermbilde!J$3-AB20-skjermbilde!J$6-4,0)","v":-4},{"$f":"+IF(ISNUMBER(skjermbilde!K$3-AC20-skjermbilde!K$6-4),skjermbilde!K$3-AC20-skjermbilde!K$6-4,0)","v":-4},{"$f":"+IF(ISNUMBER(skjermbilde!L$3-AD20-skjermbilde!L$6-4),skjermbilde!L$3-AD20-skjermbilde!L$6-4,0)","v":-4},{"$f":"+IF(ISNUMBER(skjermbilde!M$3-AE20-skjermbilde!M$6-4),skjermbilde!M$3-AE20-skjermbilde!M$6-4,0)","v":-4},{"$f":"+IF(ISNUMBER(skjermbilde!N$3-AF20-skjermbilde!N$6-4),skjermbilde!N$3-AF20-skjermbilde!N$6-4,0)","v":-4},{"$f":"IF(skjermbilde!$O$10=TRUE,10*LOG10(10^(0.1*(AI20+AI$12))+10^(0.1*(AJ20+AJ$12))+10^(0.1*(AK20+AK$12))+10^(0.1*(AL20+AL$12))+10^(0.1*(AM20+AM$12))+10^(0.1*(AN20+AN$12))+10^(0.1*(AO20+AO$12))+10^(0.1*(AP20+AP$12))),\"\")","v":""},1,1,1,1,1,1,1,1,1,0,{"$f":"IF(skjermbilde!$D$4=\"\",1,IF(P20=skjermbilde!$D$4,1,0))","v":0},{"$f":"+IF(skjermbilde!$N$10=1,1,0)","v":1},{"$f":"+IF(U20=\"r\",1,IF(M20=skjermbilde!$D$3,1,0))","v":1},{"$f":"+IF(U20=\"s\",1,IF(N20=skjermbilde!$C$3,1,0))","v":1},{"$f":"+IF(U20=\"s\",1,IF(O20=skjermbilde!$C$4,1,0))","v":1},1,0,null,null,null,5,"",null,null,null,null,null,null,null,null,null,null,null,null,null,null,"",5,"",null,null,null,null,null,null,null,null,null,null,null,null,"",5,"",null,null,null,null,"",{"$f":"IF(skjermbilde!$D$2=1,VLOOKUP($CS20,$CB$17:$CD$261,3,FALSE),CONCATENATE(\"2 x \",VLOOKUP($CS20,$CB$17:$CD$261,3,FALSE)))","v":""},null,null,null,null,null,null,null,null,null,4.0000000000000001E-8,1.00000004,1,0,1.0000000200000001,0,0]
[6,{"$f":"datagrunnlag!H21","v":0},{"$f":"datagrunnlag!I21","v":0},{"$f":"datagrunnlag!J21","v":0},{"$f":"datagrunnlag!K21","v":0},{"$f":"datagrunnlag!L21","v":0},{"$f":"datagrunnlag!M21","v":0},{"$f":"datagrunnlag!N21","v":0},{"$f":"datagrunnlag!O21","v":0},{"$f":"datagrunnlag!P21","v":0},{"$f":"+datagrunnlag!A21","v":"LSR"},{"$f":"+datagrunnlag!B21","v":0},{"$f":"+datagrunnlag!C21","v":0},null,null,{"$f":"++IF(datagrunnlag!F21=\"s\",\"c\",datagrunnlag!F21)","v":0},{"$f":"+datagrunnlag!G21","v":0},{"$f":"+datagrunnlag!Q21","v":0},0,201,"r",0,0,{"$f":"IF(skjermbilde!$D$2=1,S21^2*R21,2*S21^2*R21)","v":0},{"$f":"IF(C21=\"\",\"\",IF(skjermbilde!$D$2=1,C21,IF(AND(skjermbilde!$D$2=2,2*C21>60),60,IF(skjermbilde!$D$2=2,2*C21))))","v":0},{"$f":"IF(skjermbilde!$D$2=1,D21,IF(AND(skjermbilde!$D$2=2,2*D21>60),60,IF(skjermbilde!$D$2=2,2*D21)))","v":0},{"$f":"IF(skjermbilde!$D$2=1,E21,IF(AND(skjermbilde!$D$2=2,2*E21>60),60,IF(skjermbilde!$D$2=2,2*E21)))","v":0},{"$f":"IF(skjermbilde!$D$2=1,F21,IF(AND(skjermbilde!$D$2=2,2*F21>60),60,IF(skjermbilde!$D$2=2,2*F21)))","v":0},{"$f":"IF(skjermbilde!$D$2=1,G21,IF(AND(skjermbilde!$D$2=2,2*G21>60),60,IF(skjermbilde!$D$2=2,2*G21)))","v":0},{"$f":"IF(skjermbilde!$D$2=1,H21,IF(AND(skjermbilde!$D$2=2,2*H21>60),60,IF(skjermbilde!$D$2=2,2*H21)))","v":0},{"$f":"IF(skjermbilde!$D$2=1,I21,IF(AND(skjermbilde!$D$2=2,2*I21>60),60,IF(skjermbilde!$D$2=2,2*I21)))","v":0},{"$f":"IF(J21=\"\",\"\",IF(skjermbilde!$D$2=1,J21,IF(AND(skjermbilde!$D$2=2,2*J21>60),60,IF(skjermbilde!$D$2=2,2*J21))))","v":0},null,null,{"$f":"+IF(ISNUMBER(skjermbilde!G$3-Y21-skjermbilde!G$6-4),skjermbilde!G$3-Y21-skjermbilde!G$6-4,0)","v":-4},{"$f":"+IF(ISNUMBER(skjermbilde!H$3-Z21-skjermbilde!H$6-4),skjermbilde!H$3-Z21-skjermbilde!H$6-4,0)","v":-4},{"$f":"+IF(ISNUMBER(skjermbilde!I$3-AA21-skjermbilde!I$6-4),skjermbilde!I$3-AA21-skjermbilde!I$6-4,0)","v":-4},{"$f":"+IF(ISNUMBER(skjermbilde!J$3-AB21-skjermbilde!J$6-4),skjermbilde!J$3-AB21-skjermbilde!J$6-4,0)","v":-4},{"$f":"+IF(ISNUMBER(skjermbilde!K$3-AC21-skjermbilde!K$6-4),skjermbilde!K$3-AC21-skjermbilde!K$6-4,0)","v":-4},{"$f":"+IF(ISNUMBER(skjermbilde!L$3-AD21-skjermbilde!L$6-4),skjermbilde!L$3-AD21-skjermbilde!L$6-4,0)","v":-4},{"$f":"+IF(ISNUMBER(skjermbilde!M$3-AE21-skjermbilde!M$6-4),skjermbilde!M$3-AE21-skjermbilde!M$6-4,0)","v":-4},{"$f":"+IF(ISNUMBER(skjermbilde!N$3-AF21-skjermbilde!N$6-4),skjermbilde!N$3-AF21-skjermbilde!N$6-4,0)","v":-4},{"$f":"IF(skjermbilde!$O$10=TRUE,10*LOG10(10^(0.1*(AI21+AI$12))+10^(0.1*(AJ21+AJ$12))+10^(0.1*(AK21+AK$12))+10^(0.1*(AL21+AL$12))+10^(0.1*(AM21+AM$12))+10^(0.1*(AN21+AN$12))+10^(0.1*(AO21+AO$12))+10^(0.1*(AP21+AP$12))),\"\")","v":""},1,1,1,1,1,1,1,1,1,0,{"$f":"IF(skjermbilde!$D$4=\"\",1,IF(P21=skjermbilde!$D$4,1,0))","v":0},{"$f":"+IF(skjermbilde!$N$10=1,1,0)","v":1},{"$f":"+IF(U21=\"r\",1,IF(M21=skjermbilde!$D$3,1,0))","v":1},{"$f":"+IF(U21=\"s\",1,IF(N21=skjermbilde!$C$3,1,0))","v":1},{"$f":"+IF(U21=\"s\",1,IF(O21=skjermbilde!$C$4,1,0))","v":1},1,0,null,null,null,6,"",null,null,null,null,null,null,null,null,null,null,null,null,null,null,"",6,"",null,null,null,null,null,null,null,null,null,null,null,null,"",6,"",null,null,null,null,"",{"$f":"IF(skjermbilde!$D$2=1,VLOOKUP($CS21,$CB$17:$CD$261,3,FALSE),CONCATENATE(\"2 x \",VLOOKUP($CS21,$CB$17:$CD$261,3,FALSE)))","v":""},null,null,null,null,null,null,null,null,null,4.9999999999999998E-8,1.0000000499999999,1,0,1.00000003,0,0]
[7,{"$f":"datagrunnlag!H22","v":0},{"$f":"datagrunnlag!I22","v":0},{"$f":"datagrunnlag!J22","v":0},{"$f":"datagrunnlag!K22","v":0},{"$f":"datagrunnlag!L22","v":0},{"$f":"datagrunnlag!M22","v":0},{"$f":"datagrunnlag!N22","v":0},{"$f":"datagrunnlag!O22","v":0},{"$f":"datagrunnlag!P22","v":0},{"$f":"+datagrunnlag!A22","v":"LSR"},{"$f":"+datagrunnlag!B22","v":0},{"$f":"+datagrunnlag!C22","v":0},null,null,{"$f":"++IF(datagrunnlag!F22=\"s\",\"c\",datagrunnlag!F22)","v":0},{"$f":"+datagrunnlag!G22","v":0},{"$f":"+datagrunnlag!Q22","v":0},0,201,"r",0,0,{"$f":"IF(skjermbilde!$D$2=1,S22^2*R22,2*S22^2*R22)","v":0},{"$f":"IF(C22=\"\",\"\",IF(skjermbilde!$D$2=1,C22,IF(AND(skjermbilde!$D$2=2,2*C22>60),60,IF(skjermbilde!$D$2=2,2*C22))))","v":0},{"$f":"IF(skjermbilde!$D$2=1,D22,IF(AND(skjermbilde!$D$2=2,2*D22>60),60,IF(skjermbilde!$D$2=2,2*D22)))","v":0},{"$f":"IF(skjermbilde!$D$2=1,E22,IF(AND(skjermbilde!$D$2=2,2*E22>60),60,IF(skjermbilde!$D$2=2,2*E22)))","v":0},{"$f":"IF(skjermbilde!$D$2=1,F22,IF(AND(skjermbilde!$D$2=2,2*F22>60),60,IF(skjermbilde!$D$2=2,2*F22)))","v":0},{"$f":"IF(skjermbilde!$D$2=1,G22,IF(AND(skjermbilde!$D$2=2,2*G22>60),60,IF(skjermbilde!$D$2=2,2*G22)))","v":0},{"$f":"IF(skjermbilde!$D$2=1,H22,IF(AND(skjermbilde!$D$2=2,2*H22>60),60,IF(skjermbilde!$D$2=2,2*H22)))","v":0},{"$f":"IF(skjermbilde!$D$2=1,I22,IF(AND(skjermbilde!$D$2=2,2*I22>60),60,IF(skjermbilde!$D$2=2,2*I22)))","v":0},{"$f":"IF(J22=\"\",\"\",IF(skjermbilde!$D$2=1,J22,IF(AND(skjermbilde!$D$2=2,2*J22>60),60,IF(skjermbilde!$D$2=2,2*J22))))","v":0},null,null,{"$f":"+IF(ISNUMBER(skjermbilde!G$3-Y22-skjermbilde!G$6-4),skjermbilde!G$3-Y22-skjermbilde!G$6-4,0)","v":-4},{"$f":"+IF(ISNUMBER(skjermbilde!H$3-Z22-skjermbilde!H$6-4),skjermbilde!H$3-Z22-skjermbilde!H$6-4,0)","v":-4},{"$f":"+IF(ISNUMBER(skjermbilde!I$3-AA22-skjermbilde!I$6-4),skjermbilde!I$3-AA22-skjermbilde!I$6-4,0)","v":-4},{"$f":"+IF(ISNUMBER(skjermbilde!J$3-AB22-skjermbilde!J$6-4),skjermbilde!J$3-AB22-skjermbilde!J$6-4,0)","v":-4},{"$f":"+IF(ISNUMBER(skjermbilde!K$3-AC22-skjermbilde!K$6-4),skjermbilde!K$3-AC22-skjermbilde!K$6-4,0)","v":-4},{"$f":"+IF(ISNUMBER(skjermbilde!L$3-AD22-skjermbilde!L$6-4),skjermbilde!L$3-AD22-skjermbilde!L$6-4,0)","v":-4},{"$f":"+IF(ISNUMBER(skjermbilde!M$3-AE22-skjermbilde!M$6-4),skjermbilde!M$3-AE22-skjermbilde!M$6-4,0)","v":-4},{"$f":"+IF(ISNUMBER(skjermbilde!N$3-AF22-skjermbilde!N$6-4),skjermbilde!N$3-AF22-skjermbilde!N$6-4,0)","v":-4},{"$f":"IF(skjermbilde!$O$10=TRUE,10*LOG10(10^(0.1*(AI22+AI$12))+10^(0.1*(AJ22+AJ$12))+10^(0.1*(AK22+AK$12))+10^(0.1*(AL22+AL$12))+10^(0.1*(AM22+AM$12))+10^(0.1*(AN22+AN$12))+10^(0.1*(AO22+AO$12))+10^(0.1*(AP22+AP$12))),\"\")","v":""},1,1,1,1,1,1,1,1,1,0,{"$f":"IF(skjermbilde!$D$4=\"\",1,IF(P22=skjermbilde!$D$4,1,0))","v":0},{"$f":"+IF(skjermbilde!$N$10=1,1,0)","v":1},{"$f":"+IF(U22=\"r\",1,IF(M22=skjermbilde!$D$3,1,0))","v":1},{"$f":"+IF(U22=\"s\",1,IF(N22=skjermbilde!$C$3,1,0))","v":1},{"$f":"+IF(U22=\"s\",1,IF(O22=skjermbilde!$C$4,1,0))","v":1},1,0,null,null,null,7,"",null,null,null,null,null,null,null,null,null,null,null,null,null,null,"",7,"",null,null,null,null,null,null,null,null,null,null,null,null,"",7,"",null,null,null,null,"",{"$f":"IF(skjermbilde!$D$2=1,VLOOKUP($CS22,$CB$17:$CD$261,3,FALSE),CONCATENATE(\"2 x \",VLOOKUP($CS22,$CB$17:$CD$261,3,FALSE)))","v":""},null,null,null,null,null,null,null,null,null,5.9999999999999995E-8,1.0000000600000001,1,0,1.00000003,0,0]
[8,{"$f":"datagrunnlag!H23","v":0},{"$f":"datagrunnlag!I23","v":0},{"$f":"datagrunnlag!J23","v":0},{"$f":"datagrunnlag!K23","v":0},{"$f":"datagrunnlag!L23","v":0},{"$f":"datagrunnlag!M23","v":0},{"$f":"datagrunnlag!N23","v":0},{"$f":"datagrunnlag!O23","v":0},{"$f":"datagrunnlag!P23","v":0},{"$f":"+datagrunnlag!A23","v":"LSR"},{"$f":"+datagrunnlag!B23","v":0},{"$f":"+datagrunnlag!C23","v":0},null,null,{"$f":"++IF(datagrunnlag!F23=\"s\",\"c\",datagrunnlag!F23)","v":0},{"$f":"+datagrunnlag!G23","v":0},{"$f":"+datagrunnlag!Q23","v":0},0,201,"r",0,0,{"$f":"IF(skjermbilde!$D$2=1,S23^2*R23,2*S23^2*R23)","v":0},{"$f":"IF(C23=\"\",\"\",IF(skjermbilde!$D$2=1,C23,IF(AND(skjermbilde!$D$2=2,2*C23>60),60,IF(skjermbilde!$D$2=2,2*C23))))","v":0},{"$f":"IF(skjermbilde!$D$2=1,D23,IF(AND(skjermbilde!$D$2=2,2*D23>60),60,IF(skjermbilde!$D$2=2,2*D23)))","v":0},{"$f":"IF(skjermbilde!$D$2=1,E23,IF(AND(skjermbilde!$D$2=2,2*E23>60),60,IF(skjermbilde!$D$2=2,2*E23)))","v":0},{"$f":"IF(skjermbilde!$D$2=1,F23,IF(AND(skjermbilde!$D$2=2,2*F23>60),60,IF(skjermbilde!$D$2=2,2*F23)))","v":0},{"$f":"IF(skjermbilde!$D$2=1,G23,IF(AND(skjermbilde!$D$2=2,2*G23>60),60,IF(skjermbilde!$D$2=2,2*G23)))","v":0},{"$f":"IF(skjermbilde!$D$2=1,H23,IF(AND(skjermbilde!$D$2=2,2*H23>60),60,IF(skjermbilde!$D$2=2,2*H23)))","v":0},{"$f":"IF(skjermbilde!$D$2=1,I23,IF(AND(skjermbilde!$D$2=2,2*I23>60),60,IF(skjermbilde!$D$2=2,2*I23)))","v":0},{"$f":"IF(J23=\"\",\"\",IF(skjermbilde!$D$2=1,J23,IF(AND(skjermbilde!$D$2=2,2*J23>60),60,IF(skjermbilde!$D$2=2,2*J23))))","v":0},null,null,{"$f":"+IF(ISNUMBER(skjermbilde!G$3-Y23-skjermbilde!G$6-4),skjermbilde!G$3-Y23-skjermbilde!G$6-4,0)","v":-4},{"$f":"+IF(ISNUMBER(skjermbilde!H$3-Z23-skjermbilde!H$6-4),skjermbilde!H$3-Z23-skjermbilde!H$6-4,0)","v":-4},{"$f":"+IF(ISNUMBER(skjermbilde!I$3-AA23-skjermbilde!I$6-4),skjermbilde!I$3-AA23-skjermbilde!I$6-4,0)","v":-4},{"$f":"+IF(ISNUMBER(skjermbilde!J$3-AB23-skjermbilde!J$6-4),skjermbilde!J$3-AB23-skjermbilde!J$6-4,0)","v":-4},{"$f":"+IF(ISNUMBER(skjermbilde!K$3-AC23-skjermbilde!K$6-4),skjermbilde!K$3-AC23-skjermbilde!K$6-4,0)","v":-4},{"$f":"+IF(ISNUMBER(skjermbilde!L$3-AD23-skjermbilde!L$6-4),skjermbilde!L$3-AD23-skjermbilde!L$6-4,0)","v":-4},{"$f":"+IF(ISNUMBER(skjermbilde!M$3-AE23-skjermbilde!M$6-4),skjermbilde!M$3-AE23-skjermbilde!M$6-4,0)","v":-4},{"$f":"+IF(ISNUMBER(skjermbilde!N$3-AF23-skjermbilde!N$6-4),skjermbilde!N$3-AF23-skjermbilde!N$6-4,0)","v":-4},{"$f":"IF(skjermbilde!$O$10=TRUE,10*LOG10(10^(0.1*(AI23+AI$12))+10^(0.1*(AJ23+AJ$12))+10^(0.1*(AK23+AK$12))+10^(0.1*(AL23+AL$12))+10^(0.1*(AM23+AM$12))+10^(0.1*(AN23+AN$12))+10^(0.1*(AO23+AO$12))+10^(0.1*(AP23+AP$12))),\"\")","v":""},1,1,1,1,1,1,1,1,1,0,{"$f":"IF(skjermbilde!$D$4=\"\",1,IF(P23=skjermbilde!$D$4,1,0))","v":0},{"$f":"+IF(skjermbilde!$N$10=1,1,0)","v":1},{"$f":"+IF(U23=\"r\",1,IF(M23=skjermbilde!$D$3,1,0))","v":1},{"$f":"+IF(U23=\"s\",1,IF(N23=skjermbilde!$C$3,1,0))","v":1},{"$f":"+IF(U23=\"s\",1,IF(O23=skjermbilde!$C$4,1,0))","v":1},1,0,null,null,null,8,"",null,null,null,null,null,null,null,null,null,null,null,null,null,null,"",8,"",null,null,null,null,null,null,null,null,null,null,null,null,"",8,"",null,null,null,null,"",{"$f":"IF(skjermbilde!$D$2=1,VLOOKUP($CS23,$CB$17:$CD$261,3,FALSE),CONCATENATE(\"2 x \",VLOOKUP($CS23,$CB$17:$CD$261,3,FALSE)))","v":""},null,null,null,null,null,null,null,null,null,6.9999999999999992E-8,1.00000007,1,0,1.00000004,0,0]
[9,{"$f":"datagrunnlag!H24","v":0},{"$f":"datagrunnlag!I24","v":0},{"$f":"datagrunnlag!J24","v":0},{"$f":"datagrunnlag!K24","v":0},{"$f":"datagrunnlag!L24","v":0},{"$f":"datagrunnlag!M24","v":0},{"$f":"datagrunnlag!N24","v":0},{"$f":"datagrunnlag!O24","v":0},{"$f":"datagrunnlag!P24","v":0},{"$f":"+datagrunnlag!A24","v":"LSR"},{"$f":"+datagrunnlag!B24","v":0},{"$f":"+datagrunnlag!C24","v":0},null,null,{"$f":"++IF(datagrunnlag!F24=\"s\",\"c\",datagrunnlag!F24)","v":0},{"$f":"+datagrunnlag!G24","v":0},{"$f":"+datagrunnlag!Q24","v":0},0,201,"r",0,0,{"$f":"IF(skjermbilde!$D$2=1,S24^2*R24,2*S24^2*R24)","v":0},{"$f":"IF(C24=\"\",\"\",IF(skjermbilde!$D$2=1,C24,IF(AND(skjermbilde!$D$2=2,2*C24>60),60,IF(skjermbilde!$D$2=2,2*C24))))","v":0},{"$f":"IF(skjermbilde!$D$2=1,D24,IF(AND(skjermbilde!$D$2=2,2*D24>60),60,IF(skjermbilde!$D$2=2,2*D24)))","v":0},{"$f":"IF(skjermbilde!$D$2=1,E24,IF(AND(skjermbilde!$D$2=2,2*E24>60),60,IF(skjermbilde!$D$2=2,2*E24)))","v":0},{"$f":"IF(skjermbilde!$D$2=1,F24,IF(AND(skjermbilde!$D$2=2,2*F24>60),60,IF(skjermbilde!$D$2=2,2*F24)))","v":0},{"$f":"IF(skjermbilde!$D$2=1,G24,IF(AND(skjermbilde!$D$2=2,2*G24>60),60,IF(skjermbilde!$D$2=2,2*G24)))","v":0},{"$f":"IF(skjermbilde!$D$2=1,H24,IF(AND(skjermbilde!$D$2=2,2*H24>60),60,IF(skjermbilde!$D$2=2,2*H24)))","v":0},{"$f":"IF(skjermbilde!$D$2=1,I24,IF(AND(skjermbilde!$D$2=2,2*I24>60),60,IF(skjermbilde!$D$2=2,2*I24)))","v":0},{"$f":"IF(J24=\"\",\"\",IF(skjermbilde!$D$2=1,J24,IF(AND(skjermbilde!$D$2=2,2*J24>60),60,IF(skjermbilde!$D$2=2,2*J24))))","v":0},null,null,{"$f":"+IF(ISNUMBER(skjermbilde!G$3-Y24-skjermbilde!G$6-4),skjermbilde!G$3-Y24-skjermbilde!G$6-4,0)","v":-4},{"$f":"+IF(ISNUMBER(skjermbilde!H$3-Z24-skjermbilde!H$6-4),skjermbilde!H$3-Z24-skjermbilde!H$6-4,0)","v":-4},{"$f":"+IF(ISNUMBER(skjermbilde!I$3-AA24-skjermbilde!I$6-4),skjermbilde!I$3-AA24-skjermbilde!I$6-4,0)","v":-4},{"$f":"+IF(ISNUMBER(skjermbilde!J$3-AB24-skjermbilde!J$6-4),skjermbilde!J$3-AB24-skjermbilde!J$6-4,0)","v":-4},{"$f":"+IF(ISNUMBER(skjermbilde!K$3-AC24-skjermbilde!K$6-4),skjermbilde!K$3-AC24-skjermbilde!K$6-4,0)","v":-4},{"$f":"+IF(ISNUMBER(skjermbilde!L$3-AD24-skjermbilde!L$6-4),skjermbilde!L$3-AD24-skjermbilde!L$6-4,0)","v":-4},{"$f":"+IF(ISNUMBER(skjermbilde!M$3-AE24-skjermbilde!M$6-4),skjermbilde!M$3-AE24-skjermbilde!M$6-4,0)","v":-4},{"$f":"+IF(ISNUMBER(skjermbilde!N$3-AF24-skjermbilde!N$6-4),skjermbilde!N$3-AF24-skjermbilde!N$6-4,0)","v":-4},{"$f":"IF(skjermbilde!$O$10=TRUE,10*LOG10(10^(0.1*(AI24+AI$12))+10^(0.1*(AJ24+AJ$12))+10^(0.1*(AK24+AK$12))+10^(0.1*(AL24+AL$12))+10^(0.1*(AM24+AM$12))+10^(0.1*(AN24+AN$12))+10^(0.1*(AO24+AO$12))+10^(0.1*(AP24+AP$12))),\"\")","v":""},1,1,1,1,1,1,1,1,1,0,{"$f":"IF(skjermbilde!$D$4=\"\",1,IF(P24=skjermbilde!$D$4,1,0))","v":0},{"$f":"+IF(skjermbilde!$N$10=1,1,0)","v":1},{"$f":"+IF(U24=\"r\",1,IF(M24=skjermbilde!$D$3,1,0))","v":1},{"$f":"+IF(U24=\"s\",1,IF(N24=skjermbilde!$C$3,1,0))","v":1},{"$f":"+IF(U24=\"s\",1,IF(O24=skjermbilde!$C$4,1,0))","v":1},1,0,null,null,null,9,"",null,null,null,null,null,null,null,null,null,null,null,null,null,null,"",9,"",null,null,null,null,null,null,null,null,null,null,null,null,"",9,"",null,null,null,null,"",{"$f":"IF(skjermbilde!$D$2=1,VLOOKUP($CS24,$CB$17:$CD$261,3,FALSE),CONCATENATE(\"2 x \",VLOOKUP($CS24,$CB$17:$CD$261,3,FALSE)))","v":""},null,null,null,null,null,null,null,null,null,7.9999999999999988E-8,1.00000008,1,0,1.00000004,0,0]
[10,{"$f":"datagrunnlag!H25","v":0},{"$f":"datagrunnlag!I25","v":0},{"$f":"datagrunnlag!J25","v":0},{"$f":"datagrunnlag!K25","v":0},{"$f":"datagrunnlag!L25","v":0},{"$f":"datagrunnlag!M25","v":0},{"$f":"datagrunnlag!N25","v":0},{"$f":"datagrunnlag!O25","v":0},{"$f":"datagrunnlag!P25","v":0},{"$f":"+datagrunnlag!A25","v":"LSR"},{"$f":"+datagrunnlag!B25","v":0},{"$f":"+datagrunnlag!C25","v":0},null,null,{"$f":"++IF(datagrunnlag!F25=\"s\",\"c\",datagrunnlag!F25)","v":0},{"$f":"+datagrunnlag!G25","v":0},{"$f":"+datagrunnlag!Q25","v":0},0,201,"r",0,0,{"$f":"IF(skjermbilde!$D$2=1,S25^2*R25,2*S25^2*R25)","v":0},{"$f":"IF(C25=\"\",\"\",IF(skjermbilde!$D$2=1,C25,IF(AND(skjermbilde!$D$2=2,2*C25>60),60,IF(skjermbilde!$D$2=2,2*C25))))","v":0},{"$f":"IF(skjermbilde!$D$2=1,D25,IF(AND(skjermbilde!$D$2=2,2*D25>60),60,IF(skjermbilde!$D$2=2,2*D25)))","v":0},{"$f":"IF(skjermbilde!$D$2=1,E25,IF(AND(skjermbilde!$D$2=2,2*E25>60),60,IF(skjermbilde!$D$2=2,2*E25)))","v":0},{"$f":"IF(skjermbilde!$D$2=1,F25,IF(AND(skjermbilde!$D$2=2,2*F25>60),60,IF(skjermbilde!$D$2=2,2*F25)))","v":0},{"$f":"IF(skjermbilde!$D$2=1,G25,IF(AND(skjermbilde!$D$2=2,2*G25>60),60,IF(skjermbilde!$D$2=2,2*G25)))","v":0},{"$f":"IF(skjermbilde!$D$2=1,H25,IF(AND(skjermbilde!$D$2=2,2*H25>60),60,IF(skjermbilde!$D$2=2,2*H25)))","v":0},{"$f":"IF(skjermbilde!$D$2=1,I25,IF(AND(skjermbilde!$D$2=2,2*I25>60),60,IF(skjermbilde!$D$2=2,2*I25)))","v":0},{"$f":"IF(J25=\"\",\"\",IF(skjermbilde!$D$2=1,J25,IF(AND(skjermbilde!$D$2=2,2*J25>60),60,IF(skjermbilde!$D$2=2,2*J25))))","v":0},null,null,{"$f":"+IF(ISNUMBER(skjermbilde!G$3-Y25-skjermbilde!G$6-4),skjermbilde!G$3-Y25-skjermbilde!G$6-4,0)","v":-4},{"$f":"+IF(ISNUMBER(skjermbilde!H$3-Z25-skjermbilde!H$6-4),skjermbilde!H$3-Z25-skjermbilde!H$6-4,0)","v":-4},{"$f":"+IF(ISNUMBER(skjermbilde!I$3-AA25-skjermbilde!I$6-4),skjermbilde!I$3-AA25-skjermbilde!I$6-4,0)","v":-4},{"$f":"+IF(ISNUMBER(skjermbilde!J$3-AB25-skjermbilde!J$6-4),skjermbilde!J$3-AB25-skjermbilde!J$6-4,0)","v":-4},{"$f":"+IF(ISNUMBER(skjermbilde!K$3-AC25-skjermbilde!K$6-4),skjermbilde!K$3-AC25-skjermbilde!K$6-4,0)","v":-4},{"$f":"+IF(ISNUMBER(skjermbilde!L$3-AD25-skjermbilde!L$6-4),skjermbilde!L$3-AD25-skjermbilde!L$6-4,0)","v":-4},{"$f":"+IF(ISNUMBER(skjermbilde!M$3-AE25-skjermbilde!M$6-4),skjermbilde!M$3-AE25-skjermbilde!M$6-4,0)","v":-4},{"$f":"+IF(ISNUMBER(skjermbilde!N$3-AF25-skjermbilde!N$6-4),skjermbilde!N$3-AF25-skjermbilde!N$6-4,0)","v":-4},{"$f":"IF(skjermbilde!$O$10=TRUE,10*LOG10(10^(0.1*(AI25+AI$12))+10^(0.1*(AJ25+AJ$12))+10^(0.1*(AK25+AK$12))+10^(0.1*(AL25+AL$12))+10^(0.1*(AM25+AM$12))+10^(0.1*(AN25+AN$12))+10^(0.1*(AO25+AO$12))+10^(0.1*(AP25+AP$12))),\"\")","v":""},1,1,1,1,1,1,1,1,1,0,{"$f":"IF(skjermbilde!$D$4=\"\",1,IF(P25=skjermbilde!$D$4,1,0))","v":0},{"$f":"+IF(skjermbilde!$N$10=1,1,0)","v":1},{"$f":"+IF(U25=\"r\",1,IF(M25=skjermbilde!$D$3,1,0))","v":1},{"$f":"+IF(U25=\"s\",1,IF(N25=skjermbilde!$C$3,1,0))","v":1},{"$f":"+IF(U25=\"s\",1,IF(O25=skjermbilde!$C$4,1,0))","v":1},1,0,null,null,null,10,"",null,null,null,null,null,null,null,null,null,null,null,null,null,null,"",10,"",null,null,null,null,null,null,null,null,null,null,null,null,"",10,"",null,null,null,null,"",{"$f":"IF(skjermbilde!$D$2=1,VLOOKUP($CS25,$CB$17:$CD$261,3,FALSE),CONCATENATE(\"2 x \",VLOOKUP($CS25,$CB$17:$CD$261,3,FALSE)))","v":""},null,null,null,null,null,null,null,null,null,8.9999999999999985E-8,1.0000000899999999,1,0,1.0000000499999999,0,0]
[11,{"$f":"datagrunnlag!H26","v":0},{"$f":"datagrunnlag!I26","v":0},{"$f":"datagrunnlag!J26","v":0},{"$f":"datagrunnlag!K26","v":0},{"$f":"datagrunnlag!L26","v":0},{"$f":"datagrunnlag!M26","v":0},{"$f":"datagrunnlag!N26","v":0},{"$f":"datagrunnlag!O26","v":0},{"$f":"datagrunnlag!P26","v":0},{"$f":"+datagrunnlag!A26","v":"LSR"},{"$f":"+datagrunnlag!B26","v":0},{"$f":"+datagrunnlag!C26","v":0},null,null,{"$f":"++IF(datagrunnlag!F26=\"s\",\"c\",datagrunnlag!F26)","v":0},{"$f":"+datagrunnlag!G26","v":0},{"$f":"+datagrunnlag!Q26","v":0},0,201,"r",0,0,{"$f":"IF(skjermbilde!$D$2=1,S26^2*R26,2*S26^2*R26)","v":0},{"$f":"IF(C26=\"\",\"\",IF(skjermbilde!$D$2=1,C26,IF(AND(skjermbilde!$D$2=2,2*C26>60),60,IF(skjermbilde!$D$2=2,2*C26))))","v":0},{"$f":"IF(skjermbilde!$D$2=1,D26,IF(AND(skjermbilde!$D$2=2,2*D26>60),60,IF(skjermbilde!$D$2=2,2*D26)))","v":0},{"$f":"IF(skjermbilde!$D$2=1,E26,IF(AND(skjermbilde!$D$2=2,2*E26>60),60,IF(skjermbilde!$D$2=2,2*E26)))","v":0},{"$f":"IF(skjermbilde!$D$2=1,F26,IF(AND(skjermbilde!$D$2=2,2*F26>60),60,IF(skjermbilde!$D$2=2,2*F26)))","v":0},{"$f":"IF(skjermbilde!$D$2=1,G26,IF(AND(skjermbilde!$D$2=2,2*G26>60),60,IF(skjermbilde!$D$2=2,2*G26)))","v":0},{"$f":"IF(skjermbilde!$D$2=1,H26,IF(AND(skjermbilde!$D$2=2,2*H26>60),60,IF(skjermbilde!$D$2=2,2*H26)))","v":0},{"$f":"IF(skjermbilde!$D$2=1,I26,IF(AND(skjermbilde!$D$2=2,2*I26>60),60,IF(skjermbilde!$D$2=2,2*I26)))","v":0},{"$f":"IF(J26=\"\",\"\",IF(skjermbilde!$D$2=1,J26,IF(AND(skjermbilde!$D$2=2,2*J26>60),60,IF(skjermbilde!$D$2=2,2*J26))))","v":0},null,null,{"$f":"+IF(ISNUMBER(skjermbilde!G$3-Y26-skjermbilde!G$6-4),skjermbilde!G$3-Y26-skjermbilde!G$6-4,0)","v":-4},{"$f":"+IF(ISNUMBER(skjermbilde!H$3-Z26-skjermbilde!H$6-4),skjermbilde!H$3-Z26-skjermbilde!H$6-4,0)","v":-4},{"$f":"+IF(ISNUMBER(skjermbilde!I$3-AA26-skjermbilde!I$6-4),skjermbilde!I$3-AA26-skjermbilde!I$6-4,0)","v":-4},{"$f":"+IF(ISNUMBER(skjermbilde!J$3-AB26-skjermbilde!J$6-4),skjermbilde!J$3-AB26-skjermbilde!J$6-4,0)","v":-4},{"$f":"+IF(ISNUMBER(skjermbilde!K$3-AC26-skjermbilde!K$6-4),skjermbilde!K$3-AC26-skjermbilde!K$6-4,0)","v":-4},{"$f":"+IF(ISNUMBER(skjermbilde!L$3-AD26-skjermbilde!L$6-4),skjermbilde!L$3-AD26-skjermbilde!L$6-4,0)","v":-4},{"$f":"+IF(ISNUMBER(skjermbilde!M$3-AE26-skjermbilde!M$6-4),skjermbilde!M$3-AE26-skjermbilde!M$6-4,0)","v":-4},{"$f":"+IF(ISNUMBER(skjermbilde!N$3-AF26-skjermbilde!N$6-4),skjermbilde!N$3-AF26-skjermbilde!N$6-4,0)","v":-4},{"$f":"IF(skjermbilde!$O$10=TRUE,10*LOG10(10^(0.1*(AI26+AI$12))+10^(0.1*(AJ26+AJ$12))+10^(0.1*(AK26+AK$12))+10^(0.1*(AL26+AL$12))+10^(0.1*(AM26+AM$12))+10^(0.1*(AN26+AN$12))+10^(0.1*(AO26+AO$12))+10^(0.1*(AP26+AP$12))),\"\")","v":""},1,1,1,1,1,1,1,1,1,0,{"$f":"IF(skjermbilde!$D$4=\"\",1,IF(P26=skjermbilde!$D$4,1,0))","v":0},{"$f":"+IF(skjermbilde!$N$10=1,1,0)","v":1},{"$f":"+IF(U26=\"r\",1,IF(M26=skjermbilde!$D$3,1,0))","v":1},{"$f":"+IF(U26=\"s\",1,IF(N26=skjermbilde!$C$3,1,0))","v":1},{"$f":"+IF(U26=\"s\",1,IF(O26=skjermbilde!$C$4,1,0))","v":1},1,0,null,null,null,11,"",null,null,null,null,null,null,null,null,null,null,null,null,null,null,"",11,"",null,null,null,null,null,null,null,null,null,null,null,null,"",11,"",null,null,null,null,"",{"$f":"IF(skjermbilde!$D$2=1,VLOOKUP($CS26,$CB$17:$CD$261,3,FALSE),CONCATENATE(\"2 x \",VLOOKUP($CS26,$CB$17:$CD$261,3,FALSE)))","v":""},null,null,null,null,null,null,null,null,null,9.9999999999999982E-8,1.0000001000000001,1,0,1.0000000499999999,0,0]
[12,{"$f":"datagrunnlag!H27","v":0},{"$f":"datagrunnlag!I27","v":0},{"$f":"datagrunnlag!J27","v":0},{"$f":"datagrunnlag!K27","v":0},{"$f":"datagrunnlag!L27","v":0},{"$f":"datagrunnlag!M27","v":0},{"$f":"datagrunnlag!N27","v":0},{"$f":"datagrunnlag!O27","v":0},{"$f":"datagrunnlag!P27","v":0},{"$f":"+datagrunnlag!A27","v":"LSR"},{"$f":"+datagrunnlag!B27","v":0},{"$f":"+datagrunnlag!C27","v":0},null,null,{"$f":"++IF(datagrunnlag!F27=\"s\",\"c\",datagrunnlag!F27)","v":0},{"$f":"+datagrunnlag!G27","v":0},{"$f":"+datagrunnlag!Q27","v":0},0,201,"r",0,0,{"$f":"IF(skjermbilde!$D$2=1,S27^2*R27,2*S27^2*R27)","v":0},{"$f":"IF(C27=\"\",\"\",IF(skjermbilde!$D$2=1,C27,IF(AND(skjermbilde!$D$2=2,2*C27>60),60,IF(skjermbilde!$D$2=2,2*C27))))","v":0},{"$f":"IF(skjermbilde!$D$2=1,D27,IF(AND(skjermbilde!$D$2=2,2*D27>60),60,IF(skjermbilde!$D$2=2,2*D27)))","v":0},{"$f":"IF(skjermbilde!$D$2=1,E27,IF(AND(skjermbilde!$D$2=2,2*E27>60),60,IF(skjermbilde!$D$2=2,2*E27)))","v":0},{"$f":"IF(skjermbilde!$D$2=1,F27,IF(AND(skjermbilde!$D$2=2,2*F27>60),60,IF(skjermbilde!$D$2=2,2*F27)))","v":0},{"$f":"IF(skjermbilde!$D$2=1,G27,IF(AND(skjermbilde!$D$2=2,2*G27>60),60,IF(skjermbilde!$D$2=2,2*G27)))","v":0},{"$f":"IF(skjermbilde!$D$2=1,H27,IF(AND(skjermbilde!$D$2=2,2*H27>60),60,IF(skjermbilde!$D$2=2,2*H27)))","v":0},{"$f":"IF(skjermbilde!$D$2=1,I27,IF(AND(skjermbilde!$D$2=2,2*I27>60),60,IF(skjermbilde!$D$2=2,2*I27)))","v":0},{"$f":"IF(J27=\"\",\"\",IF(skjermbilde!$D$2=1,J27,IF(AND(skjermbilde!$D$2=2,2*J27>60),60,IF(skjermbilde!$D$2=2,2*J27))))","v":0},null,null,{"$f":"+IF(ISNUMBER(skjermbilde!G$3-Y27-skjermbilde!G$6-4),skjermbilde!G$3-Y27-skjermbilde!G$6-4,0)","v":-4},{"$f":"+IF(ISNUMBER(skjermbilde!H$3-Z27-skjermbilde!H$6-4),skjermbilde!H$3-Z27-skjermbilde!H$6-4,0)","v":-4},{"$f":"+IF(ISNUMBER(skjermbilde!I$3-AA27-skjermbilde!I$6-4),skjermbilde!I$3-AA27-skjermbilde!I$6-4,0)","v":-4},{"$f":"+IF(ISNUMBER(skjermbilde!J$3-AB27-skjermbilde!J$6-4),skjermbilde!J$3-AB27-skjermbilde!J$6-4,0)","v":-4},{"$f":"+IF(ISNUMBER(skjermbilde!K$3-AC27-skjermbilde!K$6-4),skjermbilde!K$3-AC27-skjermbilde!K$6-4,0)","v":-4},{"$f":"+IF(ISNUMBER(skjermbilde!L$3-AD27-skjermbilde!L$6-4),skjermbilde!L$3-AD27-skjermbilde!L$6-4,0)","v":-4},{"$f":"+IF(ISNUMBER(skjermbilde!M$3-AE27-skjermbilde!M$6-4),skjermbilde!M$3-AE27-skjermbilde!M$6-4,0)","v":-4},{"$f":"+IF(ISNUMBER(skjermbilde!N$3-AF27-skjermbilde!N$6-4),skjermbilde!N$3-AF27-skjermbilde!N$6-4,0)","v":-4},{"$f":"IF(skjermbilde!$O$10=TRUE,10*LOG10(10^(0.1*(AI27+AI$12))+10^(0.1*(AJ27+AJ$12))+10^(0.1*(AK27+AK$12))+10^(0.1*(AL27+AL$12))+10^(0.1*(AM27+AM$12))+10^(0.1*(AN27+AN$12))+10^(0.1*(AO27+AO$12))+10^(0.1*(AP27+AP$12))),\"\")","v":""},1,1,1,1,1,1,1,1,1,0,{"$f":"IF(skjermbilde!$D$4=\"\",1,IF(P27=skjermbilde!$D$4,1,0))","v":0},{"$f":"+IF(skjermbilde!$N$10=1,1,0)","v":1},{"$f":"+IF(U27=\"r\",1,IF(M27=skjermbilde!$D$3,1,0))","v":1},{"$f":"+IF(U27=\"s\",1,IF(N27=skjermbilde!$C$3,1,0))","v":1},{"$f":"+IF(U27=\"s\",1,IF(O27=skjermbilde!$C$4,1,0))","v":1},1,0,null,null,null,12,"",null,null,null,null,null,null,null,null,null,null,null,null,null,null,"",12,"",null,null,null,null,null,null,null,null,null,null,null,null,"",12,"",null,null,null,null,"",{"$f":"IF(skjermbilde!$D$2=1,VLOOKUP($CS27,$CB$17:$CD$261,3,FALSE),CONCATENATE(\"2 x \",VLOOKUP($CS27,$CB$17:$CD$261,3,FALSE)))","v":""},null,null,null,null,null,null,null,null,null,1.0999999999999998E-7,1.00000011,1,0,1.0000000600000001,0,0]
[13,{"$f":"datagrunnlag!H28","v":0},{"$f":"datagrunnlag!I28","v":0},{"$f":"datagrunnlag!J28","v":0},{"$f":"datagrunnlag!K28","v":0},{"$f":"datagrunnlag!L28","v":0},{"$f":"datagrunnlag!M28","v":0},{"$f":"datagrunnlag!N28","v":0},{"$f":"datagrunnlag!O28","v":0},{"$f":"datagrunnlag!P28","v":0},{"$f":"+datagrunnlag!A28","v":"LSR"},{"$f":"+datagrunnlag!B28","v":0},{"$f":"+datagrunnlag!C28","v":0},null,null,{"$f":"++IF(datagrunnlag!F28=\"s\",\"c\",datagrunnlag!F28)","v":0},{"$f":"+datagrunnlag!G28","v":0},{"$f":"+datagrunnlag!Q28","v":0},0,201,"r",0,0,{"$f":"IF(skjermbilde!$D$2=1,S28^2*R28,2*S28^2*R28)","v":0},{"$f":"IF(C28=\"\",\"\",IF(skjermbilde!$D$2=1,C28,IF(AND(skjermbilde!$D$2=2,2*C28>60),60,IF(skjermbilde!$D$2=2,2*C28))))","v":0},{"$f":"IF(skjermbilde!$D$2=1,D28,IF(AND(skjermbilde!$D$2=2,2*D28>60),60,IF(skjermbilde!$D$2=2,2*D28)))","v":0},{"$f":"IF(skjermbilde!$D$2=1,E28,IF(AND(skjermbilde!$D$2=2,2*E28>60),60,IF(skjermbilde!$D$2=2,2*E28)))","v":0},{"$f":"IF(skjermbilde!$D$2=1,F28,IF(AND(skjermbilde!$D$2=2,2*F28>60),60,IF(skjermbilde!$D$2=2,2*F28)))","v":0},{"$f":"IF(skjermbilde!$D$2=1,G28,IF(AND(skjermbilde!$D$2=2,2*G28>60),60,IF(skjermbilde!$D$2=2,2*G28)))","v":0},{"$f":"IF(skjermbilde!$D$2=1,H28,IF(AND(skjermbilde!$D$2=2,2*H28>60),60,IF(skjermbilde!$D$2=2,2*H28)))","v":0},{"$f":"IF(skjermbilde!$D$2=1,I28,IF(AND(skjermbilde!$D$2=2,2*I28>60),60,IF(skjermbilde!$D$2=2,2*I28)))","v":0},{"$f":"IF(J28=\"\",\"\",IF(skjermbilde!$D$2=1,J28,IF(AND(skjermbilde!$D$2=2,2*J28>60),60,IF(skjermbilde!$D$2=2,2*J28))))","v":0},null,null,{"$f":"+IF(ISNUMBER(skjermbilde!G$3-Y28-skjermbilde!G$6-4),skjermbilde!G$3-Y28-skjermbilde!G$6-4,0)","v":-4},{"$f":"+IF(ISNUMBER(skjermbilde!H$3-Z28-skjermbilde!H$6-4),skjermbilde!H$3-Z28-skjermbilde!H$6-4,0)","v":-4},{"$f":"+IF(ISNUMBER(skjermbilde!I$3-AA28-skjermbilde!I$6-4),skjermbilde!I$3-AA28-skjermbilde!I$6-4,0)","v":-4},{"$f":"+IF(ISNUMBER(skjermbilde!J$3-AB28-skjermbilde!J$6-4),skjermbilde!J$3-AB28-skjermbilde!J$6-4,0)","v":-4},{"$f":"+IF(ISNUMBER(skjermbilde!K$3-AC28-skjermbilde!K$6-4),skjermbilde!K$3-AC28-skjermbilde!K$6-4,0)","v":-4},{"$f":"+IF(ISNUMBER(skjermbilde!L$3-AD28-skjermbilde!L$6-4),skjermbilde!L$3-AD28-skjermbilde!L$6-4,0)","v":-4},{"$f":"+IF(ISNUMBER(skjermbilde!M$3-AE28-skjermbilde!M$6-4),skjermbilde!M$3-AE28-skjermbilde!M$6-4,0)","v":-4},{"$f":"+IF(ISNUMBER(skjermbilde!N$3-AF28-skjermbilde!N$6-4),skjermbilde!N$3-AF28-skjermbilde!N$6-4,0)","v":-4},{"$f":"IF(skjermbilde!$O$10=TRUE,10*LOG10(10^(0.1*(AI28+AI$12))+10^(0.1*(AJ28+AJ$12))+10^(0.1*(AK28+AK$12))+10^(0.1*(AL28+AL$12))+10^(0.1*(AM28+AM$12))+10^(0.1*(AN28+AN$12))+10^(0.1*(AO28+AO$12))+10^(0.1*(AP28+AP$12))),\"\")","v":""},1,1,1,1,1,1,1,1,1,0,{"$f":"IF(skjermbilde!$D$4=\"\",1,IF(P28=skjermbilde!$D$4,1,0))","v":0},{"$f":"+IF(skjermbilde!$N$10=1,1,0)","v":1},{"$f":"+IF(U28=\"r\",1,IF(M28=skjermbilde!$D$3,1,0))","v":1},{"$f":"+IF(U28=\"s\",1,IF(N28=skjermbilde!$C$3,1,0))","v":1},{"$f":"+IF(U28=\"s\",1,IF(O28=skjermbilde!$C$4,1,0))","v":1},1,0,null,null,null,13,"",null,null,null,null,null,null,null,null,null,null,null,null,null,null,"",13,"",null,null,null,null,null,null,null,null,null,null,null,null,"",13,"",null,null,null,null,"",{"$f":"IF(skjermbilde!$D$2=1,VLOOKUP($CS28,$CB$17:$CD$261,3,FALSE),CONCATENATE(\"2 x \",VLOOKUP($CS28,$CB$17:$CD$261,3,FALSE)))","v":""},null,null,null,null,null,null,null,null,null,1.1999999999999999E-7,1.0000001199999999,1,0,1.0000000600000001,0,0]
[14,{"$f":"datagrunnlag!H29","v":0},{"$f":"datagrunnlag!I29","v":0},{"$f":"datagrunnlag!J29","v":0},{"$f":"datagrunnlag!K29","v":0},{"$f":"datagrunnlag!L29","v":0},{"$f":"datagrunnlag!M29","v":0},{"$f":"datagrunnlag!N29","v":0},{"$f":"datagrunnlag!O29","v":0},{"$f":"datagrunnlag!P29","v":0},{"$f":"+datagrunnlag!A29","v":"LSR"},{"$f":"+datagrunnlag!B29","v":0},{"$f":"+datagrunnlag!C29","v":0},null,null,{"$f":"++IF(datagrunnlag!F29=\"s\",\"c\",datagrunnlag!F29)","v":0},{"$f":"+datagrunnlag!G29","v":0},{"$f":"+datagrunnlag!Q29","v":0},0,201,"r",0,0,{"$f":"IF(skjermbilde!$D$2=1,S29^2*R29,2*S29^2*R29)","v":0},{"$f":"IF(C29=\"\",\"\",IF(skjermbilde!$D$2=1,C29,IF(AND(skjermbilde!$D$2=2,2*C29>60),60,IF(skjermbilde!$D$2=2,2*C29))))","v":0},{"$f":"IF(skjermbilde!$D$2=1,D29,IF(AND(skjermbilde!$D$2=2,2*D29>60),60,IF(skjermbilde!$D$2=2,2*D29)))","v":0},{"$f":"IF(skjermbilde!$D$2=1,E29,IF(AND(skjermbilde!$D$2=2,2*E29>60),60,IF(skjermbilde!$D$2=2,2*E29)))","v":0},{"$f":"IF(skjermbilde!$D$2=1,F29,IF(AND(skjermbilde!$D$2=2,2*F29>60),60,IF(skjermbilde!$D$2=2,2*F29)))","v":0},{"$f":"IF(skjermbilde!$D$2=1,G29,IF(AND(skjermbilde!$D$2=2,2*G29>60),60,IF(skjermbilde!$D$2=2,2*G29)))","v":0},{"$f":"IF(skjermbilde!$D$2=1,H29,IF(AND(skjermbilde!$D$2=2,2*H29>60),60,IF(skjermbilde!$D$2=2,2*H29)))","v":0},{"$f":"IF(skjermbilde!$D$2=1,I29,IF(AND(skjermbilde!$D$2=2,2*I29>60),60,IF(skjermbilde!$D$2=2,2*I29)))","v":0},{"$f":"IF(J29=\"\",\"\",IF(skjermbilde!$D$2=1,J29,IF(AND(skjermbilde!$D$2=2,2*J29>60),60,IF(skjermbilde!$D$2=2,2*J29))))","v":0},null,null,{"$f":"+IF(ISNUMBER(skjermbilde!G$3-Y29-skjermbilde!G$6-4),skjermbilde!G$3-Y29-skjermbilde!G$6-4,0)","v":-4},{"$f":"+IF(ISNUMBER(skjermbilde!H$3-Z29-skjermbilde!H$6-4),skjermbilde!H$3-Z29-skjermbilde!H$6-4,0)","v":-4},{"$f":"+IF(ISNUMBER(skjermbilde!I$3-AA29-skjermbilde!I$6-4),skjermbilde!I$3-AA29-skjermbilde!I$6-4,0)","v":-4},{"$f":"+IF(ISNUMBER(skjermbilde!J$3-AB29-skjermbilde!J$6-4),skjermbilde!J$3-AB29-skjermbilde!J$6-4,0)","v":-4},{"$f":"+IF(ISNUMBER(skjermbilde!K$3-AC29-skjermbilde!K$6-4),skjermbilde!K$3-AC29-skjermbilde!K$6-4,0)","v":-4},{"$f":"+IF(ISNUMBER(skjermbilde!L$3-AD29-skjermbilde!L$6-4),skjermbilde!L$3-AD29-skjermbilde!L$6-4,0)","v":-4},{"$f":"+IF(ISNUMBER(skjermbilde!M$3-AE29-skjermbilde!M$6-4),skjermbilde!M$3-AE29-skjermbilde!M$6-4,0)","v":-4},{"$f":"+IF(ISNUMBER(skjermbilde!N$3-AF29-skjermbilde!N$6-4),skjermbilde!N$3-AF29-skjermbilde!N$6-4,0)","v":-4},{"$f":"IF(skjermbilde!$O$10=TRUE,10*LOG10(10^(0.1*(AI29+AI$12))+10^(0.1*(AJ29+AJ$12))+10^(0.1*(AK29+AK$12))+10^(0.1*(AL29+AL$12))+10^(0.1*(AM29+AM$12))+10^(0.1*(AN29+AN$12))+10^(0.1*(AO29+AO$12))+10^(0.1*(AP29+AP$12))),\"\")","v":""},1,1,1,1,1,1,1,1,1,0,{"$f":"IF(skjermbilde!$D$4=\"\",1,IF(P29=skjermbilde!$D$4,1,0))","v":0},{"$f":"+IF(skjermbilde!$N$10=1,1,0)","v":1},{"$f":"+IF(U29=\"r\",1,IF(M29=skjermbilde!$D$3,1,0))","v":1},{"$f":"+IF(U29=\"s\",1,IF(N29=skjermbilde!$C$3,1,0))","v":1},{"$f":"+IF(U29=\"s\",1,IF(O29=skjermbilde!$C$4,1,0))","v":1},1,0,null,null,null,14,"",null,null,null,null,null,null,null,null,null,null,null,null,null,null,"",14,"",null,null,null,null,null,null,null,null,null,null,null,null,"",14,"",null,null,null,null,"",{"$f":"IF(skjermbilde!$D$2=1,VLOOKUP($CS29,$CB$17:$CD$261,3,FALSE),CONCATENATE(\"2 x \",VLOOKUP($CS29,$CB$17:$CD$261,3,FALSE)))","v":""},null,null,null,null,null,null,null,null,null,1.3E-7,1.0000001300000001,1,0,1.00000007,0,0]
[15,{"$f":"datagrunnlag!H30","v":0},{"$f":"datagrunnlag!I30","v":0},{"$f":"datagrunnlag!J30","v":0},{"$f":"datagrunnlag!K30","v":0},{"$f":"datagrunnlag!L30","v":0},{"$f":"datagrunnlag!M30","v":0},{"$f":"datagrunnlag!N30","v":0},{"$f":"datagrunnlag!O30","v":0},{"$f":"datagrunnlag!P30","v":0},{"$f":"+datagrunnlag!A30","v":"LSR"},{"$f":"+datagrunnlag!B30","v":0},{"$f":"+datagrunnlag!C30","v":0},null,null,{"$f":"++IF(datagrunnlag!F30=\"s\",\"c\",datagrunnlag!F30)","v":0},{"$f":"+datagrunnlag!G30","v":0},{"$f":"+datagrunnlag!Q30","v":0},0,201,"r",0,0,{"$f":"IF(skjermbilde!$D$2=1,S30^2*R30,2*S30^2*R30)","v":0},{"$f":"IF(C30=\"\",\"\",IF(skjermbilde!$D$2=1,C30,IF(AND(skjermbilde!$D$2=2,2*C30>60),60,IF(skjermbilde!$D$2=2,2*C30))))","v":0},{"$f":"IF(skjermbilde!$D$2=1,D30,IF(AND(skjermbilde!$D$2=2,2*D30>60),60,IF(skjermbilde!$D$2=2,2*D30)))","v":0},{"$f":"IF(skjermbilde!$D$2=1,E30,IF(AND(skjermbilde!$D$2=2,2*E30>60),60,IF(skjermbilde!$D$2=2,2*E30)))","v":0},{"$f":"IF(skjermbilde!$D$2=1,F30,IF(AND(skjermbilde!$D$2=2,2*F30>60),60,IF(skjermbilde!$D$2=2,2*F30)))","v":0},{"$f":"IF(skjermbilde!$D$2=1,G30,IF(AND(skjermbilde!$D$2=2,2*G30>60),60,IF(skjermbilde!$D$2=2,2*G30)))","v":0},{"$f":"IF(skjermbilde!$D$2=1,H30,IF(AND(skjermbilde!$D$2=2,2*H30>60),60,IF(skjermbilde!$D$2=2,2*H30)))","v":0},{"$f":"IF(skjermbilde!$D$2=1,I30,IF(AND(skjermbilde!$D$2=2,2*I30>60),60,IF(skjermbilde!$D$2=2,2*I30)))","v":0},{"$f":"IF(J30=\"\",\"\",IF(skjermbilde!$D$2=1,J30,IF(AND(skjermbilde!$D$2=2,2*J30>60),60,IF(skjermbilde!$D$2=2,2*J30))))","v":0},null,null,{"$f":"+IF(ISNUMBER(skjermbilde!G$3-Y30-skjermbilde!G$6-4),skjermbilde!G$3-Y30-skjermbilde!G$6-4,0)","v":-4},{"$f":"+IF(ISNUMBER(skjermbilde!H$3-Z30-skjermbilde!H$6-4),skjermbilde!H$3-Z30-skjermbilde!H$6-4,0)","v":-4},{"$f":"+IF(ISNUMBER(skjermbilde!I$3-AA30-skjermbilde!I$6-4),skjermbilde!I$3-AA30-skjermbilde!I$6-4,0)","v":-4},{"$f":"+IF(ISNUMBER(skjermbilde!J$3-AB30-skjermbilde!J$6-4),skjermbilde!J$3-AB30-skjermbilde!J$6-4,0)","v":-4},{"$f":"+IF(ISNUMBER(skjermbilde!K$3-AC30-skjermbilde!K$6-4),skjermbilde!K$3-AC30-skjermbilde!K$6-4,0)","v":-4},{"$f":"+IF(ISNUMBER(skjermbilde!L$3-AD30-skjermbilde!L$6-4),skjermbilde!L$3-AD30-skjermbilde!L$6-4,0)","v":-4},{"$f":"+IF(ISNUMBER(skjermbilde!M$3-AE30-skjermbilde!M$6-4),skjermbilde!M$3-AE30-skjermbilde!M$6-4,0)","v":-4},{"$f":"+IF(ISNUMBER(skjermbilde!N$3-AF30-skjermbilde!N$6-4),skjermbilde!N$3-AF30-skjermbilde!N$6-4,0)","v":-4},{"$f":"IF(skjermbilde!$O$10=TRUE,10*LOG10(10^(0.1*(AI30+AI$12))+10^(0.1*(AJ30+AJ$12))+10^(0.1*(AK30+AK$12))+10^(0.1*(AL30+AL$12))+10^(0.1*(AM30+AM$12))+10^(0.1*(AN30+AN$12))+10^(0.1*(AO30+AO$12))+10^(0.1*(AP30+AP$12))),\"\")","v":""},1,1,1,1,1,1,1,1,1,0,{"$f":"IF(skjermbilde!$D$4=\"\",1,IF(P30=skjermbilde!$D$4,1,0))","v":0},{"$f":"+IF(skjermbilde!$N$10=1,1,0)","v":1},{"$f":"+IF(U30=\"r\",1,IF(M30=skjermbilde!$D$3,1,0))","v":1},{"$f":"+IF(U30=\"s\",1,IF(N30=skjermbilde!$C$3,1,0))","v":1},{"$f":"+IF(U30=\"s\",1,IF(O30=skjermbilde!$C$4,1,0))","v":1},1,0,null,null,null,15,"",null,null,null,null,null,null,null,null,null,null,null,null,null,null,"",15,"",null,null,null,null,null,null,null,null,null,null,null,null,"",15,"",null,null,null,null,"",{"$f":"IF(skjermbilde!$D$2=1,VLOOKUP($CS30,$CB$17:$CD$261,3,FALSE),CONCATENATE(\"2 x \",VLOOKUP($CS30,$CB$17:$CD$261,3,FALSE)))","v":""},null,null,null,null,null,null,null,null,null,1.4000000000000001E-7,1.00000014,1,0,1.00000007,0,0]
[16,{"$f":"datagrunnlag!H31","v":0},{"$f":"datagrunnlag!I31","v":0},{"$f":"datagrunnlag!J31","v":0},{"$f":"datagrunnlag!K31","v":0},{"$f":"datagrunnlag!L31","v":0},{"$f":"datagrunnlag!M31","v":0},{"$f":"datagrunnlag!N31","v":0},{"$f":"datagrunnlag!O31","v":0},{"$f":"datagrunnlag!P31","v":0},{"$f":"+datagrunnlag!A31","v":"LSR"},{"$f":"+datagrunnlag!B31","v":0},{"$f":"+datagrunnlag!C31","v":0},null,null,{"$f":"++IF(datagrunnlag!F31=\"s\",\"c\",datagrunnlag!F31)","v":0},{"$f":"+datagrunnlag!G31","v":0},{"$f":"+datagrunnlag!Q31","v":0},0,201,"r",0,0,{"$f":"IF(skjermbilde!$D$2=1,S31^2*R31,2*S31^2*R31)","v":0},{"$f":"IF(C31=\"\",\"\",IF(skjermbilde!$D$2=1,C31,IF(AND(skjermbilde!$D$2=2,2*C31>60),60,IF(skjermbilde!$D$2=2,2*C31))))","v":0},{"$f":"IF(skjermbilde!$D$2=1,D31,IF(AND(skjermbilde!$D$2=2,2*D31>60),60,IF(skjermbilde!$D$2=2,2*D31)))","v":0},{"$f":"IF(skjermbilde!$D$2=1,E31,IF(AND(skjermbilde!$D$2=2,2*E31>60),60,IF(skjermbilde!$D$2=2,2*E31)))","v":0},{"$f":"IF(skjermbilde!$D$2=1,F31,IF(AND(skjermbilde!$D$2=2,2*F31>60),60,IF(skjermbilde!$D$2=2,2*F31)))","v":0},{"$f":"IF(skjermbilde!$D$2=1,G31,IF(AND(skjermbilde!$D$2=2,2*G31>60),60,IF(skjermbilde!$D$2=2,2*G31)))","v":0},{"$f":"IF(skjermbilde!$D$2=1,H31,IF(AND(skjermbilde!$D$2=2,2*H31>60),60,IF(skjermbilde!$D$2=2,2*H31)))","v":0},{"$f":"IF(skjermbilde!$D$2=1,I31,IF(AND(skjermbilde!$D$2=2,2*I31>60),60,IF(skjermbilde!$D$2=2,2*I31)))","v":0},{"$f":"IF(J31=\"\",\"\",IF(skjermbilde!$D$2=1,J31,IF(AND(skjermbilde!$D$2=2,2*J31>60),60,IF(skjermbilde!$D$2=2,2*J31))))","v":0},null,null,{"$f":"+IF(ISNUMBER(skjermbilde!G$3-Y31-skjermbilde!G$6-4),skjermbilde!G$3-Y31-skjermbilde!G$6-4,0)","v":-4},{"$f":"+IF(ISNUMBER(skjermbilde!H$3-Z31-skjermbilde!H$6-4),skjermbilde!H$3-Z31-skjermbilde!H$6-4,0)","v":-4},{"$f":"+IF(ISNUMBER(skjermbilde!I$3-AA31-skjermbilde!I$6-4),skjermbilde!I$3-AA31-skjermbilde!I$6-4,0)","v":-4},{"$f":"+IF(ISNUMBER(skjermbilde!J$3-AB31-skjermbilde!J$6-4),skjermbilde!J$3-AB31-skjermbilde!J$6-4,0)","v":-4},{"$f":"+IF(ISNUMBER(skjermbilde!K$3-AC31-skjermbilde!K$6-4),skjermbilde!K$3-AC31-skjermbilde!K$6-4,0)","v":-4},{"$f":"+IF(ISNUMBER(skjermbilde!L$3-AD31-skjermbilde!L$6-4),skjermbilde!L$3-AD31-skjermbilde!L$6-4,0)","v":-4},{"$f":"+IF(ISNUMBER(skjermbilde!M$3-AE31-skjermbilde!M$6-4),skjermbilde!M$3-AE31-skjermbilde!M$6-4,0)","v":-4},{"$f":"+IF(ISNUMBER(skjermbilde!N$3-AF31-skjermbilde!N$6-4),skjermbilde!N$3-AF31-skjermbilde!N$6-4,0)","v":-4},{"$f":"IF(skjermbilde!$O$10=TRUE,10*LOG10(10^(0.1*(AI31+AI$12))+10^(0.1*(AJ31+AJ$12))+10^(0.1*(AK31+AK$12))+10^(0.1*(AL31+AL$12))+10^(0.1*(AM31+AM$12))+10^(0.1*(AN31+AN$12))+10^(0.1*(AO31+AO$12))+10^(0.1*(AP31+AP$12))),\"\")","v":""},1,1,1,1,1,1,1,1,1,0,{"$f":"IF(skjermbilde!$D$4=\"\",1,IF(P31=skjermbilde!$D$4,1,0))","v":0},{"$f":"+IF(skjermbilde!$N$10=1,1,0)","v":1},{"$f":"+IF(U31=\"r\",1,IF(M31=skjermbilde!$D$3,1,0))","v":1},{"$f":"+IF(U31=\"s\",1,IF(N31=skjermbilde!$C$3,1,0))","v":1},{"$f":"+IF(U31=\"s\",1,IF(O31=skjermbilde!$C$4,1,0))","v":1},1,0,null,null,null,16,"",null,null,null,null,null,null,null,null,null,null,null,null,null,null,"",16,"",null,null,null,null,null,null,null,null,null,null,null,null,"",16,"",null,null,null,null,"",{"$f":"IF(skjermbilde!$D$2=1,VLOOKUP($CS31,$CB$17:$CD$261,3,FALSE),CONCATENATE(\"2 x \",VLOOKUP($CS31,$CB$17:$CD$261,3,FALSE)))","v":""},null,null,null,null,null,null,null,null,null,1.5000000000000002E-7,1.00000015,1,0,1.00000008,0,0]
[17,{"$f":"datagrunnlag!H32","v":0},{"$f":"datagrunnlag!I32","v":0},{"$f":"datagrunnlag!J32","v":0},{"$f":"datagrunnlag!K32","v":0},{"$f":"datagrunnlag!L32","v":0},{"$f":"datagrunnlag!M32","v":0},{"$f":"datagrunnlag!N32","v":0},{"$f":"datagrunnlag!O32","v":0},{"$f":"datagrunnlag!P32","v":0},{"$f":"+datagrunnlag!A32","v":"LSR"},{"$f":"+datagrunnlag!B32","v":0},{"$f":"+datagrunnlag!C32","v":0},null,null,{"$f":"++IF(datagrunnlag!F32=\"s\",\"c\",datagrunnlag!F32)","v":0},{"$f":"+datagrunnlag!G32","v":0},{"$f":"+datagrunnlag!Q32","v":0},0,201,"r",0,0,{"$f":"IF(skjermbilde!$D$2=1,S32^2*R32,2*S32^2*R32)","v":0},{"$f":"IF(C32=\"\",\"\",IF(skjermbilde!$D$2=1,C32,IF(AND(skjermbilde!$D$2=2,2*C32>60),60,IF(skjermbilde!$D$2=2,2*C32))))","v":0},{"$f":"IF(skjermbilde!$D$2=1,D32,IF(AND(skjermbilde!$D$2=2,2*D32>60),60,IF(skjermbilde!$D$2=2,2*D32)))","v":0},{"$f":"IF(skjermbilde!$D$2=1,E32,IF(AND(skjermbilde!$D$2=2,2*E32>60),60,IF(skjermbilde!$D$2=2,2*E32)))","v":0},{"$f":"IF(skjermbilde!$D$2=1,F32,IF(AND(skjermbilde!$D$2=2,2*F32>60),60,IF(skjermbilde!$D$2=2,2*F32)))","v":0},{"$f":"IF(skjermbilde!$D$2=1,G32,IF(AND(skjermbilde!$D$2=2,2*G32>60),60,IF(skjermbilde!$D$2=2,2*G32)))","v":0},{"$f":"IF(skjermbilde!$D$2=1,H32,IF(AND(skjermbilde!$D$2=2,2*H32>60),60,IF(skjermbilde!$D$2=2,2*H32)))","v":0},{"$f":"IF(skjermbilde!$D$2=1,I32,IF(AND(skjermbilde!$D$2=2,2*I32>60),60,IF(skjermbilde!$D$2=2,2*I32)))","v":0},{"$f":"IF(J32=\"\",\"\",IF(skjermbilde!$D$2=1,J32,IF(AND(skjermbilde!$D$2=2,2*J32>60),60,IF(skjermbilde!$D$2=2,2*J32))))","v":0},null,null,{"$f":"+IF(ISNUMBER(skjermbilde!G$3-Y32-skjermbilde!G$6-4),skjermbilde!G$3-Y32-skjermbilde!G$6-4,0)","v":-4},{"$f":"+IF(ISNUMBER(skjermbilde!H$3-Z32-skjermbilde!H$6-4),skjermbilde!H$3-Z32-skjermbilde!H$6-4,0)","v":-4},{"$f":"+IF(ISNUMBER(skjermbilde!I$3-AA32-skjermbilde!I$6-4),skjermbilde!I$3-AA32-skjermbilde!I$6-4,0)","v":-4},{"$f":"+IF(ISNUMBER(skjermbilde!J$3-AB32-skjermbilde!J$6-4),skjermbilde!J$3-AB32-skjermbilde!J$6-4,0)","v":-4},{"$f":"+IF(ISNUMBER(skjermbilde!K$3-AC32-skjermbilde!K$6-4),skjermbilde!K$3-AC32-skjermbilde!K$6-4,0)","v":-4},{"$f":"+IF(ISNUMBER(skjermbilde!L$3-AD32-skjermbilde!L$6-4),skjermbilde!L$3-AD32-skjermbilde!L$6-4,0)","v":-4},{"$f":"+IF(ISNUMBER(skjermbilde!M$3-AE32-skjermbilde!M$6-4),skjermbilde!M$3-AE32-skjermbilde!M$6-4,0)","v":-4},{"$f":"+IF(ISNUMBER(skjermbilde!N$3-AF32-skjermbilde!N$6-4),skjermbilde!N$3-AF32-skjermbilde!N$6-4,0)","v":-4},{"$f":"IF(skjermbilde!$O$10=TRUE,10*LOG10(10^(0.1*(AI32+AI$12))+10^(0.1*(AJ32+AJ$12))+10^(0.1*(AK32+AK$12))+10^(0.1*(AL32+AL$12))+10^(0.1*(AM32+AM$12))+10^(0.1*(AN32+AN$12))+10^(0.1*(AO32+AO$12))+10^(0.1*(AP32+AP$12))),\"\")","v":""},1,1,1,1,1,1,1,1,1,0,{"$f":"IF(skjermbilde!$D$4=\"\",1,IF(P32=skjermbilde!$D$4,1,0))","v":0},{"$f":"+IF(skjermbilde!$N$10=1,1,0)","v":1},{"$f":"+IF(U32=\"r\",1,IF(M32=skjermbilde!$D$3,1,0))","v":1},{"$f":"+IF(U32=\"s\",1,IF(N32=skjermbilde!$C$3,1,0))","v":1},{"$f":"+IF(U32=\"s\",1,IF(O32=skjermbilde!$C$4,1,0))","v":1},1,0,null,null,null,17,"",null,null,null,null,null,null,null,null,null,null,null,null,null,null,"",17,"",null,null,null,null,null,null,null,null,null,null,null,null,"",17,"",null,null,null,null,"",{"$f":"IF(skjermbilde!$D$2=1,VLOOKUP($CS32,$CB$17:$CD$261,3,FALSE),CONCATENATE(\"2 x \",VLOOKUP($CS32,$CB$17:$CD$261,3,FALSE)))","v":""},null,null,null,null,null,null,null,null,null,1.6000000000000003E-7,1.0000001599999999,1,0,1.00000008,0,0]
[18,{"$f":"datagrunnlag!H33","v":0},{"$f":"datagrunnlag!I33","v":0},{"$f":"datagrunnlag!J33","v":0},{"$f":"datagrunnlag!K33","v":0},{"$f":"datagrunnlag!L33","v":0},{"$f":"datagrunnlag!M33","v":0},{"$f":"datagrunnlag!N33","v":0},{"$f":"datagrunnlag!O33","v":0},{"$f":"datagrunnlag!P33","v":0},{"$f":"+datagrunnlag!A33","v":"LSR"},{"$f":"+datagrunnlag!B33","v":0},{"$f":"+datagrunnlag!C33","v":0},null,null,{"$f":"++IF(datagrunnlag!F33=\"s\",\"c\",datagrunnlag!F33)","v":0},{"$f":"+datagrunnlag!G33","v":0},{"$f":"+datagrunnlag!Q33","v":0},0,201,"r",0,0,{"$f":"IF(skjermbilde!$D$2=1,S33^2*R33,2*S33^2*R33)","v":0},{"$f":"IF(C33=\"\",\"\",IF(skjermbilde!$D$2=1,C33,IF(AND(skjermbilde!$D$2=2,2*C33>60),60,IF(skjermbilde!$D$2=2,2*C33))))","v":0},{"$f":"IF(skjermbilde!$D$2=1,D33,IF(AND(skjermbilde!$D$2=2,2*D33>60),60,IF(skjermbilde!$D$2=2,2*D33)))","v":0},{"$f":"IF(skjermbilde!$D$2=1,E33,IF(AND(skjermbilde!$D$2=2,2*E33>60),60,IF(skjermbilde!$D$2=2,2*E33)))","v":0},{"$f":"IF(skjermbilde!$D$2=1,F33,IF(AND(skjermbilde!$D$2=2,2*F33>60),60,IF(skjermbilde!$D$2=2,2*F33)))","v":0},{"$f":"IF(skjermbilde!$D$2=1,G33,IF(AND(skjermbilde!$D$2=2,2*G33>60),60,IF(skjermbilde!$D$2=2,2*G33)))","v":0},{"$f":"IF(skjermbilde!$D$2=1,H33,IF(AND(skjermbilde!$D$2=2,2*H33>60),60,IF(skjermbilde!$D$2=2,2*H33)))","v":0},{"$f":"IF(skjermbilde!$D$2=1,I33,IF(AND(skjermbilde!$D$2=2,2*I33>60),60,IF(skjermbilde!$D$2=2,2*I33)))","v":0},{"$f":"IF(J33=\"\",\"\",IF(skjermbilde!$D$2=1,J33,IF(AND(skjermbilde!$D$2=2,2*J33>60),60,IF(skjermbilde!$D$2=2,2*J33))))","v":0},null,null,{"$f":"+IF(ISNUMBER(skjermbilde!G$3-Y33-skjermbilde!G$6-4),skjermbilde!G$3-Y33-skjermbilde!G$6-4,0)","v":-4},{"$f":"+IF(ISNUMBER(skjermbilde!H$3-Z33-skjermbilde!H$6-4),skjermbilde!H$3-Z33-skjermbilde!H$6-4,0)","v":-4},{"$f":"+IF(ISNUMBER(skjermbilde!I$3-AA33-skjermbilde!I$6-4),skjermbilde!I$3-AA33-skjermbilde!I$6-4,0)","v":-4},{"$f":"+IF(ISNUMBER(skjermbilde!J$3-AB33-skjermbilde!J$6-4),skjermbilde!J$3-AB33-skjermbilde!J$6-4,0)","v":-4},{"$f":"+IF(ISNUMBER(skjermbilde!K$3-AC33-skjermbilde!K$6-4),skjermbilde!K$3-AC33-skjermbilde!K$6-4,0)","v":-4},{"$f":"+IF(ISNUMBER(skjermbilde!L$3-AD33-skjermbilde!L$6-4),skjermbilde!L$3-AD33-skjermbilde!L$6-4,0)","v":-4},{"$f":"+IF(ISNUMBER(skjermbilde!M$3-AE33-skjermbilde!M$6-4),skjermbilde!M$3-AE33-skjermbilde!M$6-4,0)","v":-4},{"$f":"+IF(ISNUMBER(skjermbilde!N$3-AF33-skjermbilde!N$6-4),skjermbilde!N$3-AF33-skjermbilde!N$6-4,0)","v":-4},{"$f":"IF(skjermbilde!$O$10=TRUE,10*LOG10(10^(0.1*(AI33+AI$12))+10^(0.1*(AJ33+AJ$12))+10^(0.1*(AK33+AK$12))+10^(0.1*(AL33+AL$12))+10^(0.1*(AM33+AM$12))+10^(0.1*(AN33+AN$12))+10^(0.1*(AO33+AO$12))+10^(0.1*(AP33+AP$12))),\"\")","v":""},1,1,1,1,1,1,1,1,1,0,{"$f":"IF(skjermbilde!$D$4=\"\",1,IF(P33=skjermbilde!$D$4,1,0))","v":0},{"$f":"+IF(skjermbilde!$N$10=1,1,0)","v":1},{"$f":"+IF(U33=\"r\",1,IF(M33=skjermbilde!$D$3,1,0))","v":1},{"$f":"+IF(U33=\"s\",1,IF(N33=skjermbilde!$C$3,1,0))","v":1},{"$f":"+IF(U33=\"s\",1,IF(O33=skjermbilde!$C$4,1,0))","v":1},1,0,null,null,null,18,"",null,null,null,null,null,null,null,null,null,null,null,null,null,null,"",18,"",null,null,null,null,null,null,null,null,null,null,null,null,"",18,"",null,null,null,null,"",{"$f":"IF(skjermbilde!$D$2=1,VLOOKUP($CS33,$CB$17:$CD$261,3,FALSE),CONCATENATE(\"2 x \",VLOOKUP($CS33,$CB$17:$CD$261,3,FALSE)))","v":""},null,null,null,null,null,null,null,null,null,1.7000000000000004E-7,1.0000001700000001,1,0,1.0000000899999999,0,0]
[19,{"$f":"datagrunnlag!H34","v":0},{"$f":"datagrunnlag!I34","v":0},{"$f":"datagrunnlag!J34","v":0},{"$f":"datagrunnlag!K34","v":0},{"$f":"datagrunnlag!L34","v":0},{"$f":"datagrunnlag!M34","v":0},{"$f":"datagrunnlag!N34","v":0},{"$f":"datagrunnlag!O34","v":0},{"$f":"datagrunnlag!P34","v":0},{"$f":"+datagrunnlag!A34","v":"LSR"},{"$f":"+datagrunnlag!B34","v":0},{"$f":"+datagrunnlag!C34","v":0},null,null,{"$f":"++IF(datagrunnlag!F34=\"s\",\"c\",datagrunnlag!F34)","v":0},{"$f":"+datagrunnlag!G34","v":0},{"$f":"+datagrunnlag!Q34","v":0},0,201,"r",0,0,{"$f":"IF(skjermbilde!$D$2=1,S34^2*R34,2*S34^2*R34)","v":0},{"$f":"IF(C34=\"\",\"\",IF(skjermbilde!$D$2=1,C34,IF(AND(skjermbilde!$D$2=2,2*C34>60),60,IF(skjermbilde!$D$2=2,2*C34))))","v":0},{"$f":"IF(skjermbilde!$D$2=1,D34,IF(AND(skjermbilde!$D$2=2,2*D34>60),60,IF(skjermbilde!$D$2=2,2*D34)))","v":0},{"$f":"IF(skjermbilde!$D$2=1,E34,IF(AND(skjermbilde!$D$2=2,2*E34>60),60,IF(skjermbilde!$D$2=2,2*E34)))","v":0},{"$f":"IF(skjermbilde!$D$2=1,F34,IF(AND(skjermbilde!$D$2=2,2*F34>60),60,IF(skjermbilde!$D$2=2,2*F34)))","v":0},{"$f":"IF(skjermbilde!$D$2=1,G34,IF(AND(skjermbilde!$D$2=2,2*G34>60),60,IF(skjermbilde!$D$2=2,2*G34)))","v":0},{"$f":"IF(skjermbilde!$D$2=1,H34,IF(AND(skjermbilde!$D$2=2,2*H34>60),60,IF(skjermbilde!$D$2=2,2*H34)))","v":0},{"$f":"IF(skjermbilde!$D$2=1,I34,IF(AND(skjermbilde!$D$2=2,2*I34>60),60,IF(skjermbilde!$D$2=2,2*I34)))","v":0},{"$f":"IF(J34=\"\",\"\",IF(skjermbilde!$D$2=1,J34,IF(AND(skjermbilde!$D$2=2,2*J34>60),60,IF(skjermbilde!$D$2=2,2*J34))))","v":0},null,null,{"$f":"+IF(ISNUMBER(skjermbilde!G$3-Y34-skjermbilde!G$6-4),skjermbilde!G$3-Y34-skjermbilde!G$6-4,0)","v":-4},{"$f":"+IF(ISNUMBER(skjermbilde!H$3-Z34-skjermbilde!H$6-4),skjermbilde!H$3-Z34-skjermbilde!H$6-4,0)","v":-4},{"$f":"+IF(ISNUMBER(skjermbilde!I$3-AA34-skjermbilde!I$6-4),skjermbilde!I$3-AA34-skjermbilde!I$6-4,0)","v":-4},{"$f":"+IF(ISNUMBER(skjermbilde!J$3-AB34-skjermbilde!J$6-4),skjermbilde!J$3-AB34-skjermbilde!J$6-4,0)","v":-4},{"$f":"+IF(ISNUMBER(skjermbilde!K$3-AC34-skjermbilde!K$6-4),skjermbilde!K$3-AC34-skjermbilde!K$6-4,0)","v":-4},{"$f":"+IF(ISNUMBER(skjermbilde!L$3-AD34-skjermbilde!L$6-4),skjermbilde!L$3-AD34-skjermbilde!L$6-4,0)","v":-4},{"$f":"+IF(ISNUMBER(skjermbilde!M$3-AE34-skjermbilde!M$6-4),skjermbilde!M$3-AE34-skjermbilde!M$6-4,0)","v":-4},{"$f":"+IF(ISNUMBER(skjermbilde!N$3-AF34-skjermbilde!N$6-4),skjermbilde!N$3-AF34-skjermbilde!N$6-4,0)","v":-4},{"$f":"IF(skjermbilde!$O$10=TRUE,10*LOG10(10^(0.1*(AI34+AI$12))+10^(0.1*(AJ34+AJ$12))+10^(0.1*(AK34+AK$12))+10^(0.1*(AL34+AL$12))+10^(0.1*(AM34+AM$12))+10^(0.1*(AN34+AN$12))+10^(0.1*(AO34+AO$12))+10^(0.1*(AP34+AP$12))),\"\")","v":""},1,1,1,1,1,1,1,1,1,0,{"$f":"IF(skjermbilde!$D$4=\"\",1,IF(P34=skjermbilde!$D$4,1,0))","v":0},{"$f":"+IF(skjermbilde!$N$10=1,1,0)","v":1},{"$f":"+IF(U34=\"r\",1,IF(M34=skjermbilde!$D$3,1,0))","v":1},{"$f":"+IF(U34=\"s\",1,IF(N34=skjermbilde!$C$3,1,0))","v":1},{"$f":"+IF(U34=\"s\",1,IF(O34=skjermbilde!$C$4,1,0))","v":1},1,0,null,null,null,19,"",null,null,null,null,null,null,null,null,null,null,null,null,null,null,"",19,"",null,null,null,null,null,null,null,null,null,null,null,null,"",19,"",null,null,null,null,"",{"$f":"IF(skjermbilde!$D$2=1,VLOOKUP($CS34,$CB$17:$CD$261,3,FALSE),CONCATENATE(\"2 x \",VLOOKUP($CS34,$CB$17:$CD$261,3,FALSE)))","v":""},null,null,null,null,null,null,null,null,null,1.8000000000000005E-7,1.00000018,1,0,1.0000000899999999,0,0]
[20,{"$f":"datagrunnlag!H35","v":"LEV-100-500"},{"$f":"datagrunnlag!I35","v":4.9472982351298516},{"$f":"datagrunnlag!J35","v":13.333590198739353},{"$f":"datagrunnlag!K35","v":17.345881708147957},{"$f":"datagrunnlag!L35","v":27.401013997925425},{"$f":"datagrunnlag!M35","v":41.523440292573781},{"$f":"datagrunnlag!N35","v":42.825648997135907},{"$f":"datagrunnlag!O35","v":33.083953417301856},{"$f":"datagrunnlag!P35","v":15.836880517573309},{"$f":"+datagrunnlag!A35","v":"LEV"},{"$f":"+datagrunnlag!B35","v":"s"},{"$f":"+datagrunnlag!C35","v":100},null,null,{"$f":"++IF(datagrunnlag!F35=\"s\",\"c\",datagrunnlag!F35)","v":"c"},{"$f":"+datagrunnlag!G35","v":500},{"$f":"+datagrunnlag!Q35","v":7.2600430621751018E-3},0,201,"r",0,0,{"$f":"IF(skjermbilde!$D$2=1,S35^2*R35,2*S35^2*R35)","v":0},{"$f":"IF(C35=\"\",\"\",IF(skjermbilde!$D$2=1,C35,IF(AND(skjermbilde!$D$2=2,2*C35>60),60,IF(skjermbilde!$D$2=2,2*C35))))","v":4.9472982351298516},{"$f":"IF(skjermbilde!$D$2=1,D35,IF(AND(skjermbilde!$D$2=2,2*D35>60),60,IF(skjermbilde!$D$2=2,2*D35)))","v":13.333590198739353},{"$f":"IF(skjermbilde!$D$2=1,E35,IF(AND(skjermbilde!$D$2=2,2*E35>60),60,IF(skjermbilde!$D$2=2,2*E35)))","v":17.345881708147957},{"$f":"IF(skjermbilde!$D$2=1,F35,IF(AND(skjermbilde!$D$2=2,2*F35>60),60,IF(skjermbilde!$D$2=2,2*F35)))","v":27.401013997925425},{"$f":"IF(skjermbilde!$D$2=1,G35,IF(AND(skjermbilde!$D$2=2,2*G35>60),60,IF(skjermbilde!$D$2=2,2*G35)))","v":41.523440292573781},{"$f":"IF(skjermbilde!$D$2=1,H35,IF(AND(skjermbilde!$D$2=2,2*H35>60),60,IF(skjermbilde!$D$2=2,2*H35)))","v":42.825648997135907},{"$f":"IF(skjermbilde!$D$2=1,I35,IF(AND(skjermbilde!$D$2=2,2*I35>60),60,IF(skjermbilde!$D$2=2,2*I35)))","v":33.083953417301856},{"$f":"IF(J35=\"\",\"\",IF(skjermbilde!$D$2=1,J35,IF(AND(skjermbilde!$D$2=2,2*J35>60),60,IF(skjermbilde!$D$2=2,2*J35))))","v":15.836880517573309},null,null,{"$f":"+IF(ISNUMBER(skjermbilde!G$3-Y35-skjermbilde!G$6-4),skjermbilde!G$3-Y35-skjermbilde!G$6-4,0)","v":-8.9472982351298516},{"$f":"+IF(ISNUMBER(skjermbilde!H$3-Z35-skjermbilde!H$6-4),skjermbilde!H$3-Z35-skjermbilde!H$6-4,0)","v":-17.333590198739351},{"$f":"+IF(ISNUMBER(skjermbilde!I$3-AA35-skjermbilde!I$6-4),skjermbilde!I$3-AA35-skjermbilde!I$6-4,0)","v":-21.345881708147957},{"$f":"+IF(ISNUMBER(skjermbilde!J$3-AB35-skjermbilde!J$6-4),skjermbilde!J$3-AB35-skjermbilde!J$6-4,0)","v":-31.401013997925425},{"$f":"+IF(ISNUMBER(skjermbilde!K$3-AC35-skjermbilde!K$6-4),skjermbilde!K$3-AC35-skjermbilde!K$6-4,0)","v":-45.523440292573781},{"$f":"+IF(ISNUMBER(skjermbilde!L$3-AD35-skjermbilde!L$6-4),skjermbilde!L$3-AD35-skjermbilde!L$6-4,0)","v":-46.825648997135907},{"$f":"+IF(ISNUMBER(skjermbilde!M$3-AE35-skjermbilde!M$6-4),skjermbilde!M$3-AE35-skjermbilde!M$6-4,0)","v":-37.083953417301856},{"$f":"+IF(ISNUMBER(skjermbilde!N$3-AF35-skjermbilde!N$6-4),skjermbilde!N$3-AF35-skjermbilde!N$6-4,0)","v":-19.836880517573309},{"$f":"IF(skjermbilde!$O$10=TRUE,10*LOG10(10^(0.1*(AI35+AI$12))+10^(0.1*(AJ35+AJ$12))+10^(0.1*(AK35+AK$12))+10^(0.1*(AL35+AL$12))+10^(0.1*(AM35+AM$12))+10^(0.1*(AN35+AN$12))+10^(0.1*(AO35+AO$12))+10^(0.1*(AP35+AP$12))),\"\")","v":""},1,1,1,1,1,1,1,1,1,0,{"$f":"IF(skjermbilde!$D$4=\"\",1,IF(P35=skjermbilde!$D$4,1,0))","v":0},{"$f":"+IF(skjermbilde!$N$10=1,1,0)","v":1},{"$f":"+IF(U35=\"r\",1,IF(M35=skjermbilde!$D$3,1,0))","v":1},{"$f":"+IF(U35=\"s\",1,IF(N35=skjermbilde!$C$3,1,0))","v":1},{"$f":"+IF(U35=\"s\",1,IF(O35=skjermbilde!$C$4,1,0))","v":1},1,0,null,null,null,20,"",null,null,null,null,null,null,null,null,null,null,null,null,null,null,"",20,"",null,null,null,null,null,null,null,null,null,null,null,null,"",20,"",null,null,null,null,"",{"$f":"IF(skjermbilde!$D$2=1,VLOOKUP($CS35,$CB$17:$CD$261,3,FALSE),CONCATENATE(\"2 x \",VLOOKUP($CS35,$CB$17:$CD$261,3,FALSE)))","v":""},null,null,null,null,null,null,null,null,null,1.9000000000000006E-7,1.00000019,1,"LEV-100-500",1.0000001000000001,0,0]
[21,{"$f":"datagrunnlag!H36","v":"LEV-125-500"},{"$f":"datagrunnlag!I36","v":2.3780006329788943},{"$f":"datagrunnlag!J36","v":7.4145219092810075},{"$f":"datagrunnlag!K36","v":10.304088486309011},{"$f":"datagrunnlag!L36","v":22.127676136097811},{"$f":"datagrunnlag!M36","v":35.693798026045933},{"$f":"datagrunnlag!N36","v":33.448225624652594},{"$f":"datagrunnlag!O36","v":21.543455765875255},{"$f":"datagrunnlag!P36","v":7.5948080537265561},{"$f":"+datagrunnlag!A36","v":"LEV"},{"$f":"+datagrunnlag!B36","v":"s"},{"$f":"+datagrunnlag!C36","v":125},null,null,{"$f":"++IF(datagrunnlag!F36=\"s\",\"c\",datagrunnlag!F36)","v":"c"},{"$f":"+datagrunnlag!G36","v":500},{"$f":"+datagrunnlag!Q36","v":2.2819342559587674E-3},0,201,"r",0,0,{"$f":"IF(skjermbilde!$D$2=1,S36^2*R36,2*S36^2*R36)","v":0},{"$f":"IF(C36=\"\",\"\",IF(skjermbilde!$D$2=1,C36,IF(AND(skjermbilde!$D$2=2,2*C36>60),60,IF(skjermbilde!$D$2=2,2*C36))))","v":2.3780006329788943},{"$f":"IF(skjermbilde!$D$2=1,D36,IF(AND(skjermbilde!$D$2=2,2*D36>60),60,IF(skjermbilde!$D$2=2,2*D36)))","v":7.4145219092810075},{"$f":"IF(skjermbilde!$D$2=1,E36,IF(AND(skjermbilde!$D$2=2,2*E36>60),60,IF(skjermbilde!$D$2=2,2*E36)))","v":10.304088486309011},{"$f":"IF(skjermbilde!$D$2=1,F36,IF(AND(skjermbilde!$D$2=2,2*F36>60),60,IF(skjermbilde!$D$2=2,2*F36)))","v":22.127676136097811},{"$f":"IF(skjermbilde!$D$2=1,G36,IF(AND(skjermbilde!$D$2=2,2*G36>60),60,IF(skjermbilde!$D$2=2,2*G36)))","v":35.693798026045933},{"$f":"IF(skjermbilde!$D$2=1,H36,IF(AND(skjermbilde!$D$2=2,2*H36>60),60,IF(skjermbilde!$D$2=2,2*H36)))","v":33.448225624652594},{"$f":"IF(skjermbilde!$D$2=1,I36,IF(AND(skjermbilde!$D$2=2,2*I36>60),60,IF(skjermbilde!$D$2=2,2*I36)))","v":21.543455765875255},{"$f":"IF(J36=\"\",\"\",IF(skjermbilde!$D$2=1,J36,IF(AND(skjermbilde!$D$2=2,2*J36>60),60,IF(skjermbilde!$D$2=2,2*J36))))","v":7.5948080537265561},null,null,{"$f":"+IF(ISNUMBER(skjermbilde!G$3-Y36-skjermbilde!G$6-4),skjermbilde!G$3-Y36-skjermbilde!G$6-4,0)","v":-6.3780006329788943},{"$f":"+IF(ISNUMBER(skjermbilde!H$3-Z36-skjermbilde!H$6-4),skjermbilde!H$3-Z36-skjermbilde!H$6-4,0)","v":-11.414521909281007},{"$f":"+IF(ISNUMBER(skjermbilde!I$3-AA36-skjermbilde!I$6-4),skjermbilde!I$3-AA36-skjermbilde!I$6-4,0)","v":-14.304088486309011},{"$f":"+IF(ISNUMBER(skjermbilde!J$3-AB36-skjermbilde!J$6-4),skjermbilde!J$3-AB36-skjermbilde!J$6-4,0)","v":-26.127676136097811},{"$f":"+IF(ISNUMBER(skjermbilde!K$3-AC36-skjermbilde!K$6-4),skjermbilde!K$3-AC36-skjermbilde!K$6-4,0)","v":-39.693798026045933},{"$f":"+IF(ISNUMBER(skjermbilde!L$3-AD36-skjermbilde!L$6-4),skjermbilde!L$3-AD36-skjermbilde!L$6-4,0)","v":-37.448225624652594},{"$f":"+IF(ISNUMBER(skjermbilde!M$3-AE36-skjermbilde!M$6-4),skjermbilde!M$3-AE36-skjermbilde!M$6-4,0)","v":-25.543455765875255},{"$f":"+IF(ISNUMBER(skjermbilde!N$3-AF36-skjermbilde!N$6-4),skjermbilde!N$3-AF36-skjermbilde!N$6-4,0)","v":-11.594808053726556},{"$f":"IF(skjermbilde!$O$10=TRUE,10*LOG10(10^(0.1*(AI36+AI$12))+10^(0.1*(AJ36+AJ$12))+10^(0.1*(AK36+AK$12))+10^(0.1*(AL36+AL$12))+10^(0.1*(AM36+AM$12))+10^(0.1*(AN36+AN$12))+10^(0.1*(AO36+AO$12))+10^(0.1*(AP36+AP$12))),\"\")","v":""},1,1,1,1,1,1,1,1,1,0,{"$f":"IF(skjermbilde!$D$4=\"\",1,IF(P36=skjermbilde!$D$4,1,0))","v":0},{"$f":"+IF(skjermbilde!$N$10=1,1,0)","v":1},{"$f":"+IF(U36=\"r\",1,IF(M36=skjermbilde!$D$3,1,0))","v":1},{"$f":"+IF(U36=\"s\",1,IF(N36=skjermbilde!$C$3,1,0))","v":1},{"$f":"+IF(U36=\"s\",1,IF(O36=skjermbilde!$C$4,1,0))","v":1},1,0,null,null,null,21,"",null,null,null,null,null,null,null,null,null,null,null,null,null,null,"",21,"",null,null,null,null,null,null,null,null,null,null,null,null,"",21,"",null,null,null,null,"",{"$f":"IF(skjermbilde!$D$2=1,VLOOKUP($CS36,$CB$17:$CD$261,3,FALSE),CONCATENATE(\"2 x \",VLOOKUP($CS36,$CB$17:$CD$261,3,FALSE)))","v":""},null,null,null,null,null,null,null,null,null,2.0000000000000007E-7,1.0000001999999999,1,"LEV-125-500",1.0000001000000001,0,0]
[22,{"$f":"datagrunnlag!H37","v":"LEV-160-500"},{"$f":"datagrunnlag!I37","v":0.93502825671579248},{"$f":"datagrunnlag!J37","v":5.4539707896198699},{"$f":"datagrunnlag!K37","v":8.5863423507747711},{"$f":"datagrunnlag!L37","v":18.599150319406672},{"$f":"datagrunnlag!M37","v":29.898765348918609},{"$f":"datagrunnlag!N37","v":25.516813709704849},{"$f":"datagrunnlag!O37","v":13.794675527313432},{"$f":"datagrunnlag!P37","v":5.639034857628177},{"$f":"+datagrunnlag!A37","v":"LEV"},{"$f":"+datagrunnlag!B37","v":"s"},{"$f":"+datagrunnlag!C37","v":160},null,null,{"$f":"++IF(datagrunnlag!F37=\"s\",\"c\",datagrunnlag!F37)","v":"c"},{"$f":"+datagrunnlag!G37","v":500},{"$f":"+datagrunnlag!Q37","v":7.7530621957146151E-4},0,201,"r",0,0,{"$f":"IF(skjermbilde!$D$2=1,S37^2*R37,2*S37^2*R37)","v":0},{"$f":"IF(C37=\"\",\"\",IF(skjermbilde!$D$2=1,C37,IF(AND(skjermbilde!$D$2=2,2*C37>60),60,IF(skjermbilde!$D$2=2,2*C37))))","v":0.93502825671579248},{"$f":"IF(skjermbilde!$D$2=1,D37,IF(AND(skjermbilde!$D$2=2,2*D37>60),60,IF(skjermbilde!$D$2=2,2*D37)))","v":5.4539707896198699},{"$f":"IF(skjermbilde!$D$2=1,E37,IF(AND(skjermbilde!$D$2=2,2*E37>60),60,IF(skjermbilde!$D$2=2,2*E37)))","v":8.5863423507747711},{"$f":"IF(skjermbilde!$D$2=1,F37,IF(AND(skjermbilde!$D$2=2,2*F37>60),60,IF(skjermbilde!$D$2=2,2*F37)))","v":18.599150319406672},{"$f":"IF(skjermbilde!$D$2=1,G37,IF(AND(skjermbilde!$D$2=2,2*G37>60),60,IF(skjermbilde!$D$2=2,2*G37)))","v":29.898765348918609},{"$f":"IF(skjermbilde!$D$2=1,H37,IF(AND(skjermbilde!$D$2=2,2*H37>60),60,IF(skjermbilde!$D$2=2,2*H37)))","v":25.516813709704849},{"$f":"IF(skjermbilde!$D$2=1,I37,IF(AND(skjermbilde!$D$2=2,2*I37>60),60,IF(skjermbilde!$D$2=2,2*I37)))","v":13.794675527313432},{"$f":"IF(J37=\"\",\"\",IF(skjermbilde!$D$2=1,J37,IF(AND(skjermbilde!$D$2=2,2*J37>60),60,IF(skjermbilde!$D$2=2,2*J37))))","v":5.639034857628177},null,null,{"$f":"+IF(ISNUMBER(skjermbilde!G$3-Y37-skjermbilde!G$6-4),skjermbilde!G$3-Y37-skjermbilde!G$6-4,0)","v":-4.9350282567157926},{"$f":"+IF(ISNUMBER(skjermbilde!H$3-Z37-skjermbilde!H$6-4),skjermbilde!H$3-Z37-skjermbilde!H$6-4,0)","v":-9.4539707896198699},{"$f":"+IF(ISNUMBER(skjermbilde!I$3-AA37-skjermbilde!I$6-4),skjermbilde!I$3-AA37-skjermbilde!I$6-4,0)","v":-12.586342350774771},{"$f":"+IF(ISNUMBER(skjermbilde!J$3-AB37-skjermbilde!J$6-4),skjermbilde!J$3-AB37-skjermbilde!J$6-4,0)","v":-22.599150319406672},{"$f":"+IF(ISNUMBER(skjermbilde!K$3-AC37-skjermbilde!K$6-4),skjermbilde!K$3-AC37-skjermbilde!K$6-4,0)","v":-33.898765348918609},{"$f":"+IF(ISNUMBER(skjermbilde!L$3-AD37-skjermbilde!L$6-4),skjermbilde!L$3-AD37-skjermbilde!L$6-4,0)","v":-29.516813709704849},{"$f":"+IF(ISNUMBER(skjermbilde!M$3-AE37-skjermbilde!M$6-4),skjermbilde!M$3-AE37-skjermbilde!M$6-4,0)","v":-17.79467552731343},{"$f":"+IF(ISNUMBER(skjermbilde!N$3-AF37-skjermbilde!N$6-4),skjermbilde!N$3-AF37-skjermbilde!N$6-4,0)","v":-9.639034857628177},{"$f":"IF(skjermbilde!$O$10=TRUE,10*LOG10(10^(0.1*(AI37+AI$12))+10^(0.1*(AJ37+AJ$12))+10^(0.1*(AK37+AK$12))+10^(0.1*(AL37+AL$12))+10^(0.1*(AM37+AM$12))+10^(0.1*(AN37+AN$12))+10^(0.1*(AO37+AO$12))+10^(0.1*(AP37+AP$12))),\"\")","v":""},1,1,1,1,1,1,1,1,1,0,{"$f":"IF(skjermbilde!$D$4=\"\",1,IF(P37=skjermbilde!$D$4,1,0))","v":0},{"$f":"+IF(skjermbilde!$N$10=1,1,0)","v":1},{"$f":"+IF(U37=\"r\",1,IF(M37=skjermbilde!$D$3,1,0))","v":1},{"$f":"+IF(U37=\"s\",1,IF(N37=skjermbilde!$C$3,1,0))","v":1},{"$f":"+IF(U37=\"s\",1,IF(O37=skjermbilde!$C$4,1,0))","v":1},1,0,null,null,null,22,"",null,null,null,null,null,null,null,null,null,null,null,null,null,null,"",22,"",null,null,null,null,null,null,null,null,null,null,null,null,"",22,"",null,null,null,null,"",{"$f":"IF(skjermbilde!$D$2=1,VLOOKUP($CS37,$CB$17:$CD$261,3,FALSE),CONCATENATE(\"2 x \",VLOOKUP($CS37,$CB$17:$CD$261,3,FALSE)))","v":""},null,null,null,null,null,null,null,null,null,2.1000000000000008E-7,1.0000002100000001,1,"LEV-160-500",1.00000011,0,0]
[23,{"$f":"datagrunnlag!H38","v":"LEV-200-500"},{"$f":"datagrunnlag!I38","v":1},{"$f":"datagrunnlag!J38","v":4.2585836655154523},{"$f":"datagrunnlag!K38","v":6.7417510042569981},{"$f":"datagrunnlag!L38","v":14.905331855371312},{"$f":"datagrunnlag!M38","v":22.834738886602338},{"$f":"datagrunnlag!N38","v":17.209247213464693},{"$f":"datagrunnlag!O38","v":8.6479285100991881},{"$f":"datagrunnlag!P38","v":4.4076158502485256},{"$f":"+datagrunnlag!A38","v":"LEV"},{"$f":"+datagrunnlag!B38","v":"s"},{"$f":"+datagrunnlag!C38","v":200},null,null,{"$f":"++IF(datagrunnlag!F38=\"s\",\"c\",datagrunnlag!F38)","v":"c"},{"$f":"+datagrunnlag!G38","v":500},{"$f":"+datagrunnlag!Q38","v":2.2604056443748357E-4},0,201,"r",0,0,{"$f":"IF(skjermbilde!$D$2=1,S38^2*R38,2*S38^2*R38)","v":0},{"$f":"IF(C38=\"\",\"\",IF(skjermbilde!$D$2=1,C38,IF(AND(skjermbilde!$D$2=2,2*C38>60),60,IF(skjermbilde!$D$2=2,2*C38))))","v":1},{"$f":"IF(skjermbilde!$D$2=1,D38,IF(AND(skjermbilde!$D$2=2,2*D38>60),60,IF(skjermbilde!$D$2=2,2*D38)))","v":4.2585836655154523},{"$f":"IF(skjermbilde!$D$2=1,E38,IF(AND(skjermbilde!$D$2=2,2*E38>60),60,IF(skjermbilde!$D$2=2,2*E38)))","v":6.7417510042569981},{"$f":"IF(skjermbilde!$D$2=1,F38,IF(AND(skjermbilde!$D$2=2,2*F38>60),60,IF(skjermbilde!$D$2=2,2*F38)))","v":14.905331855371312},{"$f":"IF(skjermbilde!$D$2=1,G38,IF(AND(skjermbilde!$D$2=2,2*G38>60),60,IF(skjermbilde!$D$2=2,2*G38)))","v":22.834738886602338},{"$f":"IF(skjermbilde!$D$2=1,H38,IF(AND(skjermbilde!$D$2=2,2*H38>60),60,IF(skjermbilde!$D$2=2,2*H38)))","v":17.209247213464693},{"$f":"IF(skjermbilde!$D$2=1,I38,IF(AND(skjermbilde!$D$2=2,2*I38>60),60,IF(skjermbilde!$D$2=2,2*I38)))","v":8.6479285100991881},{"$f":"IF(J38=\"\",\"\",IF(skjermbilde!$D$2=1,J38,IF(AND(skjermbilde!$D$2=2,2*J38>60),60,IF(skjermbilde!$D$2=2,2*J38))))","v":4.4076158502485256},null,null,{"$f":"+IF(ISNUMBER(skjermbilde!G$3-Y38-skjermbilde!G$6-4),skjermbilde!G$3-Y38-skjermbilde!G$6-4,0)","v":-5},{"$f":"+IF(ISNUMBER(skjermbilde!H$3-Z38-skjermbilde!H$6-4),skjermbilde!H$3-Z38-skjermbilde!H$6-4,0)","v":-8.2585836655154523},{"$f":"+IF(ISNUMBER(skjermbilde!I$3-AA38-skjermbilde!I$6-4),skjermbilde!I$3-AA38-skjermbilde!I$6-4,0)","v":-10.741751004256997},{"$f":"+IF(ISNUMBER(skjermbilde!J$3-AB38-skjermbilde!J$6-4),skjermbilde!J$3-AB38-skjermbilde!J$6-4,0)","v":-18.905331855371312},{"$f":"+IF(ISNUMBER(skjermbilde!K$3-AC38-skjermbilde!K$6-4),skjermbilde!K$3-AC38-skjermbilde!K$6-4,0)","v":-26.834738886602338},{"$f":"+IF(ISNUMBER(skjermbilde!L$3-AD38-skjermbilde!L$6-4),skjermbilde!L$3-AD38-skjermbilde!L$6-4,0)","v":-21.209247213464693},{"$f":"+IF(ISNUMBER(skjermbilde!M$3-AE38-skjermbilde!M$6-4),skjermbilde!M$3-AE38-skjermbilde!M$6-4,0)","v":-12.647928510099188},{"$f":"+IF(ISNUMBER(skjermbilde!N$3-AF38-skjermbilde!N$6-4),skjermbilde!N$3-AF38-skjermbilde!N$6-4,0)","v":-8.4076158502485256},{"$f":"IF(skjermbilde!$O$10=TRUE,10*LOG10(10^(0.1*(AI38+AI$12))+10^(0.1*(AJ38+AJ$12))+10^(0.1*(AK38+AK$12))+10^(0.1*(AL38+AL$12))+10^(0.1*(AM38+AM$12))+10^(0.1*(AN38+AN$12))+10^(0.1*(AO38+AO$12))+10^(0.1*(AP38+AP$12))),\"\")","v":""},1,1,1,1,1,1,1,1,1,0,{"$f":"IF(skjermbilde!$D$4=\"\",1,IF(P38=skjermbilde!$D$4,1,0))","v":0},{"$f":"+IF(skjermbilde!$N$10=1,1,0)","v":1},{"$f":"+IF(U38=\"r\",1,IF(M38=skjermbilde!$D$3,1,0))","v":1},{"$f":"+IF(U38=\"s\",1,IF(N38=skjermbilde!$C$3,1,0))","v":1},{"$f":"+IF(U38=\"s\",1,IF(O38=skjermbilde!$C$4,1,0))","v":1},1,0,null,null,null,23,"",null,null,null,null,null,null,null,null,null,null,null,null,null,null,"",23,"",null,null,null,null,null,null,null,null,null,null,null,null,"",23,"",null,null,null,null,"",{"$f":"IF(skjermbilde!$D$2=1,VLOOKUP($CS38,$CB$17:$CD$261,3,FALSE),CONCATENATE(\"2 x \",VLOOKUP($CS38,$CB$17:$CD$261,3,FALSE)))","v":""},null,null,null,null,null,null,null,null,null,2.2000000000000009E-7,1.00000022,1,"LEV-200-500",1.00000011,0,0]
[24,{"$f":"datagrunnlag!H39","v":"LEV-250-500"},{"$f":"datagrunnlag!I39","v":0.59693042895748072},{"$f":"datagrunnlag!J39","v":3.2023566059728519},{"$f":"datagrunnlag!K39","v":6.1472500578564038},{"$f":"datagrunnlag!L39","v":13.237605229635632},{"$f":"datagrunnlag!M39","v":18.520667688567048},{"$f":"datagrunnlag!N39","v":11.75057818525972},{"$f":"datagrunnlag!O39","v":5.9377280940068244},{"$f":"datagrunnlag!P39","v":2.9150650753915057},{"$f":"+datagrunnlag!A39","v":"LEV"},{"$f":"+datagrunnlag!B39","v":"s"},{"$f":"+datagrunnlag!C39","v":250},null,null,{"$f":"++IF(datagrunnlag!F39=\"s\",\"c\",datagrunnlag!F39)","v":"c"},{"$f":"+datagrunnlag!G39","v":500},{"$f":"+datagrunnlag!Q39","v":1.0320966951470556E-4},0,201,"r",0,0,{"$f":"IF(skjermbilde!$D$2=1,S39^2*R39,2*S39^2*R39)","v":0},{"$f":"IF(C39=\"\",\"\",IF(skjermbilde!$D$2=1,C39,IF(AND(skjermbilde!$D$2=2,2*C39>60),60,IF(skjermbilde!$D$2=2,2*C39))))","v":0.59693042895748072},{"$f":"IF(skjermbilde!$D$2=1,D39,IF(AND(skjermbilde!$D$2=2,2*D39>60),60,IF(skjermbilde!$D$2=2,2*D39)))","v":3.2023566059728519},{"$f":"IF(skjermbilde!$D$2=1,E39,IF(AND(skjermbilde!$D$2=2,2*E39>60),60,IF(skjermbilde!$D$2=2,2*E39)))","v":6.1472500578564038},{"$f":"IF(skjermbilde!$D$2=1,F39,IF(AND(skjermbilde!$D$2=2,2*F39>60),60,IF(skjermbilde!$D$2=2,2*F39)))","v":13.237605229635632},{"$f":"IF(skjermbilde!$D$2=1,G39,IF(AND(skjermbilde!$D$2=2,2*G39>60),60,IF(skjermbilde!$D$2=2,2*G39)))","v":18.520667688567048},{"$f":"IF(skjermbilde!$D$2=1,H39,IF(AND(skjermbilde!$D$2=2,2*H39>60),60,IF(skjermbilde!$D$2=2,2*H39)))","v":11.75057818525972},{"$f":"IF(skjermbilde!$D$2=1,I39,IF(AND(skjermbilde!$D$2=2,2*I39>60),60,IF(skjermbilde!$D$2=2,2*I39)))","v":5.9377280940068244},{"$f":"IF(J39=\"\",\"\",IF(skjermbilde!$D$2=1,J39,IF(AND(skjermbilde!$D$2=2,2*J39>60),60,IF(skjermbilde!$D$2=2,2*J39))))","v":2.9150650753915057},null,null,{"$f":"+IF(ISNUMBER(skjermbilde!G$3-Y39-skjermbilde!G$6-4),skjermbilde!G$3-Y39-skjermbilde!G$6-4,0)","v":-4.5969304289574806},{"$f":"+IF(ISNUMBER(skjermbilde!H$3-Z39-skjermbilde!H$6-4),skjermbilde!H$3-Z39-skjermbilde!H$6-4,0)","v":-7.2023566059728523},{"$f":"+IF(ISNUMBER(skjermbilde!I$3-AA39-skjermbilde!I$6-4),skjermbilde!I$3-AA39-skjermbilde!I$6-4,0)","v":-10.147250057856404},{"$f":"+IF(ISNUMBER(skjermbilde!J$3-AB39-skjermbilde!J$6-4),skjermbilde!J$3-AB39-skjermbilde!J$6-4,0)","v":-17.237605229635633},{"$f":"+IF(ISNUMBER(skjermbilde!K$3-AC39-skjermbilde!K$6-4),skjermbilde!K$3-AC39-skjermbilde!K$6-4,0)","v":-22.520667688567048},{"$f":"+IF(ISNUMBER(skjermbilde!L$3-AD39-skjermbilde!L$6-4),skjermbilde!L$3-AD39-skjermbilde!L$6-4,0)","v":-15.75057818525972},{"$f":"+IF(ISNUMBER(skjermbilde!M$3-AE39-skjermbilde!M$6-4),skjermbilde!M$3-AE39-skjermbilde!M$6-4,0)","v":-9.9377280940068253},{"$f":"+IF(ISNUMBER(skjermbilde!N$3-AF39-skjermbilde!N$6-4),skjermbilde!N$3-AF39-skjermbilde!N$6-4,0)","v":-6.9150650753915057},{"$f":"IF(skjermbilde!$O$10=TRUE,10*LOG10(10^(0.1*(AI39+AI$12))+10^(0.1*(AJ39+AJ$12))+10^(0.1*(AK39+AK$12))+10^(0.1*(AL39+AL$12))+10^(0.1*(AM39+AM$12))+10^(0.1*(AN39+AN$12))+10^(0.1*(AO39+AO$12))+10^(0.1*(AP39+AP$12))),\"\")","v":""},1,1,1,1,1,1,1,1,1,0,{"$f":"IF(skjermbilde!$D$4=\"\",1,IF(P39=skjermbilde!$D$4,1,0))","v":0},{"$f":"+IF(skjermbilde!$N$10=1,1,0)","v":1},{"$f":"+IF(U39=\"r\",1,IF(M39=skjermbilde!$D$3,1,0))","v":1},{"$f":"+IF(U39=\"s\",1,IF(N39=skjermbilde!$C$3,1,0))","v":1},{"$f":"+IF(U39=\"s\",1,IF(O39=skjermbilde!$C$4,1,0))","v":1},1,0,null,null,null,24,"",null,null,null,null,null,null,null,null,null,null,null,null,null,null,"",24,"",null,null,null,null,null,null,null,null,null,null,null,null,"",24,"",null,null,null,null,"",{"$f":"IF(skjermbilde!$D$2=1,VLOOKUP($CS39,$CB$17:$CD$261,3,FALSE),CONCATENATE(\"2 x \",VLOOKUP($CS39,$CB$17:$CD$261,3,FALSE)))","v":""},null,null,null,null,null,null,null,null,null,2.300000000000001E-7,1.0000002299999999,1,"LEV-250-500",1.0000001199999999,0,0]
[25,{"$f":"datagrunnlag!H40","v":"LEV-315-500"},{"$f":"datagrunnlag!I40","v":1.5695024859839983},{"$f":"datagrunnlag!J40","v":1.5224204953928737},{"$f":"datagrunnlag!K40","v":5.1056925545533485},{"$f":"datagrunnlag!L40","v":11.028208668037946},{"$f":"datagrunnlag!M40","v":13.110954372291415},{"$f":"datagrunnlag!N40","v":6.6203958940370642},{"$f":"datagrunnlag!O40","v":3.9660734252275636},{"$f":"datagrunnlag!P40","v":3.7906259967855078},{"$f":"+datagrunnlag!A40","v":"LEV"},{"$f":"+datagrunnlag!B40","v":"s"},{"$f":"+datagrunnlag!C40","v":315},null,null,{"$f":"++IF(datagrunnlag!F40=\"s\",\"c\",datagrunnlag!F40)","v":"c"},{"$f":"+datagrunnlag!G40","v":500},{"$f":"+datagrunnlag!Q40","v":2.8302754643223959E-5},0,201,"r",0,0,{"$f":"IF(skjermbilde!$D$2=1,S40^2*R40,2*S40^2*R40)","v":0},{"$f":"IF(C40=\"\",\"\",IF(skjermbilde!$D$2=1,C40,IF(AND(skjermbilde!$D$2=2,2*C40>60),60,IF(skjermbilde!$D$2=2,2*C40))))","v":1.5695024859839983},{"$f":"IF(skjermbilde!$D$2=1,D40,IF(AND(skjermbilde!$D$2=2,2*D40>60),60,IF(skjermbilde!$D$2=2,2*D40)))","v":1.5224204953928737},{"$f":"IF(skjermbilde!$D$2=1,E40,IF(AND(skjermbilde!$D$2=2,2*E40>60),60,IF(skjermbilde!$D$2=2,2*E40)))","v":5.1056925545533485},{"$f":"IF(skjermbilde!$D$2=1,F40,IF(AND(skjermbilde!$D$2=2,2*F40>60),60,IF(skjermbilde!$D$2=2,2*F40)))","v":11.028208668037946},{"$f":"IF(skjermbilde!$D$2=1,G40,IF(AND(skjermbilde!$D$2=2,2*G40>60),60,IF(skjermbilde!$D$2=2,2*G40)))","v":13.110954372291415},{"$f":"IF(skjermbilde!$D$2=1,H40,IF(AND(skjermbilde!$D$2=2,2*H40>60),60,IF(skjermbilde!$D$2=2,2*H40)))","v":6.6203958940370642},{"$f":"IF(skjermbilde!$D$2=1,I40,IF(AND(skjermbilde!$D$2=2,2*I40>60),60,IF(skjermbilde!$D$2=2,2*I40)))","v":3.9660734252275636},{"$f":"IF(J40=\"\",\"\",IF(skjermbilde!$D$2=1,J40,IF(AND(skjermbilde!$D$2=2,2*J40>60),60,IF(skjermbilde!$D$2=2,2*J40))))","v":3.7906259967855078},null,null,{"$f":"+IF(ISNUMBER(skjermbilde!G$3-Y40-skjermbilde!G$6-4),skjermbilde!G$3-Y40-skjermbilde!G$6-4,0)","v":-5.5695024859839979},{"$f":"+IF(ISNUMBER(skjermbilde!H$3-Z40-skjermbilde!H$6-4),skjermbilde!H$3-Z40-skjermbilde!H$6-4,0)","v":-5.5224204953928737},{"$f":"+IF(ISNUMBER(skjermbilde!I$3-AA40-skjermbilde!I$6-4),skjermbilde!I$3-AA40-skjermbilde!I$6-4,0)","v":-9.1056925545533485},{"$f":"+IF(ISNUMBER(skjermbilde!J$3-AB40-skjermbilde!J$6-4),skjermbilde!J$3-AB40-skjermbilde!J$6-4,0)","v":-15.028208668037946},{"$f":"+IF(ISNUMBER(skjermbilde!K$3-AC40-skjermbilde!K$6-4),skjermbilde!K$3-AC40-skjermbilde!K$6-4,0)","v":-17.110954372291417},{"$f":"+IF(ISNUMBER(skjermbilde!L$3-AD40-skjermbilde!L$6-4),skjermbilde!L$3-AD40-skjermbilde!L$6-4,0)","v":-10.620395894037063},{"$f":"+IF(ISNUMBER(skjermbilde!M$3-AE40-skjermbilde!M$6-4),skjermbilde!M$3-AE40-skjermbilde!M$6-4,0)","v":-7.9660734252275631},{"$f":"+IF(ISNUMBER(skjermbilde!N$3-AF40-skjermbilde!N$6-4),skjermbilde!N$3-AF40-skjermbilde!N$6-4,0)","v":-7.7906259967855078},{"$f":"IF(skjermbilde!$O$10=TRUE,10*LOG10(10^(0.1*(AI40+AI$12))+10^(0.1*(AJ40+AJ$12))+10^(0.1*(AK40+AK$12))+10^(0.1*(AL40+AL$12))+10^(0.1*(AM40+AM$12))+10^(0.1*(AN40+AN$12))+10^(0.1*(AO40+AO$12))+10^(0.1*(AP40+AP$12))),\"\")","v":""},{"$f":"+IF(AND(X40-1<T40,X40<201),1,0)","v":1},{"$f":"+IF(Y40>Y$11,1,0)","v":1},{"$f":"+IF(Z40>Z$11,1,0)","v":1},{"$f":"+IF(AA40>AA$11,1,0)","v":1},{"$f":"+IF(AB40>AB$11,1,0)","v":1},{"$f":"+IF(AC40>AC$11,1,0)","v":1},{"$f":"+IF(AD40>AD$11,1,0)","v":1},{"$f":"+IF(AE40>AE$11,1,0)","v":1},{"$f":"+IF(AF40>AF$11,1,0)","v":1},{"$f":"+IF(U40=L40,1,0)","v":0},{"$f":"IF(skjermbilde!$D$4=\"\",1,IF(P40=skjermbilde!$D$4,1,0))","v":0},{"$f":"+IF(skjermbilde!$N$10=1,1,0)","v":1},{"$f":"+IF(U40=\"r\",1,IF(M40=skjermbilde!$D$3,1,0))","v":1},{"$f":"+IF(U40=\"s\",1,IF(N40=skjermbilde!$C$3,1,0))","v":1},{"$f":"+IF(U40=\"s\",1,IF(O40=skjermbilde!$C$4,1,0))","v":1},{"$f":"+IF(OR(W40=Q40,W40=0),1,0)","v":1},{"$f":"+IF(SUM(AR40:BG40)=16,1,0)","v":0},null,null,null,{"$f":"+A40","v":25},"",null,null,null,null,null,null,null,null,null,null,null,null,null,null,{"$f":"+IF($BH40=1,$X40+DI40,\"\")","v":""},{"$f":"+BL40","v":25},"",null,null,null,null,null,null,null,null,null,null,null,null,"",25,"",null,null,null,null,"",{"$f":"IF(skjermbilde!$D$2=1,VLOOKUP($CS40,$CB$17:$CD$261,3,FALSE),CONCATENATE(\"2 x \",VLOOKUP($CS40,$CB$17:$CD$261,3,FALSE)))","v":""},null,null,null,null,null,null,null,null,null,2.4000000000000008E-7,{"$f":"IF(ISNUMBER(DK40),DK40+DI40,\"\")","v":1.0000002400000001},{"$f":"SEARCH($DL$14,B40,1)","v":1},{"$f":"IF(ISNUMBER(DK40),B40,\"\")","v":"LEV-315-500"},1.0000001199999999,0,0]
[26,{"$f":"datagrunnlag!H41","v":"LEV-400-500"},{"$f":"datagrunnlag!I41","v":1},{"$f":"datagrunnlag!J41","v":0.88340937307216361},{"$f":"datagrunnlag!K41","v":4.2546560423310034},{"$f":"datagrunnlag!L41","v":9.7282086680379489},{"$f":"datagrunnlag!M41","v":8.623449887998051},{"$f":"datagrunnlag!N41","v":4.402981073242449},{"$f":"datagrunnlag!O41","v":2.2595583205450884},{"$f":"datagrunnlag!P41","v":2.6323047869470551},{"$f":"+datagrunnlag!A41","v":"LEV"},{"$f":"+datagrunnlag!B41","v":"s"},{"$f":"+datagrunnlag!C41","v":400},null,null,{"$f":"++IF(datagrunnlag!F41=\"s\",\"c\",datagrunnlag!F41)","v":"c"},{"$f":"+datagrunnlag!G41","v":500},{"$f":"+datagrunnlag!Q41","v":7.9999999999999996E-6},0,201,"r",0,0,{"$f":"IF(skjermbilde!$D$2=1,S41^2*R41,2*S41^2*R41)","v":0},{"$f":"IF(C41=\"\",\"\",IF(skjermbilde!$D$2=1,C41,IF(AND(skjermbilde!$D$2=2,2*C41>60),60,IF(skjermbilde!$D$2=2,2*C41))))","v":1},{"$f":"IF(skjermbilde!$D$2=1,D41,IF(AND(skjermbilde!$D$2=2,2*D41>60),60,IF(skjermbilde!$D$2=2,2*D41)))","v":0.88340937307216361},{"$f":"IF(skjermbilde!$D$2=1,E41,IF(AND(skjermbilde!$D$2=2,2*E41>60),60,IF(skjermbilde!$D$2=2,2*E41)))","v":4.2546560423310034},{"$f":"IF(skjermbilde!$D$2=1,F41,IF(AND(skjermbilde!$D$2=2,2*F41>60),60,IF(skjermbilde!$D$2=2,2*F41)))","v":9.7282086680379489},{"$f":"IF(skjermbilde!$D$2=1,G41,IF(AND(skjermbilde!$D$2=2,2*G41>60),60,IF(skjermbilde!$D$2=2,2*G41)))","v":8.623449887998051},{"$f":"IF(skjermbilde!$D$2=1,H41,IF(AND(skjermbilde!$D$2=2,2*H41>60),60,IF(skjermbilde!$D$2=2,2*H41)))","v":4.402981073242449},{"$f":"IF(skjermbilde!$D$2=1,I41,IF(AND(skjermbilde!$D$2=2,2*I41>60),60,IF(skjermbilde!$D$2=2,2*I41)))","v":2.2595583205450884},{"$f":"IF(J41=\"\",\"\",IF(skjermbilde!$D$2=1,J41,IF(AND(skjermbilde!$D$2=2,2*J41>60),60,IF(skjermbilde!$D$2=2,2*J41))))","v":2.6323047869470551},null,null,{"$f":"+IF(ISNUMBER(skjermbilde!G$3-Y41-skjermbilde!G$6-4),skjermbilde!G$3-Y41-skjermbilde!G$6-4,0)","v":-5},{"$f":"+IF(ISNUMBER(skjermbilde!H$3-Z41-skjermbilde!H$6-4),skjermbilde!H$3-Z41-skjermbilde!H$6-4,0)","v":-4.8834093730721637},{"$f":"+IF(ISNUMBER(skjermbilde!I$3-AA41-skjermbilde!I$6-4),skjermbilde!I$3-AA41-skjermbilde!I$6-4,0)","v":-8.2546560423310034},{"$f":"+IF(ISNUMBER(skjermbilde!J$3-AB41-skjermbilde!J$6-4),skjermbilde!J$3-AB41-skjermbilde!J$6-4,0)","v":-13.728208668037949},{"$f":"+IF(ISNUMBER(skjermbilde!K$3-AC41-skjermbilde!K$6-4),skjermbilde!K$3-AC41-skjermbilde!K$6-4,0)","v":-12.623449887998051},{"$f":"+IF(ISNUMBER(skjermbilde!L$3-AD41-skjermbilde!L$6-4),skjermbilde!L$3-AD41-skjermbilde!L$6-4,0)","v":-8.402981073242449},{"$f":"+IF(ISNUMBER(skjermbilde!M$3-AE41-skjermbilde!M$6-4),skjermbilde!M$3-AE41-skjermbilde!M$6-4,0)","v":-6.2595583205450884},{"$f":"+IF(ISNUMBER(skjermbilde!N$3-AF41-skjermbilde!N$6-4),skjermbilde!N$3-AF41-skjermbilde!N$6-4,0)","v":-6.6323047869470546},{"$f":"IF(skjermbilde!$O$10=TRUE,10*LOG10(10^(0.1*(AI41+AI$12))+10^(0.1*(AJ41+AJ$12))+10^(0.1*(AK41+AK$12))+10^(0.1*(AL41+AL$12))+10^(0.1*(AM41+AM$12))+10^(0.1*(AN41+AN$12))+10^(0.1*(AO41+AO$12))+10^(0.1*(AP41+AP$12))),\"\")","v":""},1,1,1,1,1,1,1,1,1,0,{"$f":"IF(skjermbilde!$D$4=\"\",1,IF(P41=skjermbilde!$D$4,1,0))","v":0},{"$f":"+IF(skjermbilde!$N$10=1,1,0)","v":1},{"$f":"+IF(U41=\"r\",1,IF(M41=skjermbilde!$D$3,1,0))","v":1},{"$f":"+IF(U41=\"s\",1,IF(N41=skjermbilde!$C$3,1,0))","v":1},{"$f":"+IF(U41=\"s\",1,IF(O41=skjermbilde!$C$4,1,0))","v":1},1,0,null,null,null,26,"",null,null,null,null,null,null,null,null,null,null,null,null,null,null,"",26,"",null,null,null,null,null,null,null,null,null,null,null,null,"",26,"",null,null,null,null,"",{"$f":"IF(skjermbilde!$D$2=1,VLOOKUP($CS41,$CB$17:$CD$261,3,FALSE),CONCATENATE(\"2 x \",VLOOKUP($CS41,$CB$17:$CD$261,3,FALSE)))","v":""},null,null,null,null,null,null,null,null,null,2.5000000000000009E-7,1.00000025,1,"LEV-400-500",1.0000001300000001,0,0]
[27,{"$f":"datagrunnlag!H42","v":"LEV-100-1000"},{"$f":"datagrunnlag!I42","v":6.1735670225749182},{"$f":"datagrunnlag!J42","v":16.320618714807935},{"$f":"datagrunnlag!K42","v":27.432608527349423},{"$f":"datagrunnlag!L42","v":43.345376000144071},{"$f":"datagrunnlag!M42","v":50},{"$f":"datagrunnlag!N42","v":50},{"$f":"datagrunnlag!O42","v":40.480230657040899},{"$f":"datagrunnlag!P42","v":25.789836155373436},{"$f":"+datagrunnlag!A42","v":"LEV"},{"$f":"+datagrunnlag!B42","v":"s"},{"$f":"+datagrunnlag!C42","v":100},null,null,{"$f":"++IF(datagrunnlag!F42=\"s\",\"c\",datagrunnlag!F42)","v":"c"},{"$f":"+datagrunnlag!G42","v":1000},{"$f":"+datagrunnlag!Q42","v":9.0474226221045895E-3},0,201,"r",0,0,{"$f":"IF(skjermbilde!$D$2=1,S42^2*R42,2*S42^2*R42)","v":0},{"$f":"IF(C42=\"\",\"\",IF(skjermbilde!$D$2=1,C42,IF(AND(skjermbilde!$D$2=2,2*C42>60),60,IF(skjermbilde!$D$2=2,2*C42))))","v":6.1735670225749182},{"$f":"IF(skjermbilde!$D$2=1,D42,IF(AND(skjermbilde!$D$2=2,2*D42>60),60,IF(skjermbilde!$D$2=2,2*D42)))","v":16.320618714807935},{"$f":"IF(skjermbilde!$D$2=1,E42,IF(AND(skjermbilde!$D$2=2,2*E42>60),60,IF(skjermbilde!$D$2=2,2*E42)))","v":27.432608527349423},{"$f":"IF(skjermbilde!$D$2=1,F42,IF(AND(skjermbilde!$D$2=2,2*F42>60),60,IF(skjermbilde!$D$2=2,2*F42)))","v":43.345376000144071},{"$f":"IF(skjermbilde!$D$2=1,G42,IF(AND(skjermbilde!$D$2=2,2*G42>60),60,IF(skjermbilde!$D$2=2,2*G42)))","v":50},{"$f":"IF(skjermbilde!$D$2=1,H42,IF(AND(skjermbilde!$D$2=2,2*H42>60),60,IF(skjermbilde!$D$2=2,2*H42)))","v":50},{"$f":"IF(skjermbilde!$D$2=1,I42,IF(AND(skjermbilde!$D$2=2,2*I42>60),60,IF(skjermbilde!$D$2=2,2*I42)))","v":40.480230657040899},{"$f":"IF(J42=\"\",\"\",IF(skjermbilde!$D$2=1,J42,IF(AND(skjermbilde!$D$2=2,2*J42>60),60,IF(skjermbilde!$D$2=2,2*J42))))","v":25.789836155373436},null,null,{"$f":"+IF(ISNUMBER(skjermbilde!G$3-Y42-skjermbilde!G$6-4),skjermbilde!G$3-Y42-skjermbilde!G$6-4,0)","v":-10.173567022574918},{"$f":"+IF(ISNUMBER(skjermbilde!H$3-Z42-skjermbilde!H$6-4),skjermbilde!H$3-Z42-skjermbilde!H$6-4,0)","v":-20.320618714807935},{"$f":"+IF(ISNUMBER(skjermbilde!I$3-AA42-skjermbilde!I$6-4),skjermbilde!I$3-AA42-skjermbilde!I$6-4,0)","v":-31.432608527349423},{"$f":"+IF(ISNUMBER(skjermbilde!J$3-AB42-skjermbilde!J$6-4),skjermbilde!J$3-AB42-skjermbilde!J$6-4,0)","v":-47.345376000144071},{"$f":"+IF(ISNUMBER(skjermbilde!K$3-AC42-skjermbilde!K$6-4),skjermbilde!K$3-AC42-skjermbilde!K$6-4,0)","v":-54},{"$f":"+IF(ISNUMBER(skjermbilde!L$3-AD42-skjermbilde!L$6-4),skjermbilde!L$3-AD42-skjermbilde!L$6-4,0)","v":-54},{"$f":"+IF(ISNUMBER(skjermbilde!M$3-AE42-skjermbilde!M$6-4),skjermbilde!M$3-AE42-skjermbilde!M$6-4,0)","v":-44.480230657040899},{"$f":"+IF(ISNUMBER(skjermbilde!N$3-AF42-skjermbilde!N$6-4),skjermbilde!N$3-AF42-skjermbilde!N$6-4,0)","v":-29.789836155373436},{"$f":"IF(skjermbilde!$O$10=TRUE,10*LOG10(10^(0.1*(AI42+AI$12))+10^(0.1*(AJ42+AJ$12))+10^(0.1*(AK42+AK$12))+10^(0.1*(AL42+AL$12))+10^(0.1*(AM42+AM$12))+10^(0.1*(AN42+AN$12))+10^(0.1*(AO42+AO$12))+10^(0.1*(AP42+AP$12))),\"\")","v":""},1,1,1,1,1,1,1,1,1,0,{"$f":"IF(skjermbilde!$D$4=\"\",1,IF(P42=skjermbilde!$D$4,1,0))","v":0},{"$f":"+IF(skjermbilde!$N$10=1,1,0)","v":1},{"$f":"+IF(U42=\"r\",1,IF(M42=skjermbilde!$D$3,1,0))","v":1},{"$f":"+IF(U42=\"s\",1,IF(N42=skjermbilde!$C$3,1,0))","v":1},{"$f":"+IF(U42=\"s\",1,IF(O42=skjermbilde!$C$4,1,0))","v":1},1,0,null,null,null,27,"",null,null,null,null,null,null,null,null,null,null,null,null,null,null,"",27,"",null,null,null,null,null,null,null,null,null,null,null,null,"",27,"",null,null,null,null,"",{"$f":"IF(skjermbilde!$D$2=1,VLOOKUP($CS42,$CB$17:$CD$261,3,FALSE),CONCATENATE(\"2 x \",VLOOKUP($CS42,$CB$17:$CD$261,3,FALSE)))","v":""},null,null,null,null,null,null,null,null,null,2.600000000000001E-7,1.00000026,1,"LEV-100-1000",1.0000001300000001,0,0]
[28,{"$f":"datagrunnlag!H43","v":"LEV-125-1000"},{"$f":"datagrunnlag!I43","v":1},{"$f":"datagrunnlag!J43","v":11.01047317797299},{"$f":"datagrunnlag!K43","v":19.485211578826217},{"$f":"datagrunnlag!L43","v":37.715252559069363},{"$f":"datagrunnlag!M43","v":50},{"$f":"datagrunnlag!N43","v":50},{"$f":"datagrunnlag!O43","v":36.222874054117568},{"$f":"datagrunnlag!P43","v":14.214180377235856},{"$f":"+datagrunnlag!A43","v":"LEV"},{"$f":"+datagrunnlag!B43","v":"s"},{"$f":"+datagrunnlag!C43","v":125},null,null,{"$f":"++IF(datagrunnlag!F43=\"s\",\"c\",datagrunnlag!F43)","v":"c"},{"$f":"+datagrunnlag!G43","v":1000},{"$f":"+datagrunnlag!Q43","v":2.6451689637323641E-3},0,201,"r",0,0,{"$f":"IF(skjermbilde!$D$2=1,S43^2*R43,2*S43^2*R43)","v":0},{"$f":"IF(C43=\"\",\"\",IF(skjermbilde!$D$2=1,C43,IF(AND(skjermbilde!$D$2=2,2*C43>60),60,IF(skjermbilde!$D$2=2,2*C43))))","v":1},{"$f":"IF(skjermbilde!$D$2=1,D43,IF(AND(skjermbilde!$D$2=2,2*D43>60),60,IF(skjermbilde!$D$2=2,2*D43)))","v":11.01047317797299},{"$f":"IF(skjermbilde!$D$2=1,E43,IF(AND(skjermbilde!$D$2=2,2*E43>60),60,IF(skjermbilde!$D$2=2,2*E43)))","v":19.485211578826217},{"$f":"IF(skjermbilde!$D$2=1,F43,IF(AND(skjermbilde!$D$2=2,2*F43>60),60,IF(skjermbilde!$D$2=2,2*F43)))","v":37.715252559069363},{"$f":"IF(skjermbilde!$D$2=1,G43,IF(AND(skjermbilde!$D$2=2,2*G43>60),60,IF(skjermbilde!$D$2=2,2*G43)))","v":50},{"$f":"IF(skjermbilde!$D$2=1,H43,IF(AND(skjermbilde!$D$2=2,2*H43>60),60,IF(skjermbilde!$D$2=2,2*H43)))","v":50},{"$f":"IF(skjermbilde!$D$2=1,I43,IF(AND(skjermbilde!$D$2=2,2*I43>60),60,IF(skjermbilde!$D$2=2,2*I43)))","v":36.222874054117568},{"$f":"IF(J43=\"\",\"\",IF(skjermbilde!$D$2=1,J43,IF(AND(skjermbilde!$D$2=2,2*J43>60),60,IF(skjermbilde!$D$2=2,2*J43))))","v":14.214180377235856},null,null,{"$f":"+IF(ISNUMBER(skjermbilde!G$3-Y43-skjermbilde!G$6-4),skjermbilde!G$3-Y43-skjermbilde!G$6-4,0)","v":-5},{"$f":"+IF(ISNUMBER(skjermbilde!H$3-Z43-skjermbilde!H$6-4),skjermbilde!H$3-Z43-skjermbilde!H$6-4,0)","v":-15.01047317797299},{"$f":"+IF(ISNUMBER(skjermbilde!I$3-AA43-skjermbilde!I$6-4),skjermbilde!I$3-AA43-skjermbilde!I$6-4,0)","v":-23.485211578826217},{"$f":"+IF(ISNUMBER(skjermbilde!J$3-AB43-skjermbilde!J$6-4),skjermbilde!J$3-AB43-skjermbilde!J$6-4,0)","v":-41.715252559069363},{"$f":"+IF(ISNUMBER(skjermbilde!K$3-AC43-skjermbilde!K$6-4),skjermbilde!K$3-AC43-skjermbilde!K$6-4,0)","v":-54},{"$f":"+IF(ISNUMBER(skjermbilde!L$3-AD43-skjermbilde!L$6-4),skjermbilde!L$3-AD43-skjermbilde!L$6-4,0)","v":-54},{"$f":"+IF(ISNUMBER(skjermbilde!M$3-AE43-skjermbilde!M$6-4),skjermbilde!M$3-AE43-skjermbilde!M$6-4,0)","v":-40.222874054117568},{"$f":"+IF(ISNUMBER(skjermbilde!N$3-AF43-skjermbilde!N$6-4),skjermbilde!N$3-AF43-skjermbilde!N$6-4,0)","v":-18.214180377235856},{"$f":"IF(skjermbilde!$O$10=TRUE,10*LOG10(10^(0.1*(AI43+AI$12))+10^(0.1*(AJ43+AJ$12))+10^(0.1*(AK43+AK$12))+10^(0.1*(AL43+AL$12))+10^(0.1*(AM43+AM$12))+10^(0.1*(AN43+AN$12))+10^(0.1*(AO43+AO$12))+10^(0.1*(AP43+AP$12))),\"\")","v":""},1,1,1,1,1,1,1,1,1,0,{"$f":"IF(skjermbilde!$D$4=\"\",1,IF(P43=skjermbilde!$D$4,1,0))","v":0},{"$f":"+IF(skjermbilde!$N$10=1,1,0)","v":1},{"$f":"+IF(U43=\"r\",1,IF(M43=skjermbilde!$D$3,1,0))","v":1},{"$f":"+IF(U43=\"s\",1,IF(N43=skjermbilde!$C$3,1,0))","v":1},{"$f":"+IF(U43=\"s\",1,IF(O43=skjermbilde!$C$4,1,0))","v":1},1,0,null,null,null,28,"",null,null,null,null,null,null,null,null,null,null,null,null,null,null,"",28,"",null,null,null,null,null,null,null,null,null,null,null,null,"",28,"",null,null,null,null,"",{"$f":"IF(skjermbilde!$D$2=1,VLOOKUP($CS43,$CB$17:$CD$261,3,FALSE),CONCATENATE(\"2 x \",VLOOKUP($CS43,$CB$17:$CD$261,3,FALSE)))","v":""},null,null,null,null,null,null,null,null,null,2.7000000000000011E-7,1.0000002699999999,1,"LEV-125-1000",1.00000014,0,0]
[29,{"$f":"datagrunnlag!H44","v":"LEV-160-1000"},{"$f":"datagrunnlag!I44","v":1},{"$f":"datagrunnlag!J44","v":7.7681553545563506},{"$f":"datagrunnlag!K44","v":14.549742732091627},{"$f":"datagrunnlag!L44","v":33.132748797184291},{"$f":"datagrunnlag!M44","v":50},{"$f":"datagrunnlag!N44","v":48.982304950778051},{"$f":"datagrunnlag!O44","v":23.588867092679344},{"$f":"datagrunnlag!P44","v":9.6850161798852969},{"$f":"+datagrunnlag!A44","v":"LEV"},{"$f":"+datagrunnlag!B44","v":"s"},{"$f":"+datagrunnlag!C44","v":160},null,null,{"$f":"++IF(datagrunnlag!F44=\"s\",\"c\",datagrunnlag!F44)","v":"c"},{"$f":"+datagrunnlag!G44","v":1000},{"$f":"+datagrunnlag!Q44","v":1.0796861960310905E-3},0,201,"r",0,0,{"$f":"IF(skjermbilde!$D$2=1,S44^2*R44,2*S44^2*R44)","v":0},{"$f":"IF(C44=\"\",\"\",IF(skjermbilde!$D$2=1,C44,IF(AND(skjermbilde!$D$2=2,2*C44>60),60,IF(skjermbilde!$D$2=2,2*C44))))","v":1},{"$f":"IF(skjermbilde!$D$2=1,D44,IF(AND(skjermbilde!$D$2=2,2*D44>60),60,IF(skjermbilde!$D$2=2,2*D44)))","v":7.7681553545563506},{"$f":"IF(skjermbilde!$D$2=1,E44,IF(AND(skjermbilde!$D$2=2,2*E44>60),60,IF(skjermbilde!$D$2=2,2*E44)))","v":14.549742732091627},{"$f":"IF(skjermbilde!$D$2=1,F44,IF(AND(skjermbilde!$D$2=2,2*F44>60),60,IF(skjermbilde!$D$2=2,2*F44)))","v":33.132748797184291},{"$f":"IF(skjermbilde!$D$2=1,G44,IF(AND(skjermbilde!$D$2=2,2*G44>60),60,IF(skjermbilde!$D$2=2,2*G44)))","v":50},{"$f":"IF(skjermbilde!$D$2=1,H44,IF(AND(skjermbilde!$D$2=2,2*H44>60),60,IF(skjermbilde!$D$2=2,2*H44)))","v":48.982304950778051},{"$f":"IF(skjermbilde!$D$2=1,I44,IF(AND(skjermbilde!$D$2=2,2*I44>60),60,IF(skjermbilde!$D$2=2,2*I44)))","v":23.588867092679344},{"$f":"IF(J44=\"\",\"\",IF(skjermbilde!$D$2=1,J44,IF(AND(skjermbilde!$D$2=2,2*J44>60),60,IF(skjermbilde!$D$2=2,2*J44))))","v":9.6850161798852969},null,null,{"$f":"+IF(ISNUMBER(skjermbilde!G$3-Y44-skjermbilde!G$6-4),skjermbilde!G$3-Y44-skjermbilde!G$6-4,0)","v":-5},{"$f":"+IF(ISNUMBER(skjermbilde!H$3-Z44-skjermbilde!H$6-4),skjermbilde!H$3-Z44-skjermbilde!H$6-4,0)","v":-11.768155354556351},{"$f":"+IF(ISNUMBER(skjermbilde!I$3-AA44-skjermbilde!I$6-4),skjermbilde!I$3-AA44-skjermbilde!I$6-4,0)","v":-18.549742732091627},{"$f":"+IF(ISNUMBER(skjermbilde!J$3-AB44-skjermbilde!J$6-4),skjermbilde!J$3-AB44-skjermbilde!J$6-4,0)","v":-37.132748797184291},{"$f":"+IF(ISNUMBER(skjermbilde!K$3-AC44-skjermbilde!K$6-4),skjermbilde!K$3-AC44-skjermbilde!K$6-4,0)","v":-54},{"$f":"+IF(ISNUMBER(skjermbilde!L$3-AD44-skjermbilde!L$6-4),skjermbilde!L$3-AD44-skjermbilde!L$6-4,0)","v":-52.982304950778051},{"$f":"+IF(ISNUMBER(skjermbilde!M$3-AE44-skjermbilde!M$6-4),skjermbilde!M$3-AE44-skjermbilde!M$6-4,0)","v":-27.588867092679344},{"$f":"+IF(ISNUMBER(skjermbilde!N$3-AF44-skjermbilde!N$6-4),skjermbilde!N$3-AF44-skjermbilde!N$6-4,0)","v":-13.685016179885297},{"$f":"IF(skjermbilde!$O$10=TRUE,10*LOG10(10^(0.1*(AI44+AI$12))+10^(0.1*(AJ44+AJ$12))+10^(0.1*(AK44+AK$12))+10^(0.1*(AL44+AL$12))+10^(0.1*(AM44+AM$12))+10^(0.1*(AN44+AN$12))+10^(0.1*(AO44+AO$12))+10^(0.1*(AP44+AP$12))),\"\")","v":""},1,1,1,1,1,1,1,1,1,0,{"$f":"IF(skjermbilde!$D$4=\"\",1,IF(P44=skjermbilde!$D$4,1,0))","v":0},{"$f":"+IF(skjermbilde!$N$10=1,1,0)","v":1},{"$f":"+IF(U44=\"r\",1,IF(M44=skjermbilde!$D$3,1,0))","v":1},{"$f":"+IF(U44=\"s\",1,IF(N44=skjermbilde!$C$3,1,0))","v":1},{"$f":"+IF(U44=\"s\",1,IF(O44=skjermbilde!$C$4,1,0))","v":1},1,0,null,null,null,29,"",null,null,null,null,null,null,null,null,null,null,null,null,null,null,"",29,"",null,null,null,null,null,null,null,null,null,null,null,null,"",29,"",null,null,null,null,"",{"$f":"IF(skjermbilde!$D$2=1,VLOOKUP($CS44,$CB$17:$CD$261,3,FALSE),CONCATENATE(\"2 x \",VLOOKUP($CS44,$CB$17:$CD$261,3,FALSE)))","v":""},null,null,null,null,null,null,null,null,null,2.8000000000000012E-7,1.0000002800000001,1,"LEV-160-1000",1.00000014,0,0]
[30,{"$f":"datagrunnlag!H45","v":"LEV-200-1000"},{"$f":"datagrunnlag!I45","v":1},{"$f":"datagrunnlag!J45","v":7.7873160525607101},{"$f":"datagrunnlag!K45","v":12.709791645043801},{"$f":"datagrunnlag!L45","v":28.078904655458963},{"$f":"datagrunnlag!M45","v":45.689607789663178},{"$f":"datagrunnlag!N45","v":34.789226359256638},{"$f":"datagrunnlag!O45","v":15.304369136708493},{"$f":"datagrunnlag!P45","v":7.6695024859839993},{"$f":"+datagrunnlag!A45","v":"LEV"},{"$f":"+datagrunnlag!B45","v":"s"},{"$f":"+datagrunnlag!C45","v":200},null,null,{"$f":"++IF(datagrunnlag!F45=\"s\",\"c\",datagrunnlag!F45)","v":"c"},{"$f":"+datagrunnlag!G45","v":1000},{"$f":"+datagrunnlag!Q45","v":2.6878112684983581E-4},0,201,"r",0,0,{"$f":"IF(skjermbilde!$D$2=1,S45^2*R45,2*S45^2*R45)","v":0},{"$f":"IF(C45=\"\",\"\",IF(skjermbilde!$D$2=1,C45,IF(AND(skjermbilde!$D$2=2,2*C45>60),60,IF(skjermbilde!$D$2=2,2*C45))))","v":1},{"$f":"IF(skjermbilde!$D$2=1,D45,IF(AND(skjermbilde!$D$2=2,2*D45>60),60,IF(skjermbilde!$D$2=2,2*D45)))","v":7.7873160525607101},{"$f":"IF(skjermbilde!$D$2=1,E45,IF(AND(skjermbilde!$D$2=2,2*E45>60),60,IF(skjermbilde!$D$2=2,2*E45)))","v":12.709791645043801},{"$f":"IF(skjermbilde!$D$2=1,F45,IF(AND(skjermbilde!$D$2=2,2*F45>60),60,IF(skjermbilde!$D$2=2,2*F45)))","v":28.078904655458963},{"$f":"IF(skjermbilde!$D$2=1,G45,IF(AND(skjermbilde!$D$2=2,2*G45>60),60,IF(skjermbilde!$D$2=2,2*G45)))","v":45.689607789663178},{"$f":"IF(skjermbilde!$D$2=1,H45,IF(AND(skjermbilde!$D$2=2,2*H45>60),60,IF(skjermbilde!$D$2=2,2*H45)))","v":34.789226359256638},{"$f":"IF(skjermbilde!$D$2=1,I45,IF(AND(skjermbilde!$D$2=2,2*I45>60),60,IF(skjermbilde!$D$2=2,2*I45)))","v":15.304369136708493},{"$f":"IF(J45=\"\",\"\",IF(skjermbilde!$D$2=1,J45,IF(AND(skjermbilde!$D$2=2,2*J45>60),60,IF(skjermbilde!$D$2=2,2*J45))))","v":7.6695024859839993},null,null,{"$f":"+IF(ISNUMBER(skjermbilde!G$3-Y45-skjermbilde!G$6-4),skjermbilde!G$3-Y45-skjermbilde!G$6-4,0)","v":-5},{"$f":"+IF(ISNUMBER(skjermbilde!H$3-Z45-skjermbilde!H$6-4),skjermbilde!H$3-Z45-skjermbilde!H$6-4,0)","v":-11.78731605256071},{"$f":"+IF(ISNUMBER(skjermbilde!I$3-AA45-skjermbilde!I$6-4),skjermbilde!I$3-AA45-skjermbilde!I$6-4,0)","v":-16.709791645043801},{"$f":"+IF(ISNUMBER(skjermbilde!J$3-AB45-skjermbilde!J$6-4),skjermbilde!J$3-AB45-skjermbilde!J$6-4,0)","v":-32.078904655458963},{"$f":"+IF(ISNUMBER(skjermbilde!K$3-AC45-skjermbilde!K$6-4),skjermbilde!K$3-AC45-skjermbilde!K$6-4,0)","v":-49.689607789663178},{"$f":"+IF(ISNUMBER(skjermbilde!L$3-AD45-skjermbilde!L$6-4),skjermbilde!L$3-AD45-skjermbilde!L$6-4,0)","v":-38.789226359256638},{"$f":"+IF(ISNUMBER(skjermbilde!M$3-AE45-skjermbilde!M$6-4),skjermbilde!M$3-AE45-skjermbilde!M$6-4,0)","v":-19.304369136708495},{"$f":"+IF(ISNUMBER(skjermbilde!N$3-AF45-skjermbilde!N$6-4),skjermbilde!N$3-AF45-skjermbilde!N$6-4,0)","v":-11.669502485983999},{"$f":"IF(skjermbilde!$O$10=TRUE,10*LOG10(10^(0.1*(AI45+AI$12))+10^(0.1*(AJ45+AJ$12))+10^(0.1*(AK45+AK$12))+10^(0.1*(AL45+AL$12))+10^(0.1*(AM45+AM$12))+10^(0.1*(AN45+AN$12))+10^(0.1*(AO45+AO$12))+10^(0.1*(AP45+AP$12))),\"\")","v":""},1,1,1,1,1,1,1,1,1,0,{"$f":"IF(skjermbilde!$D$4=\"\",1,IF(P45=skjermbilde!$D$4,1,0))","v":0},{"$f":"+IF(skjermbilde!$N$10=1,1,0)","v":1},{"$f":"+IF(U45=\"r\",1,IF(M45=skjermbilde!$D$3,1,0))","v":1},{"$f":"+IF(U45=\"s\",1,IF(N45=skjermbilde!$C$3,1,0))","v":1},{"$f":"+IF(U45=\"s\",1,IF(O45=skjermbilde!$C$4,1,0))","v":1},1,0,null,null,null,30,"",null,null,null,null,null,null,null,null,null,null,null,null,null,null,"",30,"",null,null,null,null,null,null,null,null,null,null,null,null,"",30,"",null,null,null,null,"",{"$f":"IF(skjermbilde!$D$2=1,VLOOKUP($CS45,$CB$17:$CD$261,3,FALSE),CONCATENATE(\"2 x \",VLOOKUP($CS45,$CB$17:$CD$261,3,FALSE)))","v":""},null,null,null,null,null,null,null,null,null,2.9000000000000014E-7,1.00000029,1,"LEV-200-1000",1.00000015,0,0]
[31,{"$f":"datagrunnlag!H46","v":"LEV-250-1000"},{"$f":"datagrunnlag!I46","v":1},{"$f":"datagrunnlag!J46","v":5.2190102523621427},{"$f":"datagrunnlag!K46","v":10.857490643598952},{"$f":"datagrunnlag!L46","v":24.197847800539961},{"$f":"datagrunnlag!M46","v":41.35591377948419},{"$f":"datagrunnlag!N46","v":25.880935832943027},{"$f":"datagrunnlag!O46","v":9.5086333894036343},{"$f":"datagrunnlag!P46","v":4.7010255486907511},{"$f":"+datagrunnlag!A46","v":"LEV"},{"$f":"+datagrunnlag!B46","v":"s"},{"$f":"+datagrunnlag!C46","v":250},null,null,{"$f":"++IF(datagrunnlag!F46=\"s\",\"c\",datagrunnlag!F46)","v":"c"},{"$f":"+datagrunnlag!G46","v":1000},{"$f":"+datagrunnlag!Q46","v":1.1843146599758212E-4},0,201,"r",0,0,{"$f":"IF(skjermbilde!$D$2=1,S46^2*R46,2*S46^2*R46)","v":0},{"$f":"IF(C46=\"\",\"\",IF(skjermbilde!$D$2=1,C46,IF(AND(skjermbilde!$D$2=2,2*C46>60),60,IF(skjermbilde!$D$2=2,2*C46))))","v":1},{"$f":"IF(skjermbilde!$D$2=1,D46,IF(AND(skjermbilde!$D$2=2,2*D46>60),60,IF(skjermbilde!$D$2=2,2*D46)))","v":5.2190102523621427},{"$f":"IF(skjermbilde!$D$2=1,E46,IF(AND(skjermbilde!$D$2=2,2*E46>60),60,IF(skjermbilde!$D$2=2,2*E46)))","v":10.857490643598952},{"$f":"IF(skjermbilde!$D$2=1,F46,IF(AND(skjermbilde!$D$2=2,2*F46>60),60,IF(skjermbilde!$D$2=2,2*F46)))","v":24.197847800539961},{"$f":"IF(skjermbilde!$D$2=1,G46,IF(AND(skjermbilde!$D$2=2,2*G46>60),60,IF(skjermbilde!$D$2=2,2*G46)))","v":41.35591377948419},{"$f":"IF(skjermbilde!$D$2=1,H46,IF(AND(skjermbilde!$D$2=2,2*H46>60),60,IF(skjermbilde!$D$2=2,2*H46)))","v":25.880935832943027},{"$f":"IF(skjermbilde!$D$2=1,I46,IF(AND(skjermbilde!$D$2=2,2*I46>60),60,IF(skjermbilde!$D$2=2,2*I46)))","v":9.5086333894036343},{"$f":"IF(J46=\"\",\"\",IF(skjermbilde!$D$2=1,J46,IF(AND(skjermbilde!$D$2=2,2*J46>60),60,IF(skjermbilde!$D$2=2,2*J46))))","v":4.7010255486907511},null,null,{"$f":"+IF(ISNUMBER(skjermbilde!G$3-Y46-skjermbilde!G$6-4),skjermbilde!G$3-Y46-skjermbilde!G$6-4,0)","v":-5},{"$f":"+IF(ISNUMBER(skjermbilde!H$3-Z46-skjermbilde!H$6-4),skjermbilde!H$3-Z46-skjermbilde!H$6-4,0)","v":-9.2190102523621427},{"$f":"+IF(ISNUMBER(skjermbilde!I$3-AA46-skjermbilde!I$6-4),skjermbilde!I$3-AA46-skjermbilde!I$6-4,0)","v":-14.857490643598952},{"$f":"+IF(ISNUMBER(skjermbilde!J$3-AB46-skjermbilde!J$6-4),skjermbilde!J$3-AB46-skjermbilde!J$6-4,0)","v":-28.197847800539961},{"$f":"+IF(ISNUMBER(skjermbilde!K$3-AC46-skjermbilde!K$6-4),skjermbilde!K$3-AC46-skjermbilde!K$6-4,0)","v":-45.35591377948419},{"$f":"+IF(ISNUMBER(skjermbilde!L$3-AD46-skjermbilde!L$6-4),skjermbilde!L$3-AD46-skjermbilde!L$6-4,0)","v":-29.880935832943027},{"$f":"+IF(ISNUMBER(skjermbilde!M$3-AE46-skjermbilde!M$6-4),skjermbilde!M$3-AE46-skjermbilde!M$6-4,0)","v":-13.508633389403634},{"$f":"+IF(ISNUMBER(skjermbilde!N$3-AF46-skjermbilde!N$6-4),skjermbilde!N$3-AF46-skjermbilde!N$6-4,0)","v":-8.7010255486907511},{"$f":"IF(skjermbilde!$O$10=TRUE,10*LOG10(10^(0.1*(AI46+AI$12))+10^(0.1*(AJ46+AJ$12))+10^(0.1*(AK46+AK$12))+10^(0.1*(AL46+AL$12))+10^(0.1*(AM46+AM$12))+10^(0.1*(AN46+AN$12))+10^(0.1*(AO46+AO$12))+10^(0.1*(AP46+AP$12))),\"\")","v":""},1,1,1,1,1,1,1,1,1,0,{"$f":"IF(skjermbilde!$D$4=\"\",1,IF(P46=skjermbilde!$D$4,1,0))","v":0},{"$f":"+IF(skjermbilde!$N$10=1,1,0)","v":1},{"$f":"+IF(U46=\"r\",1,IF(M46=skjermbilde!$D$3,1,0))","v":1},{"$f":"+IF(U46=\"s\",1,IF(N46=skjermbilde!$C$3,1,0))","v":1},{"$f":"+IF(U46=\"s\",1,IF(O46=skjermbilde!$C$4,1,0))","v":1},1,0,null,null,null,31,"",null,null,null,null,null,null,null,null,null,null,null,null,null,null,"",31,"",null,null,null,null,null,null,null,null,null,null,null,null,"",31,"",null,null,null,null,"",{"$f":"IF(skjermbilde!$D$2=1,VLOOKUP($CS46,$CB$17:$CD$261,3,FALSE),CONCATENATE(\"2 x \",VLOOKUP($CS46,$CB$17:$CD$261,3,FALSE)))","v":""},null,null,null,null,null,null,null,null,null,3.0000000000000015E-7,1.0000003,1,"LEV-250-1000",1.00000015,0,0]
[32,{"$f":"datagrunnlag!H47","v":"LEV-315-1000"},{"$f":"datagrunnlag!I47","v":1.2269940644402342},{"$f":"datagrunnlag!J47","v":2.7736996850555466},{"$f":"datagrunnlag!K47","v":9.4497239022304012},{"$f":"datagrunnlag!L47","v":20.922238198912495},{"$f":"datagrunnlag!M47","v":27.605087425749005},{"$f":"datagrunnlag!N47","v":14.353588707399034},{"$f":"datagrunnlag!O47","v":6.6764466264325542},{"$f":"datagrunnlag!P47","v":5.4212700324621128},{"$f":"+datagrunnlag!A47","v":"LEV"},{"$f":"+datagrunnlag!B47","v":"s"},{"$f":"+datagrunnlag!C47","v":315},null,null,{"$f":"++IF(datagrunnlag!F47=\"s\",\"c\",datagrunnlag!F47)","v":"c"},{"$f":"+datagrunnlag!G47","v":1000},{"$f":"+datagrunnlag!Q47","v":3.046948469256975E-5},0,201,"r",0,0,{"$f":"IF(skjermbilde!$D$2=1,S47^2*R47,2*S47^2*R47)","v":0},{"$f":"IF(C47=\"\",\"\",IF(skjermbilde!$D$2=1,C47,IF(AND(skjermbilde!$D$2=2,2*C47>60),60,IF(skjermbilde!$D$2=2,2*C47))))","v":1.2269940644402342},{"$f":"IF(skjermbilde!$D$2=1,D47,IF(AND(skjermbilde!$D$2=2,2*D47>60),60,IF(skjermbilde!$D$2=2,2*D47)))","v":2.7736996850555466},{"$f":"IF(skjermbilde!$D$2=1,E47,IF(AND(skjermbilde!$D$2=2,2*E47>60),60,IF(skjermbilde!$D$2=2,2*E47)))","v":9.4497239022304012},{"$f":"IF(skjermbilde!$D$2=1,F47,IF(AND(skjermbilde!$D$2=2,2*F47>60),60,IF(skjermbilde!$D$2=2,2*F47)))","v":20.922238198912495},{"$f":"IF(skjermbilde!$D$2=1,G47,IF(AND(skjermbilde!$D$2=2,2*G47>60),60,IF(skjermbilde!$D$2=2,2*G47)))","v":27.605087425749005},{"$f":"IF(skjermbilde!$D$2=1,H47,IF(AND(skjermbilde!$D$2=2,2*H47>60),60,IF(skjermbilde!$D$2=2,2*H47)))","v":14.353588707399034},{"$f":"IF(skjermbilde!$D$2=1,I47,IF(AND(skjermbilde!$D$2=2,2*I47>60),60,IF(skjermbilde!$D$2=2,2*I47)))","v":6.6764466264325542},{"$f":"IF(J47=\"\",\"\",IF(skjermbilde!$D$2=1,J47,IF(AND(skjermbilde!$D$2=2,2*J47>60),60,IF(skjermbilde!$D$2=2,2*J47))))","v":5.4212700324621128},null,null,{"$f":"+IF(ISNUMBER(skjermbilde!G$3-Y47-skjermbilde!G$6-4),skjermbilde!G$3-Y47-skjermbilde!G$6-4,0)","v":-5.226994064440234},{"$f":"+IF(ISNUMBER(skjermbilde!H$3-Z47-skjermbilde!H$6-4),skjermbilde!H$3-Z47-skjermbilde!H$6-4,0)","v":-6.7736996850555471},{"$f":"+IF(ISNUMBER(skjermbilde!I$3-AA47-skjermbilde!I$6-4),skjermbilde!I$3-AA47-skjermbilde!I$6-4,0)","v":-13.449723902230401},{"$f":"+IF(ISNUMBER(skjermbilde!J$3-AB47-skjermbilde!J$6-4),skjermbilde!J$3-AB47-skjermbilde!J$6-4,0)","v":-24.922238198912495},{"$f":"+IF(ISNUMBER(skjermbilde!K$3-AC47-skjermbilde!K$6-4),skjermbilde!K$3-AC47-skjermbilde!K$6-4,0)","v":-31.605087425749005},{"$f":"+IF(ISNUMBER(skjermbilde!L$3-AD47-skjermbilde!L$6-4),skjermbilde!L$3-AD47-skjermbilde!L$6-4,0)","v":-18.353588707399034},{"$f":"+IF(ISNUMBER(skjermbilde!M$3-AE47-skjermbilde!M$6-4),skjermbilde!M$3-AE47-skjermbilde!M$6-4,0)","v":-10.676446626432554},{"$f":"+IF(ISNUMBER(skjermbilde!N$3-AF47-skjermbilde!N$6-4),skjermbilde!N$3-AF47-skjermbilde!N$6-4,0)","v":-9.4212700324621128},{"$f":"IF(skjermbilde!$O$10=TRUE,10*LOG10(10^(0.1*(AI47+AI$12))+10^(0.1*(AJ47+AJ$12))+10^(0.1*(AK47+AK$12))+10^(0.1*(AL47+AL$12))+10^(0.1*(AM47+AM$12))+10^(0.1*(AN47+AN$12))+10^(0.1*(AO47+AO$12))+10^(0.1*(AP47+AP$12))),\"\")","v":""},1,1,1,1,1,1,1,1,1,0,{"$f":"IF(skjermbilde!$D$4=\"\",1,IF(P47=skjermbilde!$D$4,1,0))","v":0},{"$f":"+IF(skjermbilde!$N$10=1,1,0)","v":1},{"$f":"+IF(U47=\"r\",1,IF(M47=skjermbilde!$D$3,1,0))","v":1},{"$f":"+IF(U47=\"s\",1,IF(N47=skjermbilde!$C$3,1,0))","v":1},{"$f":"+IF(U47=\"s\",1,IF(O47=skjermbilde!$C$4,1,0))","v":1},1,0,null,null,null,32,"",null,null,null,null,null,null,null,null,null,null,null,null,null,null,"",32,"",null,null,null,null,null,null,null,null,null,null,null,null,"",32,"",null,null,null,null,"",{"$f":"IF(skjermbilde!$D$2=1,VLOOKUP($CS47,$CB$17:$CD$261,3,FALSE),CONCATENATE(\"2 x \",VLOOKUP($CS47,$CB$17:$CD$261,3,FALSE)))","v":""},null,null,null,null,null,null,null,null,null,3.1000000000000016E-7,1.0000003099999999,1,"LEV-315-1000",1.0000001599999999,0,0]
[33,{"$f":"datagrunnlag!H48","v":"LEV-400-1000"},{"$f":"datagrunnlag!I48","v":3.1157717836689809},{"$f":"datagrunnlag!J48","v":2.4660716718543201},{"$f":"datagrunnlag!K48","v":7.8186516472398058},{"$f":"datagrunnlag!L48","v":17.980848899911678},{"$f":"datagrunnlag!M48","v":18.213022525876259},{"$f":"datagrunnlag!N48","v":8.3484603855642696},{"$f":"datagrunnlag!O48","v":4.6970321125762036},{"$f":"datagrunnlag!P48","v":4.4986817204788663},{"$f":"+datagrunnlag!A48","v":"LEV"},{"$f":"+datagrunnlag!B48","v":"s"},{"$f":"+datagrunnlag!C48","v":400},null,null,{"$f":"++IF(datagrunnlag!F48=\"s\",\"c\",datagrunnlag!F48)","v":"c"},{"$f":"+datagrunnlag!G48","v":1000},{"$f":"+datagrunnlag!Q48","v":1.0000000000000001E-5},0,201,"r",0,0,{"$f":"IF(skjermbilde!$D$2=1,S48^2*R48,2*S48^2*R48)","v":0},{"$f":"IF(C48=\"\",\"\",IF(skjermbilde!$D$2=1,C48,IF(AND(skjermbilde!$D$2=2,2*C48>60),60,IF(skjermbilde!$D$2=2,2*C48))))","v":3.1157717836689809},{"$f":"IF(skjermbilde!$D$2=1,D48,IF(AND(skjermbilde!$D$2=2,2*D48>60),60,IF(skjermbilde!$D$2=2,2*D48)))","v":2.4660716718543201},{"$f":"IF(skjermbilde!$D$2=1,E48,IF(AND(skjermbilde!$D$2=2,2*E48>60),60,IF(skjermbilde!$D$2=2,2*E48)))","v":7.8186516472398058},{"$f":"IF(skjermbilde!$D$2=1,F48,IF(AND(skjermbilde!$D$2=2,2*F48>60),60,IF(skjermbilde!$D$2=2,2*F48)))","v":17.980848899911678},{"$f":"IF(skjermbilde!$D$2=1,G48,IF(AND(skjermbilde!$D$2=2,2*G48>60),60,IF(skjermbilde!$D$2=2,2*G48)))","v":18.213022525876259},{"$f":"IF(skjermbilde!$D$2=1,H48,IF(AND(skjermbilde!$D$2=2,2*H48>60),60,IF(skjermbilde!$D$2=2,2*H48)))","v":8.3484603855642696},{"$f":"IF(skjermbilde!$D$2=1,I48,IF(AND(skjermbilde!$D$2=2,2*I48>60),60,IF(skjermbilde!$D$2=2,2*I48)))","v":4.6970321125762036},{"$f":"IF(J48=\"\",\"\",IF(skjermbilde!$D$2=1,J48,IF(AND(skjermbilde!$D$2=2,2*J48>60),60,IF(skjermbilde!$D$2=2,2*J48))))","v":4.4986817204788663},null,null,{"$f":"+IF(ISNUMBER(skjermbilde!G$3-Y48-skjermbilde!G$6-4),skjermbilde!G$3-Y48-skjermbilde!G$6-4,0)","v":-7.1157717836689809},{"$f":"+IF(ISNUMBER(skjermbilde!H$3-Z48-skjermbilde!H$6-4),skjermbilde!H$3-Z48-skjermbilde!H$6-4,0)","v":-6.4660716718543201},{"$f":"+IF(ISNUMBER(skjermbilde!I$3-AA48-skjermbilde!I$6-4),skjermbilde!I$3-AA48-skjermbilde!I$6-4,0)","v":-11.818651647239806},{"$f":"+IF(ISNUMBER(skjermbilde!J$3-AB48-skjermbilde!J$6-4),skjermbilde!J$3-AB48-skjermbilde!J$6-4,0)","v":-21.980848899911678},{"$f":"+IF(ISNUMBER(skjermbilde!K$3-AC48-skjermbilde!K$6-4),skjermbilde!K$3-AC48-skjermbilde!K$6-4,0)","v":-22.213022525876259},{"$f":"+IF(ISNUMBER(skjermbilde!L$3-AD48-skjermbilde!L$6-4),skjermbilde!L$3-AD48-skjermbilde!L$6-4,0)","v":-12.34846038556427},{"$f":"+IF(ISNUMBER(skjermbilde!M$3-AE48-skjermbilde!M$6-4),skjermbilde!M$3-AE48-skjermbilde!M$6-4,0)","v":-8.6970321125762027},{"$f":"+IF(ISNUMBER(skjermbilde!N$3-AF48-skjermbilde!N$6-4),skjermbilde!N$3-AF48-skjermbilde!N$6-4,0)","v":-8.4986817204788672},{"$f":"IF(skjermbilde!$O$10=TRUE,10*LOG10(10^(0.1*(AI48+AI$12))+10^(0.1*(AJ48+AJ$12))+10^(0.1*(AK48+AK$12))+10^(0.1*(AL48+AL$12))+10^(0.1*(AM48+AM$12))+10^(0.1*(AN48+AN$12))+10^(0.1*(AO48+AO$12))+10^(0.1*(AP48+AP$12))),\"\")","v":""},1,1,1,1,1,1,1,1,1,0,{"$f":"IF(skjermbilde!$D$4=\"\",1,IF(P48=skjermbilde!$D$4,1,0))","v":0},{"$f":"+IF(skjermbilde!$N$10=1,1,0)","v":1},{"$f":"+IF(U48=\"r\",1,IF(M48=skjermbilde!$D$3,1,0))","v":1},{"$f":"+IF(U48=\"s\",1,IF(N48=skjermbilde!$C$3,1,0))","v":1},{"$f":"+IF(U48=\"s\",1,IF(O48=skjermbilde!$C$4,1,0))","v":1},1,0,null,null,null,33,"",null,null,null,null,null,null,null,null,null,null,null,null,null,null,"",33,"",null,null,null,null,null,null,null,null,null,null,null,null,"",33,"",null,null,null,null,"",{"$f":"IF(skjermbilde!$D$2=1,VLOOKUP($CS48,$CB$17:$CD$261,3,FALSE),CONCATENATE(\"2 x \",VLOOKUP($CS48,$CB$17:$CD$261,3,FALSE)))","v":""},null,null,null,null,null,null,null,null,null,3.2000000000000017E-7,1.0000003200000001,1,"LEV-400-1000",1.0000001599999999,0,0]
[34,{"$f":"datagrunnlag!H49","v":"LEV-500-1000"},{"$f":"datagrunnlag!I49","v":3},{"$f":"datagrunnlag!J49","v":2},{"$f":"datagrunnlag!K49","v":6},{"$f":"datagrunnlag!L49","v":11},{"$f":"datagrunnlag!M49","v":10},{"$f":"datagrunnlag!N49","v":7},{"$f":"datagrunnlag!O49","v":5},{"$f":"datagrunnlag!P49","v":5},{"$f":"+datagrunnlag!A49","v":"LEV"},{"$f":"+datagrunnlag!B49","v":"s"},{"$f":"+datagrunnlag!C49","v":500},null,null,{"$f":"++IF(datagrunnlag!F49=\"s\",\"c\",datagrunnlag!F49)","v":"c"},{"$f":"+datagrunnlag!G49","v":1000},{"$f":"+datagrunnlag!Q49","v":4.5000000000000001E-6},0,201,"r",0,0,{"$f":"IF(skjermbilde!$D$2=1,S49^2*R49,2*S49^2*R49)","v":0},{"$f":"IF(C49=\"\",\"\",IF(skjermbilde!$D$2=1,C49,IF(AND(skjermbilde!$D$2=2,2*C49>60),60,IF(skjermbilde!$D$2=2,2*C49))))","v":3},{"$f":"IF(skjermbilde!$D$2=1,D49,IF(AND(skjermbilde!$D$2=2,2*D49>60),60,IF(skjermbilde!$D$2=2,2*D49)))","v":2},{"$f":"IF(skjermbilde!$D$2=1,E49,IF(AND(skjermbilde!$D$2=2,2*E49>60),60,IF(skjermbilde!$D$2=2,2*E49)))","v":6},{"$f":"IF(skjermbilde!$D$2=1,F49,IF(AND(skjermbilde!$D$2=2,2*F49>60),60,IF(skjermbilde!$D$2=2,2*F49)))","v":11},{"$f":"IF(skjermbilde!$D$2=1,G49,IF(AND(skjermbilde!$D$2=2,2*G49>60),60,IF(skjermbilde!$D$2=2,2*G49)))","v":10},{"$f":"IF(skjermbilde!$D$2=1,H49,IF(AND(skjermbilde!$D$2=2,2*H49>60),60,IF(skjermbilde!$D$2=2,2*H49)))","v":7},{"$f":"IF(skjermbilde!$D$2=1,I49,IF(AND(skjermbilde!$D$2=2,2*I49>60),60,IF(skjermbilde!$D$2=2,2*I49)))","v":5},{"$f":"IF(J49=\"\",\"\",IF(skjermbilde!$D$2=1,J49,IF(AND(skjermbilde!$D$2=2,2*J49>60),60,IF(skjermbilde!$D$2=2,2*J49))))","v":5},null,null,{"$f":"+IF(ISNUMBER(skjermbilde!G$3-Y49-skjermbilde!G$6-4),skjermbilde!G$3-Y49-skjermbilde!G$6-4,0)","v":-7},{"$f":"+IF(ISNUMBER(skjermbilde!H$3-Z49-skjermbilde!H$6-4),skjermbilde!H$3-Z49-skjermbilde!H$6-4,0)","v":-6},{"$f":"+IF(ISNUMBER(skjermbilde!I$3-AA49-skjermbilde!I$6-4),skjermbilde!I$3-AA49-skjermbilde!I$6-4,0)","v":-10},{"$f":"+IF(ISNUMBER(skjermbilde!J$3-AB49-skjermbilde!J$6-4),skjermbilde!J$3-AB49-skjermbilde!J$6-4,0)","v":-15},{"$f":"+IF(ISNUMBER(skjermbilde!K$3-AC49-skjermbilde!K$6-4),skjermbilde!K$3-AC49-skjermbilde!K$6-4,0)","v":-14},{"$f":"+IF(ISNUMBER(skjermbilde!L$3-AD49-skjermbilde!L$6-4),skjermbilde!L$3-AD49-skjermbilde!L$6-4,0)","v":-11},{"$f":"+IF(ISNUMBER(skjermbilde!M$3-AE49-skjermbilde!M$6-4),skjermbilde!M$3-AE49-skjermbilde!M$6-4,0)","v":-9},{"$f":"+IF(ISNUMBER(skjermbilde!N$3-AF49-skjermbilde!N$6-4),skjermbilde!N$3-AF49-skjermbilde!N$6-4,0)","v":-9},{"$f":"IF(skjermbilde!$O$10=TRUE,10*LOG10(10^(0.1*(AI49+AI$12))+10^(0.1*(AJ49+AJ$12))+10^(0.1*(AK49+AK$12))+10^(0.1*(AL49+AL$12))+10^(0.1*(AM49+AM$12))+10^(0.1*(AN49+AN$12))+10^(0.1*(AO49+AO$12))+10^(0.1*(AP49+AP$12))),\"\")","v":""},1,1,1,1,1,1,1,1,1,0,{"$f":"IF(skjermbilde!$D$4=\"\",1,IF(P49=skjermbilde!$D$4,1,0))","v":0},{"$f":"+IF(skjermbilde!$N$10=1,1,0)","v":1},{"$f":"+IF(U49=\"r\",1,IF(M49=skjermbilde!$D$3,1,0))","v":1},{"$f":"+IF(U49=\"s\",1,IF(N49=skjermbilde!$C$3,1,0))","v":1},{"$f":"+IF(U49=\"s\",1,IF(O49=skjermbilde!$C$4,1,0))","v":1},1,0,null,null,null,34,"",null,null,null,null,null,null,null,null,null,null,null,null,null,null,"",34,"",null,null,null,null,null,null,null,null,null,null,null,null,"",34,"",null,null,null,null,{"$f":"+IF(CS49=\"\",\"\",VLOOKUP($CS49,$CB$17:$CD$261,2,FALSE))","v":""},{"$f":"IF(skjermbilde!$D$2=1,VLOOKUP($CS49,$CB$17:$CD$261,3,FALSE),CONCATENATE(\"2 x \",VLOOKUP($CS49,$CB$17:$CD$261,3,FALSE)))","v":""},null,null,null,null,null,null,null,null,null,3.3000000000000018E-7,1.00000033,1,"LEV-500-1000",1.0000001599999999,{"$f":"VLOOKUP(DM49,DJ$17:DM$261,3,FALSE)","v":0},{"$f":"VLOOKUP(DN49,$B$17:$CQ$261,62,FALSE)","v":0}]
[35,{"$f":"datagrunnlag!H50","v":"LEV-630-1000"},{"$f":"datagrunnlag!I50","v":1},{"$f":"datagrunnlag!J50","v":2},{"$f":"datagrunnlag!K50","v":4},{"$f":"datagrunnlag!L50","v":11},{"$f":"datagrunnlag!M50","v":9},{"$f":"datagrunnlag!N50","v":5},{"$f":"datagrunnlag!O50","v":4},{"$f":"datagrunnlag!P50","v":4},{"$f":"+datagrunnlag!A50","v":"LEV"},{"$f":"+datagrunnlag!B50","v":"s"},{"$f":"+datagrunnlag!C50","v":630},null,null,{"$f":"++IF(datagrunnlag!F50=\"s\",\"c\",datagrunnlag!F50)","v":"c"},{"$f":"+datagrunnlag!G50","v":1000},{"$f":"+datagrunnlag!Q50","v":1.7799999999999999E-6},0,201,"r",0,0,{"$f":"IF(skjermbilde!$D$2=1,S50^2*R50,2*S50^2*R50)","v":0},{"$f":"IF(C50=\"\",\"\",IF(skjermbilde!$D$2=1,C50,IF(AND(skjermbilde!$D$2=2,2*C50>60),60,IF(skjermbilde!$D$2=2,2*C50))))","v":1},{"$f":"IF(skjermbilde!$D$2=1,D50,IF(AND(skjermbilde!$D$2=2,2*D50>60),60,IF(skjermbilde!$D$2=2,2*D50)))","v":2},{"$f":"IF(skjermbilde!$D$2=1,E50,IF(AND(skjermbilde!$D$2=2,2*E50>60),60,IF(skjermbilde!$D$2=2,2*E50)))","v":4},{"$f":"IF(skjermbilde!$D$2=1,F50,IF(AND(skjermbilde!$D$2=2,2*F50>60),60,IF(skjermbilde!$D$2=2,2*F50)))","v":11},{"$f":"IF(skjermbilde!$D$2=1,G50,IF(AND(skjermbilde!$D$2=2,2*G50>60),60,IF(skjermbilde!$D$2=2,2*G50)))","v":9},{"$f":"IF(skjermbilde!$D$2=1,H50,IF(AND(skjermbilde!$D$2=2,2*H50>60),60,IF(skjermbilde!$D$2=2,2*H50)))","v":5},{"$f":"IF(skjermbilde!$D$2=1,I50,IF(AND(skjermbilde!$D$2=2,2*I50>60),60,IF(skjermbilde!$D$2=2,2*I50)))","v":4},{"$f":"IF(J50=\"\",\"\",IF(skjermbilde!$D$2=1,J50,IF(AND(skjermbilde!$D$2=2,2*J50>60),60,IF(skjermbilde!$D$2=2,2*J50))))","v":4},null,null,{"$f":"+IF(ISNUMBER(skjermbilde!G$3-Y50-skjermbilde!G$6-4),skjermbilde!G$3-Y50-skjermbilde!G$6-4,0)","v":-5},{"$f":"+IF(ISNUMBER(skjermbilde!H$3-Z50-skjermbilde!H$6-4),skjermbilde!H$3-Z50-skjermbilde!H$6-4,0)","v":-6},{"$f":"+IF(ISNUMBER(skjermbilde!I$3-AA50-skjermbilde!I$6-4),skjermbilde!I$3-AA50-skjermbilde!I$6-4,0)","v":-8},{"$f":"+IF(ISNUMBER(skjermbilde!J$3-AB50-skjermbilde!J$6-4),skjermbilde!J$3-AB50-skjermbilde!J$6-4,0)","v":-15},{"$f":"+IF(ISNUMBER(skjermbilde!K$3-AC50-skjermbilde!K$6-4),skjermbilde!K$3-AC50-skjermbilde!K$6-4,0)","v":-13},{"$f":"+IF(ISNUMBER(skjermbilde!L$3-AD50-skjermbilde!L$6-4),skjermbilde!L$3-AD50-skjermbilde!L$6-4,0)","v":-9},{"$f":"+IF(ISNUMBER(skjermbilde!M$3-AE50-skjermbilde!M$6-4),skjermbilde!M$3-AE50-skjermbilde!M$6-4,0)","v":-8},{"$f":"+IF(ISNUMBER(skjermbilde!N$3-AF50-skjermbilde!N$6-4),skjermbilde!N$3-AF50-skjermbilde!N$6-4,0)","v":-8},{"$f":"IF(skjermbilde!$O$10=TRUE,10*LOG10(10^(0.1*(AI50+AI$12))+10^(0.1*(AJ50+AJ$12))+10^(0.1*(AK50+AK$12))+10^(0.1*(AL50+AL$12))+10^(0.1*(AM50+AM$12))+10^(0.1*(AN50+AN$12))+10^(0.1*(AO50+AO$12))+10^(0.1*(AP50+AP$12))),\"\")","v":""},1,1,1,1,1,1,1,1,1,0,{"$f":"IF(skjermbilde!$D$4=\"\",1,IF(P50=skjermbilde!$D$4,1,0))","v":0},{"$f":"+IF(skjermbilde!$N$10=1,1,0)","v":1},{"$f":"+IF(U50=\"r\",1,IF(M50=skjermbilde!$D$3,1,0))","v":1},{"$f":"+IF(U50=\"s\",1,IF(N50=skjermbilde!$C$3,1,0))","v":1},{"$f":"+IF(U50=\"s\",1,IF(O50=skjermbilde!$C$4,1,0))","v":1},1,0,null,null,null,35,"",null,null,null,null,null,null,null,null,null,null,null,null,null,null,"",35,"",null,null,null,null,null,null,null,null,null,null,null,null,"",35,"",null,null,null,null,"",{"$f":"IF(skjermbilde!$D$2=1,VLOOKUP($CS50,$CB$17:$CD$261,3,FALSE),CONCATENATE(\"2 x \",VLOOKUP($CS50,$CB$17:$CD$261,3,FALSE)))","v":""},null,null,null,null,null,null,null,null,null,3.4000000000000019E-7,1.0000003399999999,1,"LEV-630-1000",1.0000001700000001,0,0]
[36,{"$f":"+IF(skjermbilde!$N$10=1,datagrunnlag!H51,CONCATENATE(datagrunnlag!H51,\"-V\"))","v":"LKR-100-300"},{"$f":"IF(skjermbilde!$N$10=1,datagrunnlag!I51,datagrunnlag!S51)","v":1},{"$f":"IF(skjermbilde!$N$10=1,datagrunnlag!J51,datagrunnlag!T51)","v":3.2763529504902267},{"$f":"IF(skjermbilde!$N$10=1,datagrunnlag!K51,datagrunnlag!U51)","v":5.2168607572207479},{"$f":"IF(skjermbilde!$N$10=1,datagrunnlag!L51,datagrunnlag!V51)","v":9.3851647636652178},{"$f":"IF(skjermbilde!$N$10=1,datagrunnlag!M51,datagrunnlag!W51)","v":12.70929221933384},{"$f":"IF(skjermbilde!$N$10=1,datagrunnlag!N51,datagrunnlag!X51)","v":19.915552376369906},{"$f":"IF(skjermbilde!$N$10=1,datagrunnlag!O51,datagrunnlag!Y51)","v":22.978444820844146},{"$f":"IF(skjermbilde!$N$10=1,datagrunnlag!P51,datagrunnlag!Z51)","v":9.6354575422799584},{"$f":"+datagrunnlag!A51","v":"LKR"},{"$f":"+datagrunnlag!B51","v":"s"},{"$f":"+datagrunnlag!C51","v":100},null,null,{"$f":"++IF(datagrunnlag!F51=\"s\",\"c\",datagrunnlag!F51)","v":"r"},{"$f":"+datagrunnlag!G51","v":300},{"$f":"IF(skjermbilde!$N$10=1,datagrunnlag!Q51,datagrunnlag!AI51)","v":6.0000000000000001E-3},{"$f":"+$B$6","v":0},201,{"$f":"+$B$7","v":"r"},{"$f":"+$B$3","v":0},{"$f":"+$B$4","v":0},{"$f":"IF(skjermbilde!$D$2=1,S51^2*R51,2*S51^2*R51)","v":0},{"$f":"IF(C51=\"\",\"\",IF(skjermbilde!$D$2=1,C51,IF(AND(skjermbilde!$D$2=2,2*C51>60),60,IF(skjermbilde!$D$2=2,2*C51))))","v":1},{"$f":"IF(skjermbilde!$D$2=1,D51,IF(AND(skjermbilde!$D$2=2,2*D51>60),60,IF(skjermbilde!$D$2=2,2*D51)))","v":3.2763529504902267},{"$f":"IF(skjermbilde!$D$2=1,E51,IF(AND(skjermbilde!$D$2=2,2*E51>60),60,IF(skjermbilde!$D$2=2,2*E51)))","v":5.2168607572207479},{"$f":"IF(skjermbilde!$D$2=1,F51,IF(AND(skjermbilde!$D$2=2,2*F51>60),60,IF(skjermbilde!$D$2=2,2*F51)))","v":9.3851647636652178},{"$f":"IF(skjermbilde!$D$2=1,G51,IF(AND(skjermbilde!$D$2=2,2*G51>60),60,IF(skjermbilde!$D$2=2,2*G51)))","v":12.70929221933384},{"$f":"IF(skjermbilde!$D$2=1,H51,IF(AND(skjermbilde!$D$2=2,2*H51>60),60,IF(skjermbilde!$D$2=2,2*H51)))","v":19.915552376369906},{"$f":"IF(skjermbilde!$D$2=1,I51,IF(AND(skjermbilde!$D$2=2,2*I51>60),60,IF(skjermbilde!$D$2=2,2*I51)))","v":22.978444820844146},{"$f":"IF(J51=\"\",\"\",IF(skjermbilde!$D$2=1,J51,IF(AND(skjermbilde!$D$2=2,2*J51>60),60,IF(skjermbilde!$D$2=2,2*J51))))","v":9.6354575422799584},null,null,{"$f":"+IF(ISNUMBER(skjermbilde!G$3-Y51-skjermbilde!G$6-4),skjermbilde!G$3-Y51-skjermbilde!G$6-4,0)","v":-5},{"$f":"+IF(ISNUMBER(skjermbilde!H$3-Z51-skjermbilde!H$6-4),skjermbilde!H$3-Z51-skjermbilde!H$6-4,0)","v":-7.2763529504902262},{"$f":"+IF(ISNUMBER(skjermbilde!I$3-AA51-skjermbilde!I$6-4),skjermbilde!I$3-AA51-skjermbilde!I$6-4,0)","v":-9.216860757220747},{"$f":"+IF(ISNUMBER(skjermbilde!J$3-AB51-skjermbilde!J$6-4),skjermbilde!J$3-AB51-skjermbilde!J$6-4,0)","v":-13.385164763665218},{"$f":"+IF(ISNUMBER(skjermbilde!K$3-AC51-skjermbilde!K$6-4),skjermbilde!K$3-AC51-skjermbilde!K$6-4,0)","v":-16.70929221933384},{"$f":"+IF(ISNUMBER(skjermbilde!L$3-AD51-skjermbilde!L$6-4),skjermbilde!L$3-AD51-skjermbilde!L$6-4,0)","v":-23.915552376369906},{"$f":"+IF(ISNUMBER(skjermbilde!M$3-AE51-skjermbilde!M$6-4),skjermbilde!M$3-AE51-skjermbilde!M$6-4,0)","v":-26.978444820844146},{"$f":"+IF(ISNUMBER(skjermbilde!N$3-AF51-skjermbilde!N$6-4),skjermbilde!N$3-AF51-skjermbilde!N$6-4,0)","v":-13.635457542279958},{"$f":"IF(skjermbilde!$O$10=TRUE,10*LOG10(10^(0.1*(AI51+AI$12))+10^(0.1*(AJ51+AJ$12))+10^(0.1*(AK51+AK$12))+10^(0.1*(AL51+AL$12))+10^(0.1*(AM51+AM$12))+10^(0.1*(AN51+AN$12))+10^(0.1*(AO51+AO$12))+10^(0.1*(AP51+AP$12))),\"\")","v":""},1,{"$f":"+IF(Y51>Y$11,1,0)","v":1},{"$f":"+IF(Z51>Z$11,1,0)","v":1},{"$f":"+IF(AA51>AA$11,1,0)","v":1},{"$f":"+IF(AB51>AB$11,1,0)","v":1},{"$f":"+IF(AC51>AC$11,1,0)","v":1},{"$f":"+IF(AD51>AD$11,1,0)","v":1},{"$f":"+IF(AE51>AE$11,1,0)","v":1},{"$f":"+IF(AF51>AF$11,1,0)","v":1},0,{"$f":"IF(skjermbilde!$D$4=\"\",1,IF(P51=skjermbilde!$D$4,1,0))","v":1},{"$f":"IF(skjermbilde!$D$4=\"\",1,IF(U51=\"r\",1,IF(P51=skjermbilde!$D$4,1,0)))","v":1},{"$f":"+IF(U51=\"r\",1,IF(M51=skjermbilde!$D$3,1,0))","v":1},{"$f":"+IF(U51=\"s\",1,IF(N51=skjermbilde!$C$3,1,0))","v":1},{"$f":"+IF(U51=\"s\",1,IF(O51=skjermbilde!$C$4,1,0))","v":1},1,0,null,null,null,36,"",null,null,null,null,null,null,null,null,null,null,null,null,null,null,"",36,"",null,null,null,null,null,null,null,null,null,null,null,null,"",36,{"$f":"IF(ISERROR(SMALL(CB$17:CB$261,#REF!)),\"\",SMALL(CB$17:CB$261,#REF!))","v":""},null,null,null,null,"",{"$f":"IF(skjermbilde!$D$2=1,VLOOKUP($CS51,$CB$17:$CD$261,3,FALSE),CONCATENATE(\"2 x \",VLOOKUP($CS51,$CB$17:$CD$261,3,FALSE)))","v":""},null,null,null,null,null,null,null,null,null,{"$f":"0.00000001","v":1E-8},1.0000000099999999,1,"LKR-100-300",{"$f":"IF(ISERROR(SMALL(DJ$17:DJ$261,#REF!)),\"\",SMALL(DJ$17:DJ$261,#REF!))","v":""},{"$error":"#N/A"},{"$error":"#N/A"}]
[37,{"$f":"+IF(skjermbilde!$N$10=1,datagrunnlag!H52,CONCATENATE(datagrunnlag!H52,\"-V\"))","v":"LKR-125-300"},{"$f":"IF(skjermbilde!$N$10=1,datagrunnlag!I52,datagrunnlag!S52)","v":1},{"$f":"IF(skjermbilde!$N$10=1,datagrunnlag!J52,datagrunnlag!T52)","v":5.8291414044463083},{"$f":"IF(skjermbilde!$N$10=1,datagrunnlag!K52,datagrunnlag!U52)","v":5.0412754225770406},{"$f":"IF(skjermbilde!$N$10=1,datagrunnlag!L52,datagrunnlag!V52)","v":10.03331591953334},{"$f":"IF(skjermbilde!$N$10=1,datagrunnlag!M52,datagrunnlag!W52)","v":14.067565243952531},{"$f":"IF(skjermbilde!$N$10=1,datagrunnlag!N52,datagrunnlag!X52)","v":21.522214105622936},{"$f":"IF(skjermbilde!$N$10=1,datagrunnlag!O52,datagrunnlag!Y52)","v":18.125080295995861},{"$f":"IF(skjermbilde!$N$10=1,datagrunnlag!P52,datagrunnlag!Z52)","v":9.6682572868970329},{"$f":"+datagrunnlag!A52","v":"LKR"},{"$f":"+datagrunnlag!B52","v":"s"},{"$f":"+datagrunnlag!C52","v":125},null,null,{"$f":"++IF(datagrunnlag!F52=\"s\",\"c\",datagrunnlag!F52)","v":"r"},{"$f":"+datagrunnlag!G52","v":300},{"$f":"IF(skjermbilde!$N$10=1,datagrunnlag!Q52,datagrunnlag!AI52)","v":2.4354851269797815E-3},0,201,"r",0,0,{"$f":"IF(skjermbilde!$D$2=1,S52^2*R52,2*S52^2*R52)","v":0},{"$f":"IF(C52=\"\",\"\",IF(skjermbilde!$D$2=1,C52,IF(AND(skjermbilde!$D$2=2,2*C52>60),60,IF(skjermbilde!$D$2=2,2*C52))))","v":1},{"$f":"IF(skjermbilde!$D$2=1,D52,IF(AND(skjermbilde!$D$2=2,2*D52>60),60,IF(skjermbilde!$D$2=2,2*D52)))","v":5.8291414044463083},{"$f":"IF(skjermbilde!$D$2=1,E52,IF(AND(skjermbilde!$D$2=2,2*E52>60),60,IF(skjermbilde!$D$2=2,2*E52)))","v":5.0412754225770406},{"$f":"IF(skjermbilde!$D$2=1,F52,IF(AND(skjermbilde!$D$2=2,2*F52>60),60,IF(skjermbilde!$D$2=2,2*F52)))","v":10.03331591953334},{"$f":"IF(skjermbilde!$D$2=1,G52,IF(AND(skjermbilde!$D$2=2,2*G52>60),60,IF(skjermbilde!$D$2=2,2*G52)))","v":14.067565243952531},{"$f":"IF(skjermbilde!$D$2=1,H52,IF(AND(skjermbilde!$D$2=2,2*H52>60),60,IF(skjermbilde!$D$2=2,2*H52)))","v":21.522214105622936},{"$f":"IF(skjermbilde!$D$2=1,I52,IF(AND(skjermbilde!$D$2=2,2*I52>60),60,IF(skjermbilde!$D$2=2,2*I52)))","v":18.125080295995861},{"$f":"IF(J52=\"\",\"\",IF(skjermbilde!$D$2=1,J52,IF(AND(skjermbilde!$D$2=2,2*J52>60),60,IF(skjermbilde!$D$2=2,2*J52))))","v":9.6682572868970329},null,null,{"$f":"+IF(ISNUMBER(skjermbilde!G$3-Y52-skjermbilde!G$6-4),skjermbilde!G$3-Y52-skjermbilde!G$6-4,0)","v":-5},{"$f":"+IF(ISNUMBER(skjermbilde!H$3-Z52-skjermbilde!H$6-4),skjermbilde!H$3-Z52-skjermbilde!H$6-4,0)","v":-9.8291414044463075},{"$f":"+IF(ISNUMBER(skjermbilde!I$3-AA52-skjermbilde!I$6-4),skjermbilde!I$3-AA52-skjermbilde!I$6-4,0)","v":-9.0412754225770406},{"$f":"+IF(ISNUMBER(skjermbilde!J$3-AB52-skjermbilde!J$6-4),skjermbilde!J$3-AB52-skjermbilde!J$6-4,0)","v":-14.03331591953334},{"$f":"+IF(ISNUMBER(skjermbilde!K$3-AC52-skjermbilde!K$6-4),skjermbilde!K$3-AC52-skjermbilde!K$6-4,0)","v":-18.067565243952529},{"$f":"+IF(ISNUMBER(skjermbilde!L$3-AD52-skjermbilde!L$6-4),skjermbilde!L$3-AD52-skjermbilde!L$6-4,0)","v":-25.522214105622936},{"$f":"+IF(ISNUMBER(skjermbilde!M$3-AE52-skjermbilde!M$6-4),skjermbilde!M$3-AE52-skjermbilde!M$6-4,0)","v":-22.125080295995861},{"$f":"+IF(ISNUMBER(skjermbilde!N$3-AF52-skjermbilde!N$6-4),skjermbilde!N$3-AF52-skjermbilde!N$6-4,0)","v":-13.668257286897033},{"$f":"IF(skjermbilde!$O$10=TRUE,10*LOG10(10^(0.1*(AI52+AI$12))+10^(0.1*(AJ52+AJ$12))+10^(0.1*(AK52+AK$12))+10^(0.1*(AL52+AL$12))+10^(0.1*(AM52+AM$12))+10^(0.1*(AN52+AN$12))+10^(0.1*(AO52+AO$12))+10^(0.1*(AP52+AP$12))),\"\")","v":""},1,1,1,1,1,1,1,1,1,0,{"$f":"IF(skjermbilde!$D$4=\"\",1,IF(P52=skjermbilde!$D$4,1,0))","v":1},{"$f":"IF(skjermbilde!$D$4=\"\",1,IF(U52=\"r\",1,IF(P52=skjermbilde!$D$4,1,0)))","v":1},{"$f":"+IF(U52=\"r\",1,IF(M52=skjermbilde!$D$3,1,0))","v":1},{"$f":"+IF(U52=\"s\",1,IF(N52=skjermbilde!$C$3,1,0))","v":1},{"$f":"+IF(U52=\"s\",1,IF(O52=skjermbilde!$C$4,1,0))","v":1},1,0,null,null,null,37,"",null,null,null,null,null,null,null,null,null,null,null,null,null,null,"",37,"",null,null,null,null,null,null,null,null,null,null,null,null,"",37,{"$f":"IF(ISERROR(SMALL(CB$17:CB$261,BL51)),\"\",SMALL(CB$17:CB$261,BL51))","v":""},null,null,null,null,"",{"$f":"IF(skjermbilde!$D$2=1,VLOOKUP($CS52,$CB$17:$CD$261,3,FALSE),CONCATENATE(\"2 x \",VLOOKUP($CS52,$CB$17:$CD$261,3,FALSE)))","v":""},null,null,null,null,null,null,null,null,null,2E-8,1.0000000200000001,1,"LKR-125-300",{"$f":"IF(ISERROR(SMALL(DJ$17:DJ$261,BL51)),\"\",SMALL(DJ$17:DJ$261,BL51))","v":1.0000001700000001},0,0]
[38,{"$f":"+IF(skjermbilde!$N$10=1,datagrunnlag!H53,CONCATENATE(datagrunnlag!H53,\"-V\"))","v":"LKR-160-300"},{"$f":"IF(skjermbilde!$N$10=1,datagrunnlag!I53,datagrunnlag!S53)","v":2},{"$f":"IF(skjermbilde!$N$10=1,datagrunnlag!J53,datagrunnlag!T53)","v":5.8683772201107516},{"$f":"IF(skjermbilde!$N$10=1,datagrunnlag!K53,datagrunnlag!U53)","v":5.2688708440608432},{"$f":"IF(skjermbilde!$N$10=1,datagrunnlag!L53,datagrunnlag!V53)","v":8.4844523899174558},{"$f":"IF(skjermbilde!$N$10=1,datagrunnlag!M53,datagrunnlag!W53)","v":15.560860310410533},{"$f":"IF(skjermbilde!$N$10=1,datagrunnlag!N53,datagrunnlag!X53)","v":21.155277566918976},{"$f":"IF(skjermbilde!$N$10=1,datagrunnlag!O53,datagrunnlag!Y53)","v":13.736774952143982},{"$f":"IF(skjermbilde!$N$10=1,datagrunnlag!P53,datagrunnlag!Z53)","v":8.5086801090612063},{"$f":"+datagrunnlag!A53","v":"LKR"},{"$f":"+datagrunnlag!B53","v":"s"},{"$f":"+datagrunnlag!C53","v":160},null,null,{"$f":"++IF(datagrunnlag!F53=\"s\",\"c\",datagrunnlag!F53)","v":"r"},{"$f":"+datagrunnlag!G53","v":300},{"$f":"IF(skjermbilde!$N$10=1,datagrunnlag!Q53,datagrunnlag!AI53)","v":6.5000000000000008E-4},0,201,"r",0,0,{"$f":"IF(skjermbilde!$D$2=1,S53^2*R53,2*S53^2*R53)","v":0},{"$f":"IF(C53=\"\",\"\",IF(skjermbilde!$D$2=1,C53,IF(AND(skjermbilde!$D$2=2,2*C53>60),60,IF(skjermbilde!$D$2=2,2*C53))))","v":2},{"$f":"IF(skjermbilde!$D$2=1,D53,IF(AND(skjermbilde!$D$2=2,2*D53>60),60,IF(skjermbilde!$D$2=2,2*D53)))","v":5.8683772201107516},{"$f":"IF(skjermbilde!$D$2=1,E53,IF(AND(skjermbilde!$D$2=2,2*E53>60),60,IF(skjermbilde!$D$2=2,2*E53)))","v":5.2688708440608432},{"$f":"IF(skjermbilde!$D$2=1,F53,IF(AND(skjermbilde!$D$2=2,2*F53>60),60,IF(skjermbilde!$D$2=2,2*F53)))","v":8.4844523899174558},{"$f":"IF(skjermbilde!$D$2=1,G53,IF(AND(skjermbilde!$D$2=2,2*G53>60),60,IF(skjermbilde!$D$2=2,2*G53)))","v":15.560860310410533},{"$f":"IF(skjermbilde!$D$2=1,H53,IF(AND(skjermbilde!$D$2=2,2*H53>60),60,IF(skjermbilde!$D$2=2,2*H53)))","v":21.155277566918976},{"$f":"IF(skjermbilde!$D$2=1,I53,IF(AND(skjermbilde!$D$2=2,2*I53>60),60,IF(skjermbilde!$D$2=2,2*I53)))","v":13.736774952143982},{"$f":"IF(J53=\"\",\"\",IF(skjermbilde!$D$2=1,J53,IF(AND(skjermbilde!$D$2=2,2*J53>60),60,IF(skjermbilde!$D$2=2,2*J53))))","v":8.5086801090612063},null,null,{"$f":"+IF(ISNUMBER(skjermbilde!G$3-Y53-skjermbilde!G$6-4),skjermbilde!G$3-Y53-skjermbilde!G$6-4,0)","v":-6},{"$f":"+IF(ISNUMBER(skjermbilde!H$3-Z53-skjermbilde!H$6-4),skjermbilde!H$3-Z53-skjermbilde!H$6-4,0)","v":-9.8683772201107516},{"$f":"+IF(ISNUMBER(skjermbilde!I$3-AA53-skjermbilde!I$6-4),skjermbilde!I$3-AA53-skjermbilde!I$6-4,0)","v":-9.2688708440608423},{"$f":"+IF(ISNUMBER(skjermbilde!J$3-AB53-skjermbilde!J$6-4),skjermbilde!J$3-AB53-skjermbilde!J$6-4,0)","v":-12.484452389917456},{"$f":"+IF(ISNUMBER(skjermbilde!K$3-AC53-skjermbilde!K$6-4),skjermbilde!K$3-AC53-skjermbilde!K$6-4,0)","v":-19.560860310410533},{"$f":"+IF(ISNUMBER(skjermbilde!L$3-AD53-skjermbilde!L$6-4),skjermbilde!L$3-AD53-skjermbilde!L$6-4,0)","v":-25.155277566918976},{"$f":"+IF(ISNUMBER(skjermbilde!M$3-AE53-skjermbilde!M$6-4),skjermbilde!M$3-AE53-skjermbilde!M$6-4,0)","v":-17.736774952143982},{"$f":"+IF(ISNUMBER(skjermbilde!N$3-AF53-skjermbilde!N$6-4),skjermbilde!N$3-AF53-skjermbilde!N$6-4,0)","v":-12.508680109061206},{"$f":"IF(skjermbilde!$O$10=TRUE,10*LOG10(10^(0.1*(AI53+AI$12))+10^(0.1*(AJ53+AJ$12))+10^(0.1*(AK53+AK$12))+10^(0.1*(AL53+AL$12))+10^(0.1*(AM53+AM$12))+10^(0.1*(AN53+AN$12))+10^(0.1*(AO53+AO$12))+10^(0.1*(AP53+AP$12))),\"\")","v":""},1,1,1,1,1,1,1,1,1,0,{"$f":"IF(skjermbilde!$D$4=\"\",1,IF(P53=skjermbilde!$D$4,1,0))","v":1},{"$f":"IF(skjermbilde!$D$4=\"\",1,IF(U53=\"r\",1,IF(P53=skjermbilde!$D$4,1,0)))","v":1},{"$f":"+IF(U53=\"r\",1,IF(M53=skjermbilde!$D$3,1,0))","v":1},{"$f":"+IF(U53=\"s\",1,IF(N53=skjermbilde!$C$3,1,0))","v":1},{"$f":"+IF(U53=\"s\",1,IF(O53=skjermbilde!$C$4,1,0))","v":1},1,0,null,null,null,38,"",null,null,null,null,null,null,null,null,null,null,null,null,null,null,"",38,"",null,null,null,null,null,null,null,null,null,null,null,null,"",38,"",null,null,null,null,"",{"$f":"IF(skjermbilde!$D$2=1,VLOOKUP($CS53,$CB$17:$CD$261,3,FALSE),CONCATENATE(\"2 x \",VLOOKUP($CS53,$CB$17:$CD$261,3,FALSE)))","v":""},null,null,null,null,null,null,null,null,null,3.0000000000000004E-8,1.00000003,1,"LKR-160-300",1.00000018,0,0]
[39,{"$f":"+IF(skjermbilde!$N$10=1,datagrunnlag!H54,CONCATENATE(datagrunnlag!H54,\"-V\"))","v":"LKR-200-300"},{"$f":"IF(skjermbilde!$N$10=1,datagrunnlag!I54,datagrunnlag!S54)","v":1},{"$f":"IF(skjermbilde!$N$10=1,datagrunnlag!J54,datagrunnlag!T54)","v":1.8947050487046755},{"$f":"IF(skjermbilde!$N$10=1,datagrunnlag!K54,datagrunnlag!U54)","v":3.4315491619456697},{"$f":"IF(skjermbilde!$N$10=1,datagrunnlag!L54,datagrunnlag!V54)","v":6.9691993380650628},{"$f":"IF(skjermbilde!$N$10=1,datagrunnlag!M54,datagrunnlag!W54)","v":14.072266959683715},{"$f":"IF(skjermbilde!$N$10=1,datagrunnlag!N54,datagrunnlag!X54)","v":14.285966241469534},{"$f":"IF(skjermbilde!$N$10=1,datagrunnlag!O54,datagrunnlag!Y54)","v":10.435858061558484},{"$f":"IF(skjermbilde!$N$10=1,datagrunnlag!P54,datagrunnlag!Z54)","v":8.4586384957641343},{"$f":"+datagrunnlag!A54","v":"LKR"},{"$f":"+datagrunnlag!B54","v":"s"},{"$f":"+datagrunnlag!C54","v":200},null,null,{"$f":"++IF(datagrunnlag!F54=\"s\",\"c\",datagrunnlag!F54)","v":"r"},{"$f":"+datagrunnlag!G54","v":300},{"$f":"IF(skjermbilde!$N$10=1,datagrunnlag!Q54,datagrunnlag!AI54)","v":1.7888890493882397E-4},0,201,"r",0,0,{"$f":"IF(skjermbilde!$D$2=1,S54^2*R54,2*S54^2*R54)","v":0},{"$f":"IF(C54=\"\",\"\",IF(skjermbilde!$D$2=1,C54,IF(AND(skjermbilde!$D$2=2,2*C54>60),60,IF(skjermbilde!$D$2=2,2*C54))))","v":1},{"$f":"IF(skjermbilde!$D$2=1,D54,IF(AND(skjermbilde!$D$2=2,2*D54>60),60,IF(skjermbilde!$D$2=2,2*D54)))","v":1.8947050487046755},{"$f":"IF(skjermbilde!$D$2=1,E54,IF(AND(skjermbilde!$D$2=2,2*E54>60),60,IF(skjermbilde!$D$2=2,2*E54)))","v":3.4315491619456697},{"$f":"IF(skjermbilde!$D$2=1,F54,IF(AND(skjermbilde!$D$2=2,2*F54>60),60,IF(skjermbilde!$D$2=2,2*F54)))","v":6.9691993380650628},{"$f":"IF(skjermbilde!$D$2=1,G54,IF(AND(skjermbilde!$D$2=2,2*G54>60),60,IF(skjermbilde!$D$2=2,2*G54)))","v":14.072266959683715},{"$f":"IF(skjermbilde!$D$2=1,H54,IF(AND(skjermbilde!$D$2=2,2*H54>60),60,IF(skjermbilde!$D$2=2,2*H54)))","v":14.285966241469534},{"$f":"IF(skjermbilde!$D$2=1,I54,IF(AND(skjermbilde!$D$2=2,2*I54>60),60,IF(skjermbilde!$D$2=2,2*I54)))","v":10.435858061558484},{"$f":"IF(J54=\"\",\"\",IF(skjermbilde!$D$2=1,J54,IF(AND(skjermbilde!$D$2=2,2*J54>60),60,IF(skjermbilde!$D$2=2,2*J54))))","v":8.4586384957641343},null,null,{"$f":"+IF(ISNUMBER(skjermbilde!G$3-Y54-skjermbilde!G$6-4),skjermbilde!G$3-Y54-skjermbilde!G$6-4,0)","v":-5},{"$f":"+IF(ISNUMBER(skjermbilde!H$3-Z54-skjermbilde!H$6-4),skjermbilde!H$3-Z54-skjermbilde!H$6-4,0)","v":-5.8947050487046759},{"$f":"+IF(ISNUMBER(skjermbilde!I$3-AA54-skjermbilde!I$6-4),skjermbilde!I$3-AA54-skjermbilde!I$6-4,0)","v":-7.4315491619456697},{"$f":"+IF(ISNUMBER(skjermbilde!J$3-AB54-skjermbilde!J$6-4),skjermbilde!J$3-AB54-skjermbilde!J$6-4,0)","v":-10.969199338065064},{"$f":"+IF(ISNUMBER(skjermbilde!K$3-AC54-skjermbilde!K$6-4),skjermbilde!K$3-AC54-skjermbilde!K$6-4,0)","v":-18.072266959683716},{"$f":"+IF(ISNUMBER(skjermbilde!L$3-AD54-skjermbilde!L$6-4),skjermbilde!L$3-AD54-skjermbilde!L$6-4,0)","v":-18.285966241469534},{"$f":"+IF(ISNUMBER(skjermbilde!M$3-AE54-skjermbilde!M$6-4),skjermbilde!M$3-AE54-skjermbilde!M$6-4,0)","v":-14.435858061558484},{"$f":"+IF(ISNUMBER(skjermbilde!N$3-AF54-skjermbilde!N$6-4),skjermbilde!N$3-AF54-skjermbilde!N$6-4,0)","v":-12.458638495764134},{"$f":"IF(skjermbilde!$O$10=TRUE,10*LOG10(10^(0.1*(AI54+AI$12))+10^(0.1*(AJ54+AJ$12))+10^(0.1*(AK54+AK$12))+10^(0.1*(AL54+AL$12))+10^(0.1*(AM54+AM$12))+10^(0.1*(AN54+AN$12))+10^(0.1*(AO54+AO$12))+10^(0.1*(AP54+AP$12))),\"\")","v":""},1,1,1,1,1,1,1,1,1,0,{"$f":"IF(skjermbilde!$D$4=\"\",1,IF(P54=skjermbilde!$D$4,1,0))","v":1},{"$f":"IF(skjermbilde!$D$4=\"\",1,IF(U54=\"r\",1,IF(P54=skjermbilde!$D$4,1,0)))","v":1},{"$f":"+IF(U54=\"r\",1,IF(M54=skjermbilde!$D$3,1,0))","v":1},{"$f":"+IF(U54=\"s\",1,IF(N54=skjermbilde!$C$3,1,0))","v":1},{"$f":"+IF(U54=\"s\",1,IF(O54=skjermbilde!$C$4,1,0))","v":1},1,0,null,null,null,39,"",null,null,null,null,null,null,null,null,null,null,null,null,null,null,"",39,"",null,null,null,null,null,null,null,null,null,null,null,null,"",39,"",null,null,null,null,"",{"$f":"IF(skjermbilde!$D$2=1,VLOOKUP($CS54,$CB$17:$CD$261,3,FALSE),CONCATENATE(\"2 x \",VLOOKUP($CS54,$CB$17:$CD$261,3,FALSE)))","v":""},null,null,null,null,null,null,null,null,null,4.0000000000000001E-8,1.00000004,1,"LKR-200-300",1.00000018,0,0]
[40,{"$f":"+IF(skjermbilde!$N$10=1,datagrunnlag!H55,CONCATENATE(datagrunnlag!H55,\"-V\"))","v":"LKR-250-300"},{"$f":"IF(skjermbilde!$N$10=1,datagrunnlag!I55,datagrunnlag!S55)","v":2},{"$f":"IF(skjermbilde!$N$10=1,datagrunnlag!J55,datagrunnlag!T55)","v":3.3329763779068267},{"$f":"IF(skjermbilde!$N$10=1,datagrunnlag!K55,datagrunnlag!U55)","v":5.9380530268043952},{"$f":"IF(skjermbilde!$N$10=1,datagrunnlag!L55,datagrunnlag!V55)","v":9.4272232551131392},{"$f":"IF(skjermbilde!$N$10=1,datagrunnlag!M55,datagrunnlag!W55)","v":15.37623549069033},{"$f":"IF(skjermbilde!$N$10=1,datagrunnlag!N55,datagrunnlag!X55)","v":12.789341356222275},{"$f":"IF(skjermbilde!$N$10=1,datagrunnlag!O55,datagrunnlag!Y55)","v":9.7724128071640788},{"$f":"IF(skjermbilde!$N$10=1,datagrunnlag!P55,datagrunnlag!Z55)","v":8.357169695280259},{"$f":"+datagrunnlag!A55","v":"LKR"},{"$f":"+datagrunnlag!B55","v":"s"},{"$f":"+datagrunnlag!C55","v":250},null,null,{"$f":"++IF(datagrunnlag!F55=\"s\",\"c\",datagrunnlag!F55)","v":"r"},{"$f":"+datagrunnlag!G55","v":300},{"$f":"IF(skjermbilde!$N$10=1,datagrunnlag!Q55,datagrunnlag!AI55)","v":1.5306122448979591E-4},0,201,"r",0,0,{"$f":"IF(skjermbilde!$D$2=1,S55^2*R55,2*S55^2*R55)","v":0},{"$f":"IF(C55=\"\",\"\",IF(skjermbilde!$D$2=1,C55,IF(AND(skjermbilde!$D$2=2,2*C55>60),60,IF(skjermbilde!$D$2=2,2*C55))))","v":2},{"$f":"IF(skjermbilde!$D$2=1,D55,IF(AND(skjermbilde!$D$2=2,2*D55>60),60,IF(skjermbilde!$D$2=2,2*D55)))","v":3.3329763779068267},{"$f":"IF(skjermbilde!$D$2=1,E55,IF(AND(skjermbilde!$D$2=2,2*E55>60),60,IF(skjermbilde!$D$2=2,2*E55)))","v":5.9380530268043952},{"$f":"IF(skjermbilde!$D$2=1,F55,IF(AND(skjermbilde!$D$2=2,2*F55>60),60,IF(skjermbilde!$D$2=2,2*F55)))","v":9.4272232551131392},{"$f":"IF(skjermbilde!$D$2=1,G55,IF(AND(skjermbilde!$D$2=2,2*G55>60),60,IF(skjermbilde!$D$2=2,2*G55)))","v":15.37623549069033},{"$f":"IF(skjermbilde!$D$2=1,H55,IF(AND(skjermbilde!$D$2=2,2*H55>60),60,IF(skjermbilde!$D$2=2,2*H55)))","v":12.789341356222275},{"$f":"IF(skjermbilde!$D$2=1,I55,IF(AND(skjermbilde!$D$2=2,2*I55>60),60,IF(skjermbilde!$D$2=2,2*I55)))","v":9.7724128071640788},{"$f":"IF(J55=\"\",\"\",IF(skjermbilde!$D$2=1,J55,IF(AND(skjermbilde!$D$2=2,2*J55>60),60,IF(skjermbilde!$D$2=2,2*J55))))","v":8.357169695280259},null,null,{"$f":"+IF(ISNUMBER(skjermbilde!G$3-Y55-skjermbilde!G$6-4),skjermbilde!G$3-Y55-skjermbilde!G$6-4,0)","v":-6},{"$f":"+IF(ISNUMBER(skjermbilde!H$3-Z55-skjermbilde!H$6-4),skjermbilde!H$3-Z55-skjermbilde!H$6-4,0)","v":-7.3329763779068262},{"$f":"+IF(ISNUMBER(skjermbilde!I$3-AA55-skjermbilde!I$6-4),skjermbilde!I$3-AA55-skjermbilde!I$6-4,0)","v":-9.9380530268043952},{"$f":"+IF(ISNUMBER(skjermbilde!J$3-AB55-skjermbilde!J$6-4),skjermbilde!J$3-AB55-skjermbilde!J$6-4,0)","v":-13.427223255113139},{"$f":"+IF(ISNUMBER(skjermbilde!K$3-AC55-skjermbilde!K$6-4),skjermbilde!K$3-AC55-skjermbilde!K$6-4,0)","v":-19.37623549069033},{"$f":"+IF(ISNUMBER(skjermbilde!L$3-AD55-skjermbilde!L$6-4),skjermbilde!L$3-AD55-skjermbilde!L$6-4,0)","v":-16.789341356222273},{"$f":"+IF(ISNUMBER(skjermbilde!M$3-AE55-skjermbilde!M$6-4),skjermbilde!M$3-AE55-skjermbilde!M$6-4,0)","v":-13.772412807164079},{"$f":"+IF(ISNUMBER(skjermbilde!N$3-AF55-skjermbilde!N$6-4),skjermbilde!N$3-AF55-skjermbilde!N$6-4,0)","v":-12.357169695280259},{"$f":"IF(skjermbilde!$O$10=TRUE,10*LOG10(10^(0.1*(AI55+AI$12))+10^(0.1*(AJ55+AJ$12))+10^(0.1*(AK55+AK$12))+10^(0.1*(AL55+AL$12))+10^(0.1*(AM55+AM$12))+10^(0.1*(AN55+AN$12))+10^(0.1*(AO55+AO$12))+10^(0.1*(AP55+AP$12))),\"\")","v":""},1,1,1,1,1,1,1,1,1,0,{"$f":"IF(skjermbilde!$D$4=\"\",1,IF(P55=skjermbilde!$D$4,1,0))","v":1},{"$f":"IF(skjermbilde!$D$4=\"\",1,IF(U55=\"r\",1,IF(P55=skjermbilde!$D$4,1,0)))","v":1},{"$f":"+IF(U55=\"r\",1,IF(M55=skjermbilde!$D$3,1,0))","v":1},{"$f":"+IF(U55=\"s\",1,IF(N55=skjermbilde!$C$3,1,0))","v":1},{"$f":"+IF(U55=\"s\",1,IF(O55=skjermbilde!$C$4,1,0))","v":1},1,0,null,null,null,40,"",null,null,null,null,null,null,null,null,null,null,null,null,null,null,"",40,"",null,null,null,null,null,null,null,null,null,null,null,null,"",40,"",null,null,null,null,"",{"$f":"IF(skjermbilde!$D$2=1,VLOOKUP($CS55,$CB$17:$CD$261,3,FALSE),CONCATENATE(\"2 x \",VLOOKUP($CS55,$CB$17:$CD$261,3,FALSE)))","v":""},null,null,null,null,null,null,null,null,null,4.9999999999999998E-8,1.0000000499999999,1,"LKR-250-300",1.00000019,"LEV-100-500",0]
[41,{"$f":"+IF(skjermbilde!$N$10=1,datagrunnlag!H56,CONCATENATE(datagrunnlag!H56,\"-V\"))","v":"LKR-100-600"},{"$f":"IF(skjermbilde!$N$10=1,datagrunnlag!I56,datagrunnlag!S56)","v":2},{"$f":"IF(skjermbilde!$N$10=1,datagrunnlag!J56,datagrunnlag!T56)","v":7.2943349252588607},{"$f":"IF(skjermbilde!$N$10=1,datagrunnlag!K56,datagrunnlag!U56)","v":10.044807799817315},{"$f":"IF(skjermbilde!$N$10=1,datagrunnlag!L56,datagrunnlag!V56)","v":16.561804284527845},{"$f":"IF(skjermbilde!$N$10=1,datagrunnlag!M56,datagrunnlag!W56)","v":22.706360657359767},{"$f":"IF(skjermbilde!$N$10=1,datagrunnlag!N56,datagrunnlag!X56)","v":34.492332078197762},{"$f":"IF(skjermbilde!$N$10=1,datagrunnlag!O56,datagrunnlag!Y56)","v":43.488095913618679},{"$f":"IF(skjermbilde!$N$10=1,datagrunnlag!P56,datagrunnlag!Z56)","v":20.375297210587334},{"$f":"+datagrunnlag!A56","v":"LKR"},{"$f":"+datagrunnlag!B56","v":"s"},{"$f":"+datagrunnlag!C56","v":100},null,null,{"$f":"++IF(datagrunnlag!F56=\"s\",\"c\",datagrunnlag!F56)","v":"r"},{"$f":"+datagrunnlag!G56","v":600},{"$f":"IF(skjermbilde!$N$10=1,datagrunnlag!Q56,datagrunnlag!AI56)","v":7.4999999999999997E-3},0,201,"r",0,0,{"$f":"IF(skjermbilde!$D$2=1,S56^2*R56,2*S56^2*R56)","v":0},{"$f":"IF(C56=\"\",\"\",IF(skjermbilde!$D$2=1,C56,IF(AND(skjermbilde!$D$2=2,2*C56>60),60,IF(skjermbilde!$D$2=2,2*C56))))","v":2},{"$f":"IF(skjermbilde!$D$2=1,D56,IF(AND(skjermbilde!$D$2=2,2*D56>60),60,IF(skjermbilde!$D$2=2,2*D56)))","v":7.2943349252588607},{"$f":"IF(skjermbilde!$D$2=1,E56,IF(AND(skjermbilde!$D$2=2,2*E56>60),60,IF(skjermbilde!$D$2=2,2*E56)))","v":10.044807799817315},{"$f":"IF(skjermbilde!$D$2=1,F56,IF(AND(skjermbilde!$D$2=2,2*F56>60),60,IF(skjermbilde!$D$2=2,2*F56)))","v":16.561804284527845},{"$f":"IF(skjermbilde!$D$2=1,G56,IF(AND(skjermbilde!$D$2=2,2*G56>60),60,IF(skjermbilde!$D$2=2,2*G56)))","v":22.706360657359767},{"$f":"IF(skjermbilde!$D$2=1,H56,IF(AND(skjermbilde!$D$2=2,2*H56>60),60,IF(skjermbilde!$D$2=2,2*H56)))","v":34.492332078197762},{"$f":"IF(skjermbilde!$D$2=1,I56,IF(AND(skjermbilde!$D$2=2,2*I56>60),60,IF(skjermbilde!$D$2=2,2*I56)))","v":43.488095913618679},{"$f":"IF(J56=\"\",\"\",IF(skjermbilde!$D$2=1,J56,IF(AND(skjermbilde!$D$2=2,2*J56>60),60,IF(skjermbilde!$D$2=2,2*J56))))","v":20.375297210587334},null,null,{"$f":"+IF(ISNUMBER(skjermbilde!G$3-Y56-skjermbilde!G$6-4),skjermbilde!G$3-Y56-skjermbilde!G$6-4,0)","v":-6},{"$f":"+IF(ISNUMBER(skjermbilde!H$3-Z56-skjermbilde!H$6-4),skjermbilde!H$3-Z56-skjermbilde!H$6-4,0)","v":-11.294334925258861},{"$f":"+IF(ISNUMBER(skjermbilde!I$3-AA56-skjermbilde!I$6-4),skjermbilde!I$3-AA56-skjermbilde!I$6-4,0)","v":-14.044807799817315},{"$f":"+IF(ISNUMBER(skjermbilde!J$3-AB56-skjermbilde!J$6-4),skjermbilde!J$3-AB56-skjermbilde!J$6-4,0)","v":-20.561804284527845},{"$f":"+IF(ISNUMBER(skjermbilde!K$3-AC56-skjermbilde!K$6-4),skjermbilde!K$3-AC56-skjermbilde!K$6-4,0)","v":-26.706360657359767},{"$f":"+IF(ISNUMBER(skjermbilde!L$3-AD56-skjermbilde!L$6-4),skjermbilde!L$3-AD56-skjermbilde!L$6-4,0)","v":-38.492332078197762},{"$f":"+IF(ISNUMBER(skjermbilde!M$3-AE56-skjermbilde!M$6-4),skjermbilde!M$3-AE56-skjermbilde!M$6-4,0)","v":-47.488095913618679},{"$f":"+IF(ISNUMBER(skjermbilde!N$3-AF56-skjermbilde!N$6-4),skjermbilde!N$3-AF56-skjermbilde!N$6-4,0)","v":-24.375297210587334},{"$f":"IF(skjermbilde!$O$10=TRUE,10*LOG10(10^(0.1*(AI56+AI$12))+10^(0.1*(AJ56+AJ$12))+10^(0.1*(AK56+AK$12))+10^(0.1*(AL56+AL$12))+10^(0.1*(AM56+AM$12))+10^(0.1*(AN56+AN$12))+10^(0.1*(AO56+AO$12))+10^(0.1*(AP56+AP$12))),\"\")","v":""},1,1,1,1,1,1,1,1,1,0,{"$f":"IF(skjermbilde!$D$4=\"\",1,IF(P56=skjermbilde!$D$4,1,0))","v":1},{"$f":"IF(skjermbilde!$D$4=\"\",1,IF(U56=\"r\",1,IF(P56=skjermbilde!$D$4,1,0)))","v":1},{"$f":"+IF(U56=\"r\",1,IF(M56=skjermbilde!$D$3,1,0))","v":1},{"$f":"+IF(U56=\"s\",1,IF(N56=skjermbilde!$C$3,1,0))","v":1},{"$f":"+IF(U56=\"s\",1,IF(O56=skjermbilde!$C$4,1,0))","v":1},1,0,null,null,null,41,"",null,null,null,null,null,null,null,null,null,null,null,null,null,null,"",41,"",null,null,null,null,null,null,null,null,null,null,null,null,"",41,"",null,null,null,null,"",{"$f":"IF(skjermbilde!$D$2=1,VLOOKUP($CS56,$CB$17:$CD$261,3,FALSE),CONCATENATE(\"2 x \",VLOOKUP($CS56,$CB$17:$CD$261,3,FALSE)))","v":""},null,null,null,null,null,null,null,null,null,5.9999999999999995E-8,1.0000000600000001,1,"LKR-100-600",1.00000019,"LEV-100-500",0]
[42,{"$f":"+IF(skjermbilde!$N$10=1,datagrunnlag!H57,CONCATENATE(datagrunnlag!H57,\"-V\"))","v":"LKR-125-600"},{"$f":"IF(skjermbilde!$N$10=1,datagrunnlag!I57,datagrunnlag!S57)","v":2.3899656380478298},{"$f":"IF(skjermbilde!$N$10=1,datagrunnlag!J57,datagrunnlag!T57)","v":8.6406572869326972},{"$f":"IF(skjermbilde!$N$10=1,datagrunnlag!K57,datagrunnlag!U57)","v":10.32039878566539},{"$f":"IF(skjermbilde!$N$10=1,datagrunnlag!L57,datagrunnlag!V57)","v":17.901745403626354},{"$f":"IF(skjermbilde!$N$10=1,datagrunnlag!M57,datagrunnlag!W57)","v":26.112160970426661},{"$f":"IF(skjermbilde!$N$10=1,datagrunnlag!N57,datagrunnlag!X57)","v":38.609170296402702},{"$f":"IF(skjermbilde!$N$10=1,datagrunnlag!O57,datagrunnlag!Y57)","v":35.660323138952243},{"$f":"IF(skjermbilde!$N$10=1,datagrunnlag!P57,datagrunnlag!Z57)","v":17.218556422884721},{"$f":"+datagrunnlag!A57","v":"LKR"},{"$f":"+datagrunnlag!B57","v":"s"},{"$f":"+datagrunnlag!C57","v":125},null,null,{"$f":"++IF(datagrunnlag!F57=\"s\",\"c\",datagrunnlag!F57)","v":"r"},{"$f":"+datagrunnlag!G57","v":600},{"$f":"IF(skjermbilde!$N$10=1,datagrunnlag!Q57,datagrunnlag!AI57)","v":3.0142968110334497E-3},0,201,"r",0,0,{"$f":"IF(skjermbilde!$D$2=1,S57^2*R57,2*S57^2*R57)","v":0},{"$f":"IF(C57=\"\",\"\",IF(skjermbilde!$D$2=1,C57,IF(AND(skjermbilde!$D$2=2,2*C57>60),60,IF(skjermbilde!$D$2=2,2*C57))))","v":2.3899656380478298},{"$f":"IF(skjermbilde!$D$2=1,D57,IF(AND(skjermbilde!$D$2=2,2*D57>60),60,IF(skjermbilde!$D$2=2,2*D57)))","v":8.6406572869326972},{"$f":"IF(skjermbilde!$D$2=1,E57,IF(AND(skjermbilde!$D$2=2,2*E57>60),60,IF(skjermbilde!$D$2=2,2*E57)))","v":10.32039878566539},{"$f":"IF(skjermbilde!$D$2=1,F57,IF(AND(skjermbilde!$D$2=2,2*F57>60),60,IF(skjermbilde!$D$2=2,2*F57)))","v":17.901745403626354},{"$f":"IF(skjermbilde!$D$2=1,G57,IF(AND(skjermbilde!$D$2=2,2*G57>60),60,IF(skjermbilde!$D$2=2,2*G57)))","v":26.112160970426661},{"$f":"IF(skjermbilde!$D$2=1,H57,IF(AND(skjermbilde!$D$2=2,2*H57>60),60,IF(skjermbilde!$D$2=2,2*H57)))","v":38.609170296402702},{"$f":"IF(skjermbilde!$D$2=1,I57,IF(AND(skjermbilde!$D$2=2,2*I57>60),60,IF(skjermbilde!$D$2=2,2*I57)))","v":35.660323138952243},{"$f":"IF(J57=\"\",\"\",IF(skjermbilde!$D$2=1,J57,IF(AND(skjermbilde!$D$2=2,2*J57>60),60,IF(skjermbilde!$D$2=2,2*J57))))","v":17.218556422884721},null,null,{"$f":"+IF(ISNUMBER(skjermbilde!G$3-Y57-skjermbilde!G$6-4),skjermbilde!G$3-Y57-skjermbilde!G$6-4,0)","v":-6.3899656380478298},{"$f":"+IF(ISNUMBER(skjermbilde!H$3-Z57-skjermbilde!H$6-4),skjermbilde!H$3-Z57-skjermbilde!H$6-4,0)","v":-12.640657286932697},{"$f":"+IF(ISNUMBER(skjermbilde!I$3-AA57-skjermbilde!I$6-4),skjermbilde!I$3-AA57-skjermbilde!I$6-4,0)","v":-14.32039878566539},{"$f":"+IF(ISNUMBER(skjermbilde!J$3-AB57-skjermbilde!J$6-4),skjermbilde!J$3-AB57-skjermbilde!J$6-4,0)","v":-21.901745403626354},{"$f":"+IF(ISNUMBER(skjermbilde!K$3-AC57-skjermbilde!K$6-4),skjermbilde!K$3-AC57-skjermbilde!K$6-4,0)","v":-30.112160970426661},{"$f":"+IF(ISNUMBER(skjermbilde!L$3-AD57-skjermbilde!L$6-4),skjermbilde!L$3-AD57-skjermbilde!L$6-4,0)","v":-42.609170296402702},{"$f":"+IF(ISNUMBER(skjermbilde!M$3-AE57-skjermbilde!M$6-4),skjermbilde!M$3-AE57-skjermbilde!M$6-4,0)","v":-39.660323138952243},{"$f":"+IF(ISNUMBER(skjermbilde!N$3-AF57-skjermbilde!N$6-4),skjermbilde!N$3-AF57-skjermbilde!N$6-4,0)","v":-21.218556422884721},{"$f":"IF(skjermbilde!$O$10=TRUE,10*LOG10(10^(0.1*(AI57+AI$12))+10^(0.1*(AJ57+AJ$12))+10^(0.1*(AK57+AK$12))+10^(0.1*(AL57+AL$12))+10^(0.1*(AM57+AM$12))+10^(0.1*(AN57+AN$12))+10^(0.1*(AO57+AO$12))+10^(0.1*(AP57+AP$12))),\"\")","v":""},1,1,1,1,1,1,1,1,1,0,{"$f":"IF(skjermbilde!$D$4=\"\",1,IF(P57=skjermbilde!$D$4,1,0))","v":1},{"$f":"IF(skjermbilde!$D$4=\"\",1,IF(U57=\"r\",1,IF(P57=skjermbilde!$D$4,1,0)))","v":1},{"$f":"+IF(U57=\"r\",1,IF(M57=skjermbilde!$D$3,1,0))","v":1},{"$f":"+IF(U57=\"s\",1,IF(N57=skjermbilde!$C$3,1,0))","v":1},{"$f":"+IF(U57=\"s\",1,IF(O57=skjermbilde!$C$4,1,0))","v":1},1,0,null,null,null,42,"",null,null,null,null,null,null,null,null,null,null,null,null,null,null,"",42,"",null,null,null,null,null,null,null,null,null,null,null,null,"",42,"",null,null,null,null,"",{"$f":"IF(skjermbilde!$D$2=1,VLOOKUP($CS57,$CB$17:$CD$261,3,FALSE),CONCATENATE(\"2 x \",VLOOKUP($CS57,$CB$17:$CD$261,3,FALSE)))","v":""},null,null,null,null,null,null,null,null,null,6.9999999999999992E-8,1.00000007,1,"LKR-125-600",1.0000001999999999,"LEV-125-500",0]
[43,{"$f":"+IF(skjermbilde!$N$10=1,datagrunnlag!H58,CONCATENATE(datagrunnlag!H58,\"-V\"))","v":"LKR-160-600"},{"$f":"IF(skjermbilde!$N$10=1,datagrunnlag!I58,datagrunnlag!S58)","v":2.9},{"$f":"IF(skjermbilde!$N$10=1,datagrunnlag!J58,datagrunnlag!T58)","v":8.6099654469001674},{"$f":"IF(skjermbilde!$N$10=1,datagrunnlag!K58,datagrunnlag!U58)","v":10.34411017537305},{"$f":"IF(skjermbilde!$N$10=1,datagrunnlag!L58,datagrunnlag!V58)","v":16.459948373469679},{"$f":"IF(skjermbilde!$N$10=1,datagrunnlag!M58,datagrunnlag!W58)","v":27.789958581511979},{"$f":"IF(skjermbilde!$N$10=1,datagrunnlag!N58,datagrunnlag!X58)","v":44.930297721269881},{"$f":"IF(skjermbilde!$N$10=1,datagrunnlag!O58,datagrunnlag!Y58)","v":25.636499283338683},{"$f":"IF(skjermbilde!$N$10=1,datagrunnlag!P58,datagrunnlag!Z58)","v":15.115921606274508},{"$f":"+datagrunnlag!A58","v":"LKR"},{"$f":"+datagrunnlag!B58","v":"s"},{"$f":"+datagrunnlag!C58","v":160},null,null,{"$f":"++IF(datagrunnlag!F58=\"s\",\"c\",datagrunnlag!F58)","v":"r"},{"$f":"+datagrunnlag!G58","v":600},{"$f":"IF(skjermbilde!$N$10=1,datagrunnlag!Q58,datagrunnlag!AI58)","v":6.7909731660694133E-4},0,201,"r",0,0,{"$f":"IF(skjermbilde!$D$2=1,S58^2*R58,2*S58^2*R58)","v":0},{"$f":"IF(C58=\"\",\"\",IF(skjermbilde!$D$2=1,C58,IF(AND(skjermbilde!$D$2=2,2*C58>60),60,IF(skjermbilde!$D$2=2,2*C58))))","v":2.9},{"$f":"IF(skjermbilde!$D$2=1,D58,IF(AND(skjermbilde!$D$2=2,2*D58>60),60,IF(skjermbilde!$D$2=2,2*D58)))","v":8.6099654469001674},{"$f":"IF(skjermbilde!$D$2=1,E58,IF(AND(skjermbilde!$D$2=2,2*E58>60),60,IF(skjermbilde!$D$2=2,2*E58)))","v":10.34411017537305},{"$f":"IF(skjermbilde!$D$2=1,F58,IF(AND(skjermbilde!$D$2=2,2*F58>60),60,IF(skjermbilde!$D$2=2,2*F58)))","v":16.459948373469679},{"$f":"IF(skjermbilde!$D$2=1,G58,IF(AND(skjermbilde!$D$2=2,2*G58>60),60,IF(skjermbilde!$D$2=2,2*G58)))","v":27.789958581511979},{"$f":"IF(skjermbilde!$D$2=1,H58,IF(AND(skjermbilde!$D$2=2,2*H58>60),60,IF(skjermbilde!$D$2=2,2*H58)))","v":44.930297721269881},{"$f":"IF(skjermbilde!$D$2=1,I58,IF(AND(skjermbilde!$D$2=2,2*I58>60),60,IF(skjermbilde!$D$2=2,2*I58)))","v":25.636499283338683},{"$f":"IF(J58=\"\",\"\",IF(skjermbilde!$D$2=1,J58,IF(AND(skjermbilde!$D$2=2,2*J58>60),60,IF(skjermbilde!$D$2=2,2*J58))))","v":15.115921606274508},null,null,{"$f":"+IF(ISNUMBER(skjermbilde!G$3-Y58-skjermbilde!G$6-4),skjermbilde!G$3-Y58-skjermbilde!G$6-4,0)","v":-6.9},{"$f":"+IF(ISNUMBER(skjermbilde!H$3-Z58-skjermbilde!H$6-4),skjermbilde!H$3-Z58-skjermbilde!H$6-4,0)","v":-12.609965446900167},{"$f":"+IF(ISNUMBER(skjermbilde!I$3-AA58-skjermbilde!I$6-4),skjermbilde!I$3-AA58-skjermbilde!I$6-4,0)","v":-14.34411017537305},{"$f":"+IF(ISNUMBER(skjermbilde!J$3-AB58-skjermbilde!J$6-4),skjermbilde!J$3-AB58-skjermbilde!J$6-4,0)","v":-20.459948373469679},{"$f":"+IF(ISNUMBER(skjermbilde!K$3-AC58-skjermbilde!K$6-4),skjermbilde!K$3-AC58-skjermbilde!K$6-4,0)","v":-31.789958581511979},{"$f":"+IF(ISNUMBER(skjermbilde!L$3-AD58-skjermbilde!L$6-4),skjermbilde!L$3-AD58-skjermbilde!L$6-4,0)","v":-48.930297721269881},{"$f":"+IF(ISNUMBER(skjermbilde!M$3-AE58-skjermbilde!M$6-4),skjermbilde!M$3-AE58-skjermbilde!M$6-4,0)","v":-29.636499283338683},{"$f":"+IF(ISNUMBER(skjermbilde!N$3-AF58-skjermbilde!N$6-4),skjermbilde!N$3-AF58-skjermbilde!N$6-4,0)","v":-19.115921606274508},{"$f":"IF(skjermbilde!$O$10=TRUE,10*LOG10(10^(0.1*(AI58+AI$12))+10^(0.1*(AJ58+AJ$12))+10^(0.1*(AK58+AK$12))+10^(0.1*(AL58+AL$12))+10^(0.1*(AM58+AM$12))+10^(0.1*(AN58+AN$12))+10^(0.1*(AO58+AO$12))+10^(0.1*(AP58+AP$12))),\"\")","v":""},1,1,1,1,1,1,1,1,1,0,{"$f":"IF(skjermbilde!$D$4=\"\",1,IF(P58=skjermbilde!$D$4,1,0))","v":1},{"$f":"IF(skjermbilde!$D$4=\"\",1,IF(U58=\"r\",1,IF(P58=skjermbilde!$D$4,1,0)))","v":1},{"$f":"+IF(U58=\"r\",1,IF(M58=skjermbilde!$D$3,1,0))","v":1},{"$f":"+IF(U58=\"s\",1,IF(N58=skjermbilde!$C$3,1,0))","v":1},{"$f":"+IF(U58=\"s\",1,IF(O58=skjermbilde!$C$4,1,0))","v":1},1,0,null,null,null,43,"",null,null,null,null,null,null,null,null,null,null,null,null,null,null,"",43,"",null,null,null,null,null,null,null,null,null,null,null,null,"",43,"",null,null,null,null,"",{"$f":"IF(skjermbilde!$D$2=1,VLOOKUP($CS58,$CB$17:$CD$261,3,FALSE),CONCATENATE(\"2 x \",VLOOKUP($CS58,$CB$17:$CD$261,3,FALSE)))","v":""},null,null,null,null,null,null,null,null,null,7.9999999999999988E-8,1.00000008,1,"LKR-160-600",1.0000001999999999,"LEV-125-500",0]
[44,{"$f":"+IF(skjermbilde!$N$10=1,datagrunnlag!H59,CONCATENATE(datagrunnlag!H59,\"-V\"))","v":"LKR-200-600"},{"$f":"IF(skjermbilde!$N$10=1,datagrunnlag!I59,datagrunnlag!S59)","v":3.3644973909096225},{"$f":"IF(skjermbilde!$N$10=1,datagrunnlag!J59,datagrunnlag!T59)","v":4.323453270892518},{"$f":"IF(skjermbilde!$N$10=1,datagrunnlag!K59,datagrunnlag!U59)","v":7.0371638299846335},{"$f":"IF(skjermbilde!$N$10=1,datagrunnlag!L59,datagrunnlag!V59)","v":13.274918548517087},{"$f":"IF(skjermbilde!$N$10=1,datagrunnlag!M59,datagrunnlag!W59)","v":23.887807212732678},{"$f":"IF(skjermbilde!$N$10=1,datagrunnlag!N59,datagrunnlag!X59)","v":33.823085480160834},{"$f":"IF(skjermbilde!$N$10=1,datagrunnlag!O59,datagrunnlag!Y59)","v":17.492388572186492},{"$f":"IF(skjermbilde!$N$10=1,datagrunnlag!P59,datagrunnlag!Z59)","v":11.856084109307625},{"$f":"+datagrunnlag!A59","v":"LKR"},{"$f":"+datagrunnlag!B59","v":"s"},{"$f":"+datagrunnlag!C59","v":200},null,null,{"$f":"++IF(datagrunnlag!F59=\"s\",\"c\",datagrunnlag!F59)","v":"r"},{"$f":"+datagrunnlag!G59","v":600},{"$f":"IF(skjermbilde!$N$10=1,datagrunnlag!Q59,datagrunnlag!AI59)","v":2.1645555014455808E-4},0,201,"r",0,0,{"$f":"IF(skjermbilde!$D$2=1,S59^2*R59,2*S59^2*R59)","v":0},{"$f":"IF(C59=\"\",\"\",IF(skjermbilde!$D$2=1,C59,IF(AND(skjermbilde!$D$2=2,2*C59>60),60,IF(skjermbilde!$D$2=2,2*C59))))","v":3.3644973909096225},{"$f":"IF(skjermbilde!$D$2=1,D59,IF(AND(skjermbilde!$D$2=2,2*D59>60),60,IF(skjermbilde!$D$2=2,2*D59)))","v":4.323453270892518},{"$f":"IF(skjermbilde!$D$2=1,E59,IF(AND(skjermbilde!$D$2=2,2*E59>60),60,IF(skjermbilde!$D$2=2,2*E59)))","v":7.0371638299846335},{"$f":"IF(skjermbilde!$D$2=1,F59,IF(AND(skjermbilde!$D$2=2,2*F59>60),60,IF(skjermbilde!$D$2=2,2*F59)))","v":13.274918548517087},{"$f":"IF(skjermbilde!$D$2=1,G59,IF(AND(skjermbilde!$D$2=2,2*G59>60),60,IF(skjermbilde!$D$2=2,2*G59)))","v":23.887807212732678},{"$f":"IF(skjermbilde!$D$2=1,H59,IF(AND(skjermbilde!$D$2=2,2*H59>60),60,IF(skjermbilde!$D$2=2,2*H59)))","v":33.823085480160834},{"$f":"IF(skjermbilde!$D$2=1,I59,IF(AND(skjermbilde!$D$2=2,2*I59>60),60,IF(skjermbilde!$D$2=2,2*I59)))","v":17.492388572186492},{"$f":"IF(J59=\"\",\"\",IF(skjermbilde!$D$2=1,J59,IF(AND(skjermbilde!$D$2=2,2*J59>60),60,IF(skjermbilde!$D$2=2,2*J59))))","v":11.856084109307625},null,null,{"$f":"+IF(ISNUMBER(skjermbilde!G$3-Y59-skjermbilde!G$6-4),skjermbilde!G$3-Y59-skjermbilde!G$6-4,0)","v":-7.364497390909623},{"$f":"+IF(ISNUMBER(skjermbilde!H$3-Z59-skjermbilde!H$6-4),skjermbilde!H$3-Z59-skjermbilde!H$6-4,0)","v":-8.323453270892518},{"$f":"+IF(ISNUMBER(skjermbilde!I$3-AA59-skjermbilde!I$6-4),skjermbilde!I$3-AA59-skjermbilde!I$6-4,0)","v":-11.037163829984634},{"$f":"+IF(ISNUMBER(skjermbilde!J$3-AB59-skjermbilde!J$6-4),skjermbilde!J$3-AB59-skjermbilde!J$6-4,0)","v":-17.274918548517086},{"$f":"+IF(ISNUMBER(skjermbilde!K$3-AC59-skjermbilde!K$6-4),skjermbilde!K$3-AC59-skjermbilde!K$6-4,0)","v":-27.887807212732678},{"$f":"+IF(ISNUMBER(skjermbilde!L$3-AD59-skjermbilde!L$6-4),skjermbilde!L$3-AD59-skjermbilde!L$6-4,0)","v":-37.823085480160834},{"$f":"+IF(ISNUMBER(skjermbilde!M$3-AE59-skjermbilde!M$6-4),skjermbilde!M$3-AE59-skjermbilde!M$6-4,0)","v":-21.492388572186492},{"$f":"+IF(ISNUMBER(skjermbilde!N$3-AF59-skjermbilde!N$6-4),skjermbilde!N$3-AF59-skjermbilde!N$6-4,0)","v":-15.856084109307625},{"$f":"IF(skjermbilde!$O$10=TRUE,10*LOG10(10^(0.1*(AI59+AI$12))+10^(0.1*(AJ59+AJ$12))+10^(0.1*(AK59+AK$12))+10^(0.1*(AL59+AL$12))+10^(0.1*(AM59+AM$12))+10^(0.1*(AN59+AN$12))+10^(0.1*(AO59+AO$12))+10^(0.1*(AP59+AP$12))),\"\")","v":""},1,1,1,1,1,1,1,1,1,0,{"$f":"IF(skjermbilde!$D$4=\"\",1,IF(P59=skjermbilde!$D$4,1,0))","v":1},{"$f":"IF(skjermbilde!$D$4=\"\",1,IF(U59=\"r\",1,IF(P59=skjermbilde!$D$4,1,0)))","v":1},{"$f":"+IF(U59=\"r\",1,IF(M59=skjermbilde!$D$3,1,0))","v":1},{"$f":"+IF(U59=\"s\",1,IF(N59=skjermbilde!$C$3,1,0))","v":1},{"$f":"+IF(U59=\"s\",1,IF(O59=skjermbilde!$C$4,1,0))","v":1},1,0,null,null,null,44,"",null,null,null,null,null,null,null,null,null,null,null,null,null,null,"",44,"",null,null,null,null,null,null,null,null,null,null,null,null,"",44,"",null,null,null,null,"",{"$f":"IF(skjermbilde!$D$2=1,VLOOKUP($CS59,$CB$17:$CD$261,3,FALSE),CONCATENATE(\"2 x \",VLOOKUP($CS59,$CB$17:$CD$261,3,FALSE)))","v":""},null,null,null,null,null,null,null,null,null,8.9999999999999985E-8,1.0000000899999999,1,"LKR-200-600",1.0000002100000001,"LEV-160-500",0]
[45,{"$f":"+IF(skjermbilde!$N$10=1,datagrunnlag!H60,CONCATENATE(datagrunnlag!H60,\"-V\"))","v":"LKR-250-600"},{"$f":"IF(skjermbilde!$N$10=1,datagrunnlag!I60,datagrunnlag!S60)","v":2},{"$f":"IF(skjermbilde!$N$10=1,datagrunnlag!J60,datagrunnlag!T60)","v":6.5970252815701089},{"$f":"IF(skjermbilde!$N$10=1,datagrunnlag!K60,datagrunnlag!U60)","v":10.545874084820586},{"$f":"IF(skjermbilde!$N$10=1,datagrunnlag!L60,datagrunnlag!V60)","v":16.532815378628747},{"$f":"IF(skjermbilde!$N$10=1,datagrunnlag!M60,datagrunnlag!W60)","v":27.136546497718484},{"$f":"IF(skjermbilde!$N$10=1,datagrunnlag!N60,datagrunnlag!X60)","v":27.395063588842202},{"$f":"IF(skjermbilde!$N$10=1,datagrunnlag!O60,datagrunnlag!Y60)","v":16.628823917128418},{"$f":"IF(skjermbilde!$N$10=1,datagrunnlag!P60,datagrunnlag!Z60)","v":11.941341467408266},{"$f":"+datagrunnlag!A60","v":"LKR"},{"$f":"+datagrunnlag!B60","v":"s"},{"$f":"+datagrunnlag!C60","v":250},null,null,{"$f":"++IF(datagrunnlag!F60=\"s\",\"c\",datagrunnlag!F60)","v":"r"},{"$f":"+datagrunnlag!G60","v":600},{"$f":"IF(skjermbilde!$N$10=1,datagrunnlag!Q60,datagrunnlag!AI60)","v":1.7142857142857143E-4},0,201,"r",0,0,{"$f":"IF(skjermbilde!$D$2=1,S60^2*R60,2*S60^2*R60)","v":0},{"$f":"IF(C60=\"\",\"\",IF(skjermbilde!$D$2=1,C60,IF(AND(skjermbilde!$D$2=2,2*C60>60),60,IF(skjermbilde!$D$2=2,2*C60))))","v":2},{"$f":"IF(skjermbilde!$D$2=1,D60,IF(AND(skjermbilde!$D$2=2,2*D60>60),60,IF(skjermbilde!$D$2=2,2*D60)))","v":6.5970252815701089},{"$f":"IF(skjermbilde!$D$2=1,E60,IF(AND(skjermbilde!$D$2=2,2*E60>60),60,IF(skjermbilde!$D$2=2,2*E60)))","v":10.545874084820586},{"$f":"IF(skjermbilde!$D$2=1,F60,IF(AND(skjermbilde!$D$2=2,2*F60>60),60,IF(skjermbilde!$D$2=2,2*F60)))","v":16.532815378628747},{"$f":"IF(skjermbilde!$D$2=1,G60,IF(AND(skjermbilde!$D$2=2,2*G60>60),60,IF(skjermbilde!$D$2=2,2*G60)))","v":27.136546497718484},{"$f":"IF(skjermbilde!$D$2=1,H60,IF(AND(skjermbilde!$D$2=2,2*H60>60),60,IF(skjermbilde!$D$2=2,2*H60)))","v":27.395063588842202},{"$f":"IF(skjermbilde!$D$2=1,I60,IF(AND(skjermbilde!$D$2=2,2*I60>60),60,IF(skjermbilde!$D$2=2,2*I60)))","v":16.628823917128418},{"$f":"IF(J60=\"\",\"\",IF(skjermbilde!$D$2=1,J60,IF(AND(skjermbilde!$D$2=2,2*J60>60),60,IF(skjermbilde!$D$2=2,2*J60))))","v":11.941341467408266},null,null,{"$f":"+IF(ISNUMBER(skjermbilde!G$3-Y60-skjermbilde!G$6-4),skjermbilde!G$3-Y60-skjermbilde!G$6-4,0)","v":-6},{"$f":"+IF(ISNUMBER(skjermbilde!H$3-Z60-skjermbilde!H$6-4),skjermbilde!H$3-Z60-skjermbilde!H$6-4,0)","v":-10.597025281570108},{"$f":"+IF(ISNUMBER(skjermbilde!I$3-AA60-skjermbilde!I$6-4),skjermbilde!I$3-AA60-skjermbilde!I$6-4,0)","v":-14.545874084820586},{"$f":"+IF(ISNUMBER(skjermbilde!J$3-AB60-skjermbilde!J$6-4),skjermbilde!J$3-AB60-skjermbilde!J$6-4,0)","v":-20.532815378628747},{"$f":"+IF(ISNUMBER(skjermbilde!K$3-AC60-skjermbilde!K$6-4),skjermbilde!K$3-AC60-skjermbilde!K$6-4,0)","v":-31.136546497718484},{"$f":"+IF(ISNUMBER(skjermbilde!L$3-AD60-skjermbilde!L$6-4),skjermbilde!L$3-AD60-skjermbilde!L$6-4,0)","v":-31.395063588842202},{"$f":"+IF(ISNUMBER(skjermbilde!M$3-AE60-skjermbilde!M$6-4),skjermbilde!M$3-AE60-skjermbilde!M$6-4,0)","v":-20.628823917128418},{"$f":"+IF(ISNUMBER(skjermbilde!N$3-AF60-skjermbilde!N$6-4),skjermbilde!N$3-AF60-skjermbilde!N$6-4,0)","v":-15.941341467408266},{"$f":"IF(skjermbilde!$O$10=TRUE,10*LOG10(10^(0.1*(AI60+AI$12))+10^(0.1*(AJ60+AJ$12))+10^(0.1*(AK60+AK$12))+10^(0.1*(AL60+AL$12))+10^(0.1*(AM60+AM$12))+10^(0.1*(AN60+AN$12))+10^(0.1*(AO60+AO$12))+10^(0.1*(AP60+AP$12))),\"\")","v":""},1,1,1,1,1,1,1,1,1,0,{"$f":"IF(skjermbilde!$D$4=\"\",1,IF(P60=skjermbilde!$D$4,1,0))","v":1},{"$f":"IF(skjermbilde!$D$4=\"\",1,IF(U60=\"r\",1,IF(P60=skjermbilde!$D$4,1,0)))","v":1},{"$f":"+IF(U60=\"r\",1,IF(M60=skjermbilde!$D$3,1,0))","v":1},{"$f":"+IF(U60=\"s\",1,IF(N60=skjermbilde!$C$3,1,0))","v":1},{"$f":"+IF(U60=\"s\",1,IF(O60=skjermbilde!$C$4,1,0))","v":1},1,0,null,null,null,45,"",null,null,null,null,null,null,null,null,null,null,null,null,null,null,"",45,"",null,null,null,null,null,null,null,null,null,null,null,null,"",45,"",null,null,null,null,"",{"$f":"IF(skjermbilde!$D$2=1,VLOOKUP($CS60,$CB$17:$CD$261,3,FALSE),CONCATENATE(\"2 x \",VLOOKUP($CS60,$CB$17:$CD$261,3,FALSE)))","v":""},null,null,null,null,null,null,null,null,null,9.9999999999999982E-8,1.0000001000000001,1,"LKR-250-600",1.0000002100000001,"LEV-160-500",0]
[46,{"$f":"+IF(skjermbilde!$N$10=1,datagrunnlag!H61,CONCATENATE(datagrunnlag!H61,\"-V\"))","v":"LKR-315-600"},{"$f":"IF(skjermbilde!$N$10=1,datagrunnlag!I61,datagrunnlag!S61)","v":1},{"$f":"IF(skjermbilde!$N$10=1,datagrunnlag!J61,datagrunnlag!T61)","v":1.8627420353142639},{"$f":"IF(skjermbilde!$N$10=1,datagrunnlag!K61,datagrunnlag!U61)","v":7.2230278804173498},{"$f":"IF(skjermbilde!$N$10=1,datagrunnlag!L61,datagrunnlag!V61)","v":13.194755965719997},{"$f":"IF(skjermbilde!$N$10=1,datagrunnlag!M61,datagrunnlag!W61)","v":24.983501740049554},{"$f":"IF(skjermbilde!$N$10=1,datagrunnlag!N61,datagrunnlag!X61)","v":39.520879515362104},{"$f":"IF(skjermbilde!$N$10=1,datagrunnlag!O61,datagrunnlag!Y61)","v":27.143676172324778},{"$f":"IF(skjermbilde!$N$10=1,datagrunnlag!P61,datagrunnlag!Z61)","v":18.354129002097068},{"$f":"+datagrunnlag!A61","v":"LKR"},{"$f":"+datagrunnlag!B61","v":"s"},{"$f":"+datagrunnlag!C61","v":315},null,null,{"$f":"++IF(datagrunnlag!F61=\"s\",\"c\",datagrunnlag!F61)","v":"r"},{"$f":"+datagrunnlag!G61","v":600},{"$f":"IF(skjermbilde!$N$10=1,datagrunnlag!Q61,datagrunnlag!AI61)","v":8.177561696580964E-5},0,201,"r",0,0,{"$f":"IF(skjermbilde!$D$2=1,S61^2*R61,2*S61^2*R61)","v":0},{"$f":"IF(C61=\"\",\"\",IF(skjermbilde!$D$2=1,C61,IF(AND(skjermbilde!$D$2=2,2*C61>60),60,IF(skjermbilde!$D$2=2,2*C61))))","v":1},{"$f":"IF(skjermbilde!$D$2=1,D61,IF(AND(skjermbilde!$D$2=2,2*D61>60),60,IF(skjermbilde!$D$2=2,2*D61)))","v":1.8627420353142639},{"$f":"IF(skjermbilde!$D$2=1,E61,IF(AND(skjermbilde!$D$2=2,2*E61>60),60,IF(skjermbilde!$D$2=2,2*E61)))","v":7.2230278804173498},{"$f":"IF(skjermbilde!$D$2=1,F61,IF(AND(skjermbilde!$D$2=2,2*F61>60),60,IF(skjermbilde!$D$2=2,2*F61)))","v":13.194755965719997},{"$f":"IF(skjermbilde!$D$2=1,G61,IF(AND(skjermbilde!$D$2=2,2*G61>60),60,IF(skjermbilde!$D$2=2,2*G61)))","v":24.983501740049554},{"$f":"IF(skjermbilde!$D$2=1,H61,IF(AND(skjermbilde!$D$2=2,2*H61>60),60,IF(skjermbilde!$D$2=2,2*H61)))","v":39.520879515362104},{"$f":"IF(skjermbilde!$D$2=1,I61,IF(AND(skjermbilde!$D$2=2,2*I61>60),60,IF(skjermbilde!$D$2=2,2*I61)))","v":27.143676172324778},{"$f":"IF(J61=\"\",\"\",IF(skjermbilde!$D$2=1,J61,IF(AND(skjermbilde!$D$2=2,2*J61>60),60,IF(skjermbilde!$D$2=2,2*J61))))","v":18.354129002097068},null,null,{"$f":"+IF(ISNUMBER(skjermbilde!G$3-Y61-skjermbilde!G$6-4),skjermbilde!G$3-Y61-skjermbilde!G$6-4,0)","v":-5},{"$f":"+IF(ISNUMBER(skjermbilde!H$3-Z61-skjermbilde!H$6-4),skjermbilde!H$3-Z61-skjermbilde!H$6-4,0)","v":-5.8627420353142643},{"$f":"+IF(ISNUMBER(skjermbilde!I$3-AA61-skjermbilde!I$6-4),skjermbilde!I$3-AA61-skjermbilde!I$6-4,0)","v":-11.22302788041735},{"$f":"+IF(ISNUMBER(skjermbilde!J$3-AB61-skjermbilde!J$6-4),skjermbilde!J$3-AB61-skjermbilde!J$6-4,0)","v":-17.194755965719999},{"$f":"+IF(ISNUMBER(skjermbilde!K$3-AC61-skjermbilde!K$6-4),skjermbilde!K$3-AC61-skjermbilde!K$6-4,0)","v":-28.983501740049554},{"$f":"+IF(ISNUMBER(skjermbilde!L$3-AD61-skjermbilde!L$6-4),skjermbilde!L$3-AD61-skjermbilde!L$6-4,0)","v":-43.520879515362104},{"$f":"+IF(ISNUMBER(skjermbilde!M$3-AE61-skjermbilde!M$6-4),skjermbilde!M$3-AE61-skjermbilde!M$6-4,0)","v":-31.143676172324778},{"$f":"+IF(ISNUMBER(skjermbilde!N$3-AF61-skjermbilde!N$6-4),skjermbilde!N$3-AF61-skjermbilde!N$6-4,0)","v":-22.354129002097068},{"$f":"IF(skjermbilde!$O$10=TRUE,10*LOG10(10^(0.1*(AI61+AI$12))+10^(0.1*(AJ61+AJ$12))+10^(0.1*(AK61+AK$12))+10^(0.1*(AL61+AL$12))+10^(0.1*(AM61+AM$12))+10^(0.1*(AN61+AN$12))+10^(0.1*(AO61+AO$12))+10^(0.1*(AP61+AP$12))),\"\")","v":""},1,1,1,1,1,1,1,1,1,0,{"$f":"IF(skjermbilde!$D$4=\"\",1,IF(P61=skjermbilde!$D$4,1,0))","v":1},{"$f":"IF(skjermbilde!$D$4=\"\",1,IF(U61=\"r\",1,IF(P61=skjermbilde!$D$4,1,0)))","v":1},{"$f":"+IF(U61=\"r\",1,IF(M61=skjermbilde!$D$3,1,0))","v":1},{"$f":"+IF(U61=\"s\",1,IF(N61=skjermbilde!$C$3,1,0))","v":1},{"$f":"+IF(U61=\"s\",1,IF(O61=skjermbilde!$C$4,1,0))","v":1},1,0,null,null,null,46,"",null,null,null,null,null,null,null,null,null,null,null,null,null,null,"",46,"",null,null,null,null,null,null,null,null,null,null,null,null,"",46,"",null,null,null,null,"",{"$f":"IF(skjermbilde!$D$2=1,VLOOKUP($CS61,$CB$17:$CD$261,3,FALSE),CONCATENATE(\"2 x \",VLOOKUP($CS61,$CB$17:$CD$261,3,FALSE)))","v":""},null,null,null,null,null,null,null,null,null,1.0999999999999998E-7,1.00000011,1,"LKR-315-600",1.00000022,"LEV-200-500",0]
[47,{"$f":"+IF(skjermbilde!$N$10=1,datagrunnlag!H62,CONCATENATE(datagrunnlag!H62,\"-V\"))","v":"LKR-400-600"},{"$f":"IF(skjermbilde!$N$10=1,datagrunnlag!I62,datagrunnlag!S62)","v":2},{"$f":"IF(skjermbilde!$N$10=1,datagrunnlag!J62,datagrunnlag!T62)","v":4.6423187217804687},{"$f":"IF(skjermbilde!$N$10=1,datagrunnlag!K62,datagrunnlag!U62)","v":7.256851738905655},{"$f":"IF(skjermbilde!$N$10=1,datagrunnlag!L62,datagrunnlag!V62)","v":12.140821261434731},{"$f":"IF(skjermbilde!$N$10=1,datagrunnlag!M62,datagrunnlag!W62)","v":24.310672354514594},{"$f":"IF(skjermbilde!$N$10=1,datagrunnlag!N62,datagrunnlag!X62)","v":29.651683056209496},{"$f":"IF(skjermbilde!$N$10=1,datagrunnlag!O62,datagrunnlag!Y62)","v":18.255479273182139},{"$f":"IF(skjermbilde!$N$10=1,datagrunnlag!P62,datagrunnlag!Z62)","v":11.285040924894993},{"$f":"+datagrunnlag!A62","v":"LKR"},{"$f":"+datagrunnlag!B62","v":"s"},{"$f":"+datagrunnlag!C62","v":400},null,null,{"$f":"++IF(datagrunnlag!F62=\"s\",\"c\",datagrunnlag!F62)","v":"r"},{"$f":"+datagrunnlag!G62","v":600},{"$f":"IF(skjermbilde!$N$10=1,datagrunnlag!Q62,datagrunnlag!AI62)","v":3.9588932472692331E-5},0,201,"r",0,0,{"$f":"IF(skjermbilde!$D$2=1,S62^2*R62,2*S62^2*R62)","v":0},{"$f":"IF(C62=\"\",\"\",IF(skjermbilde!$D$2=1,C62,IF(AND(skjermbilde!$D$2=2,2*C62>60),60,IF(skjermbilde!$D$2=2,2*C62))))","v":2},{"$f":"IF(skjermbilde!$D$2=1,D62,IF(AND(skjermbilde!$D$2=2,2*D62>60),60,IF(skjermbilde!$D$2=2,2*D62)))","v":4.6423187217804687},{"$f":"IF(skjermbilde!$D$2=1,E62,IF(AND(skjermbilde!$D$2=2,2*E62>60),60,IF(skjermbilde!$D$2=2,2*E62)))","v":7.256851738905655},{"$f":"IF(skjermbilde!$D$2=1,F62,IF(AND(skjermbilde!$D$2=2,2*F62>60),60,IF(skjermbilde!$D$2=2,2*F62)))","v":12.140821261434731},{"$f":"IF(skjermbilde!$D$2=1,G62,IF(AND(skjermbilde!$D$2=2,2*G62>60),60,IF(skjermbilde!$D$2=2,2*G62)))","v":24.310672354514594},{"$f":"IF(skjermbilde!$D$2=1,H62,IF(AND(skjermbilde!$D$2=2,2*H62>60),60,IF(skjermbilde!$D$2=2,2*H62)))","v":29.651683056209496},{"$f":"IF(skjermbilde!$D$2=1,I62,IF(AND(skjermbilde!$D$2=2,2*I62>60),60,IF(skjermbilde!$D$2=2,2*I62)))","v":18.255479273182139},{"$f":"IF(J62=\"\",\"\",IF(skjermbilde!$D$2=1,J62,IF(AND(skjermbilde!$D$2=2,2*J62>60),60,IF(skjermbilde!$D$2=2,2*J62))))","v":11.285040924894993},null,null,{"$f":"+IF(ISNUMBER(skjermbilde!G$3-Y62-skjermbilde!G$6-4),skjermbilde!G$3-Y62-skjermbilde!G$6-4,0)","v":-6},{"$f":"+IF(ISNUMBER(skjermbilde!H$3-Z62-skjermbilde!H$6-4),skjermbilde!H$3-Z62-skjermbilde!H$6-4,0)","v":-8.6423187217804696},{"$f":"+IF(ISNUMBER(skjermbilde!I$3-AA62-skjermbilde!I$6-4),skjermbilde!I$3-AA62-skjermbilde!I$6-4,0)","v":-11.256851738905656},{"$f":"+IF(ISNUMBER(skjermbilde!J$3-AB62-skjermbilde!J$6-4),skjermbilde!J$3-AB62-skjermbilde!J$6-4,0)","v":-16.140821261434731},{"$f":"+IF(ISNUMBER(skjermbilde!K$3-AC62-skjermbilde!K$6-4),skjermbilde!K$3-AC62-skjermbilde!K$6-4,0)","v":-28.310672354514594},{"$f":"+IF(ISNUMBER(skjermbilde!L$3-AD62-skjermbilde!L$6-4),skjermbilde!L$3-AD62-skjermbilde!L$6-4,0)","v":-33.651683056209492},{"$f":"+IF(ISNUMBER(skjermbilde!M$3-AE62-skjermbilde!M$6-4),skjermbilde!M$3-AE62-skjermbilde!M$6-4,0)","v":-22.255479273182139},{"$f":"+IF(ISNUMBER(skjermbilde!N$3-AF62-skjermbilde!N$6-4),skjermbilde!N$3-AF62-skjermbilde!N$6-4,0)","v":-15.285040924894993},{"$f":"IF(skjermbilde!$O$10=TRUE,10*LOG10(10^(0.1*(AI62+AI$12))+10^(0.1*(AJ62+AJ$12))+10^(0.1*(AK62+AK$12))+10^(0.1*(AL62+AL$12))+10^(0.1*(AM62+AM$12))+10^(0.1*(AN62+AN$12))+10^(0.1*(AO62+AO$12))+10^(0.1*(AP62+AP$12))),\"\")","v":""},1,1,1,1,1,1,1,1,1,0,{"$f":"IF(skjermbilde!$D$4=\"\",1,IF(P62=skjermbilde!$D$4,1,0))","v":1},{"$f":"IF(skjermbilde!$D$4=\"\",1,IF(U62=\"r\",1,IF(P62=skjermbilde!$D$4,1,0)))","v":1},{"$f":"+IF(U62=\"r\",1,IF(M62=skjermbilde!$D$3,1,0))","v":1},{"$f":"+IF(U62=\"s\",1,IF(N62=skjermbilde!$C$3,1,0))","v":1},{"$f":"+IF(U62=\"s\",1,IF(O62=skjermbilde!$C$4,1,0))","v":1},1,0,null,null,null,47,"",null,null,null,null,null,null,null,null,null,null,null,null,null,null,"",47,"",null,null,null,null,null,null,null,null,null,null,null,null,"",47,"",null,null,null,null,"",{"$f":"IF(skjermbilde!$D$2=1,VLOOKUP($CS62,$CB$17:$CD$261,3,FALSE),CONCATENATE(\"2 x \",VLOOKUP($CS62,$CB$17:$CD$261,3,FALSE)))","v":""},null,null,null,null,null,null,null,null,null,1.1999999999999999E-7,1.0000001199999999,1,"LKR-400-600",1.00000022,"LEV-200-500",0]
[48,{"$f":"+IF(skjermbilde!$N$10=1,datagrunnlag!H63,CONCATENATE(datagrunnlag!H63,\"-V\"))","v":"LKR-500-600"},{"$f":"IF(skjermbilde!$N$10=1,datagrunnlag!I63,datagrunnlag!S63)","v":2},{"$f":"IF(skjermbilde!$N$10=1,datagrunnlag!J63,datagrunnlag!T63)","v":4.6880959136186746},{"$f":"IF(skjermbilde!$N$10=1,datagrunnlag!K63,datagrunnlag!U63)","v":8.7047829279992026},{"$f":"IF(skjermbilde!$N$10=1,datagrunnlag!L63,datagrunnlag!V63)","v":15.995551862909398},{"$f":"IF(skjermbilde!$N$10=1,datagrunnlag!M63,datagrunnlag!W63)","v":26.007029940808589},{"$f":"IF(skjermbilde!$N$10=1,datagrunnlag!N63,datagrunnlag!X63)","v":26.258200019320178},{"$f":"IF(skjermbilde!$N$10=1,datagrunnlag!O63,datagrunnlag!Y63)","v":18.62398535908191},{"$f":"IF(skjermbilde!$N$10=1,datagrunnlag!P63,datagrunnlag!Z63)","v":10.88083294497247},{"$f":"+datagrunnlag!A63","v":"LKR"},{"$f":"+datagrunnlag!B63","v":"s"},{"$f":"+datagrunnlag!C63","v":500},null,null,{"$f":"++IF(datagrunnlag!F63=\"s\",\"c\",datagrunnlag!F63)","v":"r"},{"$f":"+datagrunnlag!G63","v":600},{"$f":"IF(skjermbilde!$N$10=1,datagrunnlag!Q63,datagrunnlag!AI63)","v":2.5555555555555554E-5},0,201,"r",0,0,{"$f":"IF(skjermbilde!$D$2=1,S63^2*R63,2*S63^2*R63)","v":0},{"$f":"IF(C63=\"\",\"\",IF(skjermbilde!$D$2=1,C63,IF(AND(skjermbilde!$D$2=2,2*C63>60),60,IF(skjermbilde!$D$2=2,2*C63))))","v":2},{"$f":"IF(skjermbilde!$D$2=1,D63,IF(AND(skjermbilde!$D$2=2,2*D63>60),60,IF(skjermbilde!$D$2=2,2*D63)))","v":4.6880959136186746},{"$f":"IF(skjermbilde!$D$2=1,E63,IF(AND(skjermbilde!$D$2=2,2*E63>60),60,IF(skjermbilde!$D$2=2,2*E63)))","v":8.7047829279992026},{"$f":"IF(skjermbilde!$D$2=1,F63,IF(AND(skjermbilde!$D$2=2,2*F63>60),60,IF(skjermbilde!$D$2=2,2*F63)))","v":15.995551862909398},{"$f":"IF(skjermbilde!$D$2=1,G63,IF(AND(skjermbilde!$D$2=2,2*G63>60),60,IF(skjermbilde!$D$2=2,2*G63)))","v":26.007029940808589},{"$f":"IF(skjermbilde!$D$2=1,H63,IF(AND(skjermbilde!$D$2=2,2*H63>60),60,IF(skjermbilde!$D$2=2,2*H63)))","v":26.258200019320178},{"$f":"IF(skjermbilde!$D$2=1,I63,IF(AND(skjermbilde!$D$2=2,2*I63>60),60,IF(skjermbilde!$D$2=2,2*I63)))","v":18.62398535908191},{"$f":"IF(J63=\"\",\"\",IF(skjermbilde!$D$2=1,J63,IF(AND(skjermbilde!$D$2=2,2*J63>60),60,IF(skjermbilde!$D$2=2,2*J63))))","v":10.88083294497247},null,null,{"$f":"+IF(ISNUMBER(skjermbilde!G$3-Y63-skjermbilde!G$6-4),skjermbilde!G$3-Y63-skjermbilde!G$6-4,0)","v":-6},{"$f":"+IF(ISNUMBER(skjermbilde!H$3-Z63-skjermbilde!H$6-4),skjermbilde!H$3-Z63-skjermbilde!H$6-4,0)","v":-8.6880959136186746},{"$f":"+IF(ISNUMBER(skjermbilde!I$3-AA63-skjermbilde!I$6-4),skjermbilde!I$3-AA63-skjermbilde!I$6-4,0)","v":-12.704782927999203},{"$f":"+IF(ISNUMBER(skjermbilde!J$3-AB63-skjermbilde!J$6-4),skjermbilde!J$3-AB63-skjermbilde!J$6-4,0)","v":-19.995551862909398},{"$f":"+IF(ISNUMBER(skjermbilde!K$3-AC63-skjermbilde!K$6-4),skjermbilde!K$3-AC63-skjermbilde!K$6-4,0)","v":-30.007029940808589},{"$f":"+IF(ISNUMBER(skjermbilde!L$3-AD63-skjermbilde!L$6-4),skjermbilde!L$3-AD63-skjermbilde!L$6-4,0)","v":-30.258200019320178},{"$f":"+IF(ISNUMBER(skjermbilde!M$3-AE63-skjermbilde!M$6-4),skjermbilde!M$3-AE63-skjermbilde!M$6-4,0)","v":-22.62398535908191},{"$f":"+IF(ISNUMBER(skjermbilde!N$3-AF63-skjermbilde!N$6-4),skjermbilde!N$3-AF63-skjermbilde!N$6-4,0)","v":-14.88083294497247},{"$f":"IF(skjermbilde!$O$10=TRUE,10*LOG10(10^(0.1*(AI63+AI$12))+10^(0.1*(AJ63+AJ$12))+10^(0.1*(AK63+AK$12))+10^(0.1*(AL63+AL$12))+10^(0.1*(AM63+AM$12))+10^(0.1*(AN63+AN$12))+10^(0.1*(AO63+AO$12))+10^(0.1*(AP63+AP$12))),\"\")","v":""},1,1,1,1,1,1,1,1,1,0,{"$f":"IF(skjermbilde!$D$4=\"\",1,IF(P63=skjermbilde!$D$4,1,0))","v":1},{"$f":"IF(skjermbilde!$D$4=\"\",1,IF(U63=\"r\",1,IF(P63=skjermbilde!$D$4,1,0)))","v":1},{"$f":"+IF(U63=\"r\",1,IF(M63=skjermbilde!$D$3,1,0))","v":1},{"$f":"+IF(U63=\"s\",1,IF(N63=skjermbilde!$C$3,1,0))","v":1},{"$f":"+IF(U63=\"s\",1,IF(O63=skjermbilde!$C$4,1,0))","v":1},1,0,null,null,null,48,"",null,null,null,null,null,null,null,null,null,null,null,null,null,null,"",48,"",null,null,null,null,null,null,null,null,null,null,null,null,"",48,"",null,null,null,null,"",{"$f":"IF(skjermbilde!$D$2=1,VLOOKUP($CS63,$CB$17:$CD$261,3,FALSE),CONCATENATE(\"2 x \",VLOOKUP($CS63,$CB$17:$CD$261,3,FALSE)))","v":""},null,null,null,null,null,null,null,null,null,1.3E-7,1.0000001300000001,1,"LKR-500-600",1.0000002299999999,"LEV-250-500",0]
[49,{"$f":"+IF(skjermbilde!$N$10=1,datagrunnlag!H64,CONCATENATE(datagrunnlag!H64,\"-V\"))","v":"LKR-630-600"},{"$f":"IF(skjermbilde!$N$10=1,datagrunnlag!I64,datagrunnlag!S64)","v":1.1903774892379182},{"$f":"IF(skjermbilde!$N$10=1,datagrunnlag!J64,datagrunnlag!T64)","v":6.0565329574784208},{"$f":"IF(skjermbilde!$N$10=1,datagrunnlag!K64,datagrunnlag!U64)","v":8.1909806172300073},{"$f":"IF(skjermbilde!$N$10=1,datagrunnlag!L64,datagrunnlag!V64)","v":14.945210656109705},{"$f":"IF(skjermbilde!$N$10=1,datagrunnlag!M64,datagrunnlag!W64)","v":24.555277566918971},{"$f":"IF(skjermbilde!$N$10=1,datagrunnlag!N64,datagrunnlag!X64)","v":18.402642256111438},{"$f":"IF(skjermbilde!$N$10=1,datagrunnlag!O64,datagrunnlag!Y64)","v":13.200864630485636},{"$f":"IF(skjermbilde!$N$10=1,datagrunnlag!P64,datagrunnlag!Z64)","v":8.9228210401019652},{"$f":"+datagrunnlag!A64","v":"LKR"},{"$f":"+datagrunnlag!B64","v":"s"},{"$f":"+datagrunnlag!C64","v":630},null,null,{"$f":"++IF(datagrunnlag!F64=\"s\",\"c\",datagrunnlag!F64)","v":"r"},{"$f":"+datagrunnlag!G64","v":600},{"$f":"IF(skjermbilde!$N$10=1,datagrunnlag!Q64,datagrunnlag!AI64)","v":8.3333333333333337E-6},0,201,"r",0,0,{"$f":"IF(skjermbilde!$D$2=1,S64^2*R64,2*S64^2*R64)","v":0},{"$f":"IF(C64=\"\",\"\",IF(skjermbilde!$D$2=1,C64,IF(AND(skjermbilde!$D$2=2,2*C64>60),60,IF(skjermbilde!$D$2=2,2*C64))))","v":1.1903774892379182},{"$f":"IF(skjermbilde!$D$2=1,D64,IF(AND(skjermbilde!$D$2=2,2*D64>60),60,IF(skjermbilde!$D$2=2,2*D64)))","v":6.0565329574784208},{"$f":"IF(skjermbilde!$D$2=1,E64,IF(AND(skjermbilde!$D$2=2,2*E64>60),60,IF(skjermbilde!$D$2=2,2*E64)))","v":8.1909806172300073},{"$f":"IF(skjermbilde!$D$2=1,F64,IF(AND(skjermbilde!$D$2=2,2*F64>60),60,IF(skjermbilde!$D$2=2,2*F64)))","v":14.945210656109705},{"$f":"IF(skjermbilde!$D$2=1,G64,IF(AND(skjermbilde!$D$2=2,2*G64>60),60,IF(skjermbilde!$D$2=2,2*G64)))","v":24.555277566918971},{"$f":"IF(skjermbilde!$D$2=1,H64,IF(AND(skjermbilde!$D$2=2,2*H64>60),60,IF(skjermbilde!$D$2=2,2*H64)))","v":18.402642256111438},{"$f":"IF(skjermbilde!$D$2=1,I64,IF(AND(skjermbilde!$D$2=2,2*I64>60),60,IF(skjermbilde!$D$2=2,2*I64)))","v":13.200864630485636},{"$f":"IF(J64=\"\",\"\",IF(skjermbilde!$D$2=1,J64,IF(AND(skjermbilde!$D$2=2,2*J64>60),60,IF(skjermbilde!$D$2=2,2*J64))))","v":8.9228210401019652},null,null,{"$f":"+IF(ISNUMBER(skjermbilde!G$3-Y64-skjermbilde!G$6-4),skjermbilde!G$3-Y64-skjermbilde!G$6-4,0)","v":-5.1903774892379184},{"$f":"+IF(ISNUMBER(skjermbilde!H$3-Z64-skjermbilde!H$6-4),skjermbilde!H$3-Z64-skjermbilde!H$6-4,0)","v":-10.056532957478421},{"$f":"+IF(ISNUMBER(skjermbilde!I$3-AA64-skjermbilde!I$6-4),skjermbilde!I$3-AA64-skjermbilde!I$6-4,0)","v":-12.190980617230007},{"$f":"+IF(ISNUMBER(skjermbilde!J$3-AB64-skjermbilde!J$6-4),skjermbilde!J$3-AB64-skjermbilde!J$6-4,0)","v":-18.945210656109705},{"$f":"+IF(ISNUMBER(skjermbilde!K$3-AC64-skjermbilde!K$6-4),skjermbilde!K$3-AC64-skjermbilde!K$6-4,0)","v":-28.555277566918971},{"$f":"+IF(ISNUMBER(skjermbilde!L$3-AD64-skjermbilde!L$6-4),skjermbilde!L$3-AD64-skjermbilde!L$6-4,0)","v":-22.402642256111438},{"$f":"+IF(ISNUMBER(skjermbilde!M$3-AE64-skjermbilde!M$6-4),skjermbilde!M$3-AE64-skjermbilde!M$6-4,0)","v":-17.200864630485636},{"$f":"+IF(ISNUMBER(skjermbilde!N$3-AF64-skjermbilde!N$6-4),skjermbilde!N$3-AF64-skjermbilde!N$6-4,0)","v":-12.922821040101965},{"$f":"IF(skjermbilde!$O$10=TRUE,10*LOG10(10^(0.1*(AI64+AI$12))+10^(0.1*(AJ64+AJ$12))+10^(0.1*(AK64+AK$12))+10^(0.1*(AL64+AL$12))+10^(0.1*(AM64+AM$12))+10^(0.1*(AN64+AN$12))+10^(0.1*(AO64+AO$12))+10^(0.1*(AP64+AP$12))),\"\")","v":""},1,1,1,1,1,1,1,1,1,0,{"$f":"IF(skjermbilde!$D$4=\"\",1,IF(P64=skjermbilde!$D$4,1,0))","v":1},{"$f":"IF(skjermbilde!$D$4=\"\",1,IF(U64=\"r\",1,IF(P64=skjermbilde!$D$4,1,0)))","v":1},{"$f":"+IF(U64=\"r\",1,IF(M64=skjermbilde!$D$3,1,0))","v":1},{"$f":"+IF(U64=\"s\",1,IF(N64=skjermbilde!$C$3,1,0))","v":1},{"$f":"+IF(U64=\"s\",1,IF(O64=skjermbilde!$C$4,1,0))","v":1},1,0,null,null,null,49,"",null,null,null,null,null,null,null,null,null,null,null,null,null,null,"",49,"",null,null,null,null,null,null,null,null,null,null,null,null,"",49,"",null,null,null,null,"",{"$f":"IF(skjermbilde!$D$2=1,VLOOKUP($CS64,$CB$17:$CD$261,3,FALSE),CONCATENATE(\"2 x \",VLOOKUP($CS64,$CB$17:$CD$261,3,FALSE)))","v":""},null,null,null,null,null,null,null,null,null,1.4000000000000001E-7,1.00000014,1,"LKR-630-600",1.0000002299999999,"LEV-250-500",0]
[50,{"$f":"+IF(skjermbilde!$N$10=1,datagrunnlag!H65,CONCATENATE(datagrunnlag!H65,\"-V\"))","v":0},{"$f":"IF(skjermbilde!$N$10=1,datagrunnlag!I65,datagrunnlag!S65)","v":0},{"$f":"IF(skjermbilde!$N$10=1,datagrunnlag!J65,datagrunnlag!T65)","v":0},{"$f":"IF(skjermbilde!$N$10=1,datagrunnlag!K65,datagrunnlag!U65)","v":0},{"$f":"IF(skjermbilde!$N$10=1,datagrunnlag!L65,datagrunnlag!V65)","v":0},{"$f":"IF(skjermbilde!$N$10=1,datagrunnlag!M65,datagrunnlag!W65)","v":0},{"$f":"IF(skjermbilde!$N$10=1,datagrunnlag!N65,datagrunnlag!X65)","v":0},{"$f":"IF(skjermbilde!$N$10=1,datagrunnlag!O65,datagrunnlag!Y65)","v":0},{"$f":"IF(skjermbilde!$N$10=1,datagrunnlag!P65,datagrunnlag!Z65)","v":0},{"$f":"+datagrunnlag!A65","v":0},{"$f":"+datagrunnlag!B65","v":0},{"$f":"+datagrunnlag!C65","v":0},null,null,{"$f":"++IF(datagrunnlag!F65=\"s\",\"c\",datagrunnlag!F65)","v":0},{"$f":"+datagrunnlag!G65","v":0},{"$f":"IF(skjermbilde!$N$10=1,datagrunnlag!Q65,datagrunnlag!AI65)","v":0},0,201,"r",0,0,{"$f":"IF(skjermbilde!$D$2=1,S65^2*R65,2*S65^2*R65)","v":0},{"$f":"IF(C65=\"\",\"\",IF(skjermbilde!$D$2=1,C65,IF(AND(skjermbilde!$D$2=2,2*C65>60),60,IF(skjermbilde!$D$2=2,2*C65))))","v":0},{"$f":"IF(skjermbilde!$D$2=1,D65,IF(AND(skjermbilde!$D$2=2,2*D65>60),60,IF(skjermbilde!$D$2=2,2*D65)))","v":0},{"$f":"IF(skjermbilde!$D$2=1,E65,IF(AND(skjermbilde!$D$2=2,2*E65>60),60,IF(skjermbilde!$D$2=2,2*E65)))","v":0},{"$f":"IF(skjermbilde!$D$2=1,F65,IF(AND(skjermbilde!$D$2=2,2*F65>60),60,IF(skjermbilde!$D$2=2,2*F65)))","v":0},{"$f":"IF(skjermbilde!$D$2=1,G65,IF(AND(skjermbilde!$D$2=2,2*G65>60),60,IF(skjermbilde!$D$2=2,2*G65)))","v":0},{"$f":"IF(skjermbilde!$D$2=1,H65,IF(AND(skjermbilde!$D$2=2,2*H65>60),60,IF(skjermbilde!$D$2=2,2*H65)))","v":0},{"$f":"IF(skjermbilde!$D$2=1,I65,IF(AND(skjermbilde!$D$2=2,2*I65>60),60,IF(skjermbilde!$D$2=2,2*I65)))","v":0},{"$f":"IF(J65=\"\",\"\",IF(skjermbilde!$D$2=1,J65,IF(AND(skjermbilde!$D$2=2,2*J65>60),60,IF(skjermbilde!$D$2=2,2*J65))))","v":0},null,null,{"$f":"+IF(ISNUMBER(skjermbilde!G$3-Y65-skjermbilde!G$6-4),skjermbilde!G$3-Y65-skjermbilde!G$6-4,0)","v":-4},{"$f":"+IF(ISNUMBER(skjermbilde!H$3-Z65-skjermbilde!H$6-4),skjermbilde!H$3-Z65-skjermbilde!H$6-4,0)","v":-4},{"$f":"+IF(ISNUMBER(skjermbilde!I$3-AA65-skjermbilde!I$6-4),skjermbilde!I$3-AA65-skjermbilde!I$6-4,0)","v":-4},{"$f":"+IF(ISNUMBER(skjermbilde!J$3-AB65-skjermbilde!J$6-4),skjermbilde!J$3-AB65-skjermbilde!J$6-4,0)","v":-4},{"$f":"+IF(ISNUMBER(skjermbilde!K$3-AC65-skjermbilde!K$6-4),skjermbilde!K$3-AC65-skjermbilde!K$6-4,0)","v":-4},{"$f":"+IF(ISNUMBER(skjermbilde!L$3-AD65-skjermbilde!L$6-4),skjermbilde!L$3-AD65-skjermbilde!L$6-4,0)","v":-4},{"$f":"+IF(ISNUMBER(skjermbilde!M$3-AE65-skjermbilde!M$6-4),skjermbilde!M$3-AE65-skjermbilde!M$6-4,0)","v":-4},{"$f":"+IF(ISNUMBER(skjermbilde!N$3-AF65-skjermbilde!N$6-4),skjermbilde!N$3-AF65-skjermbilde!N$6-4,0)","v":-4},{"$f":"IF(skjermbilde!$O$10=TRUE,10*LOG10(10^(0.1*(AI65+AI$12))+10^(0.1*(AJ65+AJ$12))+10^(0.1*(AK65+AK$12))+10^(0.1*(AL65+AL$12))+10^(0.1*(AM65+AM$12))+10^(0.1*(AN65+AN$12))+10^(0.1*(AO65+AO$12))+10^(0.1*(AP65+AP$12))),\"\")","v":""},1,1,1,1,1,1,1,1,1,0,{"$f":"IF(skjermbilde!$D$4=\"\",1,IF(P65=skjermbilde!$D$4,1,0))","v":0},{"$f":"IF(skjermbilde!$D$4=\"\",1,IF(U65=\"r\",1,IF(P65=skjermbilde!$D$4,1,0)))","v":1},{"$f":"+IF(U65=\"r\",1,IF(M65=skjermbilde!$D$3,1,0))","v":1},{"$f":"+IF(U65=\"s\",1,IF(N65=skjermbilde!$C$3,1,0))","v":1},{"$f":"+IF(U65=\"s\",1,IF(O65=skjermbilde!$C$4,1,0))","v":1},1,0,null,null,null,50,"",null,null,null,null,null,null,null,null,null,null,null,null,null,null,"",50,"",null,null,null,null,null,null,null,null,null,null,null,null,"",50,"",null,null,null,null,"",{"$f":"IF(skjermbilde!$D$2=1,VLOOKUP($CS65,$CB$17:$CD$261,3,FALSE),CONCATENATE(\"2 x \",VLOOKUP($CS65,$CB$17:$CD$261,3,FALSE)))","v":""},null,null,null,null,null,null,null,null,null,{"$f":"0.00000001+DI64","v":1.5000000000000002E-7},1.00000015,1,0,1.0000002400000001,"LEV-315-500",0]
[51,{"$f":"+IF(skjermbilde!$N$10=1,datagrunnlag!H66,CONCATENATE(datagrunnlag!H66,\"-V\"))","v":0},{"$f":"IF(skjermbilde!$N$10=1,datagrunnlag!I66,datagrunnlag!S66)","v":0},{"$f":"IF(skjermbilde!$N$10=1,datagrunnlag!J66,datagrunnlag!T66)","v":0},{"$f":"IF(skjermbilde!$N$10=1,datagrunnlag!K66,datagrunnlag!U66)","v":0},{"$f":"IF(skjermbilde!$N$10=1,datagrunnlag!L66,datagrunnlag!V66)","v":0},{"$f":"IF(skjermbilde!$N$10=1,datagrunnlag!M66,datagrunnlag!W66)","v":0},{"$f":"IF(skjermbilde!$N$10=1,datagrunnlag!N66,datagrunnlag!X66)","v":0},{"$f":"IF(skjermbilde!$N$10=1,datagrunnlag!O66,datagrunnlag!Y66)","v":0},{"$f":"IF(skjermbilde!$N$10=1,datagrunnlag!P66,datagrunnlag!Z66)","v":0},{"$f":"+datagrunnlag!A66","v":0},{"$f":"+datagrunnlag!B66","v":0},{"$f":"+datagrunnlag!C66","v":0},null,null,{"$f":"++IF(datagrunnlag!F66=\"s\",\"c\",datagrunnlag!F66)","v":0},{"$f":"+datagrunnlag!G66","v":0},{"$f":"IF(skjermbilde!$N$10=1,datagrunnlag!Q66,datagrunnlag!AI66)","v":0},0,201,"r",0,0,{"$f":"IF(skjermbilde!$D$2=1,S66^2*R66,2*S66^2*R66)","v":0},{"$f":"IF(C66=\"\",\"\",IF(skjermbilde!$D$2=1,C66,IF(AND(skjermbilde!$D$2=2,2*C66>60),60,IF(skjermbilde!$D$2=2,2*C66))))","v":0},{"$f":"IF(skjermbilde!$D$2=1,D66,IF(AND(skjermbilde!$D$2=2,2*D66>60),60,IF(skjermbilde!$D$2=2,2*D66)))","v":0},{"$f":"IF(skjermbilde!$D$2=1,E66,IF(AND(skjermbilde!$D$2=2,2*E66>60),60,IF(skjermbilde!$D$2=2,2*E66)))","v":0},{"$f":"IF(skjermbilde!$D$2=1,F66,IF(AND(skjermbilde!$D$2=2,2*F66>60),60,IF(skjermbilde!$D$2=2,2*F66)))","v":0},{"$f":"IF(skjermbilde!$D$2=1,G66,IF(AND(skjermbilde!$D$2=2,2*G66>60),60,IF(skjermbilde!$D$2=2,2*G66)))","v":0},{"$f":"IF(skjermbilde!$D$2=1,H66,IF(AND(skjermbilde!$D$2=2,2*H66>60),60,IF(skjermbilde!$D$2=2,2*H66)))","v":0},{"$f":"IF(skjermbilde!$D$2=1,I66,IF(AND(skjermbilde!$D$2=2,2*I66>60),60,IF(skjermbilde!$D$2=2,2*I66)))","v":0},{"$f":"IF(J66=\"\",\"\",IF(skjermbilde!$D$2=1,J66,IF(AND(skjermbilde!$D$2=2,2*J66>60),60,IF(skjermbilde!$D$2=2,2*J66))))","v":0},null,null,{"$f":"+IF(ISNUMBER(skjermbilde!G$3-Y66-skjermbilde!G$6-4),skjermbilde!G$3-Y66-skjermbilde!G$6-4,0)","v":-4},{"$f":"+IF(ISNUMBER(skjermbilde!H$3-Z66-skjermbilde!H$6-4),skjermbilde!H$3-Z66-skjermbilde!H$6-4,0)","v":-4},{"$f":"+IF(ISNUMBER(skjermbilde!I$3-AA66-skjermbilde!I$6-4),skjermbilde!I$3-AA66-skjermbilde!I$6-4,0)","v":-4},{"$f":"+IF(ISNUMBER(skjermbilde!J$3-AB66-skjermbilde!J$6-4),skjermbilde!J$3-AB66-skjermbilde!J$6-4,0)","v":-4},{"$f":"+IF(ISNUMBER(skjermbilde!K$3-AC66-skjermbilde!K$6-4),skjermbilde!K$3-AC66-skjermbilde!K$6-4,0)","v":-4},{"$f":"+IF(ISNUMBER(skjermbilde!L$3-AD66-skjermbilde!L$6-4),skjermbilde!L$3-AD66-skjermbilde!L$6-4,0)","v":-4},{"$f":"+IF(ISNUMBER(skjermbilde!M$3-AE66-skjermbilde!M$6-4),skjermbilde!M$3-AE66-skjermbilde!M$6-4,0)","v":-4},{"$f":"+IF(ISNUMBER(skjermbilde!N$3-AF66-skjermbilde!N$6-4),skjermbilde!N$3-AF66-skjermbilde!N$6-4,0)","v":-4},{"$f":"IF(skjermbilde!$O$10=TRUE,10*LOG10(10^(0.1*(AI66+AI$12))+10^(0.1*(AJ66+AJ$12))+10^(0.1*(AK66+AK$12))+10^(0.1*(AL66+AL$12))+10^(0.1*(AM66+AM$12))+10^(0.1*(AN66+AN$12))+10^(0.1*(AO66+AO$12))+10^(0.1*(AP66+AP$12))),\"\")","v":""},{"$f":"+IF(AND(X66-1<T66,X66<201),1,0)","v":1},{"$f":"+IF(Y66>Y$11,1,0)","v":1},1,1,1,1,1,1,1,{"$f":"+IF(U66=L66,1,0)","v":0},{"$f":"IF(skjermbilde!$D$4=\"\",1,IF(P66=skjermbilde!$D$4,1,0))","v":0},{"$f":"IF(skjermbilde!$D$4=\"\",1,IF(U66=\"r\",1,IF(P66=skjermbilde!$D$4,1,0)))","v":1},{"$f":"+IF(U66=\"r\",1,IF(M66=skjermbilde!$D$3,1,0))","v":1},{"$f":"+IF(U66=\"s\",1,IF(N66=skjermbilde!$C$3,1,0))","v":1},{"$f":"+IF(U66=\"s\",1,IF(O66=skjermbilde!$C$4,1,0))","v":1},{"$f":"+IF(OR(W66=Q66,W66=0),1,0)","v":1},{"$f":"+IF(SUM(AR66:BG66)=16,1,0)","v":0},null,null,null,{"$f":"+A66","v":51},"",null,null,null,null,null,null,null,null,null,null,null,null,null,null,{"$f":"+IF($BH66=1,$X66+DI66,\"\")","v":""},{"$f":"+BL66","v":51},"",null,null,null,null,null,null,null,null,null,null,null,null,"",51,"",null,null,null,null,"",{"$f":"IF(skjermbilde!$D$2=1,VLOOKUP($CS66,$CB$17:$CD$261,3,FALSE),CONCATENATE(\"2 x \",VLOOKUP($CS66,$CB$17:$CD$261,3,FALSE)))","v":""},null,null,null,null,null,null,null,null,null,{"$f":"0.00000001+DI65","v":1.6000000000000003E-7},{"$f":"IF(ISNUMBER(DK66),DK66+DI66,\"\")","v":1.0000001599999999},{"$f":"SEARCH($DL$14,B66,1)","v":1},{"$f":"IF(ISNUMBER(DK66),B66,\"\")","v":0},1.0000002400000001,"LEV-315-500",0]
[52,{"$f":"+IF(skjermbilde!$N$10=1,datagrunnlag!H67,CONCATENATE(datagrunnlag!H67,\"-V\"))","v":0},{"$f":"IF(skjermbilde!$N$10=1,datagrunnlag!I67,datagrunnlag!S67)","v":0},{"$f":"IF(skjermbilde!$N$10=1,datagrunnlag!J67,datagrunnlag!T67)","v":0},{"$f":"IF(skjermbilde!$N$10=1,datagrunnlag!K67,datagrunnlag!U67)","v":0},{"$f":"IF(skjermbilde!$N$10=1,datagrunnlag!L67,datagrunnlag!V67)","v":0},{"$f":"IF(skjermbilde!$N$10=1,datagrunnlag!M67,datagrunnlag!W67)","v":0},{"$f":"IF(skjermbilde!$N$10=1,datagrunnlag!N67,datagrunnlag!X67)","v":0},{"$f":"IF(skjermbilde!$N$10=1,datagrunnlag!O67,datagrunnlag!Y67)","v":0},{"$f":"IF(skjermbilde!$N$10=1,datagrunnlag!P67,datagrunnlag!Z67)","v":0},{"$f":"+datagrunnlag!A67","v":0},{"$f":"+datagrunnlag!B67","v":0},{"$f":"+datagrunnlag!C67","v":0},null,null,{"$f":"++IF(datagrunnlag!F67=\"s\",\"c\",datagrunnlag!F67)","v":0},{"$f":"+datagrunnlag!G67","v":0},{"$f":"IF(skjermbilde!$N$10=1,datagrunnlag!Q67,datagrunnlag!AI67)","v":0},0,201,"r",0,0,{"$f":"IF(skjermbilde!$D$2=1,S67^2*R67,2*S67^2*R67)","v":0},{"$f":"IF(C67=\"\",\"\",IF(skjermbilde!$D$2=1,C67,IF(AND(skjermbilde!$D$2=2,2*C67>60),60,IF(skjermbilde!$D$2=2,2*C67))))","v":0},{"$f":"IF(skjermbilde!$D$2=1,D67,IF(AND(skjermbilde!$D$2=2,2*D67>60),60,IF(skjermbilde!$D$2=2,2*D67)))","v":0},{"$f":"IF(skjermbilde!$D$2=1,E67,IF(AND(skjermbilde!$D$2=2,2*E67>60),60,IF(skjermbilde!$D$2=2,2*E67)))","v":0},{"$f":"IF(skjermbilde!$D$2=1,F67,IF(AND(skjermbilde!$D$2=2,2*F67>60),60,IF(skjermbilde!$D$2=2,2*F67)))","v":0},{"$f":"IF(skjermbilde!$D$2=1,G67,IF(AND(skjermbilde!$D$2=2,2*G67>60),60,IF(skjermbilde!$D$2=2,2*G67)))","v":0},{"$f":"IF(skjermbilde!$D$2=1,H67,IF(AND(skjermbilde!$D$2=2,2*H67>60),60,IF(skjermbilde!$D$2=2,2*H67)))","v":0},{"$f":"IF(skjermbilde!$D$2=1,I67,IF(AND(skjermbilde!$D$2=2,2*I67>60),60,IF(skjermbilde!$D$2=2,2*I67)))","v":0},{"$f":"IF(J67=\"\",\"\",IF(skjermbilde!$D$2=1,J67,IF(AND(skjermbilde!$D$2=2,2*J67>60),60,IF(skjermbilde!$D$2=2,2*J67))))","v":0},null,null,{"$f":"+IF(ISNUMBER(skjermbilde!G$3-Y67-skjermbilde!G$6-4),skjermbilde!G$3-Y67-skjermbilde!G$6-4,0)","v":-4},{"$f":"+IF(ISNUMBER(skjermbilde!H$3-Z67-skjermbilde!H$6-4),skjermbilde!H$3-Z67-skjermbilde!H$6-4,0)","v":-4},{"$f":"+IF(ISNUMBER(skjermbilde!I$3-AA67-skjermbilde!I$6-4),skjermbilde!I$3-AA67-skjermbilde!I$6-4,0)","v":-4},{"$f":"+IF(ISNUMBER(skjermbilde!J$3-AB67-skjermbilde!J$6-4),skjermbilde!J$3-AB67-skjermbilde!J$6-4,0)","v":-4},{"$f":"+IF(ISNUMBER(skjermbilde!K$3-AC67-skjermbilde!K$6-4),skjermbilde!K$3-AC67-skjermbilde!K$6-4,0)","v":-4},{"$f":"+IF(ISNUMBER(skjermbilde!L$3-AD67-skjermbilde!L$6-4),skjermbilde!L$3-AD67-skjermbilde!L$6-4,0)","v":-4},{"$f":"+IF(ISNUMBER(skjermbilde!M$3-AE67-skjermbilde!M$6-4),skjermbilde!M$3-AE67-skjermbilde!M$6-4,0)","v":-4},{"$f":"+IF(ISNUMBER(skjermbilde!N$3-AF67-skjermbilde!N$6-4),skjermbilde!N$3-AF67-skjermbilde!N$6-4,0)","v":-4},{"$f":"IF(skjermbilde!$O$10=TRUE,10*LOG10(10^(0.1*(AI67+AI$12))+10^(0.1*(AJ67+AJ$12))+10^(0.1*(AK67+AK$12))+10^(0.1*(AL67+AL$12))+10^(0.1*(AM67+AM$12))+10^(0.1*(AN67+AN$12))+10^(0.1*(AO67+AO$12))+10^(0.1*(AP67+AP$12))),\"\")","v":""},{"$f":"+IF(AND(X67-1<T67,X67<201),1,0)","v":1},1,1,1,1,1,1,1,1,{"$f":"+IF(U67=L67,1,0)","v":0},{"$f":"IF(skjermbilde!$D$4=\"\",1,IF(P67=skjermbilde!$D$4,1,0))","v":0},{"$f":"IF(skjermbilde!$D$4=\"\",1,IF(U67=\"r\",1,IF(P67=skjermbilde!$D$4,1,0)))","v":1},{"$f":"+IF(U67=\"r\",1,IF(M67=skjermbilde!$D$3,1,0))","v":1},{"$f":"+IF(U67=\"s\",1,IF(N67=skjermbilde!$C$3,1,0))","v":1},{"$f":"+IF(U67=\"s\",1,IF(O67=skjermbilde!$C$4,1,0))","v":1},{"$f":"+IF(OR(W67=Q67,W67=0),1,0)","v":1},{"$f":"+IF(SUM(AR67:BG67)=16,1,0)","v":0},null,null,null,{"$f":"+A67","v":52},"",null,null,null,null,null,null,null,null,null,null,null,null,null,null,{"$f":"+IF($BH67=1,$X67+DI67,\"\")","v":""},{"$f":"+BL67","v":52},"",null,null,null,null,null,null,null,null,null,null,null,null,"",52,"",null,null,null,null,"",{"$f":"IF(skjermbilde!$D$2=1,VLOOKUP($CS67,$CB$17:$CD$261,3,FALSE),CONCATENATE(\"2 x \",VLOOKUP($CS67,$CB$17:$CD$261,3,FALSE)))","v":""},null,null,null,null,null,null,null,null,null,{"$f":"0.00000001+DI66","v":1.7000000000000004E-7},{"$f":"IF(ISNUMBER(DK67),DK67+DI67,\"\")","v":1.0000001700000001},{"$f":"SEARCH($DL$14,B67,1)","v":1},{"$f":"IF(ISNUMBER(DK67),B67,\"\")","v":0},1.00000025,"LEV-400-500",0]
[53,{"$f":"+IF(skjermbilde!$N$10=1,datagrunnlag!H68,CONCATENATE(datagrunnlag!H68,\"-V\"))","v":"LKR-100-900"},{"$f":"IF(skjermbilde!$N$10=1,datagrunnlag!I68,datagrunnlag!S68)","v":2},{"$f":"IF(skjermbilde!$N$10=1,datagrunnlag!J68,datagrunnlag!T68)","v":5.5336037698290674},{"$f":"IF(skjermbilde!$N$10=1,datagrunnlag!K68,datagrunnlag!U68)","v":13.467900800516261},{"$f":"IF(skjermbilde!$N$10=1,datagrunnlag!L68,datagrunnlag!V68)","v":22.920318430596048},{"$f":"IF(skjermbilde!$N$10=1,datagrunnlag!M68,datagrunnlag!W68)","v":33.615467451247312},{"$f":"IF(skjermbilde!$N$10=1,datagrunnlag!N68,datagrunnlag!X68)","v":49.394328017122064},{"$f":"IF(skjermbilde!$N$10=1,datagrunnlag!O68,datagrunnlag!Y68)","v":49.997156672249901},{"$f":"IF(skjermbilde!$N$10=1,datagrunnlag!P68,datagrunnlag!Z68)","v":26.621662341095252},{"$f":"+datagrunnlag!A68","v":"LKR"},{"$f":"+datagrunnlag!B68","v":"s"},{"$f":"+datagrunnlag!C68","v":100},null,null,{"$f":"++IF(datagrunnlag!F68=\"s\",\"c\",datagrunnlag!F68)","v":"r"},{"$f":"+datagrunnlag!G68","v":900},{"$f":"IF(skjermbilde!$N$10=1,datagrunnlag!Q68,datagrunnlag!AI68)","v":6.2103623516186817E-3},0,201,"r",0,0,{"$f":"IF(skjermbilde!$D$2=1,S68^2*R68,2*S68^2*R68)","v":0},{"$f":"IF(C68=\"\",\"\",IF(skjermbilde!$D$2=1,C68,IF(AND(skjermbilde!$D$2=2,2*C68>60),60,IF(skjermbilde!$D$2=2,2*C68))))","v":2},{"$f":"IF(skjermbilde!$D$2=1,D68,IF(AND(skjermbilde!$D$2=2,2*D68>60),60,IF(skjermbilde!$D$2=2,2*D68)))","v":5.5336037698290674},{"$f":"IF(skjermbilde!$D$2=1,E68,IF(AND(skjermbilde!$D$2=2,2*E68>60),60,IF(skjermbilde!$D$2=2,2*E68)))","v":13.467900800516261},{"$f":"IF(skjermbilde!$D$2=1,F68,IF(AND(skjermbilde!$D$2=2,2*F68>60),60,IF(skjermbilde!$D$2=2,2*F68)))","v":22.920318430596048},{"$f":"IF(skjermbilde!$D$2=1,G68,IF(AND(skjermbilde!$D$2=2,2*G68>60),60,IF(skjermbilde!$D$2=2,2*G68)))","v":33.615467451247312},{"$f":"IF(skjermbilde!$D$2=1,H68,IF(AND(skjermbilde!$D$2=2,2*H68>60),60,IF(skjermbilde!$D$2=2,2*H68)))","v":49.394328017122064},{"$f":"IF(skjermbilde!$D$2=1,I68,IF(AND(skjermbilde!$D$2=2,2*I68>60),60,IF(skjermbilde!$D$2=2,2*I68)))","v":49.997156672249901},{"$f":"IF(J68=\"\",\"\",IF(skjermbilde!$D$2=1,J68,IF(AND(skjermbilde!$D$2=2,2*J68>60),60,IF(skjermbilde!$D$2=2,2*J68))))","v":26.621662341095252},null,null,{"$f":"+IF(ISNUMBER(skjermbilde!G$3-Y68-skjermbilde!G$6-4),skjermbilde!G$3-Y68-skjermbilde!G$6-4,0)","v":-6},{"$f":"+IF(ISNUMBER(skjermbilde!H$3-Z68-skjermbilde!H$6-4),skjermbilde!H$3-Z68-skjermbilde!H$6-4,0)","v":-9.5336037698290674},{"$f":"+IF(ISNUMBER(skjermbilde!I$3-AA68-skjermbilde!I$6-4),skjermbilde!I$3-AA68-skjermbilde!I$6-4,0)","v":-17.467900800516261},{"$f":"+IF(ISNUMBER(skjermbilde!J$3-AB68-skjermbilde!J$6-4),skjermbilde!J$3-AB68-skjermbilde!J$6-4,0)","v":-26.920318430596048},{"$f":"+IF(ISNUMBER(skjermbilde!K$3-AC68-skjermbilde!K$6-4),skjermbilde!K$3-AC68-skjermbilde!K$6-4,0)","v":-37.615467451247312},{"$f":"+IF(ISNUMBER(skjermbilde!L$3-AD68-skjermbilde!L$6-4),skjermbilde!L$3-AD68-skjermbilde!L$6-4,0)","v":-53.394328017122064},{"$f":"+IF(ISNUMBER(skjermbilde!M$3-AE68-skjermbilde!M$6-4),skjermbilde!M$3-AE68-skjermbilde!M$6-4,0)","v":-53.997156672249901},{"$f":"+IF(ISNUMBER(skjermbilde!N$3-AF68-skjermbilde!N$6-4),skjermbilde!N$3-AF68-skjermbilde!N$6-4,0)","v":-30.621662341095252},{"$f":"IF(skjermbilde!$O$10=TRUE,10*LOG10(10^(0.1*(AI68+AI$12))+10^(0.1*(AJ68+AJ$12))+10^(0.1*(AK68+AK$12))+10^(0.1*(AL68+AL$12))+10^(0.1*(AM68+AM$12))+10^(0.1*(AN68+AN$12))+10^(0.1*(AO68+AO$12))+10^(0.1*(AP68+AP$12))),\"\")","v":""},1,1,1,1,1,1,1,1,1,0,{"$f":"IF(skjermbilde!$D$4=\"\",1,IF(P68=skjermbilde!$D$4,1,0))","v":1},{"$f":"IF(skjermbilde!$D$4=\"\",1,IF(U68=\"r\",1,IF(P68=skjermbilde!$D$4,1,0)))","v":1},{"$f":"+IF(U68=\"r\",1,IF(M68=skjermbilde!$D$3,1,0))","v":1},{"$f":"+IF(U68=\"s\",1,IF(N68=skjermbilde!$C$3,1,0))","v":1},{"$f":"+IF(U68=\"s\",1,IF(O68=skjermbilde!$C$4,1,0))","v":1},1,0,null,null,null,53,"",null,null,null,null,null,null,null,null,null,null,null,null,null,null,"",53,"",null,null,null,null,null,null,null,null,null,null,null,null,"",53,{"$f":"IF(ISERROR(SMALL(CB$17:CB$261,BL65)),\"\",SMALL(CB$17:CB$261,BL65))","v":""},null,null,null,null,"",{"$f":"IF(skjermbilde!$D$2=1,VLOOKUP($CS68,$CB$17:$CD$261,3,FALSE),CONCATENATE(\"2 x \",VLOOKUP($CS68,$CB$17:$CD$261,3,FALSE)))","v":""},null,null,null,null,null,null,null,null,null,{"$f":"0.00000001+DI65","v":1.6000000000000003E-7},1.0000001599999999,1,"LKR-100-900",{"$f":"IF(ISERROR(SMALL(DJ$17:DJ$261,BL65)),\"\",SMALL(DJ$17:DJ$261,BL65))","v":1.0000002400000001},"LEV-315-500",0]
[54,{"$f":"+IF(skjermbilde!$N$10=1,datagrunnlag!H69,CONCATENATE(datagrunnlag!H69,\"-V\"))","v":"LKR-125-900"},{"$f":"IF(skjermbilde!$N$10=1,datagrunnlag!I69,datagrunnlag!S69)","v":3},{"$f":"IF(skjermbilde!$N$10=1,datagrunnlag!J69,datagrunnlag!T69)","v":13.982778710423528},{"$f":"IF(skjermbilde!$N$10=1,datagrunnlag!K69,datagrunnlag!U69)","v":14.155842250651478},{"$f":"IF(skjermbilde!$N$10=1,datagrunnlag!L69,datagrunnlag!V69)","v":23.610927801138381},{"$f":"IF(skjermbilde!$N$10=1,datagrunnlag!M69,datagrunnlag!W69)","v":34.882855274063054},{"$f":"IF(skjermbilde!$N$10=1,datagrunnlag!N69,datagrunnlag!X69)","v":50},{"$f":"IF(skjermbilde!$N$10=1,datagrunnlag!O69,datagrunnlag!Y69)","v":46.474791929153945},{"$f":"IF(skjermbilde!$N$10=1,datagrunnlag!P69,datagrunnlag!Z69)","v":23.681137946927745},{"$f":"+datagrunnlag!A69","v":"LKR"},{"$f":"+datagrunnlag!B69","v":"s"},{"$f":"+datagrunnlag!C69","v":125},null,null,{"$f":"++IF(datagrunnlag!F69=\"s\",\"c\",datagrunnlag!F69)","v":"r"},{"$f":"+datagrunnlag!G69","v":900},{"$f":"IF(skjermbilde!$N$10=1,datagrunnlag!Q69,datagrunnlag!AI69)","v":3.3155382815005198E-3},0,201,"r",0,0,{"$f":"IF(skjermbilde!$D$2=1,S69^2*R69,2*S69^2*R69)","v":0},{"$f":"IF(C69=\"\",\"\",IF(skjermbilde!$D$2=1,C69,IF(AND(skjermbilde!$D$2=2,2*C69>60),60,IF(skjermbilde!$D$2=2,2*C69))))","v":3},{"$f":"IF(skjermbilde!$D$2=1,D69,IF(AND(skjermbilde!$D$2=2,2*D69>60),60,IF(skjermbilde!$D$2=2,2*D69)))","v":13.982778710423528},{"$f":"IF(skjermbilde!$D$2=1,E69,IF(AND(skjermbilde!$D$2=2,2*E69>60),60,IF(skjermbilde!$D$2=2,2*E69)))","v":14.155842250651478},{"$f":"IF(skjermbilde!$D$2=1,F69,IF(AND(skjermbilde!$D$2=2,2*F69>60),60,IF(skjermbilde!$D$2=2,2*F69)))","v":23.610927801138381},{"$f":"IF(skjermbilde!$D$2=1,G69,IF(AND(skjermbilde!$D$2=2,2*G69>60),60,IF(skjermbilde!$D$2=2,2*G69)))","v":34.882855274063054},{"$f":"IF(skjermbilde!$D$2=1,H69,IF(AND(skjermbilde!$D$2=2,2*H69>60),60,IF(skjermbilde!$D$2=2,2*H69)))","v":50},{"$f":"IF(skjermbilde!$D$2=1,I69,IF(AND(skjermbilde!$D$2=2,2*I69>60),60,IF(skjermbilde!$D$2=2,2*I69)))","v":46.474791929153945},{"$f":"IF(J69=\"\",\"\",IF(skjermbilde!$D$2=1,J69,IF(AND(skjermbilde!$D$2=2,2*J69>60),60,IF(skjermbilde!$D$2=2,2*J69))))","v":23.681137946927745},null,null,{"$f":"+IF(ISNUMBER(skjermbilde!G$3-Y69-skjermbilde!G$6-4),skjermbilde!G$3-Y69-skjermbilde!G$6-4,0)","v":-7},{"$f":"+IF(ISNUMBER(skjermbilde!H$3-Z69-skjermbilde!H$6-4),skjermbilde!H$3-Z69-skjermbilde!H$6-4,0)","v":-17.982778710423528},{"$f":"+IF(ISNUMBER(skjermbilde!I$3-AA69-skjermbilde!I$6-4),skjermbilde!I$3-AA69-skjermbilde!I$6-4,0)","v":-18.155842250651478},{"$f":"+IF(ISNUMBER(skjermbilde!J$3-AB69-skjermbilde!J$6-4),skjermbilde!J$3-AB69-skjermbilde!J$6-4,0)","v":-27.610927801138381},{"$f":"+IF(ISNUMBER(skjermbilde!K$3-AC69-skjermbilde!K$6-4),skjermbilde!K$3-AC69-skjermbilde!K$6-4,0)","v":-38.882855274063054},{"$f":"+IF(ISNUMBER(skjermbilde!L$3-AD69-skjermbilde!L$6-4),skjermbilde!L$3-AD69-skjermbilde!L$6-4,0)","v":-54},{"$f":"+IF(ISNUMBER(skjermbilde!M$3-AE69-skjermbilde!M$6-4),skjermbilde!M$3-AE69-skjermbilde!M$6-4,0)","v":-50.474791929153945},{"$f":"+IF(ISNUMBER(skjermbilde!N$3-AF69-skjermbilde!N$6-4),skjermbilde!N$3-AF69-skjermbilde!N$6-4,0)","v":-27.681137946927745},{"$f":"IF(skjermbilde!$O$10=TRUE,10*LOG10(10^(0.1*(AI69+AI$12))+10^(0.1*(AJ69+AJ$12))+10^(0.1*(AK69+AK$12))+10^(0.1*(AL69+AL$12))+10^(0.1*(AM69+AM$12))+10^(0.1*(AN69+AN$12))+10^(0.1*(AO69+AO$12))+10^(0.1*(AP69+AP$12))),\"\")","v":""},1,1,1,1,1,1,1,1,1,0,{"$f":"IF(skjermbilde!$D$4=\"\",1,IF(P69=skjermbilde!$D$4,1,0))","v":1},{"$f":"IF(skjermbilde!$D$4=\"\",1,IF(U69=\"r\",1,IF(P69=skjermbilde!$D$4,1,0)))","v":1},{"$f":"+IF(U69=\"r\",1,IF(M69=skjermbilde!$D$3,1,0))","v":1},{"$f":"+IF(U69=\"s\",1,IF(N69=skjermbilde!$C$3,1,0))","v":1},{"$f":"+IF(U69=\"s\",1,IF(O69=skjermbilde!$C$4,1,0))","v":1},1,0,null,null,null,54,"",null,null,null,null,null,null,null,null,null,null,null,null,null,null,"",54,"",null,null,null,null,null,null,null,null,null,null,null,null,"",54,{"$f":"IF(ISERROR(SMALL(CB$17:CB$261,BL68)),\"\",SMALL(CB$17:CB$261,BL68))","v":""},null,null,null,null,"",{"$f":"IF(skjermbilde!$D$2=1,VLOOKUP($CS69,$CB$17:$CD$261,3,FALSE),CONCATENATE(\"2 x \",VLOOKUP($CS69,$CB$17:$CD$261,3,FALSE)))","v":""},null,null,null,null,null,null,null,null,null,1.7000000000000004E-7,1.0000001700000001,1,"LKR-125-900",{"$f":"IF(ISERROR(SMALL(DJ$17:DJ$261,BL68)),\"\",SMALL(DJ$17:DJ$261,BL68))","v":1.00000026},"LEV-100-1000",0]
[55,{"$f":"+IF(skjermbilde!$N$10=1,datagrunnlag!H70,CONCATENATE(datagrunnlag!H70,\"-V\"))","v":"LKR-160-900"},{"$f":"IF(skjermbilde!$N$10=1,datagrunnlag!I70,datagrunnlag!S70)","v":3.1754991898062217},{"$f":"IF(skjermbilde!$N$10=1,datagrunnlag!J70,datagrunnlag!T70)","v":11.981473648699852},{"$f":"IF(skjermbilde!$N$10=1,datagrunnlag!K70,datagrunnlag!U70)","v":15.216860757220754},{"$f":"IF(skjermbilde!$N$10=1,datagrunnlag!L70,datagrunnlag!V70)","v":22.915714689625698},{"$f":"IF(skjermbilde!$N$10=1,datagrunnlag!M70,datagrunnlag!W70)","v":35.935112451721423},{"$f":"IF(skjermbilde!$N$10=1,datagrunnlag!N70,datagrunnlag!X70)","v":50},{"$f":"IF(skjermbilde!$N$10=1,datagrunnlag!O70,datagrunnlag!Y70)","v":33.988184995878285},{"$f":"IF(skjermbilde!$N$10=1,datagrunnlag!P70,datagrunnlag!Z70)","v":21.027308546774044},{"$f":"+datagrunnlag!A70","v":"LKR"},{"$f":"+datagrunnlag!B70","v":"s"},{"$f":"+datagrunnlag!C70","v":160},null,null,{"$f":"++IF(datagrunnlag!F70=\"s\",\"c\",datagrunnlag!F70)","v":"r"},{"$f":"+datagrunnlag!G70","v":900},{"$f":"IF(skjermbilde!$N$10=1,datagrunnlag!Q70,datagrunnlag!AI70)","v":8.8000000000000003E-4},0,201,"r",0,0,{"$f":"IF(skjermbilde!$D$2=1,S70^2*R70,2*S70^2*R70)","v":0},{"$f":"IF(C70=\"\",\"\",IF(skjermbilde!$D$2=1,C70,IF(AND(skjermbilde!$D$2=2,2*C70>60),60,IF(skjermbilde!$D$2=2,2*C70))))","v":3.1754991898062217},{"$f":"IF(skjermbilde!$D$2=1,D70,IF(AND(skjermbilde!$D$2=2,2*D70>60),60,IF(skjermbilde!$D$2=2,2*D70)))","v":11.981473648699852},{"$f":"IF(skjermbilde!$D$2=1,E70,IF(AND(skjermbilde!$D$2=2,2*E70>60),60,IF(skjermbilde!$D$2=2,2*E70)))","v":15.216860757220754},{"$f":"IF(skjermbilde!$D$2=1,F70,IF(AND(skjermbilde!$D$2=2,2*F70>60),60,IF(skjermbilde!$D$2=2,2*F70)))","v":22.915714689625698},{"$f":"IF(skjermbilde!$D$2=1,G70,IF(AND(skjermbilde!$D$2=2,2*G70>60),60,IF(skjermbilde!$D$2=2,2*G70)))","v":35.935112451721423},{"$f":"IF(skjermbilde!$D$2=1,H70,IF(AND(skjermbilde!$D$2=2,2*H70>60),60,IF(skjermbilde!$D$2=2,2*H70)))","v":50},{"$f":"IF(skjermbilde!$D$2=1,I70,IF(AND(skjermbilde!$D$2=2,2*I70>60),60,IF(skjermbilde!$D$2=2,2*I70)))","v":33.988184995878285},{"$f":"IF(J70=\"\",\"\",IF(skjermbilde!$D$2=1,J70,IF(AND(skjermbilde!$D$2=2,2*J70>60),60,IF(skjermbilde!$D$2=2,2*J70))))","v":21.027308546774044},null,null,{"$f":"+IF(ISNUMBER(skjermbilde!G$3-Y70-skjermbilde!G$6-4),skjermbilde!G$3-Y70-skjermbilde!G$6-4,0)","v":-7.1754991898062217},{"$f":"+IF(ISNUMBER(skjermbilde!H$3-Z70-skjermbilde!H$6-4),skjermbilde!H$3-Z70-skjermbilde!H$6-4,0)","v":-15.981473648699852},{"$f":"+IF(ISNUMBER(skjermbilde!I$3-AA70-skjermbilde!I$6-4),skjermbilde!I$3-AA70-skjermbilde!I$6-4,0)","v":-19.216860757220754},{"$f":"+IF(ISNUMBER(skjermbilde!J$3-AB70-skjermbilde!J$6-4),skjermbilde!J$3-AB70-skjermbilde!J$6-4,0)","v":-26.915714689625698},{"$f":"+IF(ISNUMBER(skjermbilde!K$3-AC70-skjermbilde!K$6-4),skjermbilde!K$3-AC70-skjermbilde!K$6-4,0)","v":-39.935112451721423},{"$f":"+IF(ISNUMBER(skjermbilde!L$3-AD70-skjermbilde!L$6-4),skjermbilde!L$3-AD70-skjermbilde!L$6-4,0)","v":-54},{"$f":"+IF(ISNUMBER(skjermbilde!M$3-AE70-skjermbilde!M$6-4),skjermbilde!M$3-AE70-skjermbilde!M$6-4,0)","v":-37.988184995878285},{"$f":"+IF(ISNUMBER(skjermbilde!N$3-AF70-skjermbilde!N$6-4),skjermbilde!N$3-AF70-skjermbilde!N$6-4,0)","v":-25.027308546774044},{"$f":"IF(skjermbilde!$O$10=TRUE,10*LOG10(10^(0.1*(AI70+AI$12))+10^(0.1*(AJ70+AJ$12))+10^(0.1*(AK70+AK$12))+10^(0.1*(AL70+AL$12))+10^(0.1*(AM70+AM$12))+10^(0.1*(AN70+AN$12))+10^(0.1*(AO70+AO$12))+10^(0.1*(AP70+AP$12))),\"\")","v":""},1,1,1,1,1,1,1,1,1,0,{"$f":"IF(skjermbilde!$D$4=\"\",1,IF(P70=skjermbilde!$D$4,1,0))","v":1},{"$f":"IF(skjermbilde!$D$4=\"\",1,IF(U70=\"r\",1,IF(P70=skjermbilde!$D$4,1,0)))","v":1},{"$f":"+IF(U70=\"r\",1,IF(M70=skjermbilde!$D$3,1,0))","v":1},{"$f":"+IF(U70=\"s\",1,IF(N70=skjermbilde!$C$3,1,0))","v":1},{"$f":"+IF(U70=\"s\",1,IF(O70=skjermbilde!$C$4,1,0))","v":1},1,0,null,null,null,55,"",null,null,null,null,null,null,null,null,null,null,null,null,null,null,"",55,"",null,null,null,null,null,null,null,null,null,null,null,null,"",55,"",null,null,null,null,"",{"$f":"IF(skjermbilde!$D$2=1,VLOOKUP($CS70,$CB$17:$CD$261,3,FALSE),CONCATENATE(\"2 x \",VLOOKUP($CS70,$CB$17:$CD$261,3,FALSE)))","v":""},null,null,null,null,null,null,null,null,null,1.8000000000000005E-7,1.00000018,1,"LKR-160-900",1.00000026,"LEV-100-1000",0]
[56,{"$f":"+IF(skjermbilde!$N$10=1,datagrunnlag!H71,CONCATENATE(datagrunnlag!H71,\"-V\"))","v":"LKR-200-900"},{"$f":"IF(skjermbilde!$N$10=1,datagrunnlag!I71,datagrunnlag!S71)","v":4},{"$f":"IF(skjermbilde!$N$10=1,datagrunnlag!J71,datagrunnlag!T71)","v":7.9139466960551275},{"$f":"IF(skjermbilde!$N$10=1,datagrunnlag!K71,datagrunnlag!U71)","v":11.667781954206244},{"$f":"IF(skjermbilde!$N$10=1,datagrunnlag!L71,datagrunnlag!V71)","v":18.224075303952119},{"$f":"IF(skjermbilde!$N$10=1,datagrunnlag!M71,datagrunnlag!W71)","v":31.910146758682227},{"$f":"IF(skjermbilde!$N$10=1,datagrunnlag!N71,datagrunnlag!X71)","v":45.749443339518479},{"$f":"IF(skjermbilde!$N$10=1,datagrunnlag!O71,datagrunnlag!Y71)","v":22.087873238325749},{"$f":"IF(skjermbilde!$N$10=1,datagrunnlag!P71,datagrunnlag!Z71)","v":16.355869476184242},{"$f":"+datagrunnlag!A71","v":"LKR"},{"$f":"+datagrunnlag!B71","v":"s"},{"$f":"+datagrunnlag!C71","v":200},null,null,{"$f":"++IF(datagrunnlag!F71=\"s\",\"c\",datagrunnlag!F71)","v":"r"},{"$f":"+datagrunnlag!G71","v":900},{"$f":"IF(skjermbilde!$N$10=1,datagrunnlag!Q71,datagrunnlag!AI71)","v":2.3525273446039035E-4},0,201,"r",0,0,{"$f":"IF(skjermbilde!$D$2=1,S71^2*R71,2*S71^2*R71)","v":0},{"$f":"IF(C71=\"\",\"\",IF(skjermbilde!$D$2=1,C71,IF(AND(skjermbilde!$D$2=2,2*C71>60),60,IF(skjermbilde!$D$2=2,2*C71))))","v":4},{"$f":"IF(skjermbilde!$D$2=1,D71,IF(AND(skjermbilde!$D$2=2,2*D71>60),60,IF(skjermbilde!$D$2=2,2*D71)))","v":7.9139466960551275},{"$f":"IF(skjermbilde!$D$2=1,E71,IF(AND(skjermbilde!$D$2=2,2*E71>60),60,IF(skjermbilde!$D$2=2,2*E71)))","v":11.667781954206244},{"$f":"IF(skjermbilde!$D$2=1,F71,IF(AND(skjermbilde!$D$2=2,2*F71>60),60,IF(skjermbilde!$D$2=2,2*F71)))","v":18.224075303952119},{"$f":"IF(skjermbilde!$D$2=1,G71,IF(AND(skjermbilde!$D$2=2,2*G71>60),60,IF(skjermbilde!$D$2=2,2*G71)))","v":31.910146758682227},{"$f":"IF(skjermbilde!$D$2=1,H71,IF(AND(skjermbilde!$D$2=2,2*H71>60),60,IF(skjermbilde!$D$2=2,2*H71)))","v":45.749443339518479},{"$f":"IF(skjermbilde!$D$2=1,I71,IF(AND(skjermbilde!$D$2=2,2*I71>60),60,IF(skjermbilde!$D$2=2,2*I71)))","v":22.087873238325749},{"$f":"IF(J71=\"\",\"\",IF(skjermbilde!$D$2=1,J71,IF(AND(skjermbilde!$D$2=2,2*J71>60),60,IF(skjermbilde!$D$2=2,2*J71))))","v":16.355869476184242},null,null,{"$f":"+IF(ISNUMBER(skjermbilde!G$3-Y71-skjermbilde!G$6-4),skjermbilde!G$3-Y71-skjermbilde!G$6-4,0)","v":-8},{"$f":"+IF(ISNUMBER(skjermbilde!H$3-Z71-skjermbilde!H$6-4),skjermbilde!H$3-Z71-skjermbilde!H$6-4,0)","v":-11.913946696055127},{"$f":"+IF(ISNUMBER(skjermbilde!I$3-AA71-skjermbilde!I$6-4),skjermbilde!I$3-AA71-skjermbilde!I$6-4,0)","v":-15.667781954206244},{"$f":"+IF(ISNUMBER(skjermbilde!J$3-AB71-skjermbilde!J$6-4),skjermbilde!J$3-AB71-skjermbilde!J$6-4,0)","v":-22.224075303952119},{"$f":"+IF(ISNUMBER(skjermbilde!K$3-AC71-skjermbilde!K$6-4),skjermbilde!K$3-AC71-skjermbilde!K$6-4,0)","v":-35.910146758682231},{"$f":"+IF(ISNUMBER(skjermbilde!L$3-AD71-skjermbilde!L$6-4),skjermbilde!L$3-AD71-skjermbilde!L$6-4,0)","v":-49.749443339518479},{"$f":"+IF(ISNUMBER(skjermbilde!M$3-AE71-skjermbilde!M$6-4),skjermbilde!M$3-AE71-skjermbilde!M$6-4,0)","v":-26.087873238325749},{"$f":"+IF(ISNUMBER(skjermbilde!N$3-AF71-skjermbilde!N$6-4),skjermbilde!N$3-AF71-skjermbilde!N$6-4,0)","v":-20.355869476184242},{"$f":"IF(skjermbilde!$O$10=TRUE,10*LOG10(10^(0.1*(AI71+AI$12))+10^(0.1*(AJ71+AJ$12))+10^(0.1*(AK71+AK$12))+10^(0.1*(AL71+AL$12))+10^(0.1*(AM71+AM$12))+10^(0.1*(AN71+AN$12))+10^(0.1*(AO71+AO$12))+10^(0.1*(AP71+AP$12))),\"\")","v":""},1,1,1,1,1,1,1,1,1,0,{"$f":"IF(skjermbilde!$D$4=\"\",1,IF(P71=skjermbilde!$D$4,1,0))","v":1},{"$f":"IF(skjermbilde!$D$4=\"\",1,IF(U71=\"r\",1,IF(P71=skjermbilde!$D$4,1,0)))","v":1},{"$f":"+IF(U71=\"r\",1,IF(M71=skjermbilde!$D$3,1,0))","v":1},{"$f":"+IF(U71=\"s\",1,IF(N71=skjermbilde!$C$3,1,0))","v":1},{"$f":"+IF(U71=\"s\",1,IF(O71=skjermbilde!$C$4,1,0))","v":1},1,0,null,null,null,56,"",null,null,null,null,null,null,null,null,null,null,null,null,null,null,"",56,"",null,null,null,null,null,null,null,null,null,null,null,null,"",56,"",null,null,null,null,"",{"$f":"IF(skjermbilde!$D$2=1,VLOOKUP($CS71,$CB$17:$CD$261,3,FALSE),CONCATENATE(\"2 x \",VLOOKUP($CS71,$CB$17:$CD$261,3,FALSE)))","v":""},null,null,null,null,null,null,null,null,null,1.9000000000000006E-7,1.00000019,1,"LKR-200-900",1.00000026,"LEV-100-1000",0]
[57,{"$f":"+IF(skjermbilde!$N$10=1,datagrunnlag!H72,CONCATENATE(datagrunnlag!H72,\"-V\"))","v":"LKR-250-900"},{"$f":"IF(skjermbilde!$N$10=1,datagrunnlag!I72,datagrunnlag!S72)","v":3},{"$f":"IF(skjermbilde!$N$10=1,datagrunnlag!J72,datagrunnlag!T72)","v":7.5691173264190494},{"$f":"IF(skjermbilde!$N$10=1,datagrunnlag!K72,datagrunnlag!U72)","v":13.24351312083092},{"$f":"IF(skjermbilde!$N$10=1,datagrunnlag!L72,datagrunnlag!V72)","v":22.633117581481841},{"$f":"IF(skjermbilde!$N$10=1,datagrunnlag!M72,datagrunnlag!W72)","v":38.865774107302421},{"$f":"IF(skjermbilde!$N$10=1,datagrunnlag!N72,datagrunnlag!X72)","v":36.344051906146959},{"$f":"IF(skjermbilde!$N$10=1,datagrunnlag!O72,datagrunnlag!Y72)","v":21.700493367462638},{"$f":"IF(skjermbilde!$N$10=1,datagrunnlag!P72,datagrunnlag!Z72)","v":13.948682404191741},{"$f":"+datagrunnlag!A72","v":"LKR"},{"$f":"+datagrunnlag!B72","v":"s"},{"$f":"+datagrunnlag!C72","v":250},null,null,{"$f":"++IF(datagrunnlag!F72=\"s\",\"c\",datagrunnlag!F72)","v":"r"},{"$f":"+datagrunnlag!G72","v":900},{"$f":"IF(skjermbilde!$N$10=1,datagrunnlag!Q72,datagrunnlag!AI72)","v":1.8979591836734697E-4},0,201,"r",0,0,{"$f":"IF(skjermbilde!$D$2=1,S72^2*R72,2*S72^2*R72)","v":0},{"$f":"IF(C72=\"\",\"\",IF(skjermbilde!$D$2=1,C72,IF(AND(skjermbilde!$D$2=2,2*C72>60),60,IF(skjermbilde!$D$2=2,2*C72))))","v":3},{"$f":"IF(skjermbilde!$D$2=1,D72,IF(AND(skjermbilde!$D$2=2,2*D72>60),60,IF(skjermbilde!$D$2=2,2*D72)))","v":7.5691173264190494},{"$f":"IF(skjermbilde!$D$2=1,E72,IF(AND(skjermbilde!$D$2=2,2*E72>60),60,IF(skjermbilde!$D$2=2,2*E72)))","v":13.24351312083092},{"$f":"IF(skjermbilde!$D$2=1,F72,IF(AND(skjermbilde!$D$2=2,2*F72>60),60,IF(skjermbilde!$D$2=2,2*F72)))","v":22.633117581481841},{"$f":"IF(skjermbilde!$D$2=1,G72,IF(AND(skjermbilde!$D$2=2,2*G72>60),60,IF(skjermbilde!$D$2=2,2*G72)))","v":38.865774107302421},{"$f":"IF(skjermbilde!$D$2=1,H72,IF(AND(skjermbilde!$D$2=2,2*H72>60),60,IF(skjermbilde!$D$2=2,2*H72)))","v":36.344051906146959},{"$f":"IF(skjermbilde!$D$2=1,I72,IF(AND(skjermbilde!$D$2=2,2*I72>60),60,IF(skjermbilde!$D$2=2,2*I72)))","v":21.700493367462638},{"$f":"IF(J72=\"\",\"\",IF(skjermbilde!$D$2=1,J72,IF(AND(skjermbilde!$D$2=2,2*J72>60),60,IF(skjermbilde!$D$2=2,2*J72))))","v":13.948682404191741},null,null,{"$f":"+IF(ISNUMBER(skjermbilde!G$3-Y72-skjermbilde!G$6-4),skjermbilde!G$3-Y72-skjermbilde!G$6-4,0)","v":-7},{"$f":"+IF(ISNUMBER(skjermbilde!H$3-Z72-skjermbilde!H$6-4),skjermbilde!H$3-Z72-skjermbilde!H$6-4,0)","v":-11.56911732641905},{"$f":"+IF(ISNUMBER(skjermbilde!I$3-AA72-skjermbilde!I$6-4),skjermbilde!I$3-AA72-skjermbilde!I$6-4,0)","v":-17.243513120830919},{"$f":"+IF(ISNUMBER(skjermbilde!J$3-AB72-skjermbilde!J$6-4),skjermbilde!J$3-AB72-skjermbilde!J$6-4,0)","v":-26.633117581481841},{"$f":"+IF(ISNUMBER(skjermbilde!K$3-AC72-skjermbilde!K$6-4),skjermbilde!K$3-AC72-skjermbilde!K$6-4,0)","v":-42.865774107302421},{"$f":"+IF(ISNUMBER(skjermbilde!L$3-AD72-skjermbilde!L$6-4),skjermbilde!L$3-AD72-skjermbilde!L$6-4,0)","v":-40.344051906146959},{"$f":"+IF(ISNUMBER(skjermbilde!M$3-AE72-skjermbilde!M$6-4),skjermbilde!M$3-AE72-skjermbilde!M$6-4,0)","v":-25.700493367462638},{"$f":"+IF(ISNUMBER(skjermbilde!N$3-AF72-skjermbilde!N$6-4),skjermbilde!N$3-AF72-skjermbilde!N$6-4,0)","v":-17.948682404191743},{"$f":"IF(skjermbilde!$O$10=TRUE,10*LOG10(10^(0.1*(AI72+AI$12))+10^(0.1*(AJ72+AJ$12))+10^(0.1*(AK72+AK$12))+10^(0.1*(AL72+AL$12))+10^(0.1*(AM72+AM$12))+10^(0.1*(AN72+AN$12))+10^(0.1*(AO72+AO$12))+10^(0.1*(AP72+AP$12))),\"\")","v":""},1,1,1,1,1,1,1,1,1,0,{"$f":"IF(skjermbilde!$D$4=\"\",1,IF(P72=skjermbilde!$D$4,1,0))","v":1},{"$f":"IF(skjermbilde!$D$4=\"\",1,IF(U72=\"r\",1,IF(P72=skjermbilde!$D$4,1,0)))","v":1},{"$f":"+IF(U72=\"r\",1,IF(M72=skjermbilde!$D$3,1,0))","v":1},{"$f":"+IF(U72=\"s\",1,IF(N72=skjermbilde!$C$3,1,0))","v":1},{"$f":"+IF(U72=\"s\",1,IF(O72=skjermbilde!$C$4,1,0))","v":1},1,0,null,null,null,57,"",null,null,null,null,null,null,null,null,null,null,null,null,null,null,"",57,"",null,null,null,null,null,null,null,null,null,null,null,null,"",57,"",null,null,null,null,"",{"$f":"IF(skjermbilde!$D$2=1,VLOOKUP($CS72,$CB$17:$CD$261,3,FALSE),CONCATENATE(\"2 x \",VLOOKUP($CS72,$CB$17:$CD$261,3,FALSE)))","v":""},null,null,null,null,null,null,null,null,null,2.0000000000000007E-7,1.0000001999999999,1,"LKR-250-900",1.0000002699999999,"LEV-125-1000",0]
[58,{"$f":"+IF(skjermbilde!$N$10=1,datagrunnlag!H73,CONCATENATE(datagrunnlag!H73,\"-V\"))","v":"LKR-315-900"},{"$f":"IF(skjermbilde!$N$10=1,datagrunnlag!I73,datagrunnlag!S73)","v":3},{"$f":"IF(skjermbilde!$N$10=1,datagrunnlag!J73,datagrunnlag!T73)","v":4.6068697418708489},{"$f":"IF(skjermbilde!$N$10=1,datagrunnlag!K73,datagrunnlag!U73)","v":10.167310043896903},{"$f":"IF(skjermbilde!$N$10=1,datagrunnlag!L73,datagrunnlag!V73)","v":19.072491103364445},{"$f":"IF(skjermbilde!$N$10=1,datagrunnlag!M73,datagrunnlag!W73)","v":32.47723111927521},{"$f":"IF(skjermbilde!$N$10=1,datagrunnlag!N73,datagrunnlag!X73)","v":50},{"$f":"IF(skjermbilde!$N$10=1,datagrunnlag!O73,datagrunnlag!Y73)","v":34.136277720226758},{"$f":"IF(skjermbilde!$N$10=1,datagrunnlag!P73,datagrunnlag!Z73)","v":22.370026053172737},{"$f":"+datagrunnlag!A73","v":"LKR"},{"$f":"+datagrunnlag!B73","v":"s"},{"$f":"+datagrunnlag!C73","v":315},null,null,{"$f":"++IF(datagrunnlag!F73=\"s\",\"c\",datagrunnlag!F73)","v":"r"},{"$f":"+datagrunnlag!G73","v":900},{"$f":"IF(skjermbilde!$N$10=1,datagrunnlag!Q73,datagrunnlag!AI73)","v":9.4352215962336685E-5},0,201,"r",0,0,{"$f":"IF(skjermbilde!$D$2=1,S73^2*R73,2*S73^2*R73)","v":0},{"$f":"IF(C73=\"\",\"\",IF(skjermbilde!$D$2=1,C73,IF(AND(skjermbilde!$D$2=2,2*C73>60),60,IF(skjermbilde!$D$2=2,2*C73))))","v":3},{"$f":"IF(skjermbilde!$D$2=1,D73,IF(AND(skjermbilde!$D$2=2,2*D73>60),60,IF(skjermbilde!$D$2=2,2*D73)))","v":4.6068697418708489},{"$f":"IF(skjermbilde!$D$2=1,E73,IF(AND(skjermbilde!$D$2=2,2*E73>60),60,IF(skjermbilde!$D$2=2,2*E73)))","v":10.167310043896903},{"$f":"IF(skjermbilde!$D$2=1,F73,IF(AND(skjermbilde!$D$2=2,2*F73>60),60,IF(skjermbilde!$D$2=2,2*F73)))","v":19.072491103364445},{"$f":"IF(skjermbilde!$D$2=1,G73,IF(AND(skjermbilde!$D$2=2,2*G73>60),60,IF(skjermbilde!$D$2=2,2*G73)))","v":32.47723111927521},{"$f":"IF(skjermbilde!$D$2=1,H73,IF(AND(skjermbilde!$D$2=2,2*H73>60),60,IF(skjermbilde!$D$2=2,2*H73)))","v":50},{"$f":"IF(skjermbilde!$D$2=1,I73,IF(AND(skjermbilde!$D$2=2,2*I73>60),60,IF(skjermbilde!$D$2=2,2*I73)))","v":34.136277720226758},{"$f":"IF(J73=\"\",\"\",IF(skjermbilde!$D$2=1,J73,IF(AND(skjermbilde!$D$2=2,2*J73>60),60,IF(skjermbilde!$D$2=2,2*J73))))","v":22.370026053172737},null,null,{"$f":"+IF(ISNUMBER(skjermbilde!G$3-Y73-skjermbilde!G$6-4),skjermbilde!G$3-Y73-skjermbilde!G$6-4,0)","v":-7},{"$f":"+IF(ISNUMBER(skjermbilde!H$3-Z73-skjermbilde!H$6-4),skjermbilde!H$3-Z73-skjermbilde!H$6-4,0)","v":-8.6068697418708489},{"$f":"+IF(ISNUMBER(skjermbilde!I$3-AA73-skjermbilde!I$6-4),skjermbilde!I$3-AA73-skjermbilde!I$6-4,0)","v":-14.167310043896903},{"$f":"+IF(ISNUMBER(skjermbilde!J$3-AB73-skjermbilde!J$6-4),skjermbilde!J$3-AB73-skjermbilde!J$6-4,0)","v":-23.072491103364445},{"$f":"+IF(ISNUMBER(skjermbilde!K$3-AC73-skjermbilde!K$6-4),skjermbilde!K$3-AC73-skjermbilde!K$6-4,0)","v":-36.47723111927521},{"$f":"+IF(ISNUMBER(skjermbilde!L$3-AD73-skjermbilde!L$6-4),skjermbilde!L$3-AD73-skjermbilde!L$6-4,0)","v":-54},{"$f":"+IF(ISNUMBER(skjermbilde!M$3-AE73-skjermbilde!M$6-4),skjermbilde!M$3-AE73-skjermbilde!M$6-4,0)","v":-38.136277720226758},{"$f":"+IF(ISNUMBER(skjermbilde!N$3-AF73-skjermbilde!N$6-4),skjermbilde!N$3-AF73-skjermbilde!N$6-4,0)","v":-26.370026053172737},{"$f":"IF(skjermbilde!$O$10=TRUE,10*LOG10(10^(0.1*(AI73+AI$12))+10^(0.1*(AJ73+AJ$12))+10^(0.1*(AK73+AK$12))+10^(0.1*(AL73+AL$12))+10^(0.1*(AM73+AM$12))+10^(0.1*(AN73+AN$12))+10^(0.1*(AO73+AO$12))+10^(0.1*(AP73+AP$12))),\"\")","v":""},1,1,1,1,1,1,1,1,1,0,{"$f":"IF(skjermbilde!$D$4=\"\",1,IF(P73=skjermbilde!$D$4,1,0))","v":1},{"$f":"IF(skjermbilde!$D$4=\"\",1,IF(U73=\"r\",1,IF(P73=skjermbilde!$D$4,1,0)))","v":1},{"$f":"+IF(U73=\"r\",1,IF(M73=skjermbilde!$D$3,1,0))","v":1},{"$f":"+IF(U73=\"s\",1,IF(N73=skjermbilde!$C$3,1,0))","v":1},{"$f":"+IF(U73=\"s\",1,IF(O73=skjermbilde!$C$4,1,0))","v":1},1,0,null,null,null,58,"",null,null,null,null,null,null,null,null,null,null,null,null,null,null,"",58,"",null,null,null,null,null,null,null,null,null,null,null,null,"",58,"",null,null,null,null,"",{"$f":"IF(skjermbilde!$D$2=1,VLOOKUP($CS73,$CB$17:$CD$261,3,FALSE),CONCATENATE(\"2 x \",VLOOKUP($CS73,$CB$17:$CD$261,3,FALSE)))","v":""},null,null,null,null,null,null,null,null,null,2.1000000000000008E-7,1.0000002100000001,1,"LKR-315-900",1.0000002699999999,"LEV-125-1000",0]
[59,{"$f":"+IF(skjermbilde!$N$10=1,datagrunnlag!H74,CONCATENATE(datagrunnlag!H74,\"-V\"))","v":"LKR-400-900"},{"$f":"IF(skjermbilde!$N$10=1,datagrunnlag!I74,datagrunnlag!S74)","v":3},{"$f":"IF(skjermbilde!$N$10=1,datagrunnlag!J74,datagrunnlag!T74)","v":5.6899220021970827},{"$f":"IF(skjermbilde!$N$10=1,datagrunnlag!K74,datagrunnlag!U74)","v":10.15933194106},{"$f":"IF(skjermbilde!$N$10=1,datagrunnlag!L74,datagrunnlag!V74)","v":17.169099580178219},{"$f":"IF(skjermbilde!$N$10=1,datagrunnlag!M74,datagrunnlag!W74)","v":31.512689199463935},{"$f":"IF(skjermbilde!$N$10=1,datagrunnlag!N74,datagrunnlag!X74)","v":38.481010306892557},{"$f":"IF(skjermbilde!$N$10=1,datagrunnlag!O74,datagrunnlag!Y74)","v":23.6027797807646},{"$f":"IF(skjermbilde!$N$10=1,datagrunnlag!P74,datagrunnlag!Z74)","v":14.110641521672157},{"$f":"+datagrunnlag!A74","v":"LKR"},{"$f":"+datagrunnlag!B74","v":"s"},{"$f":"+datagrunnlag!C74","v":400},null,null,{"$f":"++IF(datagrunnlag!F74=\"s\",\"c\",datagrunnlag!F74)","v":"r"},{"$f":"+datagrunnlag!G74","v":900},{"$f":"IF(skjermbilde!$N$10=1,datagrunnlag!Q74,datagrunnlag!AI74)","v":4.125E-5},0,201,"r",0,0,{"$f":"IF(skjermbilde!$D$2=1,S74^2*R74,2*S74^2*R74)","v":0},{"$f":"IF(C74=\"\",\"\",IF(skjermbilde!$D$2=1,C74,IF(AND(skjermbilde!$D$2=2,2*C74>60),60,IF(skjermbilde!$D$2=2,2*C74))))","v":3},{"$f":"IF(skjermbilde!$D$2=1,D74,IF(AND(skjermbilde!$D$2=2,2*D74>60),60,IF(skjermbilde!$D$2=2,2*D74)))","v":5.6899220021970827},{"$f":"IF(skjermbilde!$D$2=1,E74,IF(AND(skjermbilde!$D$2=2,2*E74>60),60,IF(skjermbilde!$D$2=2,2*E74)))","v":10.15933194106},{"$f":"IF(skjermbilde!$D$2=1,F74,IF(AND(skjermbilde!$D$2=2,2*F74>60),60,IF(skjermbilde!$D$2=2,2*F74)))","v":17.169099580178219},{"$f":"IF(skjermbilde!$D$2=1,G74,IF(AND(skjermbilde!$D$2=2,2*G74>60),60,IF(skjermbilde!$D$2=2,2*G74)))","v":31.512689199463935},{"$f":"IF(skjermbilde!$D$2=1,H74,IF(AND(skjermbilde!$D$2=2,2*H74>60),60,IF(skjermbilde!$D$2=2,2*H74)))","v":38.481010306892557},{"$f":"IF(skjermbilde!$D$2=1,I74,IF(AND(skjermbilde!$D$2=2,2*I74>60),60,IF(skjermbilde!$D$2=2,2*I74)))","v":23.6027797807646},{"$f":"IF(J74=\"\",\"\",IF(skjermbilde!$D$2=1,J74,IF(AND(skjermbilde!$D$2=2,2*J74>60),60,IF(skjermbilde!$D$2=2,2*J74))))","v":14.110641521672157},null,null,{"$f":"+IF(ISNUMBER(skjermbilde!G$3-Y74-skjermbilde!G$6-4),skjermbilde!G$3-Y74-skjermbilde!G$6-4,0)","v":-7},{"$f":"+IF(ISNUMBER(skjermbilde!H$3-Z74-skjermbilde!H$6-4),skjermbilde!H$3-Z74-skjermbilde!H$6-4,0)","v":-9.6899220021970827},{"$f":"+IF(ISNUMBER(skjermbilde!I$3-AA74-skjermbilde!I$6-4),skjermbilde!I$3-AA74-skjermbilde!I$6-4,0)","v":-14.15933194106},{"$f":"+IF(ISNUMBER(skjermbilde!J$3-AB74-skjermbilde!J$6-4),skjermbilde!J$3-AB74-skjermbilde!J$6-4,0)","v":-21.169099580178219},{"$f":"+IF(ISNUMBER(skjermbilde!K$3-AC74-skjermbilde!K$6-4),skjermbilde!K$3-AC74-skjermbilde!K$6-4,0)","v":-35.512689199463935},{"$f":"+IF(ISNUMBER(skjermbilde!L$3-AD74-skjermbilde!L$6-4),skjermbilde!L$3-AD74-skjermbilde!L$6-4,0)","v":-42.481010306892557},{"$f":"+IF(ISNUMBER(skjermbilde!M$3-AE74-skjermbilde!M$6-4),skjermbilde!M$3-AE74-skjermbilde!M$6-4,0)","v":-27.6027797807646},{"$f":"+IF(ISNUMBER(skjermbilde!N$3-AF74-skjermbilde!N$6-4),skjermbilde!N$3-AF74-skjermbilde!N$6-4,0)","v":-18.110641521672157},{"$f":"IF(skjermbilde!$O$10=TRUE,10*LOG10(10^(0.1*(AI74+AI$12))+10^(0.1*(AJ74+AJ$12))+10^(0.1*(AK74+AK$12))+10^(0.1*(AL74+AL$12))+10^(0.1*(AM74+AM$12))+10^(0.1*(AN74+AN$12))+10^(0.1*(AO74+AO$12))+10^(0.1*(AP74+AP$12))),\"\")","v":""},1,1,1,1,1,1,1,1,1,0,{"$f":"IF(skjermbilde!$D$4=\"\",1,IF(P74=skjermbilde!$D$4,1,0))","v":1},{"$f":"IF(skjermbilde!$D$4=\"\",1,IF(U74=\"r\",1,IF(P74=skjermbilde!$D$4,1,0)))","v":1},{"$f":"+IF(U74=\"r\",1,IF(M74=skjermbilde!$D$3,1,0))","v":1},{"$f":"+IF(U74=\"s\",1,IF(N74=skjermbilde!$C$3,1,0))","v":1},{"$f":"+IF(U74=\"s\",1,IF(O74=skjermbilde!$C$4,1,0))","v":1},1,0,null,null,null,59,"",null,null,null,null,null,null,null,null,null,null,null,null,null,null,"",59,"",null,null,null,null,null,null,null,null,null,null,null,null,"",59,"",null,null,null,null,"",{"$f":"IF(skjermbilde!$D$2=1,VLOOKUP($CS74,$CB$17:$CD$261,3,FALSE),CONCATENATE(\"2 x \",VLOOKUP($CS74,$CB$17:$CD$261,3,FALSE)))","v":""},null,null,null,null,null,null,null,null,null,2.2000000000000009E-7,1.00000022,1,"LKR-400-900",1.0000002699999999,"LEV-125-1000",0]
[60,{"$f":"+IF(skjermbilde!$N$10=1,datagrunnlag!H75,CONCATENATE(datagrunnlag!H75,\"-V\"))","v":"LKR-500-900"},{"$f":"IF(skjermbilde!$N$10=1,datagrunnlag!I75,datagrunnlag!S75)","v":3},{"$f":"IF(skjermbilde!$N$10=1,datagrunnlag!J75,datagrunnlag!T75)","v":6.6259367299624259},{"$f":"IF(skjermbilde!$N$10=1,datagrunnlag!K75,datagrunnlag!U75)","v":11.757267025754885},{"$f":"IF(skjermbilde!$N$10=1,datagrunnlag!L75,datagrunnlag!V75)","v":21.351853599945933},{"$f":"IF(skjermbilde!$N$10=1,datagrunnlag!M75,datagrunnlag!W75)","v":35.594762759628466},{"$f":"IF(skjermbilde!$N$10=1,datagrunnlag!N75,datagrunnlag!X75)","v":35.393906691516115},{"$f":"IF(skjermbilde!$N$10=1,datagrunnlag!O75,datagrunnlag!Y75)","v":24.330118328214134},{"$f":"IF(skjermbilde!$N$10=1,datagrunnlag!P75,datagrunnlag!Z75)","v":14.202763175600765},{"$f":"+datagrunnlag!A75","v":"LKR"},{"$f":"+datagrunnlag!B75","v":"s"},{"$f":"+datagrunnlag!C75","v":500},null,null,{"$f":"++IF(datagrunnlag!F75=\"s\",\"c\",datagrunnlag!F75)","v":"r"},{"$f":"+datagrunnlag!G75","v":900},{"$f":"IF(skjermbilde!$N$10=1,datagrunnlag!Q75,datagrunnlag!AI75)","v":2.6666666666666667E-5},0,201,"r",0,0,{"$f":"IF(skjermbilde!$D$2=1,S75^2*R75,2*S75^2*R75)","v":0},{"$f":"IF(C75=\"\",\"\",IF(skjermbilde!$D$2=1,C75,IF(AND(skjermbilde!$D$2=2,2*C75>60),60,IF(skjermbilde!$D$2=2,2*C75))))","v":3},{"$f":"IF(skjermbilde!$D$2=1,D75,IF(AND(skjermbilde!$D$2=2,2*D75>60),60,IF(skjermbilde!$D$2=2,2*D75)))","v":6.6259367299624259},{"$f":"IF(skjermbilde!$D$2=1,E75,IF(AND(skjermbilde!$D$2=2,2*E75>60),60,IF(skjermbilde!$D$2=2,2*E75)))","v":11.757267025754885},{"$f":"IF(skjermbilde!$D$2=1,F75,IF(AND(skjermbilde!$D$2=2,2*F75>60),60,IF(skjermbilde!$D$2=2,2*F75)))","v":21.351853599945933},{"$f":"IF(skjermbilde!$D$2=1,G75,IF(AND(skjermbilde!$D$2=2,2*G75>60),60,IF(skjermbilde!$D$2=2,2*G75)))","v":35.594762759628466},{"$f":"IF(skjermbilde!$D$2=1,H75,IF(AND(skjermbilde!$D$2=2,2*H75>60),60,IF(skjermbilde!$D$2=2,2*H75)))","v":35.393906691516115},{"$f":"IF(skjermbilde!$D$2=1,I75,IF(AND(skjermbilde!$D$2=2,2*I75>60),60,IF(skjermbilde!$D$2=2,2*I75)))","v":24.330118328214134},{"$f":"IF(J75=\"\",\"\",IF(skjermbilde!$D$2=1,J75,IF(AND(skjermbilde!$D$2=2,2*J75>60),60,IF(skjermbilde!$D$2=2,2*J75))))","v":14.202763175600765},null,null,{"$f":"+IF(ISNUMBER(skjermbilde!G$3-Y75-skjermbilde!G$6-4),skjermbilde!G$3-Y75-skjermbilde!G$6-4,0)","v":-7},{"$f":"+IF(ISNUMBER(skjermbilde!H$3-Z75-skjermbilde!H$6-4),skjermbilde!H$3-Z75-skjermbilde!H$6-4,0)","v":-10.625936729962426},{"$f":"+IF(ISNUMBER(skjermbilde!I$3-AA75-skjermbilde!I$6-4),skjermbilde!I$3-AA75-skjermbilde!I$6-4,0)","v":-15.757267025754885},{"$f":"+IF(ISNUMBER(skjermbilde!J$3-AB75-skjermbilde!J$6-4),skjermbilde!J$3-AB75-skjermbilde!J$6-4,0)","v":-25.351853599945933},{"$f":"+IF(ISNUMBER(skjermbilde!K$3-AC75-skjermbilde!K$6-4),skjermbilde!K$3-AC75-skjermbilde!K$6-4,0)","v":-39.594762759628466},{"$f":"+IF(ISNUMBER(skjermbilde!L$3-AD75-skjermbilde!L$6-4),skjermbilde!L$3-AD75-skjermbilde!L$6-4,0)","v":-39.393906691516115},{"$f":"+IF(ISNUMBER(skjermbilde!M$3-AE75-skjermbilde!M$6-4),skjermbilde!M$3-AE75-skjermbilde!M$6-4,0)","v":-28.330118328214134},{"$f":"+IF(ISNUMBER(skjermbilde!N$3-AF75-skjermbilde!N$6-4),skjermbilde!N$3-AF75-skjermbilde!N$6-4,0)","v":-18.202763175600765},{"$f":"IF(skjermbilde!$O$10=TRUE,10*LOG10(10^(0.1*(AI75+AI$12))+10^(0.1*(AJ75+AJ$12))+10^(0.1*(AK75+AK$12))+10^(0.1*(AL75+AL$12))+10^(0.1*(AM75+AM$12))+10^(0.1*(AN75+AN$12))+10^(0.1*(AO75+AO$12))+10^(0.1*(AP75+AP$12))),\"\")","v":""},1,1,1,1,1,1,1,1,1,0,{"$f":"IF(skjermbilde!$D$4=\"\",1,IF(P75=skjermbilde!$D$4,1,0))","v":1},{"$f":"IF(skjermbilde!$D$4=\"\",1,IF(U75=\"r\",1,IF(P75=skjermbilde!$D$4,1,0)))","v":1},{"$f":"+IF(U75=\"r\",1,IF(M75=skjermbilde!$D$3,1,0))","v":1},{"$f":"+IF(U75=\"s\",1,IF(N75=skjermbilde!$C$3,1,0))","v":1},{"$f":"+IF(U75=\"s\",1,IF(O75=skjermbilde!$C$4,1,0))","v":1},1,0,null,null,null,60,"",null,null,null,null,null,null,null,null,null,null,null,null,null,null,"",60,"",null,null,null,null,null,null,null,null,null,null,null,null,"",60,"",null,null,null,null,"",{"$f":"IF(skjermbilde!$D$2=1,VLOOKUP($CS75,$CB$17:$CD$261,3,FALSE),CONCATENATE(\"2 x \",VLOOKUP($CS75,$CB$17:$CD$261,3,FALSE)))","v":""},null,null,null,null,null,null,null,null,null,2.300000000000001E-7,1.0000002299999999,1,"LKR-500-900",1.0000002800000001,"LEV-160-1000",0]
[61,{"$f":"+IF(skjermbilde!$N$10=1,datagrunnlag!H76,CONCATENATE(datagrunnlag!H76,\"-V\"))","v":"LKR-630-900"},{"$f":"IF(skjermbilde!$N$10=1,datagrunnlag!I76,datagrunnlag!S76)","v":4},{"$f":"IF(skjermbilde!$N$10=1,datagrunnlag!J76,datagrunnlag!T76)","v":6.2270357029432502},{"$f":"IF(skjermbilde!$N$10=1,datagrunnlag!K76,datagrunnlag!U76)","v":10.157548941800407},{"$f":"IF(skjermbilde!$N$10=1,datagrunnlag!L76,datagrunnlag!V76)","v":18.858953115347862},{"$f":"IF(skjermbilde!$N$10=1,datagrunnlag!M76,datagrunnlag!W76)","v":33.314246671511484},{"$f":"IF(skjermbilde!$N$10=1,datagrunnlag!N76,datagrunnlag!X76)","v":23.794762759628462},{"$f":"IF(skjermbilde!$N$10=1,datagrunnlag!O76,datagrunnlag!Y76)","v":16.240660700186908},{"$f":"IF(skjermbilde!$N$10=1,datagrunnlag!P76,datagrunnlag!Z76)","v":10.7330781488395},{"$f":"+datagrunnlag!A76","v":"LKR"},{"$f":"+datagrunnlag!B76","v":"s"},{"$f":"+datagrunnlag!C76","v":630},null,null,{"$f":"++IF(datagrunnlag!F76=\"s\",\"c\",datagrunnlag!F76)","v":"r"},{"$f":"+datagrunnlag!G76","v":900},{"$f":"IF(skjermbilde!$N$10=1,datagrunnlag!Q76,datagrunnlag!AI76)","v":8.6666666666666661E-6},0,201,"r",0,0,{"$f":"IF(skjermbilde!$D$2=1,S76^2*R76,2*S76^2*R76)","v":0},{"$f":"IF(C76=\"\",\"\",IF(skjermbilde!$D$2=1,C76,IF(AND(skjermbilde!$D$2=2,2*C76>60),60,IF(skjermbilde!$D$2=2,2*C76))))","v":4},{"$f":"IF(skjermbilde!$D$2=1,D76,IF(AND(skjermbilde!$D$2=2,2*D76>60),60,IF(skjermbilde!$D$2=2,2*D76)))","v":6.2270357029432502},{"$f":"IF(skjermbilde!$D$2=1,E76,IF(AND(skjermbilde!$D$2=2,2*E76>60),60,IF(skjermbilde!$D$2=2,2*E76)))","v":10.157548941800407},{"$f":"IF(skjermbilde!$D$2=1,F76,IF(AND(skjermbilde!$D$2=2,2*F76>60),60,IF(skjermbilde!$D$2=2,2*F76)))","v":18.858953115347862},{"$f":"IF(skjermbilde!$D$2=1,G76,IF(AND(skjermbilde!$D$2=2,2*G76>60),60,IF(skjermbilde!$D$2=2,2*G76)))","v":33.314246671511484},{"$f":"IF(skjermbilde!$D$2=1,H76,IF(AND(skjermbilde!$D$2=2,2*H76>60),60,IF(skjermbilde!$D$2=2,2*H76)))","v":23.794762759628462},{"$f":"IF(skjermbilde!$D$2=1,I76,IF(AND(skjermbilde!$D$2=2,2*I76>60),60,IF(skjermbilde!$D$2=2,2*I76)))","v":16.240660700186908},{"$f":"IF(J76=\"\",\"\",IF(skjermbilde!$D$2=1,J76,IF(AND(skjermbilde!$D$2=2,2*J76>60),60,IF(skjermbilde!$D$2=2,2*J76))))","v":10.7330781488395},null,null,{"$f":"+IF(ISNUMBER(skjermbilde!G$3-Y76-skjermbilde!G$6-4),skjermbilde!G$3-Y76-skjermbilde!G$6-4,0)","v":-8},{"$f":"+IF(ISNUMBER(skjermbilde!H$3-Z76-skjermbilde!H$6-4),skjermbilde!H$3-Z76-skjermbilde!H$6-4,0)","v":-10.227035702943251},{"$f":"+IF(ISNUMBER(skjermbilde!I$3-AA76-skjermbilde!I$6-4),skjermbilde!I$3-AA76-skjermbilde!I$6-4,0)","v":-14.157548941800407},{"$f":"+IF(ISNUMBER(skjermbilde!J$3-AB76-skjermbilde!J$6-4),skjermbilde!J$3-AB76-skjermbilde!J$6-4,0)","v":-22.858953115347862},{"$f":"+IF(ISNUMBER(skjermbilde!K$3-AC76-skjermbilde!K$6-4),skjermbilde!K$3-AC76-skjermbilde!K$6-4,0)","v":-37.314246671511484},{"$f":"+IF(ISNUMBER(skjermbilde!L$3-AD76-skjermbilde!L$6-4),skjermbilde!L$3-AD76-skjermbilde!L$6-4,0)","v":-27.794762759628462},{"$f":"+IF(ISNUMBER(skjermbilde!M$3-AE76-skjermbilde!M$6-4),skjermbilde!M$3-AE76-skjermbilde!M$6-4,0)","v":-20.240660700186908},{"$f":"+IF(ISNUMBER(skjermbilde!N$3-AF76-skjermbilde!N$6-4),skjermbilde!N$3-AF76-skjermbilde!N$6-4,0)","v":-14.7330781488395},{"$f":"IF(skjermbilde!$O$10=TRUE,10*LOG10(10^(0.1*(AI76+AI$12))+10^(0.1*(AJ76+AJ$12))+10^(0.1*(AK76+AK$12))+10^(0.1*(AL76+AL$12))+10^(0.1*(AM76+AM$12))+10^(0.1*(AN76+AN$12))+10^(0.1*(AO76+AO$12))+10^(0.1*(AP76+AP$12))),\"\")","v":""},1,1,1,1,1,1,1,1,1,0,{"$f":"IF(skjermbilde!$D$4=\"\",1,IF(P76=skjermbilde!$D$4,1,0))","v":1},{"$f":"IF(skjermbilde!$D$4=\"\",1,IF(U76=\"r\",1,IF(P76=skjermbilde!$D$4,1,0)))","v":1},{"$f":"+IF(U76=\"r\",1,IF(M76=skjermbilde!$D$3,1,0))","v":1},{"$f":"+IF(U76=\"s\",1,IF(N76=skjermbilde!$C$3,1,0))","v":1},{"$f":"+IF(U76=\"s\",1,IF(O76=skjermbilde!$C$4,1,0))","v":1},1,0,null,null,null,61,"",null,null,null,null,null,null,null,null,null,null,null,null,null,null,"",61,"",null,null,null,null,null,null,null,null,null,null,null,null,"",61,"",null,null,null,null,"",{"$f":"IF(skjermbilde!$D$2=1,VLOOKUP($CS76,$CB$17:$CD$261,3,FALSE),CONCATENATE(\"2 x \",VLOOKUP($CS76,$CB$17:$CD$261,3,FALSE)))","v":""},null,null,null,null,null,null,null,null,null,2.4000000000000008E-7,1.0000002400000001,1,"LKR-630-900",1.0000002800000001,"LEV-160-1000",0]
[62,{"$f":"+IF(skjermbilde!$N$10=1,datagrunnlag!H77,CONCATENATE(datagrunnlag!H77,\"-V\"))","v":0},{"$f":"IF(skjermbilde!$N$10=1,datagrunnlag!I77,datagrunnlag!S77)","v":0},{"$f":"IF(skjermbilde!$N$10=1,datagrunnlag!J77,datagrunnlag!T77)","v":0},{"$f":"IF(skjermbilde!$N$10=1,datagrunnlag!K77,datagrunnlag!U77)","v":0},{"$f":"IF(skjermbilde!$N$10=1,datagrunnlag!L77,datagrunnlag!V77)","v":0},{"$f":"IF(skjermbilde!$N$10=1,datagrunnlag!M77,datagrunnlag!W77)","v":0},{"$f":"IF(skjermbilde!$N$10=1,datagrunnlag!N77,datagrunnlag!X77)","v":0},{"$f":"IF(skjermbilde!$N$10=1,datagrunnlag!O77,datagrunnlag!Y77)","v":0},{"$f":"IF(skjermbilde!$N$10=1,datagrunnlag!P77,datagrunnlag!Z77)","v":0},{"$f":"+datagrunnlag!A77","v":0},{"$f":"+datagrunnlag!B77","v":0},{"$f":"+datagrunnlag!C77","v":0},null,null,{"$f":"++IF(datagrunnlag!F77=\"s\",\"c\",datagrunnlag!F77)","v":0},{"$f":"+datagrunnlag!G77","v":0},{"$f":"IF(skjermbilde!$N$10=1,datagrunnlag!Q77,datagrunnlag!AI77)","v":0},0,201,"r",0,0,{"$f":"IF(skjermbilde!$D$2=1,S77^2*R77,2*S77^2*R77)","v":0},{"$f":"IF(C77=\"\",\"\",IF(skjermbilde!$D$2=1,C77,IF(AND(skjermbilde!$D$2=2,2*C77>60),60,IF(skjermbilde!$D$2=2,2*C77))))","v":0},{"$f":"IF(skjermbilde!$D$2=1,D77,IF(AND(skjermbilde!$D$2=2,2*D77>60),60,IF(skjermbilde!$D$2=2,2*D77)))","v":0},{"$f":"IF(skjermbilde!$D$2=1,E77,IF(AND(skjermbilde!$D$2=2,2*E77>60),60,IF(skjermbilde!$D$2=2,2*E77)))","v":0},{"$f":"IF(skjermbilde!$D$2=1,F77,IF(AND(skjermbilde!$D$2=2,2*F77>60),60,IF(skjermbilde!$D$2=2,2*F77)))","v":0},{"$f":"IF(skjermbilde!$D$2=1,G77,IF(AND(skjermbilde!$D$2=2,2*G77>60),60,IF(skjermbilde!$D$2=2,2*G77)))","v":0},{"$f":"IF(skjermbilde!$D$2=1,H77,IF(AND(skjermbilde!$D$2=2,2*H77>60),60,IF(skjermbilde!$D$2=2,2*H77)))","v":0},{"$f":"IF(skjermbilde!$D$2=1,I77,IF(AND(skjermbilde!$D$2=2,2*I77>60),60,IF(skjermbilde!$D$2=2,2*I77)))","v":0},{"$f":"IF(J77=\"\",\"\",IF(skjermbilde!$D$2=1,J77,IF(AND(skjermbilde!$D$2=2,2*J77>60),60,IF(skjermbilde!$D$2=2,2*J77))))","v":0},null,null,{"$f":"+IF(ISNUMBER(skjermbilde!G$3-Y77-skjermbilde!G$6-4),skjermbilde!G$3-Y77-skjermbilde!G$6-4,0)","v":-4},{"$f":"+IF(ISNUMBER(skjermbilde!H$3-Z77-skjermbilde!H$6-4),skjermbilde!H$3-Z77-skjermbilde!H$6-4,0)","v":-4},{"$f":"+IF(ISNUMBER(skjermbilde!I$3-AA77-skjermbilde!I$6-4),skjermbilde!I$3-AA77-skjermbilde!I$6-4,0)","v":-4},{"$f":"+IF(ISNUMBER(skjermbilde!J$3-AB77-skjermbilde!J$6-4),skjermbilde!J$3-AB77-skjermbilde!J$6-4,0)","v":-4},{"$f":"+IF(ISNUMBER(skjermbilde!K$3-AC77-skjermbilde!K$6-4),skjermbilde!K$3-AC77-skjermbilde!K$6-4,0)","v":-4},{"$f":"+IF(ISNUMBER(skjermbilde!L$3-AD77-skjermbilde!L$6-4),skjermbilde!L$3-AD77-skjermbilde!L$6-4,0)","v":-4},{"$f":"+IF(ISNUMBER(skjermbilde!M$3-AE77-skjermbilde!M$6-4),skjermbilde!M$3-AE77-skjermbilde!M$6-4,0)","v":-4},{"$f":"+IF(ISNUMBER(skjermbilde!N$3-AF77-skjermbilde!N$6-4),skjermbilde!N$3-AF77-skjermbilde!N$6-4,0)","v":-4},{"$f":"IF(skjermbilde!$O$10=TRUE,10*LOG10(10^(0.1*(AI77+AI$12))+10^(0.1*(AJ77+AJ$12))+10^(0.1*(AK77+AK$12))+10^(0.1*(AL77+AL$12))+10^(0.1*(AM77+AM$12))+10^(0.1*(AN77+AN$12))+10^(0.1*(AO77+AO$12))+10^(0.1*(AP77+AP$12))),\"\")","v":""},1,1,1,1,1,1,1,1,1,0,{"$f":"IF(skjermbilde!$D$4=\"\",1,IF(P77=skjermbilde!$D$4,1,0))","v":0},{"$f":"IF(skjermbilde!$D$4=\"\",1,IF(U77=\"r\",1,IF(P77=skjermbilde!$D$4,1,0)))","v":1},{"$f":"+IF(U77=\"r\",1,IF(M77=skjermbilde!$D$3,1,0))","v":1},{"$f":"+IF(U77=\"s\",1,IF(N77=skjermbilde!$C$3,1,0))","v":1},{"$f":"+IF(U77=\"s\",1,IF(O77=skjermbilde!$C$4,1,0))","v":1},1,0,null,null,null,62,"",null,null,null,null,null,null,null,null,null,null,null,null,null,null,"",62,"",null,null,null,null,null,null,null,null,null,null,null,null,"",62,"",null,null,null,null,"",{"$f":"IF(skjermbilde!$D$2=1,VLOOKUP($CS77,$CB$17:$CD$261,3,FALSE),CONCATENATE(\"2 x \",VLOOKUP($CS77,$CB$17:$CD$261,3,FALSE)))","v":""},null,null,null,null,null,null,null,null,null,2.5000000000000009E-7,1.00000025,1,0,1.00000029,"LEV-200-1000",0]
[63,{"$f":"+IF(skjermbilde!$N$10=1,datagrunnlag!H78,CONCATENATE(datagrunnlag!H78,\"-V\"))","v":0},{"$f":"IF(skjermbilde!$N$10=1,datagrunnlag!I78,datagrunnlag!S78)","v":0},{"$f":"IF(skjermbilde!$N$10=1,datagrunnlag!J78,datagrunnlag!T78)","v":0},{"$f":"IF(skjermbilde!$N$10=1,datagrunnlag!K78,datagrunnlag!U78)","v":0},{"$f":"IF(skjermbilde!$N$10=1,datagrunnlag!L78,datagrunnlag!V78)","v":0},{"$f":"IF(skjermbilde!$N$10=1,datagrunnlag!M78,datagrunnlag!W78)","v":0},{"$f":"IF(skjermbilde!$N$10=1,datagrunnlag!N78,datagrunnlag!X78)","v":0},{"$f":"IF(skjermbilde!$N$10=1,datagrunnlag!O78,datagrunnlag!Y78)","v":0},{"$f":"IF(skjermbilde!$N$10=1,datagrunnlag!P78,datagrunnlag!Z78)","v":0},{"$f":"+datagrunnlag!A78","v":0},{"$f":"+datagrunnlag!B78","v":0},{"$f":"+datagrunnlag!C78","v":0},null,null,{"$f":"++IF(datagrunnlag!F78=\"s\",\"c\",datagrunnlag!F78)","v":0},{"$f":"+datagrunnlag!G78","v":0},{"$f":"IF(skjermbilde!$N$10=1,datagrunnlag!Q78,datagrunnlag!AI78)","v":0},0,201,"r",0,0,{"$f":"IF(skjermbilde!$D$2=1,S78^2*R78,2*S78^2*R78)","v":0},{"$f":"IF(C78=\"\",\"\",IF(skjermbilde!$D$2=1,C78,IF(AND(skjermbilde!$D$2=2,2*C78>60),60,IF(skjermbilde!$D$2=2,2*C78))))","v":0},{"$f":"IF(skjermbilde!$D$2=1,D78,IF(AND(skjermbilde!$D$2=2,2*D78>60),60,IF(skjermbilde!$D$2=2,2*D78)))","v":0},{"$f":"IF(skjermbilde!$D$2=1,E78,IF(AND(skjermbilde!$D$2=2,2*E78>60),60,IF(skjermbilde!$D$2=2,2*E78)))","v":0},{"$f":"IF(skjermbilde!$D$2=1,F78,IF(AND(skjermbilde!$D$2=2,2*F78>60),60,IF(skjermbilde!$D$2=2,2*F78)))","v":0},{"$f":"IF(skjermbilde!$D$2=1,G78,IF(AND(skjermbilde!$D$2=2,2*G78>60),60,IF(skjermbilde!$D$2=2,2*G78)))","v":0},{"$f":"IF(skjermbilde!$D$2=1,H78,IF(AND(skjermbilde!$D$2=2,2*H78>60),60,IF(skjermbilde!$D$2=2,2*H78)))","v":0},{"$f":"IF(skjermbilde!$D$2=1,I78,IF(AND(skjermbilde!$D$2=2,2*I78>60),60,IF(skjermbilde!$D$2=2,2*I78)))","v":0},{"$f":"IF(J78=\"\",\"\",IF(skjermbilde!$D$2=1,J78,IF(AND(skjermbilde!$D$2=2,2*J78>60),60,IF(skjermbilde!$D$2=2,2*J78))))","v":0},null,null,{"$f":"+IF(ISNUMBER(skjermbilde!G$3-Y78-skjermbilde!G$6-4),skjermbilde!G$3-Y78-skjermbilde!G$6-4,0)","v":-4},{"$f":"+IF(ISNUMBER(skjermbilde!H$3-Z78-skjermbilde!H$6-4),skjermbilde!H$3-Z78-skjermbilde!H$6-4,0)","v":-4},{"$f":"+IF(ISNUMBER(skjermbilde!I$3-AA78-skjermbilde!I$6-4),skjermbilde!I$3-AA78-skjermbilde!I$6-4,0)","v":-4},{"$f":"+IF(ISNUMBER(skjermbilde!J$3-AB78-skjermbilde!J$6-4),skjermbilde!J$3-AB78-skjermbilde!J$6-4,0)","v":-4},{"$f":"+IF(ISNUMBER(skjermbilde!K$3-AC78-skjermbilde!K$6-4),skjermbilde!K$3-AC78-skjermbilde!K$6-4,0)","v":-4},{"$f":"+IF(ISNUMBER(skjermbilde!L$3-AD78-skjermbilde!L$6-4),skjermbilde!L$3-AD78-skjermbilde!L$6-4,0)","v":-4},{"$f":"+IF(ISNUMBER(skjermbilde!M$3-AE78-skjermbilde!M$6-4),skjermbilde!M$3-AE78-skjermbilde!M$6-4,0)","v":-4},{"$f":"+IF(ISNUMBER(skjermbilde!N$3-AF78-skjermbilde!N$6-4),skjermbilde!N$3-AF78-skjermbilde!N$6-4,0)","v":-4},{"$f":"IF(skjermbilde!$O$10=TRUE,10*LOG10(10^(0.1*(AI78+AI$12))+10^(0.1*(AJ78+AJ$12))+10^(0.1*(AK78+AK$12))+10^(0.1*(AL78+AL$12))+10^(0.1*(AM78+AM$12))+10^(0.1*(AN78+AN$12))+10^(0.1*(AO78+AO$12))+10^(0.1*(AP78+AP$12))),\"\")","v":""},{"$f":"+IF(AND(X78-1<T78,X78<201),1,0)","v":1},{"$f":"+IF(Y78>Y$11,1,0)","v":1},1,1,1,1,1,1,1,{"$f":"+IF(U78=L78,1,0)","v":0},{"$f":"IF(skjermbilde!$D$4=\"\",1,IF(P78=skjermbilde!$D$4,1,0))","v":0},{"$f":"IF(skjermbilde!$D$4=\"\",1,IF(U78=\"r\",1,IF(P78=skjermbilde!$D$4,1,0)))","v":1},{"$f":"+IF(U78=\"r\",1,IF(M78=skjermbilde!$D$3,1,0))","v":1},{"$f":"+IF(U78=\"s\",1,IF(N78=skjermbilde!$C$3,1,0))","v":1},{"$f":"+IF(U78=\"s\",1,IF(O78=skjermbilde!$C$4,1,0))","v":1},{"$f":"+IF(OR(W78=Q78,W78=0),1,0)","v":1},{"$f":"+IF(SUM(AR78:BG78)=16,1,0)","v":0},null,null,null,{"$f":"+A78","v":63},"",null,null,null,null,null,null,null,null,null,null,null,null,null,null,{"$f":"+IF($BH78=1,$X78+DI78,\"\")","v":""},{"$f":"+BL78","v":63},"",null,null,null,null,null,null,null,null,null,null,null,null,"",63,"",null,null,null,null,"",{"$f":"IF(skjermbilde!$D$2=1,VLOOKUP($CS78,$CB$17:$CD$261,3,FALSE),CONCATENATE(\"2 x \",VLOOKUP($CS78,$CB$17:$CD$261,3,FALSE)))","v":""},null,null,null,null,null,null,null,null,null,{"$f":"0.00000001+DI77","v":2.600000000000001E-7},{"$f":"IF(ISNUMBER(DK78),DK78+DI78,\"\")","v":1.00000026},{"$f":"SEARCH($DL$14,B78,1)","v":1},{"$f":"IF(ISNUMBER(DK78),B78,\"\")","v":0},1.00000029,"LEV-200-1000",0]
[64,{"$f":"+IF(skjermbilde!$N$10=1,datagrunnlag!H79,CONCATENATE(datagrunnlag!H79,\"-V\"))","v":0},{"$f":"IF(skjermbilde!$N$10=1,datagrunnlag!I79,datagrunnlag!S79)","v":0},{"$f":"IF(skjermbilde!$N$10=1,datagrunnlag!J79,datagrunnlag!T79)","v":0},{"$f":"IF(skjermbilde!$N$10=1,datagrunnlag!K79,datagrunnlag!U79)","v":0},{"$f":"IF(skjermbilde!$N$10=1,datagrunnlag!L79,datagrunnlag!V79)","v":0},{"$f":"IF(skjermbilde!$N$10=1,datagrunnlag!M79,datagrunnlag!W79)","v":0},{"$f":"IF(skjermbilde!$N$10=1,datagrunnlag!N79,datagrunnlag!X79)","v":0},{"$f":"IF(skjermbilde!$N$10=1,datagrunnlag!O79,datagrunnlag!Y79)","v":0},{"$f":"IF(skjermbilde!$N$10=1,datagrunnlag!P79,datagrunnlag!Z79)","v":0},{"$f":"+datagrunnlag!A79","v":0},{"$f":"+datagrunnlag!B79","v":0},{"$f":"+datagrunnlag!C79","v":0},null,null,{"$f":"++IF(datagrunnlag!F79=\"s\",\"c\",datagrunnlag!F79)","v":0},{"$f":"+datagrunnlag!G79","v":0},{"$f":"IF(skjermbilde!$N$10=1,datagrunnlag!Q79,datagrunnlag!AI79)","v":0},0,201,"r",0,0,{"$f":"IF(skjermbilde!$D$2=1,S79^2*R79,2*S79^2*R79)","v":0},{"$f":"IF(C79=\"\",\"\",IF(skjermbilde!$D$2=1,C79,IF(AND(skjermbilde!$D$2=2,2*C79>60),60,IF(skjermbilde!$D$2=2,2*C79))))","v":0},{"$f":"IF(skjermbilde!$D$2=1,D79,IF(AND(skjermbilde!$D$2=2,2*D79>60),60,IF(skjermbilde!$D$2=2,2*D79)))","v":0},{"$f":"IF(skjermbilde!$D$2=1,E79,IF(AND(skjermbilde!$D$2=2,2*E79>60),60,IF(skjermbilde!$D$2=2,2*E79)))","v":0},{"$f":"IF(skjermbilde!$D$2=1,F79,IF(AND(skjermbilde!$D$2=2,2*F79>60),60,IF(skjermbilde!$D$2=2,2*F79)))","v":0},{"$f":"IF(skjermbilde!$D$2=1,G79,IF(AND(skjermbilde!$D$2=2,2*G79>60),60,IF(skjermbilde!$D$2=2,2*G79)))","v":0},{"$f":"IF(skjermbilde!$D$2=1,H79,IF(AND(skjermbilde!$D$2=2,2*H79>60),60,IF(skjermbilde!$D$2=2,2*H79)))","v":0},{"$f":"IF(skjermbilde!$D$2=1,I79,IF(AND(skjermbilde!$D$2=2,2*I79>60),60,IF(skjermbilde!$D$2=2,2*I79)))","v":0},{"$f":"IF(J79=\"\",\"\",IF(skjermbilde!$D$2=1,J79,IF(AND(skjermbilde!$D$2=2,2*J79>60),60,IF(skjermbilde!$D$2=2,2*J79))))","v":0},null,null,{"$f":"+IF(ISNUMBER(skjermbilde!G$3-Y79-skjermbilde!G$6-4),skjermbilde!G$3-Y79-skjermbilde!G$6-4,0)","v":-4},{"$f":"+IF(ISNUMBER(skjermbilde!H$3-Z79-skjermbilde!H$6-4),skjermbilde!H$3-Z79-skjermbilde!H$6-4,0)","v":-4},{"$f":"+IF(ISNUMBER(skjermbilde!I$3-AA79-skjermbilde!I$6-4),skjermbilde!I$3-AA79-skjermbilde!I$6-4,0)","v":-4},{"$f":"+IF(ISNUMBER(skjermbilde!J$3-AB79-skjermbilde!J$6-4),skjermbilde!J$3-AB79-skjermbilde!J$6-4,0)","v":-4},{"$f":"+IF(ISNUMBER(skjermbilde!K$3-AC79-skjermbilde!K$6-4),skjermbilde!K$3-AC79-skjermbilde!K$6-4,0)","v":-4},{"$f":"+IF(ISNUMBER(skjermbilde!L$3-AD79-skjermbilde!L$6-4),skjermbilde!L$3-AD79-skjermbilde!L$6-4,0)","v":-4},{"$f":"+IF(ISNUMBER(skjermbilde!M$3-AE79-skjermbilde!M$6-4),skjermbilde!M$3-AE79-skjermbilde!M$6-4,0)","v":-4},{"$f":"+IF(ISNUMBER(skjermbilde!N$3-AF79-skjermbilde!N$6-4),skjermbilde!N$3-AF79-skjermbilde!N$6-4,0)","v":-4},{"$f":"IF(skjermbilde!$O$10=TRUE,10*LOG10(10^(0.1*(AI79+AI$12))+10^(0.1*(AJ79+AJ$12))+10^(0.1*(AK79+AK$12))+10^(0.1*(AL79+AL$12))+10^(0.1*(AM79+AM$12))+10^(0.1*(AN79+AN$12))+10^(0.1*(AO79+AO$12))+10^(0.1*(AP79+AP$12))),\"\")","v":""},{"$f":"+IF(AND(X79-1<T79,X79<201),1,0)","v":1},1,1,1,1,1,1,1,1,{"$f":"+IF(U79=L79,1,0)","v":0},{"$f":"IF(skjermbilde!$D$4=\"\",1,IF(P79=skjermbilde!$D$4,1,0))","v":0},{"$f":"IF(skjermbilde!$D$4=\"\",1,IF(U79=\"r\",1,IF(P79=skjermbilde!$D$4,1,0)))","v":1},{"$f":"+IF(U79=\"r\",1,IF(M79=skjermbilde!$D$3,1,0))","v":1},{"$f":"+IF(U79=\"s\",1,IF(N79=skjermbilde!$C$3,1,0))","v":1},{"$f":"+IF(U79=\"s\",1,IF(O79=skjermbilde!$C$4,1,0))","v":1},{"$f":"+IF(OR(W79=Q79,W79=0),1,0)","v":1},{"$f":"+IF(SUM(AR79:BG79)=16,1,0)","v":0},null,null,null,{"$f":"+A79","v":64},"",null,null,null,null,null,null,null,null,null,null,null,null,null,null,{"$f":"+IF($BH79=1,$X79+DI79,\"\")","v":""},{"$f":"+BL79","v":64},"",null,null,null,null,null,null,null,null,null,null,null,null,"",64,"",null,null,null,null,"",{"$f":"IF(skjermbilde!$D$2=1,VLOOKUP($CS79,$CB$17:$CD$261,3,FALSE),CONCATENATE(\"2 x \",VLOOKUP($CS79,$CB$17:$CD$261,3,FALSE)))","v":""},null,null,null,null,null,null,null,null,null,{"$f":"0.00000001+DI78","v":2.7000000000000011E-7},{"$f":"IF(ISNUMBER(DK79),DK79+DI79,\"\")","v":1.0000002699999999},{"$f":"SEARCH($DL$14,B79,1)","v":1},{"$f":"IF(ISNUMBER(DK79),B79,\"\")","v":0},1.0000003,"LEV-250-1000",0]
[65,{"$f":"+IF(skjermbilde!$N$10=1,datagrunnlag!H80,CONCATENATE(datagrunnlag!H80,\"-V\"))","v":"LKR-100-1200"},{"$f":"IF(skjermbilde!$N$10=1,datagrunnlag!I80,datagrunnlag!S80)","v":3},{"$f":"IF(skjermbilde!$N$10=1,datagrunnlag!J80,datagrunnlag!T80)","v":10.018346122196402},{"$f":"IF(skjermbilde!$N$10=1,datagrunnlag!K80,datagrunnlag!U80)","v":17.377366476076425},{"$f":"IF(skjermbilde!$N$10=1,datagrunnlag!L80,datagrunnlag!V80)","v":29.754862721758183},{"$f":"IF(skjermbilde!$N$10=1,datagrunnlag!M80,datagrunnlag!W80)","v":42.942305909884993},{"$f":"IF(skjermbilde!$N$10=1,datagrunnlag!N80,datagrunnlag!X80)","v":50},{"$f":"IF(skjermbilde!$N$10=1,datagrunnlag!O80,datagrunnlag!Y80)","v":50},{"$f":"IF(skjermbilde!$N$10=1,datagrunnlag!P80,datagrunnlag!Z80)","v":35.800986634284804},{"$f":"+datagrunnlag!A80","v":"LKR"},{"$f":"+datagrunnlag!B80","v":"s"},{"$f":"+datagrunnlag!C80","v":100},null,null,{"$f":"++IF(datagrunnlag!F80=\"s\",\"c\",datagrunnlag!F80)","v":"r"},{"$f":"+datagrunnlag!G80","v":1200},{"$f":"IF(skjermbilde!$N$10=1,datagrunnlag!Q80,datagrunnlag!AI80)","v":9.4999999999999998E-3},0,201,"r",0,0,{"$f":"IF(skjermbilde!$D$2=1,S80^2*R80,2*S80^2*R80)","v":0},{"$f":"IF(C80=\"\",\"\",IF(skjermbilde!$D$2=1,C80,IF(AND(skjermbilde!$D$2=2,2*C80>60),60,IF(skjermbilde!$D$2=2,2*C80))))","v":3},{"$f":"IF(skjermbilde!$D$2=1,D80,IF(AND(skjermbilde!$D$2=2,2*D80>60),60,IF(skjermbilde!$D$2=2,2*D80)))","v":10.018346122196402},{"$f":"IF(skjermbilde!$D$2=1,E80,IF(AND(skjermbilde!$D$2=2,2*E80>60),60,IF(skjermbilde!$D$2=2,2*E80)))","v":17.377366476076425},{"$f":"IF(skjermbilde!$D$2=1,F80,IF(AND(skjermbilde!$D$2=2,2*F80>60),60,IF(skjermbilde!$D$2=2,2*F80)))","v":29.754862721758183},{"$f":"IF(skjermbilde!$D$2=1,G80,IF(AND(skjermbilde!$D$2=2,2*G80>60),60,IF(skjermbilde!$D$2=2,2*G80)))","v":42.942305909884993},{"$f":"IF(skjermbilde!$D$2=1,H80,IF(AND(skjermbilde!$D$2=2,2*H80>60),60,IF(skjermbilde!$D$2=2,2*H80)))","v":50},{"$f":"IF(skjermbilde!$D$2=1,I80,IF(AND(skjermbilde!$D$2=2,2*I80>60),60,IF(skjermbilde!$D$2=2,2*I80)))","v":50},{"$f":"IF(J80=\"\",\"\",IF(skjermbilde!$D$2=1,J80,IF(AND(skjermbilde!$D$2=2,2*J80>60),60,IF(skjermbilde!$D$2=2,2*J80))))","v":35.800986634284804},null,null,{"$f":"+IF(ISNUMBER(skjermbilde!G$3-Y80-skjermbilde!G$6-4),skjermbilde!G$3-Y80-skjermbilde!G$6-4,0)","v":-7},{"$f":"+IF(ISNUMBER(skjermbilde!H$3-Z80-skjermbilde!H$6-4),skjermbilde!H$3-Z80-skjermbilde!H$6-4,0)","v":-14.018346122196402},{"$f":"+IF(ISNUMBER(skjermbilde!I$3-AA80-skjermbilde!I$6-4),skjermbilde!I$3-AA80-skjermbilde!I$6-4,0)","v":-21.377366476076425},{"$f":"+IF(ISNUMBER(skjermbilde!J$3-AB80-skjermbilde!J$6-4),skjermbilde!J$3-AB80-skjermbilde!J$6-4,0)","v":-33.754862721758187},{"$f":"+IF(ISNUMBER(skjermbilde!K$3-AC80-skjermbilde!K$6-4),skjermbilde!K$3-AC80-skjermbilde!K$6-4,0)","v":-46.942305909884993},{"$f":"+IF(ISNUMBER(skjermbilde!L$3-AD80-skjermbilde!L$6-4),skjermbilde!L$3-AD80-skjermbilde!L$6-4,0)","v":-54},{"$f":"+IF(ISNUMBER(skjermbilde!M$3-AE80-skjermbilde!M$6-4),skjermbilde!M$3-AE80-skjermbilde!M$6-4,0)","v":-54},{"$f":"+IF(ISNUMBER(skjermbilde!N$3-AF80-skjermbilde!N$6-4),skjermbilde!N$3-AF80-skjermbilde!N$6-4,0)","v":-39.800986634284804},{"$f":"IF(skjermbilde!$O$10=TRUE,10*LOG10(10^(0.1*(AI80+AI$12))+10^(0.1*(AJ80+AJ$12))+10^(0.1*(AK80+AK$12))+10^(0.1*(AL80+AL$12))+10^(0.1*(AM80+AM$12))+10^(0.1*(AN80+AN$12))+10^(0.1*(AO80+AO$12))+10^(0.1*(AP80+AP$12))),\"\")","v":""},1,1,1,1,1,1,1,1,1,0,{"$f":"IF(skjermbilde!$D$4=\"\",1,IF(P80=skjermbilde!$D$4,1,0))","v":1},{"$f":"IF(skjermbilde!$D$4=\"\",1,IF(U80=\"r\",1,IF(P80=skjermbilde!$D$4,1,0)))","v":1},{"$f":"+IF(U80=\"r\",1,IF(M80=skjermbilde!$D$3,1,0))","v":1},{"$f":"+IF(U80=\"s\",1,IF(N80=skjermbilde!$C$3,1,0))","v":1},{"$f":"+IF(U80=\"s\",1,IF(O80=skjermbilde!$C$4,1,0))","v":1},1,0,null,null,null,65,"",null,null,null,null,null,null,null,null,null,null,null,null,null,null,"",65,"",null,null,null,null,null,null,null,null,null,null,null,null,"",65,{"$f":"IF(ISERROR(SMALL(CB$17:CB$261,BL77)),\"\",SMALL(CB$17:CB$261,BL77))","v":""},null,null,null,null,"",{"$f":"IF(skjermbilde!$D$2=1,VLOOKUP($CS80,$CB$17:$CD$261,3,FALSE),CONCATENATE(\"2 x \",VLOOKUP($CS80,$CB$17:$CD$261,3,FALSE)))","v":""},null,null,null,null,null,null,null,null,null,{"$f":"0.00000001+DI77","v":2.600000000000001E-7},1.00000026,1,"LKR-100-1200",{"$f":"IF(ISERROR(SMALL(DJ$17:DJ$261,BL77)),\"\",SMALL(DJ$17:DJ$261,BL77))","v":1.00000029},"LEV-200-1000",0]
[66,{"$f":"+IF(skjermbilde!$N$10=1,datagrunnlag!H81,CONCATENATE(datagrunnlag!H81,\"-V\"))","v":"LKR-125-1200"},{"$f":"IF(skjermbilde!$N$10=1,datagrunnlag!I81,datagrunnlag!S81)","v":4},{"$f":"IF(skjermbilde!$N$10=1,datagrunnlag!J81,datagrunnlag!T81)","v":12.574620390989892},{"$f":"IF(skjermbilde!$N$10=1,datagrunnlag!K81,datagrunnlag!U81)","v":17.452836425262795},{"$f":"IF(skjermbilde!$N$10=1,datagrunnlag!L81,datagrunnlag!V81)","v":32.055871146713748},{"$f":"IF(skjermbilde!$N$10=1,datagrunnlag!M81,datagrunnlag!W81)","v":41.12894243421141},{"$f":"IF(skjermbilde!$N$10=1,datagrunnlag!N81,datagrunnlag!X81)","v":50},{"$f":"IF(skjermbilde!$N$10=1,datagrunnlag!O81,datagrunnlag!Y81)","v":50},{"$f":"IF(skjermbilde!$N$10=1,datagrunnlag!P81,datagrunnlag!Z81)","v":29.366106430339784},{"$f":"+datagrunnlag!A81","v":"LKR"},{"$f":"+datagrunnlag!B81","v":"s"},{"$f":"+datagrunnlag!C81","v":125},null,null,{"$f":"++IF(datagrunnlag!F81=\"s\",\"c\",datagrunnlag!F81)","v":"r"},{"$f":"+datagrunnlag!G81","v":1200},{"$f":"IF(skjermbilde!$N$10=1,datagrunnlag!Q81,datagrunnlag!AI81)","v":3.9970710272136554E-3},0,201,"r",0,0,{"$f":"IF(skjermbilde!$D$2=1,S81^2*R81,2*S81^2*R81)","v":0},{"$f":"IF(C81=\"\",\"\",IF(skjermbilde!$D$2=1,C81,IF(AND(skjermbilde!$D$2=2,2*C81>60),60,IF(skjermbilde!$D$2=2,2*C81))))","v":4},{"$f":"IF(skjermbilde!$D$2=1,D81,IF(AND(skjermbilde!$D$2=2,2*D81>60),60,IF(skjermbilde!$D$2=2,2*D81)))","v":12.574620390989892},{"$f":"IF(skjermbilde!$D$2=1,E81,IF(AND(skjermbilde!$D$2=2,2*E81>60),60,IF(skjermbilde!$D$2=2,2*E81)))","v":17.452836425262795},{"$f":"IF(skjermbilde!$D$2=1,F81,IF(AND(skjermbilde!$D$2=2,2*F81>60),60,IF(skjermbilde!$D$2=2,2*F81)))","v":32.055871146713748},{"$f":"IF(skjermbilde!$D$2=1,G81,IF(AND(skjermbilde!$D$2=2,2*G81>60),60,IF(skjermbilde!$D$2=2,2*G81)))","v":41.12894243421141},{"$f":"IF(skjermbilde!$D$2=1,H81,IF(AND(skjermbilde!$D$2=2,2*H81>60),60,IF(skjermbilde!$D$2=2,2*H81)))","v":50},{"$f":"IF(skjermbilde!$D$2=1,I81,IF(AND(skjermbilde!$D$2=2,2*I81>60),60,IF(skjermbilde!$D$2=2,2*I81)))","v":50},{"$f":"IF(J81=\"\",\"\",IF(skjermbilde!$D$2=1,J81,IF(AND(skjermbilde!$D$2=2,2*J81>60),60,IF(skjermbilde!$D$2=2,2*J81))))","v":29.366106430339784},null,null,{"$f":"+IF(ISNUMBER(skjermbilde!G$3-Y81-skjermbilde!G$6-4),skjermbilde!G$3-Y81-skjermbilde!G$6-4,0)","v":-8},{"$f":"+IF(ISNUMBER(skjermbilde!H$3-Z81-skjermbilde!H$6-4),skjermbilde!H$3-Z81-skjermbilde!H$6-4,0)","v":-16.574620390989892},{"$f":"+IF(ISNUMBER(skjermbilde!I$3-AA81-skjermbilde!I$6-4),skjermbilde!I$3-AA81-skjermbilde!I$6-4,0)","v":-21.452836425262795},{"$f":"+IF(ISNUMBER(skjermbilde!J$3-AB81-skjermbilde!J$6-4),skjermbilde!J$3-AB81-skjermbilde!J$6-4,0)","v":-36.055871146713748},{"$f":"+IF(ISNUMBER(skjermbilde!K$3-AC81-skjermbilde!K$6-4),skjermbilde!K$3-AC81-skjermbilde!K$6-4,0)","v":-45.12894243421141},{"$f":"+IF(ISNUMBER(skjermbilde!L$3-AD81-skjermbilde!L$6-4),skjermbilde!L$3-AD81-skjermbilde!L$6-4,0)","v":-54},{"$f":"+IF(ISNUMBER(skjermbilde!M$3-AE81-skjermbilde!M$6-4),skjermbilde!M$3-AE81-skjermbilde!M$6-4,0)","v":-54},{"$f":"+IF(ISNUMBER(skjermbilde!N$3-AF81-skjermbilde!N$6-4),skjermbilde!N$3-AF81-skjermbilde!N$6-4,0)","v":-33.366106430339784},{"$f":"IF(skjermbilde!$O$10=TRUE,10*LOG10(10^(0.1*(AI81+AI$12))+10^(0.1*(AJ81+AJ$12))+10^(0.1*(AK81+AK$12))+10^(0.1*(AL81+AL$12))+10^(0.1*(AM81+AM$12))+10^(0.1*(AN81+AN$12))+10^(0.1*(AO81+AO$12))+10^(0.1*(AP81+AP$12))),\"\")","v":""},1,1,1,1,1,1,1,1,1,0,{"$f":"IF(skjermbilde!$D$4=\"\",1,IF(P81=skjermbilde!$D$4,1,0))","v":1},{"$f":"IF(skjermbilde!$D$4=\"\",1,IF(U81=\"r\",1,IF(P81=skjermbilde!$D$4,1,0)))","v":1},{"$f":"+IF(U81=\"r\",1,IF(M81=skjermbilde!$D$3,1,0))","v":1},{"$f":"+IF(U81=\"s\",1,IF(N81=skjermbilde!$C$3,1,0))","v":1},{"$f":"+IF(U81=\"s\",1,IF(O81=skjermbilde!$C$4,1,0))","v":1},1,0,null,null,null,66,"",null,null,null,null,null,null,null,null,null,null,null,null,null,null,"",66,"",null,null,null,null,null,null,null,null,null,null,null,null,"",66,{"$f":"IF(ISERROR(SMALL(CB$17:CB$261,BL80)),\"\",SMALL(CB$17:CB$261,BL80))","v":""},null,null,null,null,"",{"$f":"IF(skjermbilde!$D$2=1,VLOOKUP($CS81,$CB$17:$CD$261,3,FALSE),CONCATENATE(\"2 x \",VLOOKUP($CS81,$CB$17:$CD$261,3,FALSE)))","v":""},null,null,null,null,null,null,null,null,null,2.7000000000000011E-7,1.0000002699999999,1,"LKR-125-1200",{"$f":"IF(ISERROR(SMALL(DJ$17:DJ$261,BL80)),\"\",SMALL(DJ$17:DJ$261,BL80))","v":1.0000003099999999},{"$f":"VLOOKUP(DM81,DJ$17:DM$261,3,FALSE)","v":"LEV-315-1000"},{"$f":"VLOOKUP(DN81,$B$17:$CQ$261,62,FALSE)","v":0}]
[67,{"$f":"+IF(skjermbilde!$N$10=1,datagrunnlag!H82,CONCATENATE(datagrunnlag!H82,\"-V\"))","v":"LKR-160-1200"},{"$f":"IF(skjermbilde!$N$10=1,datagrunnlag!I82,datagrunnlag!S82)","v":4},{"$f":"IF(skjermbilde!$N$10=1,datagrunnlag!J82,datagrunnlag!T82)","v":14.035563194969118},{"$f":"IF(skjermbilde!$N$10=1,datagrunnlag!K82,datagrunnlag!U82)","v":18.172433658543078},{"$f":"IF(skjermbilde!$N$10=1,datagrunnlag!L82,datagrunnlag!V82)","v":26.874224052179283},{"$f":"IF(skjermbilde!$N$10=1,datagrunnlag!M82,datagrunnlag!W82)","v":38.945490396617814},{"$f":"IF(skjermbilde!$N$10=1,datagrunnlag!N82,datagrunnlag!X82)","v":50},{"$f":"IF(skjermbilde!$N$10=1,datagrunnlag!O82,datagrunnlag!Y82)","v":40.103370870833039},{"$f":"IF(skjermbilde!$N$10=1,datagrunnlag!P82,datagrunnlag!Z82)","v":24.562803105147385},{"$f":"+datagrunnlag!A82","v":"LKR"},{"$f":"+datagrunnlag!B82","v":"s"},{"$f":"+datagrunnlag!C82","v":160},null,null,{"$f":"++IF(datagrunnlag!F82=\"s\",\"c\",datagrunnlag!F82)","v":"r"},{"$f":"+datagrunnlag!G82","v":1200},{"$f":"IF(skjermbilde!$N$10=1,datagrunnlag!Q82,datagrunnlag!AI82)","v":1.0300000000000001E-3},0,201,"r",0,0,{"$f":"IF(skjermbilde!$D$2=1,S82^2*R82,2*S82^2*R82)","v":0},{"$f":"IF(C82=\"\",\"\",IF(skjermbilde!$D$2=1,C82,IF(AND(skjermbilde!$D$2=2,2*C82>60),60,IF(skjermbilde!$D$2=2,2*C82))))","v":4},{"$f":"IF(skjermbilde!$D$2=1,D82,IF(AND(skjermbilde!$D$2=2,2*D82>60),60,IF(skjermbilde!$D$2=2,2*D82)))","v":14.035563194969118},{"$f":"IF(skjermbilde!$D$2=1,E82,IF(AND(skjermbilde!$D$2=2,2*E82>60),60,IF(skjermbilde!$D$2=2,2*E82)))","v":18.172433658543078},{"$f":"IF(skjermbilde!$D$2=1,F82,IF(AND(skjermbilde!$D$2=2,2*F82>60),60,IF(skjermbilde!$D$2=2,2*F82)))","v":26.874224052179283},{"$f":"IF(skjermbilde!$D$2=1,G82,IF(AND(skjermbilde!$D$2=2,2*G82>60),60,IF(skjermbilde!$D$2=2,2*G82)))","v":38.945490396617814},{"$f":"IF(skjermbilde!$D$2=1,H82,IF(AND(skjermbilde!$D$2=2,2*H82>60),60,IF(skjermbilde!$D$2=2,2*H82)))","v":50},{"$f":"IF(skjermbilde!$D$2=1,I82,IF(AND(skjermbilde!$D$2=2,2*I82>60),60,IF(skjermbilde!$D$2=2,2*I82)))","v":40.103370870833039},{"$f":"IF(J82=\"\",\"\",IF(skjermbilde!$D$2=1,J82,IF(AND(skjermbilde!$D$2=2,2*J82>60),60,IF(skjermbilde!$D$2=2,2*J82))))","v":24.562803105147385},null,null,{"$f":"+IF(ISNUMBER(skjermbilde!G$3-Y82-skjermbilde!G$6-4),skjermbilde!G$3-Y82-skjermbilde!G$6-4,0)","v":-8},{"$f":"+IF(ISNUMBER(skjermbilde!H$3-Z82-skjermbilde!H$6-4),skjermbilde!H$3-Z82-skjermbilde!H$6-4,0)","v":-18.035563194969118},{"$f":"+IF(ISNUMBER(skjermbilde!I$3-AA82-skjermbilde!I$6-4),skjermbilde!I$3-AA82-skjermbilde!I$6-4,0)","v":-22.172433658543078},{"$f":"+IF(ISNUMBER(skjermbilde!J$3-AB82-skjermbilde!J$6-4),skjermbilde!J$3-AB82-skjermbilde!J$6-4,0)","v":-30.874224052179283},{"$f":"+IF(ISNUMBER(skjermbilde!K$3-AC82-skjermbilde!K$6-4),skjermbilde!K$3-AC82-skjermbilde!K$6-4,0)","v":-42.945490396617814},{"$f":"+IF(ISNUMBER(skjermbilde!L$3-AD82-skjermbilde!L$6-4),skjermbilde!L$3-AD82-skjermbilde!L$6-4,0)","v":-54},{"$f":"+IF(ISNUMBER(skjermbilde!M$3-AE82-skjermbilde!M$6-4),skjermbilde!M$3-AE82-skjermbilde!M$6-4,0)","v":-44.103370870833039},{"$f":"+IF(ISNUMBER(skjermbilde!N$3-AF82-skjermbilde!N$6-4),skjermbilde!N$3-AF82-skjermbilde!N$6-4,0)","v":-28.562803105147385},{"$f":"IF(skjermbilde!$O$10=TRUE,10*LOG10(10^(0.1*(AI82+AI$12))+10^(0.1*(AJ82+AJ$12))+10^(0.1*(AK82+AK$12))+10^(0.1*(AL82+AL$12))+10^(0.1*(AM82+AM$12))+10^(0.1*(AN82+AN$12))+10^(0.1*(AO82+AO$12))+10^(0.1*(AP82+AP$12))),\"\")","v":""},1,1,1,1,1,1,1,1,1,0,{"$f":"IF(skjermbilde!$D$4=\"\",1,IF(P82=skjermbilde!$D$4,1,0))","v":1},{"$f":"IF(skjermbilde!$D$4=\"\",1,IF(U82=\"r\",1,IF(P82=skjermbilde!$D$4,1,0)))","v":1},{"$f":"+IF(U82=\"r\",1,IF(M82=skjermbilde!$D$3,1,0))","v":1},{"$f":"+IF(U82=\"s\",1,IF(N82=skjermbilde!$C$3,1,0))","v":1},{"$f":"+IF(U82=\"s\",1,IF(O82=skjermbilde!$C$4,1,0))","v":1},1,0,null,null,null,67,"",null,null,null,null,null,null,null,null,null,null,null,null,null,null,"",67,"",null,null,null,null,null,null,null,null,null,null,null,null,"",67,"",null,null,null,null,{"$f":"+IF(VLOOKUP($CS82,$CB$17:$CD$261,2,FALSE)=2,\"\",VLOOKUP($CS82,$CB$17:$CD$261,2,FALSE))","v":""},{"$f":"IF(skjermbilde!$D$2=1,VLOOKUP($CS82,$CB$17:$CD$261,3,FALSE),CONCATENATE(\"2 x \",VLOOKUP($CS82,$CB$17:$CD$261,3,FALSE)))","v":""},null,null,null,null,null,null,null,null,null,2.8000000000000012E-7,1.0000002800000001,1,"LKR-160-1200",1.0000003099999999,"LEV-315-1000",0]
[68,{"$f":"+IF(skjermbilde!$N$10=1,datagrunnlag!H83,CONCATENATE(datagrunnlag!H83,\"-V\"))","v":"LKR-200-1200"},{"$f":"IF(skjermbilde!$N$10=1,datagrunnlag!I83,datagrunnlag!S83)","v":4},{"$f":"IF(skjermbilde!$N$10=1,datagrunnlag!J83,datagrunnlag!T83)","v":8.6006977028013107},{"$f":"IF(skjermbilde!$N$10=1,datagrunnlag!K83,datagrunnlag!U83)","v":13.5590836868178},{"$f":"IF(skjermbilde!$N$10=1,datagrunnlag!L83,datagrunnlag!V83)","v":20.869961491351052},{"$f":"IF(skjermbilde!$N$10=1,datagrunnlag!M83,datagrunnlag!W83)","v":37.393334462498572},{"$f":"IF(skjermbilde!$N$10=1,datagrunnlag!N83,datagrunnlag!X83)","v":50},{"$f":"IF(skjermbilde!$N$10=1,datagrunnlag!O83,datagrunnlag!Y83)","v":27.174767342493986},{"$f":"IF(skjermbilde!$N$10=1,datagrunnlag!P83,datagrunnlag!Z83)","v":18.953915383333246},{"$f":"+datagrunnlag!A83","v":"LKR"},{"$f":"+datagrunnlag!B83","v":"s"},{"$f":"+datagrunnlag!C83","v":200},null,null,{"$f":"++IF(datagrunnlag!F83=\"s\",\"c\",datagrunnlag!F83)","v":"r"},{"$f":"+datagrunnlag!G83","v":1200},{"$f":"IF(skjermbilde!$N$10=1,datagrunnlag!Q83,datagrunnlag!AI83)","v":2.6967703179169901E-4},0,201,"r",0,0,{"$f":"IF(skjermbilde!$D$2=1,S83^2*R83,2*S83^2*R83)","v":0},{"$f":"IF(C83=\"\",\"\",IF(skjermbilde!$D$2=1,C83,IF(AND(skjermbilde!$D$2=2,2*C83>60),60,IF(skjermbilde!$D$2=2,2*C83))))","v":4},{"$f":"IF(skjermbilde!$D$2=1,D83,IF(AND(skjermbilde!$D$2=2,2*D83>60),60,IF(skjermbilde!$D$2=2,2*D83)))","v":8.6006977028013107},{"$f":"IF(skjermbilde!$D$2=1,E83,IF(AND(skjermbilde!$D$2=2,2*E83>60),60,IF(skjermbilde!$D$2=2,2*E83)))","v":13.5590836868178},{"$f":"IF(skjermbilde!$D$2=1,F83,IF(AND(skjermbilde!$D$2=2,2*F83>60),60,IF(skjermbilde!$D$2=2,2*F83)))","v":20.869961491351052},{"$f":"IF(skjermbilde!$D$2=1,G83,IF(AND(skjermbilde!$D$2=2,2*G83>60),60,IF(skjermbilde!$D$2=2,2*G83)))","v":37.393334462498572},{"$f":"IF(skjermbilde!$D$2=1,H83,IF(AND(skjermbilde!$D$2=2,2*H83>60),60,IF(skjermbilde!$D$2=2,2*H83)))","v":50},{"$f":"IF(skjermbilde!$D$2=1,I83,IF(AND(skjermbilde!$D$2=2,2*I83>60),60,IF(skjermbilde!$D$2=2,2*I83)))","v":27.174767342493986},{"$f":"IF(J83=\"\",\"\",IF(skjermbilde!$D$2=1,J83,IF(AND(skjermbilde!$D$2=2,2*J83>60),60,IF(skjermbilde!$D$2=2,2*J83))))","v":18.953915383333246},null,null,{"$f":"+IF(ISNUMBER(skjermbilde!G$3-Y83-skjermbilde!G$6-4),skjermbilde!G$3-Y83-skjermbilde!G$6-4,0)","v":-8},{"$f":"+IF(ISNUMBER(skjermbilde!H$3-Z83-skjermbilde!H$6-4),skjermbilde!H$3-Z83-skjermbilde!H$6-4,0)","v":-12.600697702801311},{"$f":"+IF(ISNUMBER(skjermbilde!I$3-AA83-skjermbilde!I$6-4),skjermbilde!I$3-AA83-skjermbilde!I$6-4,0)","v":-17.5590836868178},{"$f":"+IF(ISNUMBER(skjermbilde!J$3-AB83-skjermbilde!J$6-4),skjermbilde!J$3-AB83-skjermbilde!J$6-4,0)","v":-24.869961491351052},{"$f":"+IF(ISNUMBER(skjermbilde!K$3-AC83-skjermbilde!K$6-4),skjermbilde!K$3-AC83-skjermbilde!K$6-4,0)","v":-41.393334462498572},{"$f":"+IF(ISNUMBER(skjermbilde!L$3-AD83-skjermbilde!L$6-4),skjermbilde!L$3-AD83-skjermbilde!L$6-4,0)","v":-54},{"$f":"+IF(ISNUMBER(skjermbilde!M$3-AE83-skjermbilde!M$6-4),skjermbilde!M$3-AE83-skjermbilde!M$6-4,0)","v":-31.174767342493986},{"$f":"+IF(ISNUMBER(skjermbilde!N$3-AF83-skjermbilde!N$6-4),skjermbilde!N$3-AF83-skjermbilde!N$6-4,0)","v":-22.953915383333246},{"$f":"IF(skjermbilde!$O$10=TRUE,10*LOG10(10^(0.1*(AI83+AI$12))+10^(0.1*(AJ83+AJ$12))+10^(0.1*(AK83+AK$12))+10^(0.1*(AL83+AL$12))+10^(0.1*(AM83+AM$12))+10^(0.1*(AN83+AN$12))+10^(0.1*(AO83+AO$12))+10^(0.1*(AP83+AP$12))),\"\")","v":""},1,1,1,1,1,1,1,1,1,0,{"$f":"IF(skjermbilde!$D$4=\"\",1,IF(P83=skjermbilde!$D$4,1,0))","v":1},{"$f":"IF(skjermbilde!$D$4=\"\",1,IF(U83=\"r\",1,IF(P83=skjermbilde!$D$4,1,0)))","v":1},{"$f":"+IF(U83=\"r\",1,IF(M83=skjermbilde!$D$3,1,0))","v":1},{"$f":"+IF(U83=\"s\",1,IF(N83=skjermbilde!$C$3,1,0))","v":1},{"$f":"+IF(U83=\"s\",1,IF(O83=skjermbilde!$C$4,1,0))","v":1},1,0,null,null,null,68,"",null,null,null,null,null,null,null,null,null,null,null,null,null,null,"",68,"",null,null,null,null,null,null,null,null,null,null,null,null,"",68,"",null,null,null,null,"",{"$f":"IF(skjermbilde!$D$2=1,VLOOKUP($CS83,$CB$17:$CD$261,3,FALSE),CONCATENATE(\"2 x \",VLOOKUP($CS83,$CB$17:$CD$261,3,FALSE)))","v":""},null,null,null,null,null,null,null,null,null,2.9000000000000014E-7,1.00000029,1,"LKR-200-1200",1.0000003200000001,"LEV-400-1000",0]
[69,{"$f":"+IF(skjermbilde!$N$10=1,datagrunnlag!H84,CONCATENATE(datagrunnlag!H84,\"-V\"))","v":"LKR-250-1200"},{"$f":"IF(skjermbilde!$N$10=1,datagrunnlag!I84,datagrunnlag!S84)","v":4},{"$f":"IF(skjermbilde!$N$10=1,datagrunnlag!J84,datagrunnlag!T84)","v":10.216374878737211},{"$f":"IF(skjermbilde!$N$10=1,datagrunnlag!K84,datagrunnlag!U84)","v":19.294463720879587},{"$f":"IF(skjermbilde!$N$10=1,datagrunnlag!L84,datagrunnlag!V84)","v":27.144854137128377},{"$f":"IF(skjermbilde!$N$10=1,datagrunnlag!M84,datagrunnlag!W84)","v":40.474795169080735},{"$f":"IF(skjermbilde!$N$10=1,datagrunnlag!N84,datagrunnlag!X84)","v":45.983843686751342},{"$f":"IF(skjermbilde!$N$10=1,datagrunnlag!O84,datagrunnlag!Y84)","v":27.394991515323724},{"$f":"IF(skjermbilde!$N$10=1,datagrunnlag!P84,datagrunnlag!Z84)","v":17.759042445512669},{"$f":"+datagrunnlag!A84","v":"LKR"},{"$f":"+datagrunnlag!B84","v":"s"},{"$f":"+datagrunnlag!C84","v":250},null,null,{"$f":"++IF(datagrunnlag!F84=\"s\",\"c\",datagrunnlag!F84)","v":"r"},{"$f":"+datagrunnlag!G84","v":1200},{"$f":"IF(skjermbilde!$N$10=1,datagrunnlag!Q84,datagrunnlag!AI84)","v":2.1224489795918368E-4},0,201,"r",0,0,{"$f":"IF(skjermbilde!$D$2=1,S84^2*R84,2*S84^2*R84)","v":0},{"$f":"IF(C84=\"\",\"\",IF(skjermbilde!$D$2=1,C84,IF(AND(skjermbilde!$D$2=2,2*C84>60),60,IF(skjermbilde!$D$2=2,2*C84))))","v":4},{"$f":"IF(skjermbilde!$D$2=1,D84,IF(AND(skjermbilde!$D$2=2,2*D84>60),60,IF(skjermbilde!$D$2=2,2*D84)))","v":10.216374878737211},{"$f":"IF(skjermbilde!$D$2=1,E84,IF(AND(skjermbilde!$D$2=2,2*E84>60),60,IF(skjermbilde!$D$2=2,2*E84)))","v":19.294463720879587},{"$f":"IF(skjermbilde!$D$2=1,F84,IF(AND(skjermbilde!$D$2=2,2*F84>60),60,IF(skjermbilde!$D$2=2,2*F84)))","v":27.144854137128377},{"$f":"IF(skjermbilde!$D$2=1,G84,IF(AND(skjermbilde!$D$2=2,2*G84>60),60,IF(skjermbilde!$D$2=2,2*G84)))","v":40.474795169080735},{"$f":"IF(skjermbilde!$D$2=1,H84,IF(AND(skjermbilde!$D$2=2,2*H84>60),60,IF(skjermbilde!$D$2=2,2*H84)))","v":45.983843686751342},{"$f":"IF(skjermbilde!$D$2=1,I84,IF(AND(skjermbilde!$D$2=2,2*I84>60),60,IF(skjermbilde!$D$2=2,2*I84)))","v":27.394991515323724},{"$f":"IF(J84=\"\",\"\",IF(skjermbilde!$D$2=1,J84,IF(AND(skjermbilde!$D$2=2,2*J84>60),60,IF(skjermbilde!$D$2=2,2*J84))))","v":17.759042445512669},null,null,{"$f":"+IF(ISNUMBER(skjermbilde!G$3-Y84-skjermbilde!G$6-4),skjermbilde!G$3-Y84-skjermbilde!G$6-4,0)","v":-8},{"$f":"+IF(ISNUMBER(skjermbilde!H$3-Z84-skjermbilde!H$6-4),skjermbilde!H$3-Z84-skjermbilde!H$6-4,0)","v":-14.216374878737211},{"$f":"+IF(ISNUMBER(skjermbilde!I$3-AA84-skjermbilde!I$6-4),skjermbilde!I$3-AA84-skjermbilde!I$6-4,0)","v":-23.294463720879587},{"$f":"+IF(ISNUMBER(skjermbilde!J$3-AB84-skjermbilde!J$6-4),skjermbilde!J$3-AB84-skjermbilde!J$6-4,0)","v":-31.144854137128377},{"$f":"+IF(ISNUMBER(skjermbilde!K$3-AC84-skjermbilde!K$6-4),skjermbilde!K$3-AC84-skjermbilde!K$6-4,0)","v":-44.474795169080735},{"$f":"+IF(ISNUMBER(skjermbilde!L$3-AD84-skjermbilde!L$6-4),skjermbilde!L$3-AD84-skjermbilde!L$6-4,0)","v":-49.983843686751342},{"$f":"+IF(ISNUMBER(skjermbilde!M$3-AE84-skjermbilde!M$6-4),skjermbilde!M$3-AE84-skjermbilde!M$6-4,0)","v":-31.394991515323724},{"$f":"+IF(ISNUMBER(skjermbilde!N$3-AF84-skjermbilde!N$6-4),skjermbilde!N$3-AF84-skjermbilde!N$6-4,0)","v":-21.759042445512669},{"$f":"IF(skjermbilde!$O$10=TRUE,10*LOG10(10^(0.1*(AI84+AI$12))+10^(0.1*(AJ84+AJ$12))+10^(0.1*(AK84+AK$12))+10^(0.1*(AL84+AL$12))+10^(0.1*(AM84+AM$12))+10^(0.1*(AN84+AN$12))+10^(0.1*(AO84+AO$12))+10^(0.1*(AP84+AP$12))),\"\")","v":""},1,1,1,1,1,1,1,1,1,0,{"$f":"IF(skjermbilde!$D$4=\"\",1,IF(P84=skjermbilde!$D$4,1,0))","v":1},{"$f":"IF(skjermbilde!$D$4=\"\",1,IF(U84=\"r\",1,IF(P84=skjermbilde!$D$4,1,0)))","v":1},{"$f":"+IF(U84=\"r\",1,IF(M84=skjermbilde!$D$3,1,0))","v":1},{"$f":"+IF(U84=\"s\",1,IF(N84=skjermbilde!$C$3,1,0))","v":1},{"$f":"+IF(U84=\"s\",1,IF(O84=skjermbilde!$C$4,1,0))","v":1},1,0,null,null,null,69,"",null,null,null,null,null,null,null,null,null,null,null,null,null,null,"",69,"",null,null,null,null,null,null,null,null,null,null,null,null,"",69,"",null,null,null,null,"",{"$f":"IF(skjermbilde!$D$2=1,VLOOKUP($CS84,$CB$17:$CD$261,3,FALSE),CONCATENATE(\"2 x \",VLOOKUP($CS84,$CB$17:$CD$261,3,FALSE)))","v":""},null,null,null,null,null,null,null,null,null,3.0000000000000015E-7,1.0000003,1,"LKR-250-1200",1.0000003200000001,"LEV-400-1000",0]
[70,{"$f":"+IF(skjermbilde!$N$10=1,datagrunnlag!H85,CONCATENATE(datagrunnlag!H85,\"-V\"))","v":"LKR-315-1200"},{"$f":"IF(skjermbilde!$N$10=1,datagrunnlag!I85,datagrunnlag!S85)","v":4},{"$f":"IF(skjermbilde!$N$10=1,datagrunnlag!J85,datagrunnlag!T85)","v":8},{"$f":"IF(skjermbilde!$N$10=1,datagrunnlag!K85,datagrunnlag!U85)","v":16},{"$f":"IF(skjermbilde!$N$10=1,datagrunnlag!L85,datagrunnlag!V85)","v":25},{"$f":"IF(skjermbilde!$N$10=1,datagrunnlag!M85,datagrunnlag!W85)","v":41},{"$f":"IF(skjermbilde!$N$10=1,datagrunnlag!N85,datagrunnlag!X85)","v":50},{"$f":"IF(skjermbilde!$N$10=1,datagrunnlag!O85,datagrunnlag!Y85)","v":45},{"$f":"IF(skjermbilde!$N$10=1,datagrunnlag!P85,datagrunnlag!Z85)","v":32},{"$f":"+datagrunnlag!A85","v":"LKR"},{"$f":"+datagrunnlag!B85","v":"s"},{"$f":"+datagrunnlag!C85","v":315},null,null,{"$f":"++IF(datagrunnlag!F85=\"s\",\"c\",datagrunnlag!F85)","v":"r"},{"$f":"+datagrunnlag!G85","v":1200},{"$f":"IF(skjermbilde!$N$10=1,datagrunnlag!Q85,datagrunnlag!AI85)","v":1.0027172693378487E-4},0,201,"r",0,0,{"$f":"IF(skjermbilde!$D$2=1,S85^2*R85,2*S85^2*R85)","v":0},{"$f":"IF(C85=\"\",\"\",IF(skjermbilde!$D$2=1,C85,IF(AND(skjermbilde!$D$2=2,2*C85>60),60,IF(skjermbilde!$D$2=2,2*C85))))","v":4},{"$f":"IF(skjermbilde!$D$2=1,D85,IF(AND(skjermbilde!$D$2=2,2*D85>60),60,IF(skjermbilde!$D$2=2,2*D85)))","v":8},{"$f":"IF(skjermbilde!$D$2=1,E85,IF(AND(skjermbilde!$D$2=2,2*E85>60),60,IF(skjermbilde!$D$2=2,2*E85)))","v":16},{"$f":"IF(skjermbilde!$D$2=1,F85,IF(AND(skjermbilde!$D$2=2,2*F85>60),60,IF(skjermbilde!$D$2=2,2*F85)))","v":25},{"$f":"IF(skjermbilde!$D$2=1,G85,IF(AND(skjermbilde!$D$2=2,2*G85>60),60,IF(skjermbilde!$D$2=2,2*G85)))","v":41},{"$f":"IF(skjermbilde!$D$2=1,H85,IF(AND(skjermbilde!$D$2=2,2*H85>60),60,IF(skjermbilde!$D$2=2,2*H85)))","v":50},{"$f":"IF(skjermbilde!$D$2=1,I85,IF(AND(skjermbilde!$D$2=2,2*I85>60),60,IF(skjermbilde!$D$2=2,2*I85)))","v":45},{"$f":"IF(J85=\"\",\"\",IF(skjermbilde!$D$2=1,J85,IF(AND(skjermbilde!$D$2=2,2*J85>60),60,IF(skjermbilde!$D$2=2,2*J85))))","v":32},null,null,{"$f":"+IF(ISNUMBER(skjermbilde!G$3-Y85-skjermbilde!G$6-4),skjermbilde!G$3-Y85-skjermbilde!G$6-4,0)","v":-8},{"$f":"+IF(ISNUMBER(skjermbilde!H$3-Z85-skjermbilde!H$6-4),skjermbilde!H$3-Z85-skjermbilde!H$6-4,0)","v":-12},{"$f":"+IF(ISNUMBER(skjermbilde!I$3-AA85-skjermbilde!I$6-4),skjermbilde!I$3-AA85-skjermbilde!I$6-4,0)","v":-20},{"$f":"+IF(ISNUMBER(skjermbilde!J$3-AB85-skjermbilde!J$6-4),skjermbilde!J$3-AB85-skjermbilde!J$6-4,0)","v":-29},{"$f":"+IF(ISNUMBER(skjermbilde!K$3-AC85-skjermbilde!K$6-4),skjermbilde!K$3-AC85-skjermbilde!K$6-4,0)","v":-45},{"$f":"+IF(ISNUMBER(skjermbilde!L$3-AD85-skjermbilde!L$6-4),skjermbilde!L$3-AD85-skjermbilde!L$6-4,0)","v":-54},{"$f":"+IF(ISNUMBER(skjermbilde!M$3-AE85-skjermbilde!M$6-4),skjermbilde!M$3-AE85-skjermbilde!M$6-4,0)","v":-49},{"$f":"+IF(ISNUMBER(skjermbilde!N$3-AF85-skjermbilde!N$6-4),skjermbilde!N$3-AF85-skjermbilde!N$6-4,0)","v":-36},{"$f":"IF(skjermbilde!$O$10=TRUE,10*LOG10(10^(0.1*(AI85+AI$12))+10^(0.1*(AJ85+AJ$12))+10^(0.1*(AK85+AK$12))+10^(0.1*(AL85+AL$12))+10^(0.1*(AM85+AM$12))+10^(0.1*(AN85+AN$12))+10^(0.1*(AO85+AO$12))+10^(0.1*(AP85+AP$12))),\"\")","v":""},1,1,1,1,1,1,1,1,1,0,{"$f":"IF(skjermbilde!$D$4=\"\",1,IF(P85=skjermbilde!$D$4,1,0))","v":1},{"$f":"IF(skjermbilde!$D$4=\"\",1,IF(U85=\"r\",1,IF(P85=skjermbilde!$D$4,1,0)))","v":1},{"$f":"+IF(U85=\"r\",1,IF(M85=skjermbilde!$D$3,1,0))","v":1},{"$f":"+IF(U85=\"s\",1,IF(N85=skjermbilde!$C$3,1,0))","v":1},{"$f":"+IF(U85=\"s\",1,IF(O85=skjermbilde!$C$4,1,0))","v":1},1,0,null,null,null,70,"",null,null,null,null,null,null,null,null,null,null,null,null,null,null,"",70,"",null,null,null,null,null,null,null,null,null,null,null,null,"",70,"",null,null,null,null,"",{"$f":"IF(skjermbilde!$D$2=1,VLOOKUP($CS85,$CB$17:$CD$261,3,FALSE),CONCATENATE(\"2 x \",VLOOKUP($CS85,$CB$17:$CD$261,3,FALSE)))","v":""},null,null,null,null,null,null,null,null,null,3.1000000000000016E-7,1.0000003099999999,1,"LKR-315-1200",1.00000033,"LEV-500-1000",0]
[71,{"$f":"+IF(skjermbilde!$N$10=1,datagrunnlag!H86,CONCATENATE(datagrunnlag!H86,\"-V\"))","v":"LKR-400-1200"},{"$f":"IF(skjermbilde!$N$10=1,datagrunnlag!I86,datagrunnlag!S86)","v":4},{"$f":"IF(skjermbilde!$N$10=1,datagrunnlag!J86,datagrunnlag!T86)","v":7.4882715356262111},{"$f":"IF(skjermbilde!$N$10=1,datagrunnlag!K86,datagrunnlag!U86)","v":13.24961390171741},{"$f":"IF(skjermbilde!$N$10=1,datagrunnlag!L86,datagrunnlag!V86)","v":23.243591646565875},{"$f":"IF(skjermbilde!$N$10=1,datagrunnlag!M86,datagrunnlag!W86)","v":35.368006031740208},{"$f":"IF(skjermbilde!$N$10=1,datagrunnlag!N86,datagrunnlag!X86)","v":36.050651098302801},{"$f":"IF(skjermbilde!$N$10=1,datagrunnlag!O86,datagrunnlag!Y86)","v":27.965117604036202},{"$f":"IF(skjermbilde!$N$10=1,datagrunnlag!P86,datagrunnlag!Z86)","v":15.534320593899647},{"$f":"+datagrunnlag!A86","v":"LKR"},{"$f":"+datagrunnlag!B86","v":"s"},{"$f":"+datagrunnlag!C86","v":400},null,null,{"$f":"++IF(datagrunnlag!F86=\"s\",\"c\",datagrunnlag!F86)","v":"r"},{"$f":"+datagrunnlag!G86","v":1200},{"$f":"IF(skjermbilde!$N$10=1,datagrunnlag!Q86,datagrunnlag!AI86)","v":4.2324486594604924E-5},0,201,"r",0,0,{"$f":"IF(skjermbilde!$D$2=1,S86^2*R86,2*S86^2*R86)","v":0},{"$f":"IF(C86=\"\",\"\",IF(skjermbilde!$D$2=1,C86,IF(AND(skjermbilde!$D$2=2,2*C86>60),60,IF(skjermbilde!$D$2=2,2*C86))))","v":4},{"$f":"IF(skjermbilde!$D$2=1,D86,IF(AND(skjermbilde!$D$2=2,2*D86>60),60,IF(skjermbilde!$D$2=2,2*D86)))","v":7.4882715356262111},{"$f":"IF(skjermbilde!$D$2=1,E86,IF(AND(skjermbilde!$D$2=2,2*E86>60),60,IF(skjermbilde!$D$2=2,2*E86)))","v":13.24961390171741},{"$f":"IF(skjermbilde!$D$2=1,F86,IF(AND(skjermbilde!$D$2=2,2*F86>60),60,IF(skjermbilde!$D$2=2,2*F86)))","v":23.243591646565875},{"$f":"IF(skjermbilde!$D$2=1,G86,IF(AND(skjermbilde!$D$2=2,2*G86>60),60,IF(skjermbilde!$D$2=2,2*G86)))","v":35.368006031740208},{"$f":"IF(skjermbilde!$D$2=1,H86,IF(AND(skjermbilde!$D$2=2,2*H86>60),60,IF(skjermbilde!$D$2=2,2*H86)))","v":36.050651098302801},{"$f":"IF(skjermbilde!$D$2=1,I86,IF(AND(skjermbilde!$D$2=2,2*I86>60),60,IF(skjermbilde!$D$2=2,2*I86)))","v":27.965117604036202},{"$f":"IF(J86=\"\",\"\",IF(skjermbilde!$D$2=1,J86,IF(AND(skjermbilde!$D$2=2,2*J86>60),60,IF(skjermbilde!$D$2=2,2*J86))))","v":15.534320593899647},null,null,{"$f":"+IF(ISNUMBER(skjermbilde!G$3-Y86-skjermbilde!G$6-4),skjermbilde!G$3-Y86-skjermbilde!G$6-4,0)","v":-8},{"$f":"+IF(ISNUMBER(skjermbilde!H$3-Z86-skjermbilde!H$6-4),skjermbilde!H$3-Z86-skjermbilde!H$6-4,0)","v":-11.488271535626211},{"$f":"+IF(ISNUMBER(skjermbilde!I$3-AA86-skjermbilde!I$6-4),skjermbilde!I$3-AA86-skjermbilde!I$6-4,0)","v":-17.24961390171741},{"$f":"+IF(ISNUMBER(skjermbilde!J$3-AB86-skjermbilde!J$6-4),skjermbilde!J$3-AB86-skjermbilde!J$6-4,0)","v":-27.243591646565875},{"$f":"+IF(ISNUMBER(skjermbilde!K$3-AC86-skjermbilde!K$6-4),skjermbilde!K$3-AC86-skjermbilde!K$6-4,0)","v":-39.368006031740208},{"$f":"+IF(ISNUMBER(skjermbilde!L$3-AD86-skjermbilde!L$6-4),skjermbilde!L$3-AD86-skjermbilde!L$6-4,0)","v":-40.050651098302801},{"$f":"+IF(ISNUMBER(skjermbilde!M$3-AE86-skjermbilde!M$6-4),skjermbilde!M$3-AE86-skjermbilde!M$6-4,0)","v":-31.965117604036202},{"$f":"+IF(ISNUMBER(skjermbilde!N$3-AF86-skjermbilde!N$6-4),skjermbilde!N$3-AF86-skjermbilde!N$6-4,0)","v":-19.534320593899647},{"$f":"IF(skjermbilde!$O$10=TRUE,10*LOG10(10^(0.1*(AI86+AI$12))+10^(0.1*(AJ86+AJ$12))+10^(0.1*(AK86+AK$12))+10^(0.1*(AL86+AL$12))+10^(0.1*(AM86+AM$12))+10^(0.1*(AN86+AN$12))+10^(0.1*(AO86+AO$12))+10^(0.1*(AP86+AP$12))),\"\")","v":""},1,1,1,1,1,1,1,1,1,0,{"$f":"IF(skjermbilde!$D$4=\"\",1,IF(P86=skjermbilde!$D$4,1,0))","v":1},{"$f":"IF(skjermbilde!$D$4=\"\",1,IF(U86=\"r\",1,IF(P86=skjermbilde!$D$4,1,0)))","v":1},{"$f":"+IF(U86=\"r\",1,IF(M86=skjermbilde!$D$3,1,0))","v":1},{"$f":"+IF(U86=\"s\",1,IF(N86=skjermbilde!$C$3,1,0))","v":1},{"$f":"+IF(U86=\"s\",1,IF(O86=skjermbilde!$C$4,1,0))","v":1},1,0,null,null,null,71,"",null,null,null,null,null,null,null,null,null,null,null,null,null,null,"",71,"",null,null,null,null,null,null,null,null,null,null,null,null,"",71,"",null,null,null,null,"",{"$f":"IF(skjermbilde!$D$2=1,VLOOKUP($CS86,$CB$17:$CD$261,3,FALSE),CONCATENATE(\"2 x \",VLOOKUP($CS86,$CB$17:$CD$261,3,FALSE)))","v":""},null,null,null,null,null,null,null,null,null,3.2000000000000017E-7,1.0000003200000001,1,"LKR-400-1200",1.00000033,"LEV-500-1000",0]
[72,{"$f":"+IF(skjermbilde!$N$10=1,datagrunnlag!H87,CONCATENATE(datagrunnlag!H87,\"-V\"))","v":"LKR-500-1200"},{"$f":"IF(skjermbilde!$N$10=1,datagrunnlag!I87,datagrunnlag!S87)","v":5},{"$f":"IF(skjermbilde!$N$10=1,datagrunnlag!J87,datagrunnlag!T87)","v":8},{"$f":"IF(skjermbilde!$N$10=1,datagrunnlag!K87,datagrunnlag!U87)","v":16},{"$f":"IF(skjermbilde!$N$10=1,datagrunnlag!L87,datagrunnlag!V87)","v":30},{"$f":"IF(skjermbilde!$N$10=1,datagrunnlag!M87,datagrunnlag!W87)","v":44},{"$f":"IF(skjermbilde!$N$10=1,datagrunnlag!N87,datagrunnlag!X87)","v":46},{"$f":"IF(skjermbilde!$N$10=1,datagrunnlag!O87,datagrunnlag!Y87)","v":29},{"$f":"IF(skjermbilde!$N$10=1,datagrunnlag!P87,datagrunnlag!Z87)","v":18},{"$f":"+datagrunnlag!A87","v":"LKR"},{"$f":"+datagrunnlag!B87","v":"s"},{"$f":"+datagrunnlag!C87","v":500},null,null,{"$f":"++IF(datagrunnlag!F87=\"s\",\"c\",datagrunnlag!F87)","v":"r"},{"$f":"+datagrunnlag!G87","v":1200},{"$f":"IF(skjermbilde!$N$10=1,datagrunnlag!Q87,datagrunnlag!AI87)","v":2.4454358459804645E-5},{"$f":"+$B$6","v":0},201,{"$f":"+$B$7","v":"r"},{"$f":"+$B$3","v":0},{"$f":"+$B$4","v":0},{"$f":"IF(skjermbilde!$D$2=1,S87^2*R87,2*S87^2*R87)","v":0},{"$f":"IF(C87=\"\",\"\",IF(skjermbilde!$D$2=1,C87,IF(AND(skjermbilde!$D$2=2,2*C87>60),60,IF(skjermbilde!$D$2=2,2*C87))))","v":5},{"$f":"IF(skjermbilde!$D$2=1,D87,IF(AND(skjermbilde!$D$2=2,2*D87>60),60,IF(skjermbilde!$D$2=2,2*D87)))","v":8},{"$f":"IF(skjermbilde!$D$2=1,E87,IF(AND(skjermbilde!$D$2=2,2*E87>60),60,IF(skjermbilde!$D$2=2,2*E87)))","v":16},{"$f":"IF(skjermbilde!$D$2=1,F87,IF(AND(skjermbilde!$D$2=2,2*F87>60),60,IF(skjermbilde!$D$2=2,2*F87)))","v":30},{"$f":"IF(skjermbilde!$D$2=1,G87,IF(AND(skjermbilde!$D$2=2,2*G87>60),60,IF(skjermbilde!$D$2=2,2*G87)))","v":44},{"$f":"IF(skjermbilde!$D$2=1,H87,IF(AND(skjermbilde!$D$2=2,2*H87>60),60,IF(skjermbilde!$D$2=2,2*H87)))","v":46},{"$f":"IF(skjermbilde!$D$2=1,I87,IF(AND(skjermbilde!$D$2=2,2*I87>60),60,IF(skjermbilde!$D$2=2,2*I87)))","v":29},{"$f":"IF(J87=\"\",\"\",IF(skjermbilde!$D$2=1,J87,IF(AND(skjermbilde!$D$2=2,2*J87>60),60,IF(skjermbilde!$D$2=2,2*J87))))","v":18},null,null,{"$f":"+IF(ISNUMBER(skjermbilde!G$3-Y87-skjermbilde!G$6-4),skjermbilde!G$3-Y87-skjermbilde!G$6-4,0)","v":-9},{"$f":"+IF(ISNUMBER(skjermbilde!H$3-Z87-skjermbilde!H$6-4),skjermbilde!H$3-Z87-skjermbilde!H$6-4,0)","v":-12},{"$f":"+IF(ISNUMBER(skjermbilde!I$3-AA87-skjermbilde!I$6-4),skjermbilde!I$3-AA87-skjermbilde!I$6-4,0)","v":-20},{"$f":"+IF(ISNUMBER(skjermbilde!J$3-AB87-skjermbilde!J$6-4),skjermbilde!J$3-AB87-skjermbilde!J$6-4,0)","v":-34},{"$f":"+IF(ISNUMBER(skjermbilde!K$3-AC87-skjermbilde!K$6-4),skjermbilde!K$3-AC87-skjermbilde!K$6-4,0)","v":-48},{"$f":"+IF(ISNUMBER(skjermbilde!L$3-AD87-skjermbilde!L$6-4),skjermbilde!L$3-AD87-skjermbilde!L$6-4,0)","v":-50},{"$f":"+IF(ISNUMBER(skjermbilde!M$3-AE87-skjermbilde!M$6-4),skjermbilde!M$3-AE87-skjermbilde!M$6-4,0)","v":-33},{"$f":"+IF(ISNUMBER(skjermbilde!N$3-AF87-skjermbilde!N$6-4),skjermbilde!N$3-AF87-skjermbilde!N$6-4,0)","v":-22},{"$f":"IF(skjermbilde!$O$10=TRUE,10*LOG10(10^(0.1*(AI87+AI$12))+10^(0.1*(AJ87+AJ$12))+10^(0.1*(AK87+AK$12))+10^(0.1*(AL87+AL$12))+10^(0.1*(AM87+AM$12))+10^(0.1*(AN87+AN$12))+10^(0.1*(AO87+AO$12))+10^(0.1*(AP87+AP$12))),\"\")","v":""},1,{"$f":"+IF(Y87>Y$11,1,0)","v":1},{"$f":"+IF(Z87>Z$11,1,0)","v":1},{"$f":"+IF(AA87>AA$11,1,0)","v":1},{"$f":"+IF(AB87>AB$11,1,0)","v":1},{"$f":"+IF(AC87>AC$11,1,0)","v":1},{"$f":"+IF(AD87>AD$11,1,0)","v":1},{"$f":"+IF(AE87>AE$11,1,0)","v":1},{"$f":"+IF(AF87>AF$11,1,0)","v":1},{"$f":"+IF(U87=L87,1,0)","v":0},{"$f":"IF(skjermbilde!$D$4=\"\",1,IF(P87=skjermbilde!$D$4,1,0))","v":1},{"$f":"IF(skjermbilde!$D$4=\"\",1,IF(U87=\"r\",1,IF(P87=skjermbilde!$D$4,1,0)))","v":1},{"$f":"+IF(U87=\"r\",1,IF(M87=skjermbilde!$D$3,1,0))","v":1},{"$f":"+IF(U87=\"s\",1,IF(N87=skjermbilde!$C$3,1,0))","v":1},{"$f":"+IF(U87=\"s\",1,IF(O87=skjermbilde!$C$4,1,0))","v":1},1,0,null,null,null,72,{"$f":"+IF($BH87=1,$B87,\"\")","v":""},null,null,null,null,null,null,null,null,null,null,null,null,null,null,{"$f":"+IF($BH87=1,$X87+DI87,\"\")","v":""},72,{"$f":"+IF($BH87=1,$B87,\"\")","v":""},null,null,null,null,null,null,null,null,null,null,null,null,"",72,"",null,null,null,null,"",{"$f":"IF(skjermbilde!$D$2=1,VLOOKUP($CS87,$CB$17:$CD$261,3,FALSE),CONCATENATE(\"2 x \",VLOOKUP($CS87,$CB$17:$CD$261,3,FALSE)))","v":""},null,null,null,null,null,null,null,null,null,3.3000000000000018E-7,1.00000033,{"$f":"SEARCH($DL$14,B87,1)","v":1},{"$f":"IF(ISNUMBER(DK87),B87,\"\")","v":"LKR-500-1200"},1.0000003399999999,"LEV-630-1000",0]
[{"$f":"+A87+1","v":73},{"$f":"+IF(skjermbilde!$N$10=1,datagrunnlag!H88,CONCATENATE(datagrunnlag!H88,\"-V\"))","v":"LKR-630-1200"},{"$f":"IF(skjermbilde!$N$10=1,datagrunnlag!I88,datagrunnlag!S88)","v":6},{"$f":"IF(skjermbilde!$N$10=1,datagrunnlag!J88,datagrunnlag!T88)","v":8.5688617257082083},{"$f":"IF(skjermbilde!$N$10=1,datagrunnlag!K88,datagrunnlag!U88)","v":15.079547980599733},{"$f":"IF(skjermbilde!$N$10=1,datagrunnlag!L88,datagrunnlag!V88)","v":27.08921011555374},{"$f":"IF(skjermbilde!$N$10=1,datagrunnlag!M88,datagrunnlag!W88)","v":44.35535753818727},{"$f":"IF(skjermbilde!$N$10=1,datagrunnlag!N88,datagrunnlag!X88)","v":32.749940175887403},{"$f":"IF(skjermbilde!$N$10=1,datagrunnlag!O88,datagrunnlag!Y88)","v":20.883019235503347},{"$f":"IF(skjermbilde!$N$10=1,datagrunnlag!P88,datagrunnlag!Z88)","v":14.327478792590059},{"$f":"+datagrunnlag!A88","v":"LKR"},{"$f":"+datagrunnlag!B88","v":"s"},{"$f":"+datagrunnlag!C88","v":630},null,null,{"$f":"++IF(datagrunnlag!F88=\"s\",\"c\",datagrunnlag!F88)","v":"r"},{"$f":"+datagrunnlag!G88","v":1200},{"$f":"IF(skjermbilde!$N$10=1,datagrunnlag!Q88,datagrunnlag!AI88)","v":8.3074326596222713E-6},0,{"$f":"+IF($B$2=0,201,$B$2)","v":201},"r",0,0,{"$f":"IF(skjermbilde!$D$2=1,S88^2*R88,2*S88^2*R88)","v":0},{"$f":"IF(C88=\"\",\"\",IF(skjermbilde!$D$2=1,C88,IF(AND(skjermbilde!$D$2=2,2*C88>60),60,IF(skjermbilde!$D$2=2,2*C88))))","v":6},{"$f":"IF(skjermbilde!$D$2=1,D88,IF(AND(skjermbilde!$D$2=2,2*D88>60),60,IF(skjermbilde!$D$2=2,2*D88)))","v":8.5688617257082083},{"$f":"IF(skjermbilde!$D$2=1,E88,IF(AND(skjermbilde!$D$2=2,2*E88>60),60,IF(skjermbilde!$D$2=2,2*E88)))","v":15.079547980599733},{"$f":"IF(skjermbilde!$D$2=1,F88,IF(AND(skjermbilde!$D$2=2,2*F88>60),60,IF(skjermbilde!$D$2=2,2*F88)))","v":27.08921011555374},{"$f":"IF(skjermbilde!$D$2=1,G88,IF(AND(skjermbilde!$D$2=2,2*G88>60),60,IF(skjermbilde!$D$2=2,2*G88)))","v":44.35535753818727},{"$f":"IF(skjermbilde!$D$2=1,H88,IF(AND(skjermbilde!$D$2=2,2*H88>60),60,IF(skjermbilde!$D$2=2,2*H88)))","v":32.749940175887403},{"$f":"IF(skjermbilde!$D$2=1,I88,IF(AND(skjermbilde!$D$2=2,2*I88>60),60,IF(skjermbilde!$D$2=2,2*I88)))","v":20.883019235503347},{"$f":"IF(J88=\"\",\"\",IF(skjermbilde!$D$2=1,J88,IF(AND(skjermbilde!$D$2=2,2*J88>60),60,IF(skjermbilde!$D$2=2,2*J88))))","v":14.327478792590059},null,null,{"$f":"+IF(ISNUMBER(skjermbilde!G$3-Y88-skjermbilde!G$6-4),skjermbilde!G$3-Y88-skjermbilde!G$6-4,0)","v":-10},{"$f":"+IF(ISNUMBER(skjermbilde!H$3-Z88-skjermbilde!H$6-4),skjermbilde!H$3-Z88-skjermbilde!H$6-4,0)","v":-12.568861725708208},{"$f":"+IF(ISNUMBER(skjermbilde!I$3-AA88-skjermbilde!I$6-4),skjermbilde!I$3-AA88-skjermbilde!I$6-4,0)","v":-19.079547980599735},{"$f":"+IF(ISNUMBER(skjermbilde!J$3-AB88-skjermbilde!J$6-4),skjermbilde!J$3-AB88-skjermbilde!J$6-4,0)","v":-31.08921011555374},{"$f":"+IF(ISNUMBER(skjermbilde!K$3-AC88-skjermbilde!K$6-4),skjermbilde!K$3-AC88-skjermbilde!K$6-4,0)","v":-48.35535753818727},{"$f":"+IF(ISNUMBER(skjermbilde!L$3-AD88-skjermbilde!L$6-4),skjermbilde!L$3-AD88-skjermbilde!L$6-4,0)","v":-36.749940175887403},{"$f":"+IF(ISNUMBER(skjermbilde!M$3-AE88-skjermbilde!M$6-4),skjermbilde!M$3-AE88-skjermbilde!M$6-4,0)","v":-24.883019235503347},{"$f":"+IF(ISNUMBER(skjermbilde!N$3-AF88-skjermbilde!N$6-4),skjermbilde!N$3-AF88-skjermbilde!N$6-4,0)","v":-18.327478792590057},{"$f":"IF(skjermbilde!$O$10=TRUE,10*LOG10(10^(0.1*(AI88+AI$12))+10^(0.1*(AJ88+AJ$12))+10^(0.1*(AK88+AK$12))+10^(0.1*(AL88+AL$12))+10^(0.1*(AM88+AM$12))+10^(0.1*(AN88+AN$12))+10^(0.1*(AO88+AO$12))+10^(0.1*(AP88+AP$12))),\"\")","v":""},{"$f":"+IF(AND(X88-1<T88,X88<201),1,0)","v":1},1,1,1,1,1,1,1,1,0,{"$f":"IF(skjermbilde!$D$4=\"\",1,IF(P88=skjermbilde!$D$4,1,0))","v":1},{"$f":"IF(skjermbilde!$D$4=\"\",1,IF(U88=\"r\",1,IF(P88=skjermbilde!$D$4,1,0)))","v":1},{"$f":"+IF(U88=\"r\",1,IF(M88=skjermbilde!$D$3,1,0))","v":1},{"$f":"+IF(U88=\"s\",1,IF(N88=skjermbilde!$C$3,1,0))","v":1},{"$f":"+IF(U88=\"s\",1,IF(O88=skjermbilde!$C$4,1,0))","v":1},{"$f":"+IF(OR(W88=Q88,W88=0),1,0)","v":1},{"$f":"+IF(SUM(AR88:BG88)=16,1,0)","v":0},null,null,null,{"$f":"+A88","v":73},"",null,null,null,null,null,null,null,null,null,null,null,null,null,null,"",{"$f":"+BL88","v":73},"",null,null,null,null,null,null,null,null,null,null,null,null,{"$f":"+IF($BH88=1,$AQ88,\"\")","v":""},{"$f":"+CR87+1","v":73},"",null,null,null,null,"",{"$f":"IF(skjermbilde!$D$2=1,VLOOKUP($CS88,$CB$17:$CD$261,3,FALSE),CONCATENATE(\"2 x \",VLOOKUP($CS88,$CB$17:$CD$261,3,FALSE)))","v":""},null,null,null,null,null,null,null,null,null,{"$f":"0.00000001+DI87","v":3.4000000000000019E-7},{"$f":"IF(ISNUMBER(DK88),DK88+DI88,\"\")","v":1.0000003399999999},1,"LKR-630-1200",1.0000003399999999,"LEV-630-1000",0]
[74,{"$f":"+IF(skjermbilde!$N$10=1,datagrunnlag!H89,CONCATENATE(datagrunnlag!H89,\"-V\"))","v":0},{"$f":"IF(skjermbilde!$N$10=1,datagrunnlag!I89,datagrunnlag!S89)","v":0},{"$f":"IF(skjermbilde!$N$10=1,datagrunnlag!J89,datagrunnlag!T89)","v":0},{"$f":"IF(skjermbilde!$N$10=1,datagrunnlag!K89,datagrunnlag!U89)","v":0},{"$f":"IF(skjermbilde!$N$10=1,datagrunnlag!L89,datagrunnlag!V89)","v":0},{"$f":"IF(skjermbilde!$N$10=1,datagrunnlag!M89,datagrunnlag!W89)","v":0},{"$f":"IF(skjermbilde!$N$10=1,datagrunnlag!N89,datagrunnlag!X89)","v":0},{"$f":"IF(skjermbilde!$N$10=1,datagrunnlag!O89,datagrunnlag!Y89)","v":0},{"$f":"IF(skjermbilde!$N$10=1,datagrunnlag!P89,datagrunnlag!Z89)","v":0},{"$f":"+datagrunnlag!A89","v":0},{"$f":"+datagrunnlag!B89","v":0},{"$f":"+datagrunnlag!C89","v":0},null,null,{"$f":"++IF(datagrunnlag!F89=\"s\",\"c\",datagrunnlag!F89)","v":0},{"$f":"+datagrunnlag!G89","v":0},{"$f":"IF(skjermbilde!$N$10=1,datagrunnlag!Q89,datagrunnlag!AI89)","v":0},0,201,"r",0,0,{"$f":"IF(skjermbilde!$D$2=1,S89^2*R89,2*S89^2*R89)","v":0},{"$f":"IF(C89=\"\",\"\",IF(skjermbilde!$D$2=1,C89,IF(AND(skjermbilde!$D$2=2,2*C89>60),60,IF(skjermbilde!$D$2=2,2*C89))))","v":0},{"$f":"IF(skjermbilde!$D$2=1,D89,IF(AND(skjermbilde!$D$2=2,2*D89>60),60,IF(skjermbilde!$D$2=2,2*D89)))","v":0},{"$f":"IF(skjermbilde!$D$2=1,E89,IF(AND(skjermbilde!$D$2=2,2*E89>60),60,IF(skjermbilde!$D$2=2,2*E89)))","v":0},{"$f":"IF(skjermbilde!$D$2=1,F89,IF(AND(skjermbilde!$D$2=2,2*F89>60),60,IF(skjermbilde!$D$2=2,2*F89)))","v":0},{"$f":"IF(skjermbilde!$D$2=1,G89,IF(AND(skjermbilde!$D$2=2,2*G89>60),60,IF(skjermbilde!$D$2=2,2*G89)))","v":0},{"$f":"IF(skjermbilde!$D$2=1,H89,IF(AND(skjermbilde!$D$2=2,2*H89>60),60,IF(skjermbilde!$D$2=2,2*H89)))","v":0},{"$f":"IF(skjermbilde!$D$2=1,I89,IF(AND(skjermbilde!$D$2=2,2*I89>60),60,IF(skjermbilde!$D$2=2,2*I89)))","v":0},{"$f":"IF(J89=\"\",\"\",IF(skjermbilde!$D$2=1,J89,IF(AND(skjermbilde!$D$2=2,2*J89>60),60,IF(skjermbilde!$D$2=2,2*J89))))","v":0},null,null,{"$f":"+IF(ISNUMBER(skjermbilde!G$3-Y89-skjermbilde!G$6-4),skjermbilde!G$3-Y89-skjermbilde!G$6-4,0)","v":-4},{"$f":"+IF(ISNUMBER(skjermbilde!H$3-Z89-skjermbilde!H$6-4),skjermbilde!H$3-Z89-skjermbilde!H$6-4,0)","v":-4},{"$f":"+IF(ISNUMBER(skjermbilde!I$3-AA89-skjermbilde!I$6-4),skjermbilde!I$3-AA89-skjermbilde!I$6-4,0)","v":-4},{"$f":"+IF(ISNUMBER(skjermbilde!J$3-AB89-skjermbilde!J$6-4),skjermbilde!J$3-AB89-skjermbilde!J$6-4,0)","v":-4},{"$f":"+IF(ISNUMBER(skjermbilde!K$3-AC89-skjermbilde!K$6-4),skjermbilde!K$3-AC89-skjermbilde!K$6-4,0)","v":-4},{"$f":"+IF(ISNUMBER(skjermbilde!L$3-AD89-skjermbilde!L$6-4),skjermbilde!L$3-AD89-skjermbilde!L$6-4,0)","v":-4},{"$f":"+IF(ISNUMBER(skjermbilde!M$3-AE89-skjermbilde!M$6-4),skjermbilde!M$3-AE89-skjermbilde!M$6-4,0)","v":-4},{"$f":"+IF(ISNUMBER(skjermbilde!N$3-AF89-skjermbilde!N$6-4),skjermbilde!N$3-AF89-skjermbilde!N$6-4,0)","v":-4},{"$f":"IF(skjermbilde!$O$10=TRUE,10*LOG10(10^(0.1*(AI89+AI$12))+10^(0.1*(AJ89+AJ$12))+10^(0.1*(AK89+AK$12))+10^(0.1*(AL89+AL$12))+10^(0.1*(AM89+AM$12))+10^(0.1*(AN89+AN$12))+10^(0.1*(AO89+AO$12))+10^(0.1*(AP89+AP$12))),\"\")","v":""},{"$f":"+IF(AND(X89-1<T89,X89<201),1,0)","v":1},{"$f":"+IF(Y89>Y$11,1,0)","v":1},1,1,1,1,1,1,1,{"$f":"+IF(U89=L89,1,0)","v":0},{"$f":"IF(skjermbilde!$D$4=\"\",1,IF(P89=skjermbilde!$D$4,1,0))","v":0},{"$f":"IF(skjermbilde!$D$4=\"\",1,IF(U89=\"r\",1,IF(P89=skjermbilde!$D$4,1,0)))","v":1},{"$f":"+IF(U89=\"r\",1,IF(M89=skjermbilde!$D$3,1,0))","v":1},{"$f":"+IF(U89=\"s\",1,IF(N89=skjermbilde!$C$3,1,0))","v":1},{"$f":"+IF(U89=\"s\",1,IF(O89=skjermbilde!$C$4,1,0))","v":1},{"$f":"+IF(OR(W89=Q89,W89=0),1,0)","v":1},{"$f":"+IF(SUM(AR89:BG89)=16,1,0)","v":0},null,null,null,{"$f":"+A89","v":74},"",null,null,null,null,null,null,null,null,null,null,null,null,null,null,{"$f":"+IF($BH89=1,$X89+DI89,\"\")","v":""},{"$f":"+BL89","v":74},"",null,null,null,null,null,null,null,null,null,null,null,null,"",74,"",null,null,null,null,"",{"$f":"IF(skjermbilde!$D$2=1,VLOOKUP($CS89,$CB$17:$CD$261,3,FALSE),CONCATENATE(\"2 x \",VLOOKUP($CS89,$CB$17:$CD$261,3,FALSE)))","v":""},null,null,null,null,null,null,null,null,null,{"$f":"0.00000001+DI88","v":3.500000000000002E-7},{"$f":"IF(ISNUMBER(DK89),DK89+DI89,\"\")","v":1.0000003500000001},{"$f":"SEARCH($DL$14,B89,1)","v":1},{"$f":"IF(ISNUMBER(DK89),B89,\"\")","v":0},1.0000003500000001,0,0]
[75,{"$f":"+IF(skjermbilde!$N$10=1,datagrunnlag!H90,CONCATENATE(datagrunnlag!H90,\"-V\"))","v":0},{"$f":"IF(skjermbilde!$N$10=1,datagrunnlag!I90,datagrunnlag!S90)","v":0},{"$f":"IF(skjermbilde!$N$10=1,datagrunnlag!J90,datagrunnlag!T90)","v":0},{"$f":"IF(skjermbilde!$N$10=1,datagrunnlag!K90,datagrunnlag!U90)","v":0},{"$f":"IF(skjermbilde!$N$10=1,datagrunnlag!L90,datagrunnlag!V90)","v":0},{"$f":"IF(skjermbilde!$N$10=1,datagrunnlag!M90,datagrunnlag!W90)","v":0},{"$f":"IF(skjermbilde!$N$10=1,datagrunnlag!N90,datagrunnlag!X90)","v":0},{"$f":"IF(skjermbilde!$N$10=1,datagrunnlag!O90,datagrunnlag!Y90)","v":0},{"$f":"IF(skjermbilde!$N$10=1,datagrunnlag!P90,datagrunnlag!Z90)","v":0},{"$f":"+datagrunnlag!A90","v":0},{"$f":"+datagrunnlag!B90","v":0},{"$f":"+datagrunnlag!C90","v":0},null,null,{"$f":"++IF(datagrunnlag!F90=\"s\",\"c\",datagrunnlag!F90)","v":0},{"$f":"+datagrunnlag!G90","v":0},{"$f":"IF(skjermbilde!$N$10=1,datagrunnlag!Q90,datagrunnlag!AI90)","v":0},0,201,"r",0,0,{"$f":"IF(skjermbilde!$D$2=1,S90^2*R90,2*S90^2*R90)","v":0},{"$f":"IF(C90=\"\",\"\",IF(skjermbilde!$D$2=1,C90,IF(AND(skjermbilde!$D$2=2,2*C90>60),60,IF(skjermbilde!$D$2=2,2*C90))))","v":0},{"$f":"IF(skjermbilde!$D$2=1,D90,IF(AND(skjermbilde!$D$2=2,2*D90>60),60,IF(skjermbilde!$D$2=2,2*D90)))","v":0},{"$f":"IF(skjermbilde!$D$2=1,E90,IF(AND(skjermbilde!$D$2=2,2*E90>60),60,IF(skjermbilde!$D$2=2,2*E90)))","v":0},{"$f":"IF(skjermbilde!$D$2=1,F90,IF(AND(skjermbilde!$D$2=2,2*F90>60),60,IF(skjermbilde!$D$2=2,2*F90)))","v":0},{"$f":"IF(skjermbilde!$D$2=1,G90,IF(AND(skjermbilde!$D$2=2,2*G90>60),60,IF(skjermbilde!$D$2=2,2*G90)))","v":0},{"$f":"IF(skjermbilde!$D$2=1,H90,IF(AND(skjermbilde!$D$2=2,2*H90>60),60,IF(skjermbilde!$D$2=2,2*H90)))","v":0},{"$f":"IF(skjermbilde!$D$2=1,I90,IF(AND(skjermbilde!$D$2=2,2*I90>60),60,IF(skjermbilde!$D$2=2,2*I90)))","v":0},{"$f":"IF(J90=\"\",\"\",IF(skjermbilde!$D$2=1,J90,IF(AND(skjermbilde!$D$2=2,2*J90>60),60,IF(skjermbilde!$D$2=2,2*J90))))","v":0},null,null,{"$f":"+IF(ISNUMBER(skjermbilde!G$3-Y90-skjermbilde!G$6-4),skjermbilde!G$3-Y90-skjermbilde!G$6-4,0)","v":-4},{"$f":"+IF(ISNUMBER(skjermbilde!H$3-Z90-skjermbilde!H$6-4),skjermbilde!H$3-Z90-skjermbilde!H$6-4,0)","v":-4},{"$f":"+IF(ISNUMBER(skjermbilde!I$3-AA90-skjermbilde!I$6-4),skjermbilde!I$3-AA90-skjermbilde!I$6-4,0)","v":-4},{"$f":"+IF(ISNUMBER(skjermbilde!J$3-AB90-skjermbilde!J$6-4),skjermbilde!J$3-AB90-skjermbilde!J$6-4,0)","v":-4},{"$f":"+IF(ISNUMBER(skjermbilde!K$3-AC90-skjermbilde!K$6-4),skjermbilde!K$3-AC90-skjermbilde!K$6-4,0)","v":-4},{"$f":"+IF(ISNUMBER(skjermbilde!L$3-AD90-skjermbilde!L$6-4),skjermbilde!L$3-AD90-skjermbilde!L$6-4,0)","v":-4},{"$f":"+IF(ISNUMBER(skjermbilde!M$3-AE90-skjermbilde!M$6-4),skjermbilde!M$3-AE90-skjermbilde!M$6-4,0)","v":-4},{"$f":"+IF(ISNUMBER(skjermbilde!N$3-AF90-skjermbilde!N$6-4),skjermbilde!N$3-AF90-skjermbilde!N$6-4,0)","v":-4},{"$f":"IF(skjermbilde!$O$10=TRUE,10*LOG10(10^(0.1*(AI90+AI$12))+10^(0.1*(AJ90+AJ$12))+10^(0.1*(AK90+AK$12))+10^(0.1*(AL90+AL$12))+10^(0.1*(AM90+AM$12))+10^(0.1*(AN90+AN$12))+10^(0.1*(AO90+AO$12))+10^(0.1*(AP90+AP$12))),\"\")","v":""},1,1,1,1,1,1,1,1,1,0,{"$f":"IF(skjermbilde!$D$4=\"\",1,IF(P90=skjermbilde!$D$4,1,0))","v":0},{"$f":"IF(skjermbilde!$D$4=\"\",1,IF(U90=\"r\",1,IF(P90=skjermbilde!$D$4,1,0)))","v":1},{"$f":"+IF(U90=\"r\",1,IF(M90=skjermbilde!$D$3,1,0))","v":1},{"$f":"+IF(U90=\"s\",1,IF(N90=skjermbilde!$C$3,1,0))","v":1},{"$f":"+IF(U90=\"s\",1,IF(O90=skjermbilde!$C$4,1,0))","v":1},1,0,null,null,null,75,"",null,null,null,null,null,null,null,null,null,null,null,null,null,null,"",75,"",null,null,null,null,null,null,null,null,null,null,null,null,"",75,"",null,null,null,null,"",{"$f":"IF(skjermbilde!$D$2=1,VLOOKUP($CS90,$CB$17:$CD$261,3,FALSE),CONCATENATE(\"2 x \",VLOOKUP($CS90,$CB$17:$CD$261,3,FALSE)))","v":""},null,null,null,null,null,null,null,null,null,3.6000000000000021E-7,1.00000036,1,0,1.00000036,0,0]
[76,{"$f":"+IF(skjermbilde!$N$10=1,datagrunnlag!H91,CONCATENATE(datagrunnlag!H91,\"-V\"))","v":0},{"$f":"IF(skjermbilde!$N$10=1,datagrunnlag!I91,datagrunnlag!S91)","v":0},{"$f":"IF(skjermbilde!$N$10=1,datagrunnlag!J91,datagrunnlag!T91)","v":0},{"$f":"IF(skjermbilde!$N$10=1,datagrunnlag!K91,datagrunnlag!U91)","v":0},{"$f":"IF(skjermbilde!$N$10=1,datagrunnlag!L91,datagrunnlag!V91)","v":0},{"$f":"IF(skjermbilde!$N$10=1,datagrunnlag!M91,datagrunnlag!W91)","v":0},{"$f":"IF(skjermbilde!$N$10=1,datagrunnlag!N91,datagrunnlag!X91)","v":0},{"$f":"IF(skjermbilde!$N$10=1,datagrunnlag!O91,datagrunnlag!Y91)","v":0},{"$f":"IF(skjermbilde!$N$10=1,datagrunnlag!P91,datagrunnlag!Z91)","v":0},{"$f":"+datagrunnlag!A91","v":0},{"$f":"+datagrunnlag!B91","v":0},{"$f":"+datagrunnlag!C91","v":0},null,null,{"$f":"++IF(datagrunnlag!F91=\"s\",\"c\",datagrunnlag!F91)","v":0},{"$f":"+datagrunnlag!G91","v":0},{"$f":"IF(skjermbilde!$N$10=1,datagrunnlag!Q91,datagrunnlag!AI91)","v":0},0,201,"r",0,0,{"$f":"IF(skjermbilde!$D$2=1,S91^2*R91,2*S91^2*R91)","v":0},{"$f":"IF(C91=\"\",\"\",IF(skjermbilde!$D$2=1,C91,IF(AND(skjermbilde!$D$2=2,2*C91>60),60,IF(skjermbilde!$D$2=2,2*C91))))","v":0},{"$f":"IF(skjermbilde!$D$2=1,D91,IF(AND(skjermbilde!$D$2=2,2*D91>60),60,IF(skjermbilde!$D$2=2,2*D91)))","v":0},{"$f":"IF(skjermbilde!$D$2=1,E91,IF(AND(skjermbilde!$D$2=2,2*E91>60),60,IF(skjermbilde!$D$2=2,2*E91)))","v":0},{"$f":"IF(skjermbilde!$D$2=1,F91,IF(AND(skjermbilde!$D$2=2,2*F91>60),60,IF(skjermbilde!$D$2=2,2*F91)))","v":0},{"$f":"IF(skjermbilde!$D$2=1,G91,IF(AND(skjermbilde!$D$2=2,2*G91>60),60,IF(skjermbilde!$D$2=2,2*G91)))","v":0},{"$f":"IF(skjermbilde!$D$2=1,H91,IF(AND(skjermbilde!$D$2=2,2*H91>60),60,IF(skjermbilde!$D$2=2,2*H91)))","v":0},{"$f":"IF(skjermbilde!$D$2=1,I91,IF(AND(skjermbilde!$D$2=2,2*I91>60),60,IF(skjermbilde!$D$2=2,2*I91)))","v":0},{"$f":"IF(J91=\"\",\"\",IF(skjermbilde!$D$2=1,J91,IF(AND(skjermbilde!$D$2=2,2*J91>60),60,IF(skjermbilde!$D$2=2,2*J91))))","v":0},null,null,{"$f":"+IF(ISNUMBER(skjermbilde!G$3-Y91-skjermbilde!G$6-4),skjermbilde!G$3-Y91-skjermbilde!G$6-4,0)","v":-4},{"$f":"+IF(ISNUMBER(skjermbilde!H$3-Z91-skjermbilde!H$6-4),skjermbilde!H$3-Z91-skjermbilde!H$6-4,0)","v":-4},{"$f":"+IF(ISNUMBER(skjermbilde!I$3-AA91-skjermbilde!I$6-4),skjermbilde!I$3-AA91-skjermbilde!I$6-4,0)","v":-4},{"$f":"+IF(ISNUMBER(skjermbilde!J$3-AB91-skjermbilde!J$6-4),skjermbilde!J$3-AB91-skjermbilde!J$6-4,0)","v":-4},{"$f":"+IF(ISNUMBER(skjermbilde!K$3-AC91-skjermbilde!K$6-4),skjermbilde!K$3-AC91-skjermbilde!K$6-4,0)","v":-4},{"$f":"+IF(ISNUMBER(skjermbilde!L$3-AD91-skjermbilde!L$6-4),skjermbilde!L$3-AD91-skjermbilde!L$6-4,0)","v":-4},{"$f":"+IF(ISNUMBER(skjermbilde!M$3-AE91-skjermbilde!M$6-4),skjermbilde!M$3-AE91-skjermbilde!M$6-4,0)","v":-4},{"$f":"+IF(ISNUMBER(skjermbilde!N$3-AF91-skjermbilde!N$6-4),skjermbilde!N$3-AF91-skjermbilde!N$6-4,0)","v":-4},{"$f":"IF(skjermbilde!$O$10=TRUE,10*LOG10(10^(0.1*(AI91+AI$12))+10^(0.1*(AJ91+AJ$12))+10^(0.1*(AK91+AK$12))+10^(0.1*(AL91+AL$12))+10^(0.1*(AM91+AM$12))+10^(0.1*(AN91+AN$12))+10^(0.1*(AO91+AO$12))+10^(0.1*(AP91+AP$12))),\"\")","v":""},1,1,1,1,1,1,1,1,1,0,{"$f":"IF(skjermbilde!$D$4=\"\",1,IF(P91=skjermbilde!$D$4,1,0))","v":0},{"$f":"IF(skjermbilde!$D$4=\"\",1,IF(U91=\"r\",1,IF(P91=skjermbilde!$D$4,1,0)))","v":1},{"$f":"+IF(U91=\"r\",1,IF(M91=skjermbilde!$D$3,1,0))","v":1},{"$f":"+IF(U91=\"s\",1,IF(N91=skjermbilde!$C$3,1,0))","v":1},{"$f":"+IF(U91=\"s\",1,IF(O91=skjermbilde!$C$4,1,0))","v":1},1,0,null,null,null,76,"",null,null,null,null,null,null,null,null,null,null,null,null,null,null,"",76,"",null,null,null,null,null,null,null,null,null,null,null,null,"",76,"",null,null,null,null,"",{"$f":"IF(skjermbilde!$D$2=1,VLOOKUP($CS91,$CB$17:$CD$261,3,FALSE),CONCATENATE(\"2 x \",VLOOKUP($CS91,$CB$17:$CD$261,3,FALSE)))","v":""},null,null,null,null,null,null,null,null,null,3.7000000000000022E-7,1.00000037,1,0,1.00000037,0,0]
[77,{"$f":"+IF(skjermbilde!$N$10=1,datagrunnlag!H92,CONCATENATE(datagrunnlag!H92,\"-V\"))","v":"LKR-800-1500"},{"$f":"IF(skjermbilde!$N$10=1,datagrunnlag!I92,datagrunnlag!S92)","v":7},{"$f":"IF(skjermbilde!$N$10=1,datagrunnlag!J92,datagrunnlag!T92)","v":10},{"$f":"IF(skjermbilde!$N$10=1,datagrunnlag!K92,datagrunnlag!U92)","v":16},{"$f":"IF(skjermbilde!$N$10=1,datagrunnlag!L92,datagrunnlag!V92)","v":30},{"$f":"IF(skjermbilde!$N$10=1,datagrunnlag!M92,datagrunnlag!W92)","v":50},{"$f":"IF(skjermbilde!$N$10=1,datagrunnlag!N92,datagrunnlag!X92)","v":35},{"$f":"IF(skjermbilde!$N$10=1,datagrunnlag!O92,datagrunnlag!Y92)","v":25},{"$f":"IF(skjermbilde!$N$10=1,datagrunnlag!P92,datagrunnlag!Z92)","v":14},{"$f":"+datagrunnlag!A92","v":"LKR"},{"$f":"+datagrunnlag!B92","v":"s"},{"$f":"+datagrunnlag!C92","v":800},null,null,{"$f":"++IF(datagrunnlag!F92=\"s\",\"c\",datagrunnlag!F92)","v":"r"},{"$f":"+datagrunnlag!G92","v":1500},{"$f":"IF(skjermbilde!$N$10=1,datagrunnlag!Q92,datagrunnlag!AI92)","v":7.9999999999999996E-6},0,201,"r",0,0,{"$f":"IF(skjermbilde!$D$2=1,S92^2*R92,2*S92^2*R92)","v":0},{"$f":"IF(C92=\"\",\"\",IF(skjermbilde!$D$2=1,C92,IF(AND(skjermbilde!$D$2=2,2*C92>60),60,IF(skjermbilde!$D$2=2,2*C92))))","v":7},{"$f":"IF(skjermbilde!$D$2=1,D92,IF(AND(skjermbilde!$D$2=2,2*D92>60),60,IF(skjermbilde!$D$2=2,2*D92)))","v":10},{"$f":"IF(skjermbilde!$D$2=1,E92,IF(AND(skjermbilde!$D$2=2,2*E92>60),60,IF(skjermbilde!$D$2=2,2*E92)))","v":16},{"$f":"IF(skjermbilde!$D$2=1,F92,IF(AND(skjermbilde!$D$2=2,2*F92>60),60,IF(skjermbilde!$D$2=2,2*F92)))","v":30},{"$f":"IF(skjermbilde!$D$2=1,G92,IF(AND(skjermbilde!$D$2=2,2*G92>60),60,IF(skjermbilde!$D$2=2,2*G92)))","v":50},{"$f":"IF(skjermbilde!$D$2=1,H92,IF(AND(skjermbilde!$D$2=2,2*H92>60),60,IF(skjermbilde!$D$2=2,2*H92)))","v":35},{"$f":"IF(skjermbilde!$D$2=1,I92,IF(AND(skjermbilde!$D$2=2,2*I92>60),60,IF(skjermbilde!$D$2=2,2*I92)))","v":25},{"$f":"IF(J92=\"\",\"\",IF(skjermbilde!$D$2=1,J92,IF(AND(skjermbilde!$D$2=2,2*J92>60),60,IF(skjermbilde!$D$2=2,2*J92))))","v":14},null,null,{"$f":"+IF(ISNUMBER(skjermbilde!G$3-Y92-skjermbilde!G$6-4),skjermbilde!G$3-Y92-skjermbilde!G$6-4,0)","v":-11},{"$f":"+IF(ISNUMBER(skjermbilde!H$3-Z92-skjermbilde!H$6-4),skjermbilde!H$3-Z92-skjermbilde!H$6-4,0)","v":-14},{"$f":"+IF(ISNUMBER(skjermbilde!I$3-AA92-skjermbilde!I$6-4),skjermbilde!I$3-AA92-skjermbilde!I$6-4,0)","v":-20},{"$f":"+IF(ISNUMBER(skjermbilde!J$3-AB92-skjermbilde!J$6-4),skjermbilde!J$3-AB92-skjermbilde!J$6-4,0)","v":-34},{"$f":"+IF(ISNUMBER(skjermbilde!K$3-AC92-skjermbilde!K$6-4),skjermbilde!K$3-AC92-skjermbilde!K$6-4,0)","v":-54},{"$f":"+IF(ISNUMBER(skjermbilde!L$3-AD92-skjermbilde!L$6-4),skjermbilde!L$3-AD92-skjermbilde!L$6-4,0)","v":-39},{"$f":"+IF(ISNUMBER(skjermbilde!M$3-AE92-skjermbilde!M$6-4),skjermbilde!M$3-AE92-skjermbilde!M$6-4,0)","v":-29},{"$f":"+IF(ISNUMBER(skjermbilde!N$3-AF92-skjermbilde!N$6-4),skjermbilde!N$3-AF92-skjermbilde!N$6-4,0)","v":-18},{"$f":"IF(skjermbilde!$O$10=TRUE,10*LOG10(10^(0.1*(AI92+AI$12))+10^(0.1*(AJ92+AJ$12))+10^(0.1*(AK92+AK$12))+10^(0.1*(AL92+AL$12))+10^(0.1*(AM92+AM$12))+10^(0.1*(AN92+AN$12))+10^(0.1*(AO92+AO$12))+10^(0.1*(AP92+AP$12))),\"\")","v":""},1,{"$f":"+IF(Y92>Y$11,1,0)","v":1},{"$f":"+IF(Z92>Z$11,1,0)","v":1},{"$f":"+IF(AA92>AA$11,1,0)","v":1},{"$f":"+IF(AB92>AB$11,1,0)","v":1},{"$f":"+IF(AC92>AC$11,1,0)","v":1},{"$f":"+IF(AD92>AD$11,1,0)","v":1},{"$f":"+IF(AE92>AE$11,1,0)","v":1},{"$f":"+IF(AF92>AF$11,1,0)","v":1},0,{"$f":"IF(skjermbilde!$D$4=\"\",1,IF(P92=skjermbilde!$D$4,1,0))","v":1},{"$f":"IF(skjermbilde!$D$4=\"\",1,IF(U92=\"r\",1,IF(P92=skjermbilde!$D$4,1,0)))","v":1},{"$f":"+IF(U92=\"r\",1,IF(M92=skjermbilde!$D$3,1,0))","v":1},{"$f":"+IF(U92=\"s\",1,IF(N92=skjermbilde!$C$3,1,0))","v":1},{"$f":"+IF(U92=\"s\",1,IF(O92=skjermbilde!$C$4,1,0))","v":1},1,0,null,null,null,77,"",null,null,null,null,null,null,null,null,null,null,null,null,null,null,"",77,"",null,null,null,null,null,null,null,null,null,null,null,null,"",77,"",null,null,null,null,"",{"$f":"IF(skjermbilde!$D$2=1,VLOOKUP($CS92,$CB$17:$CD$261,3,FALSE),CONCATENATE(\"2 x \",VLOOKUP($CS92,$CB$17:$CD$261,3,FALSE)))","v":""},null,null,null,null,null,null,null,null,null,3.8000000000000023E-7,1.0000003799999999,1,"LKR-800-1500",1.0000003799999999,"LKR-800-1500",0]
[78,{"$f":"+IF(skjermbilde!$N$10=1,datagrunnlag!H93,CONCATENATE(datagrunnlag!H93,\"-V\"))","v":"LKR-1000-1500"},{"$f":"IF(skjermbilde!$N$10=1,datagrunnlag!I93,datagrunnlag!S93)","v":7},{"$f":"IF(skjermbilde!$N$10=1,datagrunnlag!J93,datagrunnlag!T93)","v":10},{"$f":"IF(skjermbilde!$N$10=1,datagrunnlag!K93,datagrunnlag!U93)","v":17},{"$f":"IF(skjermbilde!$N$10=1,datagrunnlag!L93,datagrunnlag!V93)","v":30},{"$f":"IF(skjermbilde!$N$10=1,datagrunnlag!M93,datagrunnlag!W93)","v":46},{"$f":"IF(skjermbilde!$N$10=1,datagrunnlag!N93,datagrunnlag!X93)","v":35},{"$f":"IF(skjermbilde!$N$10=1,datagrunnlag!O93,datagrunnlag!Y93)","v":25},{"$f":"IF(skjermbilde!$N$10=1,datagrunnlag!P93,datagrunnlag!Z93)","v":18},{"$f":"+datagrunnlag!A93","v":"LKR"},{"$f":"+datagrunnlag!B93","v":"s"},{"$f":"+datagrunnlag!C93","v":1000},null,null,{"$f":"++IF(datagrunnlag!F93=\"s\",\"c\",datagrunnlag!F93)","v":"r"},{"$f":"+datagrunnlag!G93","v":1500},{"$f":"IF(skjermbilde!$N$10=1,datagrunnlag!Q93,datagrunnlag!AI93)","v":4.1999999999999996E-6},0,201,"r",0,0,{"$f":"IF(skjermbilde!$D$2=1,S93^2*R93,2*S93^2*R93)","v":0},{"$f":"IF(C93=\"\",\"\",IF(skjermbilde!$D$2=1,C93,IF(AND(skjermbilde!$D$2=2,2*C93>60),60,IF(skjermbilde!$D$2=2,2*C93))))","v":7},{"$f":"IF(skjermbilde!$D$2=1,D93,IF(AND(skjermbilde!$D$2=2,2*D93>60),60,IF(skjermbilde!$D$2=2,2*D93)))","v":10},{"$f":"IF(skjermbilde!$D$2=1,E93,IF(AND(skjermbilde!$D$2=2,2*E93>60),60,IF(skjermbilde!$D$2=2,2*E93)))","v":17},{"$f":"IF(skjermbilde!$D$2=1,F93,IF(AND(skjermbilde!$D$2=2,2*F93>60),60,IF(skjermbilde!$D$2=2,2*F93)))","v":30},{"$f":"IF(skjermbilde!$D$2=1,G93,IF(AND(skjermbilde!$D$2=2,2*G93>60),60,IF(skjermbilde!$D$2=2,2*G93)))","v":46},{"$f":"IF(skjermbilde!$D$2=1,H93,IF(AND(skjermbilde!$D$2=2,2*H93>60),60,IF(skjermbilde!$D$2=2,2*H93)))","v":35},{"$f":"IF(skjermbilde!$D$2=1,I93,IF(AND(skjermbilde!$D$2=2,2*I93>60),60,IF(skjermbilde!$D$2=2,2*I93)))","v":25},{"$f":"IF(J93=\"\",\"\",IF(skjermbilde!$D$2=1,J93,IF(AND(skjermbilde!$D$2=2,2*J93>60),60,IF(skjermbilde!$D$2=2,2*J93))))","v":18},null,null,{"$f":"+IF(ISNUMBER(skjermbilde!G$3-Y93-skjermbilde!G$6-4),skjermbilde!G$3-Y93-skjermbilde!G$6-4,0)","v":-11},{"$f":"+IF(ISNUMBER(skjermbilde!H$3-Z93-skjermbilde!H$6-4),skjermbilde!H$3-Z93-skjermbilde!H$6-4,0)","v":-14},{"$f":"+IF(ISNUMBER(skjermbilde!I$3-AA93-skjermbilde!I$6-4),skjermbilde!I$3-AA93-skjermbilde!I$6-4,0)","v":-21},{"$f":"+IF(ISNUMBER(skjermbilde!J$3-AB93-skjermbilde!J$6-4),skjermbilde!J$3-AB93-skjermbilde!J$6-4,0)","v":-34},{"$f":"+IF(ISNUMBER(skjermbilde!K$3-AC93-skjermbilde!K$6-4),skjermbilde!K$3-AC93-skjermbilde!K$6-4,0)","v":-50},{"$f":"+IF(ISNUMBER(skjermbilde!L$3-AD93-skjermbilde!L$6-4),skjermbilde!L$3-AD93-skjermbilde!L$6-4,0)","v":-39},{"$f":"+IF(ISNUMBER(skjermbilde!M$3-AE93-skjermbilde!M$6-4),skjermbilde!M$3-AE93-skjermbilde!M$6-4,0)","v":-29},{"$f":"+IF(ISNUMBER(skjermbilde!N$3-AF93-skjermbilde!N$6-4),skjermbilde!N$3-AF93-skjermbilde!N$6-4,0)","v":-22},{"$f":"IF(skjermbilde!$O$10=TRUE,10*LOG10(10^(0.1*(AI93+AI$12))+10^(0.1*(AJ93+AJ$12))+10^(0.1*(AK93+AK$12))+10^(0.1*(AL93+AL$12))+10^(0.1*(AM93+AM$12))+10^(0.1*(AN93+AN$12))+10^(0.1*(AO93+AO$12))+10^(0.1*(AP93+AP$12))),\"\")","v":""},1,1,1,1,1,1,1,1,1,0,{"$f":"IF(skjermbilde!$D$4=\"\",1,IF(P93=skjermbilde!$D$4,1,0))","v":1},{"$f":"IF(skjermbilde!$D$4=\"\",1,IF(U93=\"r\",1,IF(P93=skjermbilde!$D$4,1,0)))","v":1},{"$f":"+IF(U93=\"r\",1,IF(M93=skjermbilde!$D$3,1,0))","v":1},{"$f":"+IF(U93=\"s\",1,IF(N93=skjermbilde!$C$3,1,0))","v":1},{"$f":"+IF(U93=\"s\",1,IF(O93=skjermbilde!$C$4,1,0))","v":1},1,0,null,null,null,78,"",null,null,null,null,null,null,null,null,null,null,null,null,null,null,"",78,"",null,null,null,null,null,null,null,null,null,null,null,null,"",78,"",null,null,null,null,"",{"$f":"IF(skjermbilde!$D$2=1,VLOOKUP($CS93,$CB$17:$CD$261,3,FALSE),CONCATENATE(\"2 x \",VLOOKUP($CS93,$CB$17:$CD$261,3,FALSE)))","v":""},null,null,null,null,null,null,null,null,null,3.9000000000000024E-7,1.0000003900000001,1,"LKR-1000-1500",1.0000003799999999,"LKR-800-1500",0]
[79,{"$f":"+IF(skjermbilde!$N$10=1,datagrunnlag!H94,CONCATENATE(datagrunnlag!H94,\"-V\"))","v":"LKR-1250-1500"},{"$f":"IF(skjermbilde!$N$10=1,datagrunnlag!I94,datagrunnlag!S94)","v":8},{"$f":"IF(skjermbilde!$N$10=1,datagrunnlag!J94,datagrunnlag!T94)","v":11},{"$f":"IF(skjermbilde!$N$10=1,datagrunnlag!K94,datagrunnlag!U94)","v":19},{"$f":"IF(skjermbilde!$N$10=1,datagrunnlag!L94,datagrunnlag!V94)","v":33},{"$f":"IF(skjermbilde!$N$10=1,datagrunnlag!M94,datagrunnlag!W94)","v":47},{"$f":"IF(skjermbilde!$N$10=1,datagrunnlag!N94,datagrunnlag!X94)","v":38},{"$f":"IF(skjermbilde!$N$10=1,datagrunnlag!O94,datagrunnlag!Y94)","v":28},{"$f":"IF(skjermbilde!$N$10=1,datagrunnlag!P94,datagrunnlag!Z94)","v":21},{"$f":"+datagrunnlag!A94","v":"LKR"},{"$f":"+datagrunnlag!B94","v":"s"},{"$f":"+datagrunnlag!C94","v":1250},null,null,{"$f":"++IF(datagrunnlag!F94=\"s\",\"c\",datagrunnlag!F94)","v":"r"},{"$f":"+datagrunnlag!G94","v":1500},{"$f":"IF(skjermbilde!$N$10=1,datagrunnlag!Q94,datagrunnlag!AI94)","v":1.7E-6},0,201,"r",0,0,{"$f":"IF(skjermbilde!$D$2=1,S94^2*R94,2*S94^2*R94)","v":0},{"$f":"IF(C94=\"\",\"\",IF(skjermbilde!$D$2=1,C94,IF(AND(skjermbilde!$D$2=2,2*C94>60),60,IF(skjermbilde!$D$2=2,2*C94))))","v":8},{"$f":"IF(skjermbilde!$D$2=1,D94,IF(AND(skjermbilde!$D$2=2,2*D94>60),60,IF(skjermbilde!$D$2=2,2*D94)))","v":11},{"$f":"IF(skjermbilde!$D$2=1,E94,IF(AND(skjermbilde!$D$2=2,2*E94>60),60,IF(skjermbilde!$D$2=2,2*E94)))","v":19},{"$f":"IF(skjermbilde!$D$2=1,F94,IF(AND(skjermbilde!$D$2=2,2*F94>60),60,IF(skjermbilde!$D$2=2,2*F94)))","v":33},{"$f":"IF(skjermbilde!$D$2=1,G94,IF(AND(skjermbilde!$D$2=2,2*G94>60),60,IF(skjermbilde!$D$2=2,2*G94)))","v":47},{"$f":"IF(skjermbilde!$D$2=1,H94,IF(AND(skjermbilde!$D$2=2,2*H94>60),60,IF(skjermbilde!$D$2=2,2*H94)))","v":38},{"$f":"IF(skjermbilde!$D$2=1,I94,IF(AND(skjermbilde!$D$2=2,2*I94>60),60,IF(skjermbilde!$D$2=2,2*I94)))","v":28},{"$f":"IF(J94=\"\",\"\",IF(skjermbilde!$D$2=1,J94,IF(AND(skjermbilde!$D$2=2,2*J94>60),60,IF(skjermbilde!$D$2=2,2*J94))))","v":21},null,null,{"$f":"+IF(ISNUMBER(skjermbilde!G$3-Y94-skjermbilde!G$6-4),skjermbilde!G$3-Y94-skjermbilde!G$6-4,0)","v":-12},{"$f":"+IF(ISNUMBER(skjermbilde!H$3-Z94-skjermbilde!H$6-4),skjermbilde!H$3-Z94-skjermbilde!H$6-4,0)","v":-15},{"$f":"+IF(ISNUMBER(skjermbilde!I$3-AA94-skjermbilde!I$6-4),skjermbilde!I$3-AA94-skjermbilde!I$6-4,0)","v":-23},{"$f":"+IF(ISNUMBER(skjermbilde!J$3-AB94-skjermbilde!J$6-4),skjermbilde!J$3-AB94-skjermbilde!J$6-4,0)","v":-37},{"$f":"+IF(ISNUMBER(skjermbilde!K$3-AC94-skjermbilde!K$6-4),skjermbilde!K$3-AC94-skjermbilde!K$6-4,0)","v":-51},{"$f":"+IF(ISNUMBER(skjermbilde!L$3-AD94-skjermbilde!L$6-4),skjermbilde!L$3-AD94-skjermbilde!L$6-4,0)","v":-42},{"$f":"+IF(ISNUMBER(skjermbilde!M$3-AE94-skjermbilde!M$6-4),skjermbilde!M$3-AE94-skjermbilde!M$6-4,0)","v":-32},{"$f":"+IF(ISNUMBER(skjermbilde!N$3-AF94-skjermbilde!N$6-4),skjermbilde!N$3-AF94-skjermbilde!N$6-4,0)","v":-25},{"$f":"IF(skjermbilde!$O$10=TRUE,10*LOG10(10^(0.1*(AI94+AI$12))+10^(0.1*(AJ94+AJ$12))+10^(0.1*(AK94+AK$12))+10^(0.1*(AL94+AL$12))+10^(0.1*(AM94+AM$12))+10^(0.1*(AN94+AN$12))+10^(0.1*(AO94+AO$12))+10^(0.1*(AP94+AP$12))),\"\")","v":""},1,1,1,1,1,1,1,1,1,0,{"$f":"IF(skjermbilde!$D$4=\"\",1,IF(P94=skjermbilde!$D$4,1,0))","v":1},{"$f":"IF(skjermbilde!$D$4=\"\",1,IF(U94=\"r\",1,IF(P94=skjermbilde!$D$4,1,0)))","v":1},{"$f":"+IF(U94=\"r\",1,IF(M94=skjermbilde!$D$3,1,0))","v":1},{"$f":"+IF(U94=\"s\",1,IF(N94=skjermbilde!$C$3,1,0))","v":1},{"$f":"+IF(U94=\"s\",1,IF(O94=skjermbilde!$C$4,1,0))","v":1},1,0,null,null,null,79,"",null,null,null,null,null,null,null,null,null,null,null,null,null,null,"",79,"",null,null,null,null,null,null,null,null,null,null,null,null,"",79,"",null,null,null,null,"",{"$f":"IF(skjermbilde!$D$2=1,VLOOKUP($CS94,$CB$17:$CD$261,3,FALSE),CONCATENATE(\"2 x \",VLOOKUP($CS94,$CB$17:$CD$261,3,FALSE)))","v":""},null,null,null,null,null,null,null,null,null,4.0000000000000025E-7,1.0000004,1,"LKR-1250-1500",1.0000003900000001,"LKR-1000-1500",0]
[80,{"$f":"CONCATENATE(\"LKL-\",N95,\"-\",O95,\"-\",Q95)","v":"LKL-0,1-150-640"},{"$f":"datagrunnlag!I95","v":1},{"$f":"datagrunnlag!J95","v":0.58311345666638847},{"$f":"datagrunnlag!K95","v":3.3475634717849667},{"$f":"datagrunnlag!L95","v":12.14672587509444},{"$f":"datagrunnlag!M95","v":19.350316221239702},{"$f":"datagrunnlag!N95","v":11.750669828421715},{"$f":"datagrunnlag!O95","v":8.7292826750459103},{"$f":"datagrunnlag!P95","v":5.9184465077937851},{"$f":"+datagrunnlag!A95","v":"LKL"},{"$f":"+datagrunnlag!B95","v":"r"},null,{"$f":"IF(OR(O95>skjermbilde!$C$3,skjermbilde!$C$3>1000),0.1,skjermbilde!$C$3)","v":0.1},{"$f":"+datagrunnlag!E95","v":150},{"$f":"++IF(datagrunnlag!F95=\"s\",\"c\",datagrunnlag!F95)","v":"r"},{"$f":"+datagrunnlag!G95","v":640},{"$f":"+datagrunnlag!Q95","v":649923.19999999995},0,201,"r",0,0,{"$f":"IF(skjermbilde!$D$2=1,R95*(S95/(N95*O95))^2,2*R95*(S95/(N95*O95))^2)","v":0},{"$f":"IF(C95=\"\",\"\",IF(skjermbilde!$D$2=1,C95,IF(AND(skjermbilde!$D$2=2,2*C95>60),60,IF(skjermbilde!$D$2=2,2*C95))))","v":1},{"$f":"IF(skjermbilde!$D$2=1,D95,IF(AND(skjermbilde!$D$2=2,2*D95>60),60,IF(skjermbilde!$D$2=2,2*D95)))","v":0.58311345666638847},{"$f":"IF(skjermbilde!$D$2=1,E95,IF(AND(skjermbilde!$D$2=2,2*E95>60),60,IF(skjermbilde!$D$2=2,2*E95)))","v":3.3475634717849667},{"$f":"IF(skjermbilde!$D$2=1,F95,IF(AND(skjermbilde!$D$2=2,2*F95>60),60,IF(skjermbilde!$D$2=2,2*F95)))","v":12.14672587509444},{"$f":"IF(skjermbilde!$D$2=1,G95,IF(AND(skjermbilde!$D$2=2,2*G95>60),60,IF(skjermbilde!$D$2=2,2*G95)))","v":19.350316221239702},{"$f":"IF(skjermbilde!$D$2=1,H95,IF(AND(skjermbilde!$D$2=2,2*H95>60),60,IF(skjermbilde!$D$2=2,2*H95)))","v":11.750669828421715},{"$f":"IF(skjermbilde!$D$2=1,I95,IF(AND(skjermbilde!$D$2=2,2*I95>60),60,IF(skjermbilde!$D$2=2,2*I95)))","v":8.7292826750459103},{"$f":"IF(J95=\"\",\"\",IF(skjermbilde!$D$2=1,J95,IF(AND(skjermbilde!$D$2=2,2*J95>60),60,IF(skjermbilde!$D$2=2,2*J95))))","v":5.9184465077937851},null,null,{"$f":"+IF(ISNUMBER(skjermbilde!G$3-Y95-skjermbilde!G$6-4),skjermbilde!G$3-Y95-skjermbilde!G$6-4,0)","v":-5},{"$f":"+IF(ISNUMBER(skjermbilde!H$3-Z95-skjermbilde!H$6-4),skjermbilde!H$3-Z95-skjermbilde!H$6-4,0)","v":-4.5831134566663883},{"$f":"+IF(ISNUMBER(skjermbilde!I$3-AA95-skjermbilde!I$6-4),skjermbilde!I$3-AA95-skjermbilde!I$6-4,0)","v":-7.3475634717849667},{"$f":"+IF(ISNUMBER(skjermbilde!J$3-AB95-skjermbilde!J$6-4),skjermbilde!J$3-AB95-skjermbilde!J$6-4,0)","v":-16.14672587509444},{"$f":"+IF(ISNUMBER(skjermbilde!K$3-AC95-skjermbilde!K$6-4),skjermbilde!K$3-AC95-skjermbilde!K$6-4,0)","v":-23.350316221239702},{"$f":"+IF(ISNUMBER(skjermbilde!L$3-AD95-skjermbilde!L$6-4),skjermbilde!L$3-AD95-skjermbilde!L$6-4,0)","v":-15.750669828421715},{"$f":"+IF(ISNUMBER(skjermbilde!M$3-AE95-skjermbilde!M$6-4),skjermbilde!M$3-AE95-skjermbilde!M$6-4,0)","v":-12.72928267504591},{"$f":"+IF(ISNUMBER(skjermbilde!N$3-AF95-skjermbilde!N$6-4),skjermbilde!N$3-AF95-skjermbilde!N$6-4,0)","v":-9.9184465077937851},{"$f":"IF(skjermbilde!$O$10=TRUE,10*LOG10(10^(0.1*(AI95+AI$12))+10^(0.1*(AJ95+AJ$12))+10^(0.1*(AK95+AK$12))+10^(0.1*(AL95+AL$12))+10^(0.1*(AM95+AM$12))+10^(0.1*(AN95+AN$12))+10^(0.1*(AO95+AO$12))+10^(0.1*(AP95+AP$12))),\"\")","v":""},1,1,1,1,1,1,1,1,1,1,1,{"$f":"+IF(skjermbilde!$N$10=1,1,0)","v":1},{"$f":"+IF(U95=\"r\",1,IF(M95=skjermbilde!$D$3,1,0))","v":1},{"$f":"+IF(U95=\"s\",1,IF(N95=skjermbilde!$C$3,1,0))","v":0},{"$f":"+IF(U95=\"s\",1,IF(O95=skjermbilde!$C$4,1,0))","v":0},1,0,null,null,null,80,"",null,null,null,null,null,null,null,null,null,null,null,null,null,null,"",80,"",null,null,null,null,null,null,null,null,null,null,null,null,"",80,{"$f":"IF(ISERROR(SMALL(CB$17:CB$261,BL91)),\"\",SMALL(CB$17:CB$261,BL91))","v":""},null,null,null,null,"",{"$f":"IF(skjermbilde!$D$2=1,VLOOKUP($CS95,$CB$17:$CD$261,3,FALSE),CONCATENATE(\"2 x \",VLOOKUP($CS95,$CB$17:$CD$261,3,FALSE)))","v":""},null,null,null,null,null,null,null,null,null,{"$f":"0.00000001+DI91","v":3.8000000000000023E-7},1.0000003799999999,1,"LKL-0,1-150-640",{"$f":"IF(ISERROR(SMALL(DJ$17:DJ$261,BL91)),\"\",SMALL(DJ$17:DJ$261,BL91))","v":1.0000003799999999},"LKR-800-1500",0]
[81,"LKL-0,1-150-1000",{"$f":"datagrunnlag!I96","v":1.6566593887193783},{"$f":"datagrunnlag!J96","v":1.9500916366698124},{"$f":"datagrunnlag!K96","v":6.3989833593585388},{"$f":"datagrunnlag!L96","v":16.597533222290252},{"$f":"datagrunnlag!M96","v":26.987350416751802},{"$f":"datagrunnlag!N96","v":16.951614800911219},{"$f":"datagrunnlag!O96","v":11.136690124484012},{"$f":"datagrunnlag!P96","v":7.8440826641340724},{"$f":"+datagrunnlag!A96","v":"LKL"},{"$f":"+datagrunnlag!B96","v":"r"},null,{"$f":"IF(OR(O96>skjermbilde!$C$3,skjermbilde!$C$3>1000),0.1,skjermbilde!$C$3)","v":0.1},{"$f":"+datagrunnlag!E96","v":150},{"$f":"++IF(datagrunnlag!F96=\"s\",\"c\",datagrunnlag!F96)","v":"r"},{"$f":"+datagrunnlag!G96","v":1000},{"$f":"+datagrunnlag!Q96","v":743570},0,201,"r",0,0,{"$f":"IF(skjermbilde!$D$2=1,R96*(S96/(N96*O96))^2,2*R96*(S96/(N96*O96))^2)","v":0},{"$f":"IF(C96=\"\",\"\",IF(skjermbilde!$D$2=1,C96,IF(AND(skjermbilde!$D$2=2,2*C96>60),60,IF(skjermbilde!$D$2=2,2*C96))))","v":1.6566593887193783},{"$f":"IF(skjermbilde!$D$2=1,D96,IF(AND(skjermbilde!$D$2=2,2*D96>60),60,IF(skjermbilde!$D$2=2,2*D96)))","v":1.9500916366698124},{"$f":"IF(skjermbilde!$D$2=1,E96,IF(AND(skjermbilde!$D$2=2,2*E96>60),60,IF(skjermbilde!$D$2=2,2*E96)))","v":6.3989833593585388},{"$f":"IF(skjermbilde!$D$2=1,F96,IF(AND(skjermbilde!$D$2=2,2*F96>60),60,IF(skjermbilde!$D$2=2,2*F96)))","v":16.597533222290252},{"$f":"IF(skjermbilde!$D$2=1,G96,IF(AND(skjermbilde!$D$2=2,2*G96>60),60,IF(skjermbilde!$D$2=2,2*G96)))","v":26.987350416751802},{"$f":"IF(skjermbilde!$D$2=1,H96,IF(AND(skjermbilde!$D$2=2,2*H96>60),60,IF(skjermbilde!$D$2=2,2*H96)))","v":16.951614800911219},{"$f":"IF(skjermbilde!$D$2=1,I96,IF(AND(skjermbilde!$D$2=2,2*I96>60),60,IF(skjermbilde!$D$2=2,2*I96)))","v":11.136690124484012},{"$f":"IF(J96=\"\",\"\",IF(skjermbilde!$D$2=1,J96,IF(AND(skjermbilde!$D$2=2,2*J96>60),60,IF(skjermbilde!$D$2=2,2*J96))))","v":7.8440826641340724},null,null,{"$f":"+IF(ISNUMBER(skjermbilde!G$3-Y96-skjermbilde!G$6-4),skjermbilde!G$3-Y96-skjermbilde!G$6-4,0)","v":-5.6566593887193779},{"$f":"+IF(ISNUMBER(skjermbilde!H$3-Z96-skjermbilde!H$6-4),skjermbilde!H$3-Z96-skjermbilde!H$6-4,0)","v":-5.9500916366698124},{"$f":"+IF(ISNUMBER(skjermbilde!I$3-AA96-skjermbilde!I$6-4),skjermbilde!I$3-AA96-skjermbilde!I$6-4,0)","v":-10.398983359358539},{"$f":"+IF(ISNUMBER(skjermbilde!J$3-AB96-skjermbilde!J$6-4),skjermbilde!J$3-AB96-skjermbilde!J$6-4,0)","v":-20.597533222290252},{"$f":"+IF(ISNUMBER(skjermbilde!K$3-AC96-skjermbilde!K$6-4),skjermbilde!K$3-AC96-skjermbilde!K$6-4,0)","v":-30.987350416751802},{"$f":"+IF(ISNUMBER(skjermbilde!L$3-AD96-skjermbilde!L$6-4),skjermbilde!L$3-AD96-skjermbilde!L$6-4,0)","v":-20.951614800911219},{"$f":"+IF(ISNUMBER(skjermbilde!M$3-AE96-skjermbilde!M$6-4),skjermbilde!M$3-AE96-skjermbilde!M$6-4,0)","v":-15.136690124484012},{"$f":"+IF(ISNUMBER(skjermbilde!N$3-AF96-skjermbilde!N$6-4),skjermbilde!N$3-AF96-skjermbilde!N$6-4,0)","v":-11.844082664134072},{"$f":"IF(skjermbilde!$O$10=TRUE,10*LOG10(10^(0.1*(AI96+AI$12))+10^(0.1*(AJ96+AJ$12))+10^(0.1*(AK96+AK$12))+10^(0.1*(AL96+AL$12))+10^(0.1*(AM96+AM$12))+10^(0.1*(AN96+AN$12))+10^(0.1*(AO96+AO$12))+10^(0.1*(AP96+AP$12))),\"\")","v":""},1,1,1,1,1,1,1,1,1,1,1,{"$f":"+IF(skjermbilde!$N$10=1,1,0)","v":1},{"$f":"+IF(U96=\"r\",1,IF(M96=skjermbilde!$D$3,1,0))","v":1},{"$f":"+IF(U96=\"s\",1,IF(N96=skjermbilde!$C$3,1,0))","v":0},{"$f":"+IF(U96=\"s\",1,IF(O96=skjermbilde!$C$4,1,0))","v":0},1,0,null,null,null,81,"",null,null,null,null,null,null,null,null,null,null,null,null,null,null,"",81,"",null,null,null,null,null,null,null,null,null,null,null,null,"",81,{"$f":"IF(ISERROR(SMALL(CB$17:CB$261,BL95)),\"\",SMALL(CB$17:CB$261,BL95))","v":""},null,null,null,null,"",{"$f":"IF(skjermbilde!$D$2=1,VLOOKUP($CS96,$CB$17:$CD$261,3,FALSE),CONCATENATE(\"2 x \",VLOOKUP($CS96,$CB$17:$CD$261,3,FALSE)))","v":""},null,null,null,null,null,null,null,null,null,3.9000000000000024E-7,1.0000003900000001,1,"LKL-0,1-150-1000",{"$f":"IF(ISERROR(SMALL(DJ$17:DJ$261,BL95)),\"\",SMALL(DJ$17:DJ$261,BL95))","v":1.0000004},"LKR-1250-1500",0]
[82,"LKL-0,1-150-1240",{"$f":"datagrunnlag!I97","v":2.3133187774387562},{"$f":"datagrunnlag!J97","v":3.3170698166732357},{"$f":"datagrunnlag!K97","v":9.4504032469321118},{"$f":"datagrunnlag!L97","v":21.048340569486065},{"$f":"datagrunnlag!M97","v":34.624384612263903},{"$f":"datagrunnlag!N97","v":22.152559773400725},{"$f":"datagrunnlag!O97","v":13.544097573922114},{"$f":"datagrunnlag!P97","v":9.7697188204743597},{"$f":"+datagrunnlag!A97","v":"LKL"},{"$f":"+datagrunnlag!B97","v":"r"},null,{"$f":"IF(OR(O97>skjermbilde!$C$3,skjermbilde!$C$3>1000),0.1,skjermbilde!$C$3)","v":0.1},{"$f":"+datagrunnlag!E97","v":150},{"$f":"++IF(datagrunnlag!F97=\"s\",\"c\",datagrunnlag!F97)","v":"r"},{"$f":"+datagrunnlag!G97","v":1240},{"$f":"+datagrunnlag!Q97","v":806001.2},0,201,"r",0,0,{"$f":"IF(skjermbilde!$D$2=1,R97*(S97/(N97*O97))^2,2*R97*(S97/(N97*O97))^2)","v":0},{"$f":"IF(C97=\"\",\"\",IF(skjermbilde!$D$2=1,C97,IF(AND(skjermbilde!$D$2=2,2*C97>60),60,IF(skjermbilde!$D$2=2,2*C97))))","v":2.3133187774387562},{"$f":"IF(skjermbilde!$D$2=1,D97,IF(AND(skjermbilde!$D$2=2,2*D97>60),60,IF(skjermbilde!$D$2=2,2*D97)))","v":3.3170698166732357},{"$f":"IF(skjermbilde!$D$2=1,E97,IF(AND(skjermbilde!$D$2=2,2*E97>60),60,IF(skjermbilde!$D$2=2,2*E97)))","v":9.4504032469321118},{"$f":"IF(skjermbilde!$D$2=1,F97,IF(AND(skjermbilde!$D$2=2,2*F97>60),60,IF(skjermbilde!$D$2=2,2*F97)))","v":21.048340569486065},{"$f":"IF(skjermbilde!$D$2=1,G97,IF(AND(skjermbilde!$D$2=2,2*G97>60),60,IF(skjermbilde!$D$2=2,2*G97)))","v":34.624384612263903},{"$f":"IF(skjermbilde!$D$2=1,H97,IF(AND(skjermbilde!$D$2=2,2*H97>60),60,IF(skjermbilde!$D$2=2,2*H97)))","v":22.152559773400725},{"$f":"IF(skjermbilde!$D$2=1,I97,IF(AND(skjermbilde!$D$2=2,2*I97>60),60,IF(skjermbilde!$D$2=2,2*I97)))","v":13.544097573922114},{"$f":"IF(J97=\"\",\"\",IF(skjermbilde!$D$2=1,J97,IF(AND(skjermbilde!$D$2=2,2*J97>60),60,IF(skjermbilde!$D$2=2,2*J97))))","v":9.7697188204743597},null,null,{"$f":"+IF(ISNUMBER(skjermbilde!G$3-Y97-skjermbilde!G$6-4),skjermbilde!G$3-Y97-skjermbilde!G$6-4,0)","v":-6.3133187774387558},{"$f":"+IF(ISNUMBER(skjermbilde!H$3-Z97-skjermbilde!H$6-4),skjermbilde!H$3-Z97-skjermbilde!H$6-4,0)","v":-7.3170698166732357},{"$f":"+IF(ISNUMBER(skjermbilde!I$3-AA97-skjermbilde!I$6-4),skjermbilde!I$3-AA97-skjermbilde!I$6-4,0)","v":-13.450403246932112},{"$f":"+IF(ISNUMBER(skjermbilde!J$3-AB97-skjermbilde!J$6-4),skjermbilde!J$3-AB97-skjermbilde!J$6-4,0)","v":-25.048340569486065},{"$f":"+IF(ISNUMBER(skjermbilde!K$3-AC97-skjermbilde!K$6-4),skjermbilde!K$3-AC97-skjermbilde!K$6-4,0)","v":-38.624384612263903},{"$f":"+IF(ISNUMBER(skjermbilde!L$3-AD97-skjermbilde!L$6-4),skjermbilde!L$3-AD97-skjermbilde!L$6-4,0)","v":-26.152559773400725},{"$f":"+IF(ISNUMBER(skjermbilde!M$3-AE97-skjermbilde!M$6-4),skjermbilde!M$3-AE97-skjermbilde!M$6-4,0)","v":-17.544097573922116},{"$f":"+IF(ISNUMBER(skjermbilde!N$3-AF97-skjermbilde!N$6-4),skjermbilde!N$3-AF97-skjermbilde!N$6-4,0)","v":-13.76971882047436},{"$f":"IF(skjermbilde!$O$10=TRUE,10*LOG10(10^(0.1*(AI97+AI$12))+10^(0.1*(AJ97+AJ$12))+10^(0.1*(AK97+AK$12))+10^(0.1*(AL97+AL$12))+10^(0.1*(AM97+AM$12))+10^(0.1*(AN97+AN$12))+10^(0.1*(AO97+AO$12))+10^(0.1*(AP97+AP$12))),\"\")","v":""},1,1,1,1,1,1,1,1,1,1,1,{"$f":"+IF(skjermbilde!$N$10=1,1,0)","v":1},{"$f":"+IF(U97=\"r\",1,IF(M97=skjermbilde!$D$3,1,0))","v":1},{"$f":"+IF(U97=\"s\",1,IF(N97=skjermbilde!$C$3,1,0))","v":0},{"$f":"+IF(U97=\"s\",1,IF(O97=skjermbilde!$C$4,1,0))","v":0},1,0,null,null,null,82,"",null,null,null,null,null,null,null,null,null,null,null,null,null,null,"",82,"",null,null,null,null,null,null,null,null,null,null,null,null,"",82,"",null,null,null,null,"",{"$f":"IF(skjermbilde!$D$2=1,VLOOKUP($CS97,$CB$17:$CD$261,3,FALSE),CONCATENATE(\"2 x \",VLOOKUP($CS97,$CB$17:$CD$261,3,FALSE)))","v":""},null,null,null,null,null,null,null,null,null,4.0000000000000025E-7,1.0000004,1,"LKL-0,1-150-1240",1.0000004,"LKR-1250-1500",0]
[83,"LKL-0,1-150-1500",{"$f":"datagrunnlag!I98","v":2.9699781661581346},{"$f":"datagrunnlag!J98","v":4.6840479966766599},{"$f":"datagrunnlag!K98","v":12.501823134505683},{"$f":"datagrunnlag!L98","v":25.499147916681878},{"$f":"datagrunnlag!M98","v":42.261418807776003},{"$f":"datagrunnlag!N98","v":27.353504745890231},{"$f":"datagrunnlag!O98","v":15.951505023360216},{"$f":"datagrunnlag!P98","v":11.695354976814647},{"$f":"+datagrunnlag!A98","v":"LKL"},{"$f":"+datagrunnlag!B98","v":"r"},null,{"$f":"IF(OR(O98>skjermbilde!$C$3,skjermbilde!$C$3>1000),0.1,skjermbilde!$C$3)","v":0.1},{"$f":"+datagrunnlag!E98","v":150},{"$f":"++IF(datagrunnlag!F98=\"s\",\"c\",datagrunnlag!F98)","v":"r"},{"$f":"+datagrunnlag!G98","v":1500},{"$f":"+datagrunnlag!Q98","v":873635},0,201,"r",0,0,{"$f":"IF(skjermbilde!$D$2=1,R98*(S98/(N98*O98))^2,2*R98*(S98/(N98*O98))^2)","v":0},{"$f":"IF(C98=\"\",\"\",IF(skjermbilde!$D$2=1,C98,IF(AND(skjermbilde!$D$2=2,2*C98>60),60,IF(skjermbilde!$D$2=2,2*C98))))","v":2.9699781661581346},{"$f":"IF(skjermbilde!$D$2=1,D98,IF(AND(skjermbilde!$D$2=2,2*D98>60),60,IF(skjermbilde!$D$2=2,2*D98)))","v":4.6840479966766599},{"$f":"IF(skjermbilde!$D$2=1,E98,IF(AND(skjermbilde!$D$2=2,2*E98>60),60,IF(skjermbilde!$D$2=2,2*E98)))","v":12.501823134505683},{"$f":"IF(skjermbilde!$D$2=1,F98,IF(AND(skjermbilde!$D$2=2,2*F98>60),60,IF(skjermbilde!$D$2=2,2*F98)))","v":25.499147916681878},{"$f":"IF(skjermbilde!$D$2=1,G98,IF(AND(skjermbilde!$D$2=2,2*G98>60),60,IF(skjermbilde!$D$2=2,2*G98)))","v":42.261418807776003},{"$f":"IF(skjermbilde!$D$2=1,H98,IF(AND(skjermbilde!$D$2=2,2*H98>60),60,IF(skjermbilde!$D$2=2,2*H98)))","v":27.353504745890231},{"$f":"IF(skjermbilde!$D$2=1,I98,IF(AND(skjermbilde!$D$2=2,2*I98>60),60,IF(skjermbilde!$D$2=2,2*I98)))","v":15.951505023360216},{"$f":"IF(J98=\"\",\"\",IF(skjermbilde!$D$2=1,J98,IF(AND(skjermbilde!$D$2=2,2*J98>60),60,IF(skjermbilde!$D$2=2,2*J98))))","v":11.695354976814647},null,null,{"$f":"+IF(ISNUMBER(skjermbilde!G$3-Y98-skjermbilde!G$6-4),skjermbilde!G$3-Y98-skjermbilde!G$6-4,0)","v":-6.9699781661581346},{"$f":"+IF(ISNUMBER(skjermbilde!H$3-Z98-skjermbilde!H$6-4),skjermbilde!H$3-Z98-skjermbilde!H$6-4,0)","v":-8.6840479966766608},{"$f":"+IF(ISNUMBER(skjermbilde!I$3-AA98-skjermbilde!I$6-4),skjermbilde!I$3-AA98-skjermbilde!I$6-4,0)","v":-16.501823134505685},{"$f":"+IF(ISNUMBER(skjermbilde!J$3-AB98-skjermbilde!J$6-4),skjermbilde!J$3-AB98-skjermbilde!J$6-4,0)","v":-29.499147916681878},{"$f":"+IF(ISNUMBER(skjermbilde!K$3-AC98-skjermbilde!K$6-4),skjermbilde!K$3-AC98-skjermbilde!K$6-4,0)","v":-46.261418807776003},{"$f":"+IF(ISNUMBER(skjermbilde!L$3-AD98-skjermbilde!L$6-4),skjermbilde!L$3-AD98-skjermbilde!L$6-4,0)","v":-31.353504745890231},{"$f":"+IF(ISNUMBER(skjermbilde!M$3-AE98-skjermbilde!M$6-4),skjermbilde!M$3-AE98-skjermbilde!M$6-4,0)","v":-19.951505023360216},{"$f":"+IF(ISNUMBER(skjermbilde!N$3-AF98-skjermbilde!N$6-4),skjermbilde!N$3-AF98-skjermbilde!N$6-4,0)","v":-15.695354976814647},{"$f":"IF(skjermbilde!$O$10=TRUE,10*LOG10(10^(0.1*(AI98+AI$12))+10^(0.1*(AJ98+AJ$12))+10^(0.1*(AK98+AK$12))+10^(0.1*(AL98+AL$12))+10^(0.1*(AM98+AM$12))+10^(0.1*(AN98+AN$12))+10^(0.1*(AO98+AO$12))+10^(0.1*(AP98+AP$12))),\"\")","v":""},1,1,1,1,1,1,1,1,1,1,1,{"$f":"+IF(skjermbilde!$N$10=1,1,0)","v":1},{"$f":"+IF(U98=\"r\",1,IF(M98=skjermbilde!$D$3,1,0))","v":1},{"$f":"+IF(U98=\"s\",1,IF(N98=skjermbilde!$C$3,1,0))","v":0},{"$f":"+IF(U98=\"s\",1,IF(O98=skjermbilde!$C$4,1,0))","v":0},1,0,null,null,null,83,"",null,null,null,null,null,null,null,null,null,null,null,null,null,null,"",83,"",null,null,null,null,null,null,null,null,null,null,null,null,"",83,"",null,null,null,null,"",{"$f":"IF(skjermbilde!$D$2=1,VLOOKUP($CS98,$CB$17:$CD$261,3,FALSE),CONCATENATE(\"2 x \",VLOOKUP($CS98,$CB$17:$CD$261,3,FALSE)))","v":""},null,null,null,null,null,null,null,null,null,4.1000000000000026E-7,1.00000041,1,"LKL-0,1-150-1500",1.00000041,"LKL-0,1-150-1500",0]
[84,"LKL-0,1-200-640",{"$f":"datagrunnlag!I99","v":1.7187213067208331},{"$f":"datagrunnlag!J99","v":2.2335046157491729},{"$f":"datagrunnlag!K99","v":6.6254494262989203},{"$f":"datagrunnlag!L99","v":13.090053922928277},{"$f":"datagrunnlag!M99","v":14.590846904680514},{"$f":"datagrunnlag!N99","v":8.3948225476698131},{"$f":"datagrunnlag!O99","v":7.1025004903382483},{"$f":"datagrunnlag!P99","v":6.6976800541022508},{"$f":"+datagrunnlag!A99","v":"LKL"},{"$f":"+datagrunnlag!B99","v":"r"},null,{"$f":"IF(OR(O99>skjermbilde!$C$3,skjermbilde!$C$3>1000),0.1,skjermbilde!$C$3)","v":0.1},{"$f":"+datagrunnlag!E99","v":200},{"$f":"++IF(datagrunnlag!F99=\"s\",\"c\",datagrunnlag!F99)","v":"r"},{"$f":"+datagrunnlag!G99","v":640},{"$f":"+datagrunnlag!Q99","v":649923.19999999995},0,201,"r",0,0,{"$f":"IF(skjermbilde!$D$2=1,R99*(S99/(N99*O99))^2,2*R99*(S99/(N99*O99))^2)","v":0},{"$f":"IF(C99=\"\",\"\",IF(skjermbilde!$D$2=1,C99,IF(AND(skjermbilde!$D$2=2,2*C99>60),60,IF(skjermbilde!$D$2=2,2*C99))))","v":1.7187213067208331},{"$f":"IF(skjermbilde!$D$2=1,D99,IF(AND(skjermbilde!$D$2=2,2*D99>60),60,IF(skjermbilde!$D$2=2,2*D99)))","v":2.2335046157491729},{"$f":"IF(skjermbilde!$D$2=1,E99,IF(AND(skjermbilde!$D$2=2,2*E99>60),60,IF(skjermbilde!$D$2=2,2*E99)))","v":6.6254494262989203},{"$f":"IF(skjermbilde!$D$2=1,F99,IF(AND(skjermbilde!$D$2=2,2*F99>60),60,IF(skjermbilde!$D$2=2,2*F99)))","v":13.090053922928277},{"$f":"IF(skjermbilde!$D$2=1,G99,IF(AND(skjermbilde!$D$2=2,2*G99>60),60,IF(skjermbilde!$D$2=2,2*G99)))","v":14.590846904680514},{"$f":"IF(skjermbilde!$D$2=1,H99,IF(AND(skjermbilde!$D$2=2,2*H99>60),60,IF(skjermbilde!$D$2=2,2*H99)))","v":8.3948225476698131},{"$f":"IF(skjermbilde!$D$2=1,I99,IF(AND(skjermbilde!$D$2=2,2*I99>60),60,IF(skjermbilde!$D$2=2,2*I99)))","v":7.1025004903382483},{"$f":"IF(J99=\"\",\"\",IF(skjermbilde!$D$2=1,J99,IF(AND(skjermbilde!$D$2=2,2*J99>60),60,IF(skjermbilde!$D$2=2,2*J99))))","v":6.6976800541022508},null,null,{"$f":"+IF(ISNUMBER(skjermbilde!G$3-Y99-skjermbilde!G$6-4),skjermbilde!G$3-Y99-skjermbilde!G$6-4,0)","v":-5.7187213067208331},{"$f":"+IF(ISNUMBER(skjermbilde!H$3-Z99-skjermbilde!H$6-4),skjermbilde!H$3-Z99-skjermbilde!H$6-4,0)","v":-6.2335046157491725},{"$f":"+IF(ISNUMBER(skjermbilde!I$3-AA99-skjermbilde!I$6-4),skjermbilde!I$3-AA99-skjermbilde!I$6-4,0)","v":-10.625449426298921},{"$f":"+IF(ISNUMBER(skjermbilde!J$3-AB99-skjermbilde!J$6-4),skjermbilde!J$3-AB99-skjermbilde!J$6-4,0)","v":-17.090053922928277},{"$f":"+IF(ISNUMBER(skjermbilde!K$3-AC99-skjermbilde!K$6-4),skjermbilde!K$3-AC99-skjermbilde!K$6-4,0)","v":-18.590846904680514},{"$f":"+IF(ISNUMBER(skjermbilde!L$3-AD99-skjermbilde!L$6-4),skjermbilde!L$3-AD99-skjermbilde!L$6-4,0)","v":-12.394822547669813},{"$f":"+IF(ISNUMBER(skjermbilde!M$3-AE99-skjermbilde!M$6-4),skjermbilde!M$3-AE99-skjermbilde!M$6-4,0)","v":-11.102500490338247},{"$f":"+IF(ISNUMBER(skjermbilde!N$3-AF99-skjermbilde!N$6-4),skjermbilde!N$3-AF99-skjermbilde!N$6-4,0)","v":-10.69768005410225},{"$f":"IF(skjermbilde!$O$10=TRUE,10*LOG10(10^(0.1*(AI99+AI$12))+10^(0.1*(AJ99+AJ$12))+10^(0.1*(AK99+AK$12))+10^(0.1*(AL99+AL$12))+10^(0.1*(AM99+AM$12))+10^(0.1*(AN99+AN$12))+10^(0.1*(AO99+AO$12))+10^(0.1*(AP99+AP$12))),\"\")","v":""},1,1,1,1,1,1,1,1,1,1,1,{"$f":"+IF(skjermbilde!$N$10=1,1,0)","v":1},{"$f":"+IF(U99=\"r\",1,IF(M99=skjermbilde!$D$3,1,0))","v":1},{"$f":"+IF(U99=\"s\",1,IF(N99=skjermbilde!$C$3,1,0))","v":0},{"$f":"+IF(U99=\"s\",1,IF(O99=skjermbilde!$C$4,1,0))","v":0},1,0,null,null,null,84,"",null,null,null,null,null,null,null,null,null,null,null,null,null,null,"",84,"",null,null,null,null,null,null,null,null,null,null,null,null,"",84,"",null,null,null,null,"",{"$f":"IF(skjermbilde!$D$2=1,VLOOKUP($CS99,$CB$17:$CD$261,3,FALSE),CONCATENATE(\"2 x \",VLOOKUP($CS99,$CB$17:$CD$261,3,FALSE)))","v":""},null,null,null,null,null,null,null,null,null,4.2000000000000027E-7,1.0000004199999999,1,"LKL-0,1-200-640",1.0000004199999999,"LKL-0,1-200-640",0]
[85,"LKL-0,1-200-1000",{"$f":"datagrunnlag!I100","v":5.0630240312959316},{"$f":"datagrunnlag!J100","v":4.3869638929505568},{"$f":"datagrunnlag!K100","v":9.4833497240015028},{"$f":"datagrunnlag!L100","v":16.906642993031436},{"$f":"datagrunnlag!M100","v":20.812446577771663},{"$f":"datagrunnlag!N100","v":11.737014194009374},{"$f":"datagrunnlag!O100","v":8.6341159493867821},{"$f":"datagrunnlag!P100","v":7.5428127523479995},{"$f":"+datagrunnlag!A100","v":"LKL"},{"$f":"+datagrunnlag!B100","v":"r"},null,{"$f":"IF(OR(O100>skjermbilde!$C$3,skjermbilde!$C$3>1000),0.1,skjermbilde!$C$3)","v":0.1},{"$f":"+datagrunnlag!E100","v":200},{"$f":"++IF(datagrunnlag!F100=\"s\",\"c\",datagrunnlag!F100)","v":"r"},{"$f":"+datagrunnlag!G100","v":1000},{"$f":"+datagrunnlag!Q100","v":743570},0,201,"r",0,0,{"$f":"IF(skjermbilde!$D$2=1,R100*(S100/(N100*O100))^2,2*R100*(S100/(N100*O100))^2)","v":0},{"$f":"IF(C100=\"\",\"\",IF(skjermbilde!$D$2=1,C100,IF(AND(skjermbilde!$D$2=2,2*C100>60),60,IF(skjermbilde!$D$2=2,2*C100))))","v":5.0630240312959316},{"$f":"IF(skjermbilde!$D$2=1,D100,IF(AND(skjermbilde!$D$2=2,2*D100>60),60,IF(skjermbilde!$D$2=2,2*D100)))","v":4.3869638929505568},{"$f":"IF(skjermbilde!$D$2=1,E100,IF(AND(skjermbilde!$D$2=2,2*E100>60),60,IF(skjermbilde!$D$2=2,2*E100)))","v":9.4833497240015028},{"$f":"IF(skjermbilde!$D$2=1,F100,IF(AND(skjermbilde!$D$2=2,2*F100>60),60,IF(skjermbilde!$D$2=2,2*F100)))","v":16.906642993031436},{"$f":"IF(skjermbilde!$D$2=1,G100,IF(AND(skjermbilde!$D$2=2,2*G100>60),60,IF(skjermbilde!$D$2=2,2*G100)))","v":20.812446577771663},{"$f":"IF(skjermbilde!$D$2=1,H100,IF(AND(skjermbilde!$D$2=2,2*H100>60),60,IF(skjermbilde!$D$2=2,2*H100)))","v":11.737014194009374},{"$f":"IF(skjermbilde!$D$2=1,I100,IF(AND(skjermbilde!$D$2=2,2*I100>60),60,IF(skjermbilde!$D$2=2,2*I100)))","v":8.6341159493867821},{"$f":"IF(J100=\"\",\"\",IF(skjermbilde!$D$2=1,J100,IF(AND(skjermbilde!$D$2=2,2*J100>60),60,IF(skjermbilde!$D$2=2,2*J100))))","v":7.5428127523479995},null,null,{"$f":"+IF(ISNUMBER(skjermbilde!G$3-Y100-skjermbilde!G$6-4),skjermbilde!G$3-Y100-skjermbilde!G$6-4,0)","v":-9.0630240312959316},{"$f":"+IF(ISNUMBER(skjermbilde!H$3-Z100-skjermbilde!H$6-4),skjermbilde!H$3-Z100-skjermbilde!H$6-4,0)","v":-8.3869638929505577},{"$f":"+IF(ISNUMBER(skjermbilde!I$3-AA100-skjermbilde!I$6-4),skjermbilde!I$3-AA100-skjermbilde!I$6-4,0)","v":-13.483349724001503},{"$f":"+IF(ISNUMBER(skjermbilde!J$3-AB100-skjermbilde!J$6-4),skjermbilde!J$3-AB100-skjermbilde!J$6-4,0)","v":-20.906642993031436},{"$f":"+IF(ISNUMBER(skjermbilde!K$3-AC100-skjermbilde!K$6-4),skjermbilde!K$3-AC100-skjermbilde!K$6-4,0)","v":-24.812446577771663},{"$f":"+IF(ISNUMBER(skjermbilde!L$3-AD100-skjermbilde!L$6-4),skjermbilde!L$3-AD100-skjermbilde!L$6-4,0)","v":-15.737014194009374},{"$f":"+IF(ISNUMBER(skjermbilde!M$3-AE100-skjermbilde!M$6-4),skjermbilde!M$3-AE100-skjermbilde!M$6-4,0)","v":-12.634115949386782},{"$f":"+IF(ISNUMBER(skjermbilde!N$3-AF100-skjermbilde!N$6-4),skjermbilde!N$3-AF100-skjermbilde!N$6-4,0)","v":-11.542812752347999},{"$f":"IF(skjermbilde!$O$10=TRUE,10*LOG10(10^(0.1*(AI100+AI$12))+10^(0.1*(AJ100+AJ$12))+10^(0.1*(AK100+AK$12))+10^(0.1*(AL100+AL$12))+10^(0.1*(AM100+AM$12))+10^(0.1*(AN100+AN$12))+10^(0.1*(AO100+AO$12))+10^(0.1*(AP100+AP$12))),\"\")","v":""},1,1,1,1,1,1,1,1,1,1,1,{"$f":"+IF(skjermbilde!$N$10=1,1,0)","v":1},{"$f":"+IF(U100=\"r\",1,IF(M100=skjermbilde!$D$3,1,0))","v":1},{"$f":"+IF(U100=\"s\",1,IF(N100=skjermbilde!$C$3,1,0))","v":0},{"$f":"+IF(U100=\"s\",1,IF(O100=skjermbilde!$C$4,1,0))","v":0},1,0,null,null,null,85,"",null,null,null,null,null,null,null,null,null,null,null,null,null,null,"",85,"",null,null,null,null,null,null,null,null,null,null,null,null,"",85,"",null,null,null,null,"",{"$f":"IF(skjermbilde!$D$2=1,VLOOKUP($CS100,$CB$17:$CD$261,3,FALSE),CONCATENATE(\"2 x \",VLOOKUP($CS100,$CB$17:$CD$261,3,FALSE)))","v":""},null,null,null,null,null,null,null,null,null,4.3000000000000028E-7,1.0000004300000001,1,"LKL-0,1-200-1000",1.0000004300000001,"LKL-0,1-200-1000",0]
[86,"LKL-0,1-200-1240",{"$f":"datagrunnlag!I101","v":8.407326755871031},{"$f":"datagrunnlag!J101","v":6.5404231701519411},{"$f":"datagrunnlag!K101","v":12.341250021704084},{"$f":"datagrunnlag!L101","v":20.723232063134599},{"$f":"datagrunnlag!M101","v":27.034046250862815},{"$f":"datagrunnlag!N101","v":15.079205840348937},{"$f":"datagrunnlag!O101","v":10.165731408435317},{"$f":"datagrunnlag!P101","v":8.3879454505937492},{"$f":"+datagrunnlag!A101","v":"LKL"},{"$f":"+datagrunnlag!B101","v":"r"},null,{"$f":"IF(OR(O101>skjermbilde!$C$3,skjermbilde!$C$3>1000),0.1,skjermbilde!$C$3)","v":0.1},{"$f":"+datagrunnlag!E101","v":200},{"$f":"++IF(datagrunnlag!F101=\"s\",\"c\",datagrunnlag!F101)","v":"r"},{"$f":"+datagrunnlag!G101","v":1240},{"$f":"+datagrunnlag!Q101","v":806001.2},0,201,"r",0,0,{"$f":"IF(skjermbilde!$D$2=1,R101*(S101/(N101*O101))^2,2*R101*(S101/(N101*O101))^2)","v":0},{"$f":"IF(C101=\"\",\"\",IF(skjermbilde!$D$2=1,C101,IF(AND(skjermbilde!$D$2=2,2*C101>60),60,IF(skjermbilde!$D$2=2,2*C101))))","v":8.407326755871031},{"$f":"IF(skjermbilde!$D$2=1,D101,IF(AND(skjermbilde!$D$2=2,2*D101>60),60,IF(skjermbilde!$D$2=2,2*D101)))","v":6.5404231701519411},{"$f":"IF(skjermbilde!$D$2=1,E101,IF(AND(skjermbilde!$D$2=2,2*E101>60),60,IF(skjermbilde!$D$2=2,2*E101)))","v":12.341250021704084},{"$f":"IF(skjermbilde!$D$2=1,F101,IF(AND(skjermbilde!$D$2=2,2*F101>60),60,IF(skjermbilde!$D$2=2,2*F101)))","v":20.723232063134599},{"$f":"IF(skjermbilde!$D$2=1,G101,IF(AND(skjermbilde!$D$2=2,2*G101>60),60,IF(skjermbilde!$D$2=2,2*G101)))","v":27.034046250862815},{"$f":"IF(skjermbilde!$D$2=1,H101,IF(AND(skjermbilde!$D$2=2,2*H101>60),60,IF(skjermbilde!$D$2=2,2*H101)))","v":15.079205840348937},{"$f":"IF(skjermbilde!$D$2=1,I101,IF(AND(skjermbilde!$D$2=2,2*I101>60),60,IF(skjermbilde!$D$2=2,2*I101)))","v":10.165731408435317},{"$f":"IF(J101=\"\",\"\",IF(skjermbilde!$D$2=1,J101,IF(AND(skjermbilde!$D$2=2,2*J101>60),60,IF(skjermbilde!$D$2=2,2*J101))))","v":8.3879454505937492},null,null,{"$f":"+IF(ISNUMBER(skjermbilde!G$3-Y101-skjermbilde!G$6-4),skjermbilde!G$3-Y101-skjermbilde!G$6-4,0)","v":-12.407326755871031},{"$f":"+IF(ISNUMBER(skjermbilde!H$3-Z101-skjermbilde!H$6-4),skjermbilde!H$3-Z101-skjermbilde!H$6-4,0)","v":-10.540423170151941},{"$f":"+IF(ISNUMBER(skjermbilde!I$3-AA101-skjermbilde!I$6-4),skjermbilde!I$3-AA101-skjermbilde!I$6-4,0)","v":-16.341250021704084},{"$f":"+IF(ISNUMBER(skjermbilde!J$3-AB101-skjermbilde!J$6-4),skjermbilde!J$3-AB101-skjermbilde!J$6-4,0)","v":-24.723232063134599},{"$f":"+IF(ISNUMBER(skjermbilde!K$3-AC101-skjermbilde!K$6-4),skjermbilde!K$3-AC101-skjermbilde!K$6-4,0)","v":-31.034046250862815},{"$f":"+IF(ISNUMBER(skjermbilde!L$3-AD101-skjermbilde!L$6-4),skjermbilde!L$3-AD101-skjermbilde!L$6-4,0)","v":-19.079205840348937},{"$f":"+IF(ISNUMBER(skjermbilde!M$3-AE101-skjermbilde!M$6-4),skjermbilde!M$3-AE101-skjermbilde!M$6-4,0)","v":-14.165731408435317},{"$f":"+IF(ISNUMBER(skjermbilde!N$3-AF101-skjermbilde!N$6-4),skjermbilde!N$3-AF101-skjermbilde!N$6-4,0)","v":-12.387945450593749},{"$f":"IF(skjermbilde!$O$10=TRUE,10*LOG10(10^(0.1*(AI101+AI$12))+10^(0.1*(AJ101+AJ$12))+10^(0.1*(AK101+AK$12))+10^(0.1*(AL101+AL$12))+10^(0.1*(AM101+AM$12))+10^(0.1*(AN101+AN$12))+10^(0.1*(AO101+AO$12))+10^(0.1*(AP101+AP$12))),\"\")","v":""},1,1,1,1,1,1,1,1,1,1,1,{"$f":"+IF(skjermbilde!$N$10=1,1,0)","v":1},{"$f":"+IF(U101=\"r\",1,IF(M101=skjermbilde!$D$3,1,0))","v":1},{"$f":"+IF(U101=\"s\",1,IF(N101=skjermbilde!$C$3,1,0))","v":0},{"$f":"+IF(U101=\"s\",1,IF(O101=skjermbilde!$C$4,1,0))","v":0},1,0,null,null,null,86,"",null,null,null,null,null,null,null,null,null,null,null,null,null,null,"",86,"",null,null,null,null,null,null,null,null,null,null,null,null,"",86,"",null,null,null,null,"",{"$f":"IF(skjermbilde!$D$2=1,VLOOKUP($CS101,$CB$17:$CD$261,3,FALSE),CONCATENATE(\"2 x \",VLOOKUP($CS101,$CB$17:$CD$261,3,FALSE)))","v":""},null,null,null,null,null,null,null,null,null,4.4000000000000029E-7,1.00000044,1,"LKL-0,1-200-1240",1.00000044,"LKL-0,1-200-1240",0]
[87,"LKL-0,1-200-1500",{"$f":"datagrunnlag!I102","v":11.75162948044613},{"$f":"datagrunnlag!J102","v":8.6938824473533245},{"$f":"datagrunnlag!K102","v":15.199150319406666},{"$f":"datagrunnlag!L102","v":24.539821133237758},{"$f":"datagrunnlag!M102","v":33.255645923953963},{"$f":"datagrunnlag!N102","v":18.421397486688498},{"$f":"datagrunnlag!O102","v":11.697346867483851},{"$f":"datagrunnlag!P102","v":9.233078148839498},{"$f":"+datagrunnlag!A102","v":"LKL"},{"$f":"+datagrunnlag!B102","v":"r"},null,{"$f":"IF(OR(O102>skjermbilde!$C$3,skjermbilde!$C$3>1000),0.1,skjermbilde!$C$3)","v":0.1},{"$f":"+datagrunnlag!E102","v":200},{"$f":"++IF(datagrunnlag!F102=\"s\",\"c\",datagrunnlag!F102)","v":"r"},{"$f":"+datagrunnlag!G102","v":1500},{"$f":"+datagrunnlag!Q102","v":873635},0,201,"r",0,0,{"$f":"IF(skjermbilde!$D$2=1,R102*(S102/(N102*O102))^2,2*R102*(S102/(N102*O102))^2)","v":0},{"$f":"IF(C102=\"\",\"\",IF(skjermbilde!$D$2=1,C102,IF(AND(skjermbilde!$D$2=2,2*C102>60),60,IF(skjermbilde!$D$2=2,2*C102))))","v":11.75162948044613},{"$f":"IF(skjermbilde!$D$2=1,D102,IF(AND(skjermbilde!$D$2=2,2*D102>60),60,IF(skjermbilde!$D$2=2,2*D102)))","v":8.6938824473533245},{"$f":"IF(skjermbilde!$D$2=1,E102,IF(AND(skjermbilde!$D$2=2,2*E102>60),60,IF(skjermbilde!$D$2=2,2*E102)))","v":15.199150319406666},{"$f":"IF(skjermbilde!$D$2=1,F102,IF(AND(skjermbilde!$D$2=2,2*F102>60),60,IF(skjermbilde!$D$2=2,2*F102)))","v":24.539821133237758},{"$f":"IF(skjermbilde!$D$2=1,G102,IF(AND(skjermbilde!$D$2=2,2*G102>60),60,IF(skjermbilde!$D$2=2,2*G102)))","v":33.255645923953963},{"$f":"IF(skjermbilde!$D$2=1,H102,IF(AND(skjermbilde!$D$2=2,2*H102>60),60,IF(skjermbilde!$D$2=2,2*H102)))","v":18.421397486688498},{"$f":"IF(skjermbilde!$D$2=1,I102,IF(AND(skjermbilde!$D$2=2,2*I102>60),60,IF(skjermbilde!$D$2=2,2*I102)))","v":11.697346867483851},{"$f":"IF(J102=\"\",\"\",IF(skjermbilde!$D$2=1,J102,IF(AND(skjermbilde!$D$2=2,2*J102>60),60,IF(skjermbilde!$D$2=2,2*J102))))","v":9.233078148839498},null,null,{"$f":"+IF(ISNUMBER(skjermbilde!G$3-Y102-skjermbilde!G$6-4),skjermbilde!G$3-Y102-skjermbilde!G$6-4,0)","v":-15.75162948044613},{"$f":"+IF(ISNUMBER(skjermbilde!H$3-Z102-skjermbilde!H$6-4),skjermbilde!H$3-Z102-skjermbilde!H$6-4,0)","v":-12.693882447353324},{"$f":"+IF(ISNUMBER(skjermbilde!I$3-AA102-skjermbilde!I$6-4),skjermbilde!I$3-AA102-skjermbilde!I$6-4,0)","v":-19.199150319406666},{"$f":"+IF(ISNUMBER(skjermbilde!J$3-AB102-skjermbilde!J$6-4),skjermbilde!J$3-AB102-skjermbilde!J$6-4,0)","v":-28.539821133237758},{"$f":"+IF(ISNUMBER(skjermbilde!K$3-AC102-skjermbilde!K$6-4),skjermbilde!K$3-AC102-skjermbilde!K$6-4,0)","v":-37.255645923953963},{"$f":"+IF(ISNUMBER(skjermbilde!L$3-AD102-skjermbilde!L$6-4),skjermbilde!L$3-AD102-skjermbilde!L$6-4,0)","v":-22.421397486688498},{"$f":"+IF(ISNUMBER(skjermbilde!M$3-AE102-skjermbilde!M$6-4),skjermbilde!M$3-AE102-skjermbilde!M$6-4,0)","v":-15.697346867483851},{"$f":"+IF(ISNUMBER(skjermbilde!N$3-AF102-skjermbilde!N$6-4),skjermbilde!N$3-AF102-skjermbilde!N$6-4,0)","v":-13.233078148839498},{"$f":"IF(skjermbilde!$O$10=TRUE,10*LOG10(10^(0.1*(AI102+AI$12))+10^(0.1*(AJ102+AJ$12))+10^(0.1*(AK102+AK$12))+10^(0.1*(AL102+AL$12))+10^(0.1*(AM102+AM$12))+10^(0.1*(AN102+AN$12))+10^(0.1*(AO102+AO$12))+10^(0.1*(AP102+AP$12))),\"\")","v":""},1,1,1,1,1,1,1,1,1,1,1,{"$f":"+IF(skjermbilde!$N$10=1,1,0)","v":1},{"$f":"+IF(U102=\"r\",1,IF(M102=skjermbilde!$D$3,1,0))","v":1},{"$f":"+IF(U102=\"s\",1,IF(N102=skjermbilde!$C$3,1,0))","v":0},{"$f":"+IF(U102=\"s\",1,IF(O102=skjermbilde!$C$4,1,0))","v":0},1,0,null,null,null,87,"",null,null,null,null,null,null,null,null,null,null,null,null,null,null,"",87,"",null,null,null,null,null,null,null,null,null,null,null,null,"",87,"",null,null,null,null,"",{"$f":"IF(skjermbilde!$D$2=1,VLOOKUP($CS102,$CB$17:$CD$261,3,FALSE),CONCATENATE(\"2 x \",VLOOKUP($CS102,$CB$17:$CD$261,3,FALSE)))","v":""},null,null,null,null,null,null,null,null,null,4.500000000000003E-7,1.0000004499999999,1,"LKL-0,1-200-1500",1.0000004499999999,"LKL-0,1-200-1500",0]
[88,"LKL-0,1-250-640",{"$f":"datagrunnlag!I103","v":1},{"$f":"datagrunnlag!J103","v":3.0136675932083303},{"$f":"datagrunnlag!K103","v":7.163394950969221},{"$f":"datagrunnlag!L103","v":12.557417263369853},{"$f":"datagrunnlag!M103","v":11.814905141976249},{"$f":"datagrunnlag!N103","v":7.2994703894551138},{"$f":"datagrunnlag!O103","v":5.99065338103612},{"$f":"datagrunnlag!P103","v":6.7531901647918557},{"$f":"+datagrunnlag!A103","v":"LKL"},{"$f":"+datagrunnlag!B103","v":"r"},null,{"$f":"IF(OR(O103>skjermbilde!$C$3,skjermbilde!$C$3>1000),0.1,skjermbilde!$C$3)","v":0.1},{"$f":"+datagrunnlag!E103","v":250},{"$f":"++IF(datagrunnlag!F103=\"s\",\"c\",datagrunnlag!F103)","v":"r"},{"$f":"+datagrunnlag!G103","v":640},{"$f":"+datagrunnlag!Q103","v":649923.19999999995},0,201,"r",0,0,{"$f":"IF(skjermbilde!$D$2=1,R103*(S103/(N103*O103))^2,2*R103*(S103/(N103*O103))^2)","v":0},{"$f":"IF(C103=\"\",\"\",IF(skjermbilde!$D$2=1,C103,IF(AND(skjermbilde!$D$2=2,2*C103>60),60,IF(skjermbilde!$D$2=2,2*C103))))","v":1},{"$f":"IF(skjermbilde!$D$2=1,D103,IF(AND(skjermbilde!$D$2=2,2*D103>60),60,IF(skjermbilde!$D$2=2,2*D103)))","v":3.0136675932083303},{"$f":"IF(skjermbilde!$D$2=1,E103,IF(AND(skjermbilde!$D$2=2,2*E103>60),60,IF(skjermbilde!$D$2=2,2*E103)))","v":7.163394950969221},{"$f":"IF(skjermbilde!$D$2=1,F103,IF(AND(skjermbilde!$D$2=2,2*F103>60),60,IF(skjermbilde!$D$2=2,2*F103)))","v":12.557417263369853},{"$f":"IF(skjermbilde!$D$2=1,G103,IF(AND(skjermbilde!$D$2=2,2*G103>60),60,IF(skjermbilde!$D$2=2,2*G103)))","v":11.814905141976249},{"$f":"IF(skjermbilde!$D$2=1,H103,IF(AND(skjermbilde!$D$2=2,2*H103>60),60,IF(skjermbilde!$D$2=2,2*H103)))","v":7.2994703894551138},{"$f":"IF(skjermbilde!$D$2=1,I103,IF(AND(skjermbilde!$D$2=2,2*I103>60),60,IF(skjermbilde!$D$2=2,2*I103)))","v":5.99065338103612},{"$f":"IF(J103=\"\",\"\",IF(skjermbilde!$D$2=1,J103,IF(AND(skjermbilde!$D$2=2,2*J103>60),60,IF(skjermbilde!$D$2=2,2*J103))))","v":6.7531901647918557},null,null,{"$f":"+IF(ISNUMBER(skjermbilde!G$3-Y103-skjermbilde!G$6-4),skjermbilde!G$3-Y103-skjermbilde!G$6-4,0)","v":-5},{"$f":"+IF(ISNUMBER(skjermbilde!H$3-Z103-skjermbilde!H$6-4),skjermbilde!H$3-Z103-skjermbilde!H$6-4,0)","v":-7.0136675932083303},{"$f":"+IF(ISNUMBER(skjermbilde!I$3-AA103-skjermbilde!I$6-4),skjermbilde!I$3-AA103-skjermbilde!I$6-4,0)","v":-11.16339495096922},{"$f":"+IF(ISNUMBER(skjermbilde!J$3-AB103-skjermbilde!J$6-4),skjermbilde!J$3-AB103-skjermbilde!J$6-4,0)","v":-16.557417263369853},{"$f":"+IF(ISNUMBER(skjermbilde!K$3-AC103-skjermbilde!K$6-4),skjermbilde!K$3-AC103-skjermbilde!K$6-4,0)","v":-15.814905141976249},{"$f":"+IF(ISNUMBER(skjermbilde!L$3-AD103-skjermbilde!L$6-4),skjermbilde!L$3-AD103-skjermbilde!L$6-4,0)","v":-11.299470389455113},{"$f":"+IF(ISNUMBER(skjermbilde!M$3-AE103-skjermbilde!M$6-4),skjermbilde!M$3-AE103-skjermbilde!M$6-4,0)","v":-9.99065338103612},{"$f":"+IF(ISNUMBER(skjermbilde!N$3-AF103-skjermbilde!N$6-4),skjermbilde!N$3-AF103-skjermbilde!N$6-4,0)","v":-10.753190164791857},{"$f":"IF(skjermbilde!$O$10=TRUE,10*LOG10(10^(0.1*(AI103+AI$12))+10^(0.1*(AJ103+AJ$12))+10^(0.1*(AK103+AK$12))+10^(0.1*(AL103+AL$12))+10^(0.1*(AM103+AM$12))+10^(0.1*(AN103+AN$12))+10^(0.1*(AO103+AO$12))+10^(0.1*(AP103+AP$12))),\"\")","v":""},1,1,1,1,1,1,1,1,1,1,1,{"$f":"+IF(skjermbilde!$N$10=1,1,0)","v":1},{"$f":"+IF(U103=\"r\",1,IF(M103=skjermbilde!$D$3,1,0))","v":1},{"$f":"+IF(U103=\"s\",1,IF(N103=skjermbilde!$C$3,1,0))","v":0},{"$f":"+IF(U103=\"s\",1,IF(O103=skjermbilde!$C$4,1,0))","v":0},1,0,null,null,null,88,"",null,null,null,null,null,null,null,null,null,null,null,null,null,null,"",88,"",null,null,null,null,null,null,null,null,null,null,null,null,"",88,"",null,null,null,null,"",{"$f":"IF(skjermbilde!$D$2=1,VLOOKUP($CS103,$CB$17:$CD$261,3,FALSE),CONCATENATE(\"2 x \",VLOOKUP($CS103,$CB$17:$CD$261,3,FALSE)))","v":""},null,null,null,null,null,null,null,null,null,4.6000000000000031E-7,1.0000004600000001,1,"LKL-0,1-250-640",1.0000004600000001,"LKL-0,1-250-640",0]
[89,"LKL-0,1-250-1000",{"$f":"datagrunnlag!I104","v":1},{"$f":"datagrunnlag!J104","v":4.6787940945980875},{"$f":"datagrunnlag!K104","v":9.7795396311403824},{"$f":"datagrunnlag!L104","v":17.598282656522187},{"$f":"datagrunnlag!M104","v":16.592756075506351},{"$f":"datagrunnlag!N104","v":9.7920690544735134},{"$f":"datagrunnlag!O104","v":7.2898594325661499},{"$f":"datagrunnlag!P104","v":7.6997111101387885},{"$f":"+datagrunnlag!A104","v":"LKL"},{"$f":"+datagrunnlag!B104","v":"r"},null,{"$f":"IF(OR(O104>skjermbilde!$C$3,skjermbilde!$C$3>1000),0.1,skjermbilde!$C$3)","v":0.1},{"$f":"+datagrunnlag!E104","v":250},{"$f":"++IF(datagrunnlag!F104=\"s\",\"c\",datagrunnlag!F104)","v":"r"},{"$f":"+datagrunnlag!G104","v":1000},{"$f":"+datagrunnlag!Q104","v":743570},0,201,"r",0,0,{"$f":"IF(skjermbilde!$D$2=1,R104*(S104/(N104*O104))^2,2*R104*(S104/(N104*O104))^2)","v":0},{"$f":"IF(C104=\"\",\"\",IF(skjermbilde!$D$2=1,C104,IF(AND(skjermbilde!$D$2=2,2*C104>60),60,IF(skjermbilde!$D$2=2,2*C104))))","v":1},{"$f":"IF(skjermbilde!$D$2=1,D104,IF(AND(skjermbilde!$D$2=2,2*D104>60),60,IF(skjermbilde!$D$2=2,2*D104)))","v":4.6787940945980875},{"$f":"IF(skjermbilde!$D$2=1,E104,IF(AND(skjermbilde!$D$2=2,2*E104>60),60,IF(skjermbilde!$D$2=2,2*E104)))","v":9.7795396311403824},{"$f":"IF(skjermbilde!$D$2=1,F104,IF(AND(skjermbilde!$D$2=2,2*F104>60),60,IF(skjermbilde!$D$2=2,2*F104)))","v":17.598282656522187},{"$f":"IF(skjermbilde!$D$2=1,G104,IF(AND(skjermbilde!$D$2=2,2*G104>60),60,IF(skjermbilde!$D$2=2,2*G104)))","v":16.592756075506351},{"$f":"IF(skjermbilde!$D$2=1,H104,IF(AND(skjermbilde!$D$2=2,2*H104>60),60,IF(skjermbilde!$D$2=2,2*H104)))","v":9.7920690544735134},{"$f":"IF(skjermbilde!$D$2=1,I104,IF(AND(skjermbilde!$D$2=2,2*I104>60),60,IF(skjermbilde!$D$2=2,2*I104)))","v":7.2898594325661499},{"$f":"IF(J104=\"\",\"\",IF(skjermbilde!$D$2=1,J104,IF(AND(skjermbilde!$D$2=2,2*J104>60),60,IF(skjermbilde!$D$2=2,2*J104))))","v":7.6997111101387885},null,null,{"$f":"+IF(ISNUMBER(skjermbilde!G$3-Y104-skjermbilde!G$6-4),skjermbilde!G$3-Y104-skjermbilde!G$6-4,0)","v":-5},{"$f":"+IF(ISNUMBER(skjermbilde!H$3-Z104-skjermbilde!H$6-4),skjermbilde!H$3-Z104-skjermbilde!H$6-4,0)","v":-8.6787940945980875},{"$f":"+IF(ISNUMBER(skjermbilde!I$3-AA104-skjermbilde!I$6-4),skjermbilde!I$3-AA104-skjermbilde!I$6-4,0)","v":-13.779539631140382},{"$f":"+IF(ISNUMBER(skjermbilde!J$3-AB104-skjermbilde!J$6-4),skjermbilde!J$3-AB104-skjermbilde!J$6-4,0)","v":-21.598282656522187},{"$f":"+IF(ISNUMBER(skjermbilde!K$3-AC104-skjermbilde!K$6-4),skjermbilde!K$3-AC104-skjermbilde!K$6-4,0)","v":-20.592756075506351},{"$f":"+IF(ISNUMBER(skjermbilde!L$3-AD104-skjermbilde!L$6-4),skjermbilde!L$3-AD104-skjermbilde!L$6-4,0)","v":-13.792069054473513},{"$f":"+IF(ISNUMBER(skjermbilde!M$3-AE104-skjermbilde!M$6-4),skjermbilde!M$3-AE104-skjermbilde!M$6-4,0)","v":-11.28985943256615},{"$f":"+IF(ISNUMBER(skjermbilde!N$3-AF104-skjermbilde!N$6-4),skjermbilde!N$3-AF104-skjermbilde!N$6-4,0)","v":-11.699711110138789},{"$f":"IF(skjermbilde!$O$10=TRUE,10*LOG10(10^(0.1*(AI104+AI$12))+10^(0.1*(AJ104+AJ$12))+10^(0.1*(AK104+AK$12))+10^(0.1*(AL104+AL$12))+10^(0.1*(AM104+AM$12))+10^(0.1*(AN104+AN$12))+10^(0.1*(AO104+AO$12))+10^(0.1*(AP104+AP$12))),\"\")","v":""},1,1,1,1,1,1,1,1,1,1,1,{"$f":"+IF(skjermbilde!$N$10=1,1,0)","v":1},{"$f":"+IF(U104=\"r\",1,IF(M104=skjermbilde!$D$3,1,0))","v":1},{"$f":"+IF(U104=\"s\",1,IF(N104=skjermbilde!$C$3,1,0))","v":0},{"$f":"+IF(U104=\"s\",1,IF(O104=skjermbilde!$C$4,1,0))","v":0},1,0,null,null,null,89,"",null,null,null,null,null,null,null,null,null,null,null,null,null,null,"",89,"",null,null,null,null,null,null,null,null,null,null,null,null,"",89,"",null,null,null,null,"",{"$f":"IF(skjermbilde!$D$2=1,VLOOKUP($CS104,$CB$17:$CD$261,3,FALSE),CONCATENATE(\"2 x \",VLOOKUP($CS104,$CB$17:$CD$261,3,FALSE)))","v":""},null,null,null,null,null,null,null,null,null,4.7000000000000032E-7,1.00000047,1,"LKL-0,1-250-1000",1.00000047,"LKL-0,1-250-1000",0]
[90,"LKL-0,1-250-1240",{"$f":"datagrunnlag!I105","v":1},{"$f":"datagrunnlag!J105","v":6.3439205959878446},{"$f":"datagrunnlag!K105","v":12.395684311311543},{"$f":"datagrunnlag!L105","v":22.639148049674521},{"$f":"datagrunnlag!M105","v":21.370607009036451},{"$f":"datagrunnlag!N105","v":12.284667719491914},{"$f":"datagrunnlag!O105","v":8.5890654840961798},{"$f":"datagrunnlag!P105","v":8.6462320554857222},{"$f":"+datagrunnlag!A105","v":"LKL"},{"$f":"+datagrunnlag!B105","v":"r"},null,{"$f":"IF(OR(O105>skjermbilde!$C$3,skjermbilde!$C$3>1000),0.1,skjermbilde!$C$3)","v":0.1},{"$f":"+datagrunnlag!E105","v":250},{"$f":"++IF(datagrunnlag!F105=\"s\",\"c\",datagrunnlag!F105)","v":"r"},{"$f":"+datagrunnlag!G105","v":1240},{"$f":"+datagrunnlag!Q105","v":806001.2},0,201,"r",0,0,{"$f":"IF(skjermbilde!$D$2=1,R105*(S105/(N105*O105))^2,2*R105*(S105/(N105*O105))^2)","v":0},{"$f":"IF(C105=\"\",\"\",IF(skjermbilde!$D$2=1,C105,IF(AND(skjermbilde!$D$2=2,2*C105>60),60,IF(skjermbilde!$D$2=2,2*C105))))","v":1},{"$f":"IF(skjermbilde!$D$2=1,D105,IF(AND(skjermbilde!$D$2=2,2*D105>60),60,IF(skjermbilde!$D$2=2,2*D105)))","v":6.3439205959878446},{"$f":"IF(skjermbilde!$D$2=1,E105,IF(AND(skjermbilde!$D$2=2,2*E105>60),60,IF(skjermbilde!$D$2=2,2*E105)))","v":12.395684311311543},{"$f":"IF(skjermbilde!$D$2=1,F105,IF(AND(skjermbilde!$D$2=2,2*F105>60),60,IF(skjermbilde!$D$2=2,2*F105)))","v":22.639148049674521},{"$f":"IF(skjermbilde!$D$2=1,G105,IF(AND(skjermbilde!$D$2=2,2*G105>60),60,IF(skjermbilde!$D$2=2,2*G105)))","v":21.370607009036451},{"$f":"IF(skjermbilde!$D$2=1,H105,IF(AND(skjermbilde!$D$2=2,2*H105>60),60,IF(skjermbilde!$D$2=2,2*H105)))","v":12.284667719491914},{"$f":"IF(skjermbilde!$D$2=1,I105,IF(AND(skjermbilde!$D$2=2,2*I105>60),60,IF(skjermbilde!$D$2=2,2*I105)))","v":8.5890654840961798},{"$f":"IF(J105=\"\",\"\",IF(skjermbilde!$D$2=1,J105,IF(AND(skjermbilde!$D$2=2,2*J105>60),60,IF(skjermbilde!$D$2=2,2*J105))))","v":8.6462320554857222},null,null,{"$f":"+IF(ISNUMBER(skjermbilde!G$3-Y105-skjermbilde!G$6-4),skjermbilde!G$3-Y105-skjermbilde!G$6-4,0)","v":-5},{"$f":"+IF(ISNUMBER(skjermbilde!H$3-Z105-skjermbilde!H$6-4),skjermbilde!H$3-Z105-skjermbilde!H$6-4,0)","v":-10.343920595987845},{"$f":"+IF(ISNUMBER(skjermbilde!I$3-AA105-skjermbilde!I$6-4),skjermbilde!I$3-AA105-skjermbilde!I$6-4,0)","v":-16.395684311311541},{"$f":"+IF(ISNUMBER(skjermbilde!J$3-AB105-skjermbilde!J$6-4),skjermbilde!J$3-AB105-skjermbilde!J$6-4,0)","v":-26.639148049674521},{"$f":"+IF(ISNUMBER(skjermbilde!K$3-AC105-skjermbilde!K$6-4),skjermbilde!K$3-AC105-skjermbilde!K$6-4,0)","v":-25.370607009036451},{"$f":"+IF(ISNUMBER(skjermbilde!L$3-AD105-skjermbilde!L$6-4),skjermbilde!L$3-AD105-skjermbilde!L$6-4,0)","v":-16.284667719491914},{"$f":"+IF(ISNUMBER(skjermbilde!M$3-AE105-skjermbilde!M$6-4),skjermbilde!M$3-AE105-skjermbilde!M$6-4,0)","v":-12.58906548409618},{"$f":"+IF(ISNUMBER(skjermbilde!N$3-AF105-skjermbilde!N$6-4),skjermbilde!N$3-AF105-skjermbilde!N$6-4,0)","v":-12.646232055485722},{"$f":"IF(skjermbilde!$O$10=TRUE,10*LOG10(10^(0.1*(AI105+AI$12))+10^(0.1*(AJ105+AJ$12))+10^(0.1*(AK105+AK$12))+10^(0.1*(AL105+AL$12))+10^(0.1*(AM105+AM$12))+10^(0.1*(AN105+AN$12))+10^(0.1*(AO105+AO$12))+10^(0.1*(AP105+AP$12))),\"\")","v":""},1,1,1,1,1,1,1,1,1,{"$f":"+IF(U105=L105,1,0)","v":1},1,{"$f":"+IF(skjermbilde!$N$10=1,1,0)","v":1},{"$f":"+IF(U105=\"r\",1,IF(M105=skjermbilde!$D$3,1,0))","v":1},{"$f":"+IF(U105=\"s\",1,IF(N105=skjermbilde!$C$3,1,0))","v":0},{"$f":"+IF(U105=\"s\",1,IF(O105=skjermbilde!$C$4,1,0))","v":0},1,0,null,null,null,{"$f":"+A105","v":90},{"$f":"+IF($BH105=1,$B105,\"\")","v":""},null,null,null,null,null,null,null,null,null,null,null,null,null,null,{"$f":"+IF($BH105=1,$X105+DI105,\"\")","v":""},{"$f":"+BL105","v":90},{"$f":"+IF($BH105=1,$B105,\"\")","v":""},null,null,null,null,null,null,null,null,null,null,null,null,{"$f":"+IF($BH105=1,$AQ105,\"\")","v":""},90,{"$f":"IF(ISERROR(SMALL(CB$17:CB$261,#REF!)),\"\",SMALL(CB$17:CB$261,#REF!))","v":""},null,null,null,null,"",{"$f":"IF(skjermbilde!$D$2=1,VLOOKUP($CS105,$CB$17:$CD$261,3,FALSE),CONCATENATE(\"2 x \",VLOOKUP($CS105,$CB$17:$CD$261,3,FALSE)))","v":""},null,null,null,null,null,null,null,null,null,4.8000000000000027E-7,{"$f":"IF(ISNUMBER(DK105),DK105+DI105,\"\")","v":1.00000048},{"$f":"SEARCH($DL$14,B105,1)","v":1},{"$f":"IF(ISNUMBER(DK105),B105,\"\")","v":"LKL-0,1-250-1240"},{"$f":"IF(ISERROR(SMALL(DJ$17:DJ$261,#REF!)),\"\",SMALL(DJ$17:DJ$261,#REF!))","v":""},{"$error":"#N/A"},{"$error":"#N/A"}]
[91,"LKL-0,1-250-1500",{"$f":"datagrunnlag!I106","v":1},{"$f":"datagrunnlag!J106","v":8.0090470973776018},{"$f":"datagrunnlag!K106","v":15.011828991482703},{"$f":"datagrunnlag!L106","v":27.680013442826855},{"$f":"datagrunnlag!M106","v":26.148457942566552},{"$f":"datagrunnlag!N106","v":14.777266384510312},{"$f":"datagrunnlag!O106","v":9.8882715356262096},{"$f":"datagrunnlag!P106","v":9.5927530008326549},{"$f":"+datagrunnlag!A106","v":"LKL"},{"$f":"+datagrunnlag!B106","v":"r"},null,{"$f":"IF(OR(O106>skjermbilde!$C$3,skjermbilde!$C$3>1000),0.1,skjermbilde!$C$3)","v":0.1},{"$f":"+datagrunnlag!E106","v":250},{"$f":"++IF(datagrunnlag!F106=\"s\",\"c\",datagrunnlag!F106)","v":"r"},{"$f":"+datagrunnlag!G106","v":1500},{"$f":"+datagrunnlag!Q106","v":873635},0,201,"r",0,0,{"$f":"IF(skjermbilde!$D$2=1,R106*(S106/(N106*O106))^2,2*R106*(S106/(N106*O106))^2)","v":0},{"$f":"IF(C106=\"\",\"\",IF(skjermbilde!$D$2=1,C106,IF(AND(skjermbilde!$D$2=2,2*C106>60),60,IF(skjermbilde!$D$2=2,2*C106))))","v":1},{"$f":"IF(skjermbilde!$D$2=1,D106,IF(AND(skjermbilde!$D$2=2,2*D106>60),60,IF(skjermbilde!$D$2=2,2*D106)))","v":8.0090470973776018},{"$f":"IF(skjermbilde!$D$2=1,E106,IF(AND(skjermbilde!$D$2=2,2*E106>60),60,IF(skjermbilde!$D$2=2,2*E106)))","v":15.011828991482703},{"$f":"IF(skjermbilde!$D$2=1,F106,IF(AND(skjermbilde!$D$2=2,2*F106>60),60,IF(skjermbilde!$D$2=2,2*F106)))","v":27.680013442826855},{"$f":"IF(skjermbilde!$D$2=1,G106,IF(AND(skjermbilde!$D$2=2,2*G106>60),60,IF(skjermbilde!$D$2=2,2*G106)))","v":26.148457942566552},{"$f":"IF(skjermbilde!$D$2=1,H106,IF(AND(skjermbilde!$D$2=2,2*H106>60),60,IF(skjermbilde!$D$2=2,2*H106)))","v":14.777266384510312},{"$f":"IF(skjermbilde!$D$2=1,I106,IF(AND(skjermbilde!$D$2=2,2*I106>60),60,IF(skjermbilde!$D$2=2,2*I106)))","v":9.8882715356262096},{"$f":"IF(J106=\"\",\"\",IF(skjermbilde!$D$2=1,J106,IF(AND(skjermbilde!$D$2=2,2*J106>60),60,IF(skjermbilde!$D$2=2,2*J106))))","v":9.5927530008326549},null,null,{"$f":"+IF(ISNUMBER(skjermbilde!G$3-Y106-skjermbilde!G$6-4),skjermbilde!G$3-Y106-skjermbilde!G$6-4,0)","v":-5},{"$f":"+IF(ISNUMBER(skjermbilde!H$3-Z106-skjermbilde!H$6-4),skjermbilde!H$3-Z106-skjermbilde!H$6-4,0)","v":-12.009047097377602},{"$f":"+IF(ISNUMBER(skjermbilde!I$3-AA106-skjermbilde!I$6-4),skjermbilde!I$3-AA106-skjermbilde!I$6-4,0)","v":-19.011828991482702},{"$f":"+IF(ISNUMBER(skjermbilde!J$3-AB106-skjermbilde!J$6-4),skjermbilde!J$3-AB106-skjermbilde!J$6-4,0)","v":-31.680013442826855},{"$f":"+IF(ISNUMBER(skjermbilde!K$3-AC106-skjermbilde!K$6-4),skjermbilde!K$3-AC106-skjermbilde!K$6-4,0)","v":-30.148457942566552},{"$f":"+IF(ISNUMBER(skjermbilde!L$3-AD106-skjermbilde!L$6-4),skjermbilde!L$3-AD106-skjermbilde!L$6-4,0)","v":-18.777266384510312},{"$f":"+IF(ISNUMBER(skjermbilde!M$3-AE106-skjermbilde!M$6-4),skjermbilde!M$3-AE106-skjermbilde!M$6-4,0)","v":-13.88827153562621},{"$f":"+IF(ISNUMBER(skjermbilde!N$3-AF106-skjermbilde!N$6-4),skjermbilde!N$3-AF106-skjermbilde!N$6-4,0)","v":-13.592753000832655},{"$f":"IF(skjermbilde!$O$10=TRUE,10*LOG10(10^(0.1*(AI106+AI$12))+10^(0.1*(AJ106+AJ$12))+10^(0.1*(AK106+AK$12))+10^(0.1*(AL106+AL$12))+10^(0.1*(AM106+AM$12))+10^(0.1*(AN106+AN$12))+10^(0.1*(AO106+AO$12))+10^(0.1*(AP106+AP$12))),\"\")","v":""},1,1,1,1,1,1,1,1,1,1,1,{"$f":"+IF(skjermbilde!$N$10=1,1,0)","v":1},{"$f":"+IF(U106=\"r\",1,IF(M106=skjermbilde!$D$3,1,0))","v":1},{"$f":"+IF(U106=\"s\",1,IF(N106=skjermbilde!$C$3,1,0))","v":0},{"$f":"+IF(U106=\"s\",1,IF(O106=skjermbilde!$C$4,1,0))","v":0},1,0,null,null,null,91,"",null,null,null,null,null,null,null,null,null,null,null,null,null,null,"",91,"",null,null,null,null,null,null,null,null,null,null,null,null,"",91,{"$f":"IF(ISERROR(SMALL(CB$17:CB$261,BL105)),\"\",SMALL(CB$17:CB$261,BL105))","v":""},null,null,null,null,"",{"$f":"IF(skjermbilde!$D$2=1,VLOOKUP($CS106,$CB$17:$CD$261,3,FALSE),CONCATENATE(\"2 x \",VLOOKUP($CS106,$CB$17:$CD$261,3,FALSE)))","v":""},null,null,null,null,null,null,null,null,null,4.9000000000000028E-7,1.0000004899999999,1,"LKL-0,1-250-1500",{"$f":"IF(ISERROR(SMALL(DJ$17:DJ$261,BL105)),\"\",SMALL(DJ$17:DJ$261,BL105))","v":1.0000004899999999},"LKL-0,1-250-1500",0]
[92,"LKL-0,1-300-640",{"$f":"datagrunnlag!I107","v":1},{"$f":"datagrunnlag!J107","v":2.0677796520876863},{"$f":"datagrunnlag!K107","v":6.6648944927002614},{"$f":"datagrunnlag!L107","v":11.513445991805673},{"$f":"datagrunnlag!M107","v":9.7149051419762404},{"$f":"datagrunnlag!N107","v":6.1172057317222803},{"$f":"datagrunnlag!O107","v":5.5558422506514802},{"$f":"datagrunnlag!P107","v":5.7899220021970832},{"$f":"+datagrunnlag!A107","v":"LKL"},{"$f":"+datagrunnlag!B107","v":"r"},null,{"$f":"IF(OR(O107>skjermbilde!$C$3,skjermbilde!$C$3>1000),0.1,skjermbilde!$C$3)","v":0.1},{"$f":"+datagrunnlag!E107","v":300},{"$f":"++IF(datagrunnlag!F107=\"s\",\"c\",datagrunnlag!F107)","v":"r"},{"$f":"+datagrunnlag!G107","v":640},{"$f":"+datagrunnlag!Q107","v":649923.19999999995},0,201,"r",0,0,{"$f":"IF(skjermbilde!$D$2=1,R107*(S107/(N107*O107))^2,2*R107*(S107/(N107*O107))^2)","v":0},{"$f":"IF(C107=\"\",\"\",IF(skjermbilde!$D$2=1,C107,IF(AND(skjermbilde!$D$2=2,2*C107>60),60,IF(skjermbilde!$D$2=2,2*C107))))","v":1},{"$f":"IF(skjermbilde!$D$2=1,D107,IF(AND(skjermbilde!$D$2=2,2*D107>60),60,IF(skjermbilde!$D$2=2,2*D107)))","v":2.0677796520876863},{"$f":"IF(skjermbilde!$D$2=1,E107,IF(AND(skjermbilde!$D$2=2,2*E107>60),60,IF(skjermbilde!$D$2=2,2*E107)))","v":6.6648944927002614},{"$f":"IF(skjermbilde!$D$2=1,F107,IF(AND(skjermbilde!$D$2=2,2*F107>60),60,IF(skjermbilde!$D$2=2,2*F107)))","v":11.513445991805673},{"$f":"IF(skjermbilde!$D$2=1,G107,IF(AND(skjermbilde!$D$2=2,2*G107>60),60,IF(skjermbilde!$D$2=2,2*G107)))","v":9.7149051419762404},{"$f":"IF(skjermbilde!$D$2=1,H107,IF(AND(skjermbilde!$D$2=2,2*H107>60),60,IF(skjermbilde!$D$2=2,2*H107)))","v":6.1172057317222803},{"$f":"IF(skjermbilde!$D$2=1,I107,IF(AND(skjermbilde!$D$2=2,2*I107>60),60,IF(skjermbilde!$D$2=2,2*I107)))","v":5.5558422506514802},{"$f":"IF(J107=\"\",\"\",IF(skjermbilde!$D$2=1,J107,IF(AND(skjermbilde!$D$2=2,2*J107>60),60,IF(skjermbilde!$D$2=2,2*J107))))","v":5.7899220021970832},null,null,{"$f":"+IF(ISNUMBER(skjermbilde!G$3-Y107-skjermbilde!G$6-4),skjermbilde!G$3-Y107-skjermbilde!G$6-4,0)","v":-5},{"$f":"+IF(ISNUMBER(skjermbilde!H$3-Z107-skjermbilde!H$6-4),skjermbilde!H$3-Z107-skjermbilde!H$6-4,0)","v":-6.0677796520876868},{"$f":"+IF(ISNUMBER(skjermbilde!I$3-AA107-skjermbilde!I$6-4),skjermbilde!I$3-AA107-skjermbilde!I$6-4,0)","v":-10.664894492700261},{"$f":"+IF(ISNUMBER(skjermbilde!J$3-AB107-skjermbilde!J$6-4),skjermbilde!J$3-AB107-skjermbilde!J$6-4,0)","v":-15.513445991805673},{"$f":"+IF(ISNUMBER(skjermbilde!K$3-AC107-skjermbilde!K$6-4),skjermbilde!K$3-AC107-skjermbilde!K$6-4,0)","v":-13.71490514197624},{"$f":"+IF(ISNUMBER(skjermbilde!L$3-AD107-skjermbilde!L$6-4),skjermbilde!L$3-AD107-skjermbilde!L$6-4,0)","v":-10.117205731722279},{"$f":"+IF(ISNUMBER(skjermbilde!M$3-AE107-skjermbilde!M$6-4),skjermbilde!M$3-AE107-skjermbilde!M$6-4,0)","v":-9.5558422506514802},{"$f":"+IF(ISNUMBER(skjermbilde!N$3-AF107-skjermbilde!N$6-4),skjermbilde!N$3-AF107-skjermbilde!N$6-4,0)","v":-9.7899220021970841},{"$f":"IF(skjermbilde!$O$10=TRUE,10*LOG10(10^(0.1*(AI107+AI$12))+10^(0.1*(AJ107+AJ$12))+10^(0.1*(AK107+AK$12))+10^(0.1*(AL107+AL$12))+10^(0.1*(AM107+AM$12))+10^(0.1*(AN107+AN$12))+10^(0.1*(AO107+AO$12))+10^(0.1*(AP107+AP$12))),\"\")","v":""},1,1,1,1,1,1,1,1,1,1,1,{"$f":"+IF(skjermbilde!$N$10=1,1,0)","v":1},{"$f":"+IF(U107=\"r\",1,IF(M107=skjermbilde!$D$3,1,0))","v":1},{"$f":"+IF(U107=\"s\",1,IF(N107=skjermbilde!$C$3,1,0))","v":0},{"$f":"+IF(U107=\"s\",1,IF(O107=skjermbilde!$C$4,1,0))","v":0},1,0,null,null,null,92,"",null,null,null,null,null,null,null,null,null,null,null,null,null,null,"",92,"",null,null,null,null,null,null,null,null,null,null,null,null,"",92,"",null,null,null,null,"",{"$f":"IF(skjermbilde!$D$2=1,VLOOKUP($CS107,$CB$17:$CD$261,3,FALSE),CONCATENATE(\"2 x \",VLOOKUP($CS107,$CB$17:$CD$261,3,FALSE)))","v":""},null,null,null,null,null,null,null,null,null,5.000000000000003E-7,1.0000005000000001,1,"LKL-0,1-300-640",1.0000005000000001,"LKL-0,1-300-640",0]
[93,"LKL-0,1-300-1000",{"$f":"datagrunnlag!I108","v":1},{"$f":"datagrunnlag!J108","v":3.878912054958926},{"$f":"datagrunnlag!K108","v":9.2937551273648857},{"$f":"datagrunnlag!L108","v":16.194046337234184},{"$f":"datagrunnlag!M108","v":13.552416192853991},{"$f":"datagrunnlag!N108","v":7.8429485828647811},{"$f":"datagrunnlag!O108","v":6.4773023477990908},{"$f":"datagrunnlag!P108","v":6.6340043994828219},{"$f":"+datagrunnlag!A108","v":"LKL"},{"$f":"+datagrunnlag!B108","v":"r"},null,{"$f":"IF(OR(O108>skjermbilde!$C$3,skjermbilde!$C$3>1000),0.1,skjermbilde!$C$3)","v":0.1},{"$f":"+datagrunnlag!E108","v":300},{"$f":"++IF(datagrunnlag!F108=\"s\",\"c\",datagrunnlag!F108)","v":"r"},{"$f":"+datagrunnlag!G108","v":1000},{"$f":"+datagrunnlag!Q108","v":743570},0,201,"r",0,0,{"$f":"IF(skjermbilde!$D$2=1,R108*(S108/(N108*O108))^2,2*R108*(S108/(N108*O108))^2)","v":0},{"$f":"IF(C108=\"\",\"\",IF(skjermbilde!$D$2=1,C108,IF(AND(skjermbilde!$D$2=2,2*C108>60),60,IF(skjermbilde!$D$2=2,2*C108))))","v":1},{"$f":"IF(skjermbilde!$D$2=1,D108,IF(AND(skjermbilde!$D$2=2,2*D108>60),60,IF(skjermbilde!$D$2=2,2*D108)))","v":3.878912054958926},{"$f":"IF(skjermbilde!$D$2=1,E108,IF(AND(skjermbilde!$D$2=2,2*E108>60),60,IF(skjermbilde!$D$2=2,2*E108)))","v":9.2937551273648857},{"$f":"IF(skjermbilde!$D$2=1,F108,IF(AND(skjermbilde!$D$2=2,2*F108>60),60,IF(skjermbilde!$D$2=2,2*F108)))","v":16.194046337234184},{"$f":"IF(skjermbilde!$D$2=1,G108,IF(AND(skjermbilde!$D$2=2,2*G108>60),60,IF(skjermbilde!$D$2=2,2*G108)))","v":13.552416192853991},{"$f":"IF(skjermbilde!$D$2=1,H108,IF(AND(skjermbilde!$D$2=2,2*H108>60),60,IF(skjermbilde!$D$2=2,2*H108)))","v":7.8429485828647811},{"$f":"IF(skjermbilde!$D$2=1,I108,IF(AND(skjermbilde!$D$2=2,2*I108>60),60,IF(skjermbilde!$D$2=2,2*I108)))","v":6.4773023477990908},{"$f":"IF(J108=\"\",\"\",IF(skjermbilde!$D$2=1,J108,IF(AND(skjermbilde!$D$2=2,2*J108>60),60,IF(skjermbilde!$D$2=2,2*J108))))","v":6.6340043994828219},null,null,{"$f":"+IF(ISNUMBER(skjermbilde!G$3-Y108-skjermbilde!G$6-4),skjermbilde!G$3-Y108-skjermbilde!G$6-4,0)","v":-5},{"$f":"+IF(ISNUMBER(skjermbilde!H$3-Z108-skjermbilde!H$6-4),skjermbilde!H$3-Z108-skjermbilde!H$6-4,0)","v":-7.878912054958926},{"$f":"+IF(ISNUMBER(skjermbilde!I$3-AA108-skjermbilde!I$6-4),skjermbilde!I$3-AA108-skjermbilde!I$6-4,0)","v":-13.293755127364886},{"$f":"+IF(ISNUMBER(skjermbilde!J$3-AB108-skjermbilde!J$6-4),skjermbilde!J$3-AB108-skjermbilde!J$6-4,0)","v":-20.194046337234184},{"$f":"+IF(ISNUMBER(skjermbilde!K$3-AC108-skjermbilde!K$6-4),skjermbilde!K$3-AC108-skjermbilde!K$6-4,0)","v":-17.55241619285399},{"$f":"+IF(ISNUMBER(skjermbilde!L$3-AD108-skjermbilde!L$6-4),skjermbilde!L$3-AD108-skjermbilde!L$6-4,0)","v":-11.842948582864782},{"$f":"+IF(ISNUMBER(skjermbilde!M$3-AE108-skjermbilde!M$6-4),skjermbilde!M$3-AE108-skjermbilde!M$6-4,0)","v":-10.477302347799091},{"$f":"+IF(ISNUMBER(skjermbilde!N$3-AF108-skjermbilde!N$6-4),skjermbilde!N$3-AF108-skjermbilde!N$6-4,0)","v":-10.634004399482823},{"$f":"IF(skjermbilde!$O$10=TRUE,10*LOG10(10^(0.1*(AI108+AI$12))+10^(0.1*(AJ108+AJ$12))+10^(0.1*(AK108+AK$12))+10^(0.1*(AL108+AL$12))+10^(0.1*(AM108+AM$12))+10^(0.1*(AN108+AN$12))+10^(0.1*(AO108+AO$12))+10^(0.1*(AP108+AP$12))),\"\")","v":""},1,1,1,1,1,1,1,1,1,1,1,{"$f":"+IF(skjermbilde!$N$10=1,1,0)","v":1},{"$f":"+IF(U108=\"r\",1,IF(M108=skjermbilde!$D$3,1,0))","v":1},{"$f":"+IF(U108=\"s\",1,IF(N108=skjermbilde!$C$3,1,0))","v":0},{"$f":"+IF(U108=\"s\",1,IF(O108=skjermbilde!$C$4,1,0))","v":0},1,0,null,null,null,93,"",null,null,null,null,null,null,null,null,null,null,null,null,null,null,"",93,"",null,null,null,null,null,null,null,null,null,null,null,null,"",93,"",null,null,null,null,"",{"$f":"IF(skjermbilde!$D$2=1,VLOOKUP($CS108,$CB$17:$CD$261,3,FALSE),CONCATENATE(\"2 x \",VLOOKUP($CS108,$CB$17:$CD$261,3,FALSE)))","v":""},null,null,null,null,null,null,null,null,null,5.1000000000000031E-7,1.00000051,1,"LKL-0,1-300-1000",1.00000051,"LKL-0,1-300-1000",0]
[94,"LKL-0,1-300-1240",{"$f":"datagrunnlag!I109","v":1},{"$f":"datagrunnlag!J109","v":5.6900444578301652},{"$f":"datagrunnlag!K109","v":11.922615762029512},{"$f":"datagrunnlag!L109","v":20.874646682662696},{"$f":"datagrunnlag!M109","v":17.389927243731741},{"$f":"datagrunnlag!N109","v":9.5686914340072828},{"$f":"datagrunnlag!O109","v":7.3987624449467013},{"$f":"datagrunnlag!P109","v":7.4780867967685616},{"$f":"+datagrunnlag!A109","v":"LKL"},{"$f":"+datagrunnlag!B109","v":"r"},null,{"$f":"IF(OR(O109>skjermbilde!$C$3,skjermbilde!$C$3>1000),0.1,skjermbilde!$C$3)","v":0.1},{"$f":"+datagrunnlag!E109","v":300},{"$f":"++IF(datagrunnlag!F109=\"s\",\"c\",datagrunnlag!F109)","v":"r"},{"$f":"+datagrunnlag!G109","v":1240},{"$f":"+datagrunnlag!Q109","v":806001.2},0,201,"r",0,0,{"$f":"IF(skjermbilde!$D$2=1,R109*(S109/(N109*O109))^2,2*R109*(S109/(N109*O109))^2)","v":0},{"$f":"IF(C109=\"\",\"\",IF(skjermbilde!$D$2=1,C109,IF(AND(skjermbilde!$D$2=2,2*C109>60),60,IF(skjermbilde!$D$2=2,2*C109))))","v":1},{"$f":"IF(skjermbilde!$D$2=1,D109,IF(AND(skjermbilde!$D$2=2,2*D109>60),60,IF(skjermbilde!$D$2=2,2*D109)))","v":5.6900444578301652},{"$f":"IF(skjermbilde!$D$2=1,E109,IF(AND(skjermbilde!$D$2=2,2*E109>60),60,IF(skjermbilde!$D$2=2,2*E109)))","v":11.922615762029512},{"$f":"IF(skjermbilde!$D$2=1,F109,IF(AND(skjermbilde!$D$2=2,2*F109>60),60,IF(skjermbilde!$D$2=2,2*F109)))","v":20.874646682662696},{"$f":"IF(skjermbilde!$D$2=1,G109,IF(AND(skjermbilde!$D$2=2,2*G109>60),60,IF(skjermbilde!$D$2=2,2*G109)))","v":17.389927243731741},{"$f":"IF(skjermbilde!$D$2=1,H109,IF(AND(skjermbilde!$D$2=2,2*H109>60),60,IF(skjermbilde!$D$2=2,2*H109)))","v":9.5686914340072828},{"$f":"IF(skjermbilde!$D$2=1,I109,IF(AND(skjermbilde!$D$2=2,2*I109>60),60,IF(skjermbilde!$D$2=2,2*I109)))","v":7.3987624449467013},{"$f":"IF(J109=\"\",\"\",IF(skjermbilde!$D$2=1,J109,IF(AND(skjermbilde!$D$2=2,2*J109>60),60,IF(skjermbilde!$D$2=2,2*J109))))","v":7.4780867967685616},null,null,{"$f":"+IF(ISNUMBER(skjermbilde!G$3-Y109-skjermbilde!G$6-4),skjermbilde!G$3-Y109-skjermbilde!G$6-4,0)","v":-5},{"$f":"+IF(ISNUMBER(skjermbilde!H$3-Z109-skjermbilde!H$6-4),skjermbilde!H$3-Z109-skjermbilde!H$6-4,0)","v":-9.6900444578301652},{"$f":"+IF(ISNUMBER(skjermbilde!I$3-AA109-skjermbilde!I$6-4),skjermbilde!I$3-AA109-skjermbilde!I$6-4,0)","v":-15.922615762029512},{"$f":"+IF(ISNUMBER(skjermbilde!J$3-AB109-skjermbilde!J$6-4),skjermbilde!J$3-AB109-skjermbilde!J$6-4,0)","v":-24.874646682662696},{"$f":"+IF(ISNUMBER(skjermbilde!K$3-AC109-skjermbilde!K$6-4),skjermbilde!K$3-AC109-skjermbilde!K$6-4,0)","v":-21.389927243731741},{"$f":"+IF(ISNUMBER(skjermbilde!L$3-AD109-skjermbilde!L$6-4),skjermbilde!L$3-AD109-skjermbilde!L$6-4,0)","v":-13.568691434007283},{"$f":"+IF(ISNUMBER(skjermbilde!M$3-AE109-skjermbilde!M$6-4),skjermbilde!M$3-AE109-skjermbilde!M$6-4,0)","v":-11.398762444946701},{"$f":"+IF(ISNUMBER(skjermbilde!N$3-AF109-skjermbilde!N$6-4),skjermbilde!N$3-AF109-skjermbilde!N$6-4,0)","v":-11.478086796768562},{"$f":"IF(skjermbilde!$O$10=TRUE,10*LOG10(10^(0.1*(AI109+AI$12))+10^(0.1*(AJ109+AJ$12))+10^(0.1*(AK109+AK$12))+10^(0.1*(AL109+AL$12))+10^(0.1*(AM109+AM$12))+10^(0.1*(AN109+AN$12))+10^(0.1*(AO109+AO$12))+10^(0.1*(AP109+AP$12))),\"\")","v":""},1,1,1,1,1,1,1,1,1,1,1,{"$f":"+IF(skjermbilde!$N$10=1,1,0)","v":1},{"$f":"+IF(U109=\"r\",1,IF(M109=skjermbilde!$D$3,1,0))","v":1},{"$f":"+IF(U109=\"s\",1,IF(N109=skjermbilde!$C$3,1,0))","v":0},{"$f":"+IF(U109=\"s\",1,IF(O109=skjermbilde!$C$4,1,0))","v":0},1,0,null,null,null,94,"",null,null,null,null,null,null,null,null,null,null,null,null,null,null,"",94,"",null,null,null,null,null,null,null,null,null,null,null,null,"",94,"",null,null,null,null,"",{"$f":"IF(skjermbilde!$D$2=1,VLOOKUP($CS109,$CB$17:$CD$261,3,FALSE),CONCATENATE(\"2 x \",VLOOKUP($CS109,$CB$17:$CD$261,3,FALSE)))","v":""},null,null,null,null,null,null,null,null,null,5.2000000000000032E-7,1.0000005199999999,1,"LKL-0,1-300-1240",1.0000005199999999,"LKL-0,1-300-1240",0]
[95,"LKL-0,1-300-1500",{"$f":"datagrunnlag!I110","v":1},{"$f":"datagrunnlag!J110","v":7.5011768607014053},{"$f":"datagrunnlag!K110","v":14.551476396694136},{"$f":"datagrunnlag!L110","v":25.555247028091209},{"$f":"datagrunnlag!M110","v":21.227438294609492},{"$f":"datagrunnlag!N110","v":11.294434285149784},{"$f":"datagrunnlag!O110","v":8.3202225420943119},{"$f":"datagrunnlag!P110","v":8.3221691940543003},{"$f":"+datagrunnlag!A110","v":"LKL"},{"$f":"+datagrunnlag!B110","v":"r"},null,{"$f":"IF(OR(O110>skjermbilde!$C$3,skjermbilde!$C$3>1000),0.1,skjermbilde!$C$3)","v":0.1},{"$f":"+datagrunnlag!E110","v":300},{"$f":"++IF(datagrunnlag!F110=\"s\",\"c\",datagrunnlag!F110)","v":"r"},{"$f":"+datagrunnlag!G110","v":1500},{"$f":"+datagrunnlag!Q110","v":873635},0,201,"r",0,0,{"$f":"IF(skjermbilde!$D$2=1,R110*(S110/(N110*O110))^2,2*R110*(S110/(N110*O110))^2)","v":0},{"$f":"IF(C110=\"\",\"\",IF(skjermbilde!$D$2=1,C110,IF(AND(skjermbilde!$D$2=2,2*C110>60),60,IF(skjermbilde!$D$2=2,2*C110))))","v":1},{"$f":"IF(skjermbilde!$D$2=1,D110,IF(AND(skjermbilde!$D$2=2,2*D110>60),60,IF(skjermbilde!$D$2=2,2*D110)))","v":7.5011768607014053},{"$f":"IF(skjermbilde!$D$2=1,E110,IF(AND(skjermbilde!$D$2=2,2*E110>60),60,IF(skjermbilde!$D$2=2,2*E110)))","v":14.551476396694136},{"$f":"IF(skjermbilde!$D$2=1,F110,IF(AND(skjermbilde!$D$2=2,2*F110>60),60,IF(skjermbilde!$D$2=2,2*F110)))","v":25.555247028091209},{"$f":"IF(skjermbilde!$D$2=1,G110,IF(AND(skjermbilde!$D$2=2,2*G110>60),60,IF(skjermbilde!$D$2=2,2*G110)))","v":21.227438294609492},{"$f":"IF(skjermbilde!$D$2=1,H110,IF(AND(skjermbilde!$D$2=2,2*H110>60),60,IF(skjermbilde!$D$2=2,2*H110)))","v":11.294434285149784},{"$f":"IF(skjermbilde!$D$2=1,I110,IF(AND(skjermbilde!$D$2=2,2*I110>60),60,IF(skjermbilde!$D$2=2,2*I110)))","v":8.3202225420943119},{"$f":"IF(J110=\"\",\"\",IF(skjermbilde!$D$2=1,J110,IF(AND(skjermbilde!$D$2=2,2*J110>60),60,IF(skjermbilde!$D$2=2,2*J110))))","v":8.3221691940543003},null,null,{"$f":"+IF(ISNUMBER(skjermbilde!G$3-Y110-skjermbilde!G$6-4),skjermbilde!G$3-Y110-skjermbilde!G$6-4,0)","v":-5},{"$f":"+IF(ISNUMBER(skjermbilde!H$3-Z110-skjermbilde!H$6-4),skjermbilde!H$3-Z110-skjermbilde!H$6-4,0)","v":-11.501176860701406},{"$f":"+IF(ISNUMBER(skjermbilde!I$3-AA110-skjermbilde!I$6-4),skjermbilde!I$3-AA110-skjermbilde!I$6-4,0)","v":-18.551476396694135},{"$f":"+IF(ISNUMBER(skjermbilde!J$3-AB110-skjermbilde!J$6-4),skjermbilde!J$3-AB110-skjermbilde!J$6-4,0)","v":-29.555247028091209},{"$f":"+IF(ISNUMBER(skjermbilde!K$3-AC110-skjermbilde!K$6-4),skjermbilde!K$3-AC110-skjermbilde!K$6-4,0)","v":-25.227438294609492},{"$f":"+IF(ISNUMBER(skjermbilde!L$3-AD110-skjermbilde!L$6-4),skjermbilde!L$3-AD110-skjermbilde!L$6-4,0)","v":-15.294434285149784},{"$f":"+IF(ISNUMBER(skjermbilde!M$3-AE110-skjermbilde!M$6-4),skjermbilde!M$3-AE110-skjermbilde!M$6-4,0)","v":-12.320222542094312},{"$f":"+IF(ISNUMBER(skjermbilde!N$3-AF110-skjermbilde!N$6-4),skjermbilde!N$3-AF110-skjermbilde!N$6-4,0)","v":-12.3221691940543},{"$f":"IF(skjermbilde!$O$10=TRUE,10*LOG10(10^(0.1*(AI110+AI$12))+10^(0.1*(AJ110+AJ$12))+10^(0.1*(AK110+AK$12))+10^(0.1*(AL110+AL$12))+10^(0.1*(AM110+AM$12))+10^(0.1*(AN110+AN$12))+10^(0.1*(AO110+AO$12))+10^(0.1*(AP110+AP$12))),\"\")","v":""},1,1,1,1,1,1,1,1,1,1,1,{"$f":"+IF(skjermbilde!$N$10=1,1,0)","v":1},{"$f":"+IF(U110=\"r\",1,IF(M110=skjermbilde!$D$3,1,0))","v":1},{"$f":"+IF(U110=\"s\",1,IF(N110=skjermbilde!$C$3,1,0))","v":0},{"$f":"+IF(U110=\"s\",1,IF(O110=skjermbilde!$C$4,1,0))","v":0},1,0,null,null,null,95,"",null,null,null,null,null,null,null,null,null,null,null,null,null,null,"",95,"",null,null,null,null,null,null,null,null,null,null,null,null,"",95,"",null,null,null,null,"",{"$f":"IF(skjermbilde!$D$2=1,VLOOKUP($CS110,$CB$17:$CD$261,3,FALSE),CONCATENATE(\"2 x \",VLOOKUP($CS110,$CB$17:$CD$261,3,FALSE)))","v":""},null,null,null,null,null,null,null,null,null,5.3000000000000033E-7,1.0000005300000001,1,"LKL-0,1-300-1500",1.0000005300000001,"LKL-0,1-300-1500",0]
[96,"LKL-0,1-350-640",{"$f":"datagrunnlag!I111","v":1.645494891609125},{"$f":"datagrunnlag!J111","v":1.6189255535446343},{"$f":"datagrunnlag!K111","v":5.8722699133547085},{"$f":"datagrunnlag!L111","v":11.548863811661185},{"$f":"datagrunnlag!M111","v":17.903062956181099},{"$f":"datagrunnlag!N111","v":13.157359460976416},{"$f":"datagrunnlag!O111","v":7.7500652739814573},{"$f":"datagrunnlag!P111","v":5.4261203877718254},{"$f":"+datagrunnlag!A111","v":"LKL"},{"$f":"+datagrunnlag!B111","v":"r"},null,{"$f":"IF(OR(O111>skjermbilde!$C$3,skjermbilde!$C$3>1000),0.1,skjermbilde!$C$3)","v":0.1},{"$f":"+datagrunnlag!E111","v":350},{"$f":"++IF(datagrunnlag!F111=\"s\",\"c\",datagrunnlag!F111)","v":"r"},{"$f":"+datagrunnlag!G111","v":640},{"$f":"+datagrunnlag!Q111","v":649923.19999999995},0,201,"r",0,0,{"$f":"IF(skjermbilde!$D$2=1,R111*(S111/(N111*O111))^2,2*R111*(S111/(N111*O111))^2)","v":0},{"$f":"IF(C111=\"\",\"\",IF(skjermbilde!$D$2=1,C111,IF(AND(skjermbilde!$D$2=2,2*C111>60),60,IF(skjermbilde!$D$2=2,2*C111))))","v":1.645494891609125},{"$f":"IF(skjermbilde!$D$2=1,D111,IF(AND(skjermbilde!$D$2=2,2*D111>60),60,IF(skjermbilde!$D$2=2,2*D111)))","v":1.6189255535446343},{"$f":"IF(skjermbilde!$D$2=1,E111,IF(AND(skjermbilde!$D$2=2,2*E111>60),60,IF(skjermbilde!$D$2=2,2*E111)))","v":5.8722699133547085},{"$f":"IF(skjermbilde!$D$2=1,F111,IF(AND(skjermbilde!$D$2=2,2*F111>60),60,IF(skjermbilde!$D$2=2,2*F111)))","v":11.548863811661185},{"$f":"IF(skjermbilde!$D$2=1,G111,IF(AND(skjermbilde!$D$2=2,2*G111>60),60,IF(skjermbilde!$D$2=2,2*G111)))","v":17.903062956181099},{"$f":"IF(skjermbilde!$D$2=1,H111,IF(AND(skjermbilde!$D$2=2,2*H111>60),60,IF(skjermbilde!$D$2=2,2*H111)))","v":13.157359460976416},{"$f":"IF(skjermbilde!$D$2=1,I111,IF(AND(skjermbilde!$D$2=2,2*I111>60),60,IF(skjermbilde!$D$2=2,2*I111)))","v":7.7500652739814573},{"$f":"IF(J111=\"\",\"\",IF(skjermbilde!$D$2=1,J111,IF(AND(skjermbilde!$D$2=2,2*J111>60),60,IF(skjermbilde!$D$2=2,2*J111))))","v":5.4261203877718254},null,null,{"$f":"+IF(ISNUMBER(skjermbilde!G$3-Y111-skjermbilde!G$6-4),skjermbilde!G$3-Y111-skjermbilde!G$6-4,0)","v":-5.6454948916091254},{"$f":"+IF(ISNUMBER(skjermbilde!H$3-Z111-skjermbilde!H$6-4),skjermbilde!H$3-Z111-skjermbilde!H$6-4,0)","v":-5.6189255535446341},{"$f":"+IF(ISNUMBER(skjermbilde!I$3-AA111-skjermbilde!I$6-4),skjermbilde!I$3-AA111-skjermbilde!I$6-4,0)","v":-9.8722699133547085},{"$f":"+IF(ISNUMBER(skjermbilde!J$3-AB111-skjermbilde!J$6-4),skjermbilde!J$3-AB111-skjermbilde!J$6-4,0)","v":-15.548863811661185},{"$f":"+IF(ISNUMBER(skjermbilde!K$3-AC111-skjermbilde!K$6-4),skjermbilde!K$3-AC111-skjermbilde!K$6-4,0)","v":-21.903062956181099},{"$f":"+IF(ISNUMBER(skjermbilde!L$3-AD111-skjermbilde!L$6-4),skjermbilde!L$3-AD111-skjermbilde!L$6-4,0)","v":-17.157359460976416},{"$f":"+IF(ISNUMBER(skjermbilde!M$3-AE111-skjermbilde!M$6-4),skjermbilde!M$3-AE111-skjermbilde!M$6-4,0)","v":-11.750065273981457},{"$f":"+IF(ISNUMBER(skjermbilde!N$3-AF111-skjermbilde!N$6-4),skjermbilde!N$3-AF111-skjermbilde!N$6-4,0)","v":-9.4261203877718245},{"$f":"IF(skjermbilde!$O$10=TRUE,10*LOG10(10^(0.1*(AI111+AI$12))+10^(0.1*(AJ111+AJ$12))+10^(0.1*(AK111+AK$12))+10^(0.1*(AL111+AL$12))+10^(0.1*(AM111+AM$12))+10^(0.1*(AN111+AN$12))+10^(0.1*(AO111+AO$12))+10^(0.1*(AP111+AP$12))),\"\")","v":""},1,1,1,1,1,1,1,1,1,1,1,{"$f":"+IF(skjermbilde!$N$10=1,1,0)","v":1},{"$f":"+IF(U111=\"r\",1,IF(M111=skjermbilde!$D$3,1,0))","v":1},{"$f":"+IF(U111=\"s\",1,IF(N111=skjermbilde!$C$3,1,0))","v":0},{"$f":"+IF(U111=\"s\",1,IF(O111=skjermbilde!$C$4,1,0))","v":0},1,0,null,null,null,96,"",null,null,null,null,null,null,null,null,null,null,null,null,null,null,"",96,"",null,null,null,null,null,null,null,null,null,null,null,null,"",96,"",null,null,null,null,"",{"$f":"IF(skjermbilde!$D$2=1,VLOOKUP($CS111,$CB$17:$CD$261,3,FALSE),CONCATENATE(\"2 x \",VLOOKUP($CS111,$CB$17:$CD$261,3,FALSE)))","v":""},null,null,null,null,null,null,null,null,null,5.4000000000000034E-7,1.00000054,1,"LKL-0,1-350-640",1.00000054,"LKL-0,1-350-640",0]
[97,"LKL-0,1-350-1000",{"$f":"datagrunnlag!I112","v":2.7480397369983205},{"$f":"datagrunnlag!J112","v":3.003317011185997},{"$f":"datagrunnlag!K112","v":8.444725164029407},{"$f":"datagrunnlag!L112","v":15.747726957738699},{"$f":"datagrunnlag!M112","v":25.374356122452323},{"$f":"datagrunnlag!N112","v":17.639070510454641},{"$f":"datagrunnlag!O112","v":10.080943017127867},{"$f":"datagrunnlag!P112","v":6.7468374370566204},{"$f":"+datagrunnlag!A112","v":"LKL"},{"$f":"+datagrunnlag!B112","v":"r"},null,{"$f":"IF(OR(O112>skjermbilde!$C$3,skjermbilde!$C$3>1000),0.1,skjermbilde!$C$3)","v":0.1},{"$f":"+datagrunnlag!E112","v":350},{"$f":"++IF(datagrunnlag!F112=\"s\",\"c\",datagrunnlag!F112)","v":"r"},{"$f":"+datagrunnlag!G112","v":1000},{"$f":"+datagrunnlag!Q112","v":743570},0,201,"r",0,0,{"$f":"IF(skjermbilde!$D$2=1,R112*(S112/(N112*O112))^2,2*R112*(S112/(N112*O112))^2)","v":0},{"$f":"IF(C112=\"\",\"\",IF(skjermbilde!$D$2=1,C112,IF(AND(skjermbilde!$D$2=2,2*C112>60),60,IF(skjermbilde!$D$2=2,2*C112))))","v":2.7480397369983205},{"$f":"IF(skjermbilde!$D$2=1,D112,IF(AND(skjermbilde!$D$2=2,2*D112>60),60,IF(skjermbilde!$D$2=2,2*D112)))","v":3.003317011185997},{"$f":"IF(skjermbilde!$D$2=1,E112,IF(AND(skjermbilde!$D$2=2,2*E112>60),60,IF(skjermbilde!$D$2=2,2*E112)))","v":8.444725164029407},{"$f":"IF(skjermbilde!$D$2=1,F112,IF(AND(skjermbilde!$D$2=2,2*F112>60),60,IF(skjermbilde!$D$2=2,2*F112)))","v":15.747726957738699},{"$f":"IF(skjermbilde!$D$2=1,G112,IF(AND(skjermbilde!$D$2=2,2*G112>60),60,IF(skjermbilde!$D$2=2,2*G112)))","v":25.374356122452323},{"$f":"IF(skjermbilde!$D$2=1,H112,IF(AND(skjermbilde!$D$2=2,2*H112>60),60,IF(skjermbilde!$D$2=2,2*H112)))","v":17.639070510454641},{"$f":"IF(skjermbilde!$D$2=1,I112,IF(AND(skjermbilde!$D$2=2,2*I112>60),60,IF(skjermbilde!$D$2=2,2*I112)))","v":10.080943017127867},{"$f":"IF(J112=\"\",\"\",IF(skjermbilde!$D$2=1,J112,IF(AND(skjermbilde!$D$2=2,2*J112>60),60,IF(skjermbilde!$D$2=2,2*J112))))","v":6.7468374370566204},null,null,{"$f":"+IF(ISNUMBER(skjermbilde!G$3-Y112-skjermbilde!G$6-4),skjermbilde!G$3-Y112-skjermbilde!G$6-4,0)","v":-6.7480397369983205},{"$f":"+IF(ISNUMBER(skjermbilde!H$3-Z112-skjermbilde!H$6-4),skjermbilde!H$3-Z112-skjermbilde!H$6-4,0)","v":-7.003317011185997},{"$f":"+IF(ISNUMBER(skjermbilde!I$3-AA112-skjermbilde!I$6-4),skjermbilde!I$3-AA112-skjermbilde!I$6-4,0)","v":-12.444725164029407},{"$f":"+IF(ISNUMBER(skjermbilde!J$3-AB112-skjermbilde!J$6-4),skjermbilde!J$3-AB112-skjermbilde!J$6-4,0)","v":-19.747726957738699},{"$f":"+IF(ISNUMBER(skjermbilde!K$3-AC112-skjermbilde!K$6-4),skjermbilde!K$3-AC112-skjermbilde!K$6-4,0)","v":-29.374356122452323},{"$f":"+IF(ISNUMBER(skjermbilde!L$3-AD112-skjermbilde!L$6-4),skjermbilde!L$3-AD112-skjermbilde!L$6-4,0)","v":-21.639070510454641},{"$f":"+IF(ISNUMBER(skjermbilde!M$3-AE112-skjermbilde!M$6-4),skjermbilde!M$3-AE112-skjermbilde!M$6-4,0)","v":-14.080943017127867},{"$f":"+IF(ISNUMBER(skjermbilde!N$3-AF112-skjermbilde!N$6-4),skjermbilde!N$3-AF112-skjermbilde!N$6-4,0)","v":-10.74683743705662},{"$f":"IF(skjermbilde!$O$10=TRUE,10*LOG10(10^(0.1*(AI112+AI$12))+10^(0.1*(AJ112+AJ$12))+10^(0.1*(AK112+AK$12))+10^(0.1*(AL112+AL$12))+10^(0.1*(AM112+AM$12))+10^(0.1*(AN112+AN$12))+10^(0.1*(AO112+AO$12))+10^(0.1*(AP112+AP$12))),\"\")","v":""},1,1,1,1,1,1,1,1,1,1,1,{"$f":"+IF(skjermbilde!$N$10=1,1,0)","v":1},{"$f":"+IF(U112=\"r\",1,IF(M112=skjermbilde!$D$3,1,0))","v":1},{"$f":"+IF(U112=\"s\",1,IF(N112=skjermbilde!$C$3,1,0))","v":0},{"$f":"+IF(U112=\"s\",1,IF(O112=skjermbilde!$C$4,1,0))","v":0},1,0,null,null,null,97,"",null,null,null,null,null,null,null,null,null,null,null,null,null,null,"",97,"",null,null,null,null,null,null,null,null,null,null,null,null,"",97,"",null,null,null,null,"",{"$f":"IF(skjermbilde!$D$2=1,VLOOKUP($CS112,$CB$17:$CD$261,3,FALSE),CONCATENATE(\"2 x \",VLOOKUP($CS112,$CB$17:$CD$261,3,FALSE)))","v":""},null,null,null,null,null,null,null,null,null,5.5000000000000035E-7,1.00000055,1,"LKL-0,1-350-1000",1.00000055,"LKL-0,1-350-1000",0]
[98,"LKL-0,1-350-1240",{"$f":"datagrunnlag!I113","v":3.850584582387516},{"$f":"datagrunnlag!J113","v":4.38770846882736},{"$f":"datagrunnlag!K113","v":11.017180414704107},{"$f":"datagrunnlag!L113","v":19.946590103816209},{"$f":"datagrunnlag!M113","v":32.845649288723543},{"$f":"datagrunnlag!N113","v":22.120781559932862},{"$f":"datagrunnlag!O113","v":12.411820760274278},{"$f":"datagrunnlag!P113","v":8.0675544863414146},{"$f":"+datagrunnlag!A113","v":"LKL"},{"$f":"+datagrunnlag!B113","v":"r"},null,{"$f":"IF(OR(O113>skjermbilde!$C$3,skjermbilde!$C$3>1000),0.1,skjermbilde!$C$3)","v":0.1},{"$f":"+datagrunnlag!E113","v":350},{"$f":"++IF(datagrunnlag!F113=\"s\",\"c\",datagrunnlag!F113)","v":"r"},{"$f":"+datagrunnlag!G113","v":1240},{"$f":"+datagrunnlag!Q113","v":806001.2},0,201,"r",0,0,{"$f":"IF(skjermbilde!$D$2=1,R113*(S113/(N113*O113))^2,2*R113*(S113/(N113*O113))^2)","v":0},{"$f":"IF(C113=\"\",\"\",IF(skjermbilde!$D$2=1,C113,IF(AND(skjermbilde!$D$2=2,2*C113>60),60,IF(skjermbilde!$D$2=2,2*C113))))","v":3.850584582387516},{"$f":"IF(skjermbilde!$D$2=1,D113,IF(AND(skjermbilde!$D$2=2,2*D113>60),60,IF(skjermbilde!$D$2=2,2*D113)))","v":4.38770846882736},{"$f":"IF(skjermbilde!$D$2=1,E113,IF(AND(skjermbilde!$D$2=2,2*E113>60),60,IF(skjermbilde!$D$2=2,2*E113)))","v":11.017180414704107},{"$f":"IF(skjermbilde!$D$2=1,F113,IF(AND(skjermbilde!$D$2=2,2*F113>60),60,IF(skjermbilde!$D$2=2,2*F113)))","v":19.946590103816209},{"$f":"IF(skjermbilde!$D$2=1,G113,IF(AND(skjermbilde!$D$2=2,2*G113>60),60,IF(skjermbilde!$D$2=2,2*G113)))","v":32.845649288723543},{"$f":"IF(skjermbilde!$D$2=1,H113,IF(AND(skjermbilde!$D$2=2,2*H113>60),60,IF(skjermbilde!$D$2=2,2*H113)))","v":22.120781559932862},{"$f":"IF(skjermbilde!$D$2=1,I113,IF(AND(skjermbilde!$D$2=2,2*I113>60),60,IF(skjermbilde!$D$2=2,2*I113)))","v":12.411820760274278},{"$f":"IF(J113=\"\",\"\",IF(skjermbilde!$D$2=1,J113,IF(AND(skjermbilde!$D$2=2,2*J113>60),60,IF(skjermbilde!$D$2=2,2*J113))))","v":8.0675544863414146},null,null,{"$f":"+IF(ISNUMBER(skjermbilde!G$3-Y113-skjermbilde!G$6-4),skjermbilde!G$3-Y113-skjermbilde!G$6-4,0)","v":-7.8505845823875156},{"$f":"+IF(ISNUMBER(skjermbilde!H$3-Z113-skjermbilde!H$6-4),skjermbilde!H$3-Z113-skjermbilde!H$6-4,0)","v":-8.3877084688273591},{"$f":"+IF(ISNUMBER(skjermbilde!I$3-AA113-skjermbilde!I$6-4),skjermbilde!I$3-AA113-skjermbilde!I$6-4,0)","v":-15.017180414704107},{"$f":"+IF(ISNUMBER(skjermbilde!J$3-AB113-skjermbilde!J$6-4),skjermbilde!J$3-AB113-skjermbilde!J$6-4,0)","v":-23.946590103816209},{"$f":"+IF(ISNUMBER(skjermbilde!K$3-AC113-skjermbilde!K$6-4),skjermbilde!K$3-AC113-skjermbilde!K$6-4,0)","v":-36.845649288723543},{"$f":"+IF(ISNUMBER(skjermbilde!L$3-AD113-skjermbilde!L$6-4),skjermbilde!L$3-AD113-skjermbilde!L$6-4,0)","v":-26.120781559932862},{"$f":"+IF(ISNUMBER(skjermbilde!M$3-AE113-skjermbilde!M$6-4),skjermbilde!M$3-AE113-skjermbilde!M$6-4,0)","v":-16.411820760274278},{"$f":"+IF(ISNUMBER(skjermbilde!N$3-AF113-skjermbilde!N$6-4),skjermbilde!N$3-AF113-skjermbilde!N$6-4,0)","v":-12.067554486341415},{"$f":"IF(skjermbilde!$O$10=TRUE,10*LOG10(10^(0.1*(AI113+AI$12))+10^(0.1*(AJ113+AJ$12))+10^(0.1*(AK113+AK$12))+10^(0.1*(AL113+AL$12))+10^(0.1*(AM113+AM$12))+10^(0.1*(AN113+AN$12))+10^(0.1*(AO113+AO$12))+10^(0.1*(AP113+AP$12))),\"\")","v":""},1,1,1,1,1,1,1,1,1,1,1,{"$f":"+IF(skjermbilde!$N$10=1,1,0)","v":1},{"$f":"+IF(U113=\"r\",1,IF(M113=skjermbilde!$D$3,1,0))","v":1},{"$f":"+IF(U113=\"s\",1,IF(N113=skjermbilde!$C$3,1,0))","v":0},{"$f":"+IF(U113=\"s\",1,IF(O113=skjermbilde!$C$4,1,0))","v":0},1,0,null,null,null,98,"",null,null,null,null,null,null,null,null,null,null,null,null,null,null,"",98,"",null,null,null,null,null,null,null,null,null,null,null,null,"",98,"",null,null,null,null,"",{"$f":"IF(skjermbilde!$D$2=1,VLOOKUP($CS113,$CB$17:$CD$261,3,FALSE),CONCATENATE(\"2 x \",VLOOKUP($CS113,$CB$17:$CD$261,3,FALSE)))","v":""},null,null,null,null,null,null,null,null,null,5.6000000000000036E-7,1.0000005599999999,1,"LKL-0,1-350-1240",1.0000005599999999,{"$f":"VLOOKUP(DM113,DJ$17:DM$261,3,FALSE)","v":"LKL-0,1-350-1240"},{"$f":"VLOOKUP(DN113,$B$17:$CQ$261,62,FALSE)","v":0}]
[99,"LKL-0,1-350-1500",{"$f":"datagrunnlag!I114","v":4.9531294277767115},{"$f":"datagrunnlag!J114","v":5.7720999264687229},{"$f":"datagrunnlag!K114","v":13.589635665378806},{"$f":"datagrunnlag!L114","v":24.145453249893723},{"$f":"datagrunnlag!M114","v":40.316942454994766},{"$f":"datagrunnlag!N114","v":26.602492609411087},{"$f":"datagrunnlag!O114","v":14.742698503420687},{"$f":"datagrunnlag!P114","v":9.3882715356262096},{"$f":"+datagrunnlag!A114","v":"LKL"},{"$f":"+datagrunnlag!B114","v":"r"},null,{"$f":"IF(OR(O114>skjermbilde!$C$3,skjermbilde!$C$3>1000),0.1,skjermbilde!$C$3)","v":0.1},{"$f":"+datagrunnlag!E114","v":350},{"$f":"++IF(datagrunnlag!F114=\"s\",\"c\",datagrunnlag!F114)","v":"r"},{"$f":"+datagrunnlag!G114","v":1500},{"$f":"+datagrunnlag!Q114","v":873635},0,201,"r",0,0,{"$f":"IF(skjermbilde!$D$2=1,R114*(S114/(N114*O114))^2,2*R114*(S114/(N114*O114))^2)","v":0},{"$f":"IF(C114=\"\",\"\",IF(skjermbilde!$D$2=1,C114,IF(AND(skjermbilde!$D$2=2,2*C114>60),60,IF(skjermbilde!$D$2=2,2*C114))))","v":4.9531294277767115},{"$f":"IF(skjermbilde!$D$2=1,D114,IF(AND(skjermbilde!$D$2=2,2*D114>60),60,IF(skjermbilde!$D$2=2,2*D114)))","v":5.7720999264687229},{"$f":"IF(skjermbilde!$D$2=1,E114,IF(AND(skjermbilde!$D$2=2,2*E114>60),60,IF(skjermbilde!$D$2=2,2*E114)))","v":13.589635665378806},{"$f":"IF(skjermbilde!$D$2=1,F114,IF(AND(skjermbilde!$D$2=2,2*F114>60),60,IF(skjermbilde!$D$2=2,2*F114)))","v":24.145453249893723},{"$f":"IF(skjermbilde!$D$2=1,G114,IF(AND(skjermbilde!$D$2=2,2*G114>60),60,IF(skjermbilde!$D$2=2,2*G114)))","v":40.316942454994766},{"$f":"IF(skjermbilde!$D$2=1,H114,IF(AND(skjermbilde!$D$2=2,2*H114>60),60,IF(skjermbilde!$D$2=2,2*H114)))","v":26.602492609411087},{"$f":"IF(skjermbilde!$D$2=1,I114,IF(AND(skjermbilde!$D$2=2,2*I114>60),60,IF(skjermbilde!$D$2=2,2*I114)))","v":14.742698503420687},{"$f":"IF(J114=\"\",\"\",IF(skjermbilde!$D$2=1,J114,IF(AND(skjermbilde!$D$2=2,2*J114>60),60,IF(skjermbilde!$D$2=2,2*J114))))","v":9.3882715356262096},null,null,{"$f":"+IF(ISNUMBER(skjermbilde!G$3-Y114-skjermbilde!G$6-4),skjermbilde!G$3-Y114-skjermbilde!G$6-4,0)","v":-8.9531294277767124},{"$f":"+IF(ISNUMBER(skjermbilde!H$3-Z114-skjermbilde!H$6-4),skjermbilde!H$3-Z114-skjermbilde!H$6-4,0)","v":-9.7720999264687229},{"$f":"+IF(ISNUMBER(skjermbilde!I$3-AA114-skjermbilde!I$6-4),skjermbilde!I$3-AA114-skjermbilde!I$6-4,0)","v":-17.589635665378808},{"$f":"+IF(ISNUMBER(skjermbilde!J$3-AB114-skjermbilde!J$6-4),skjermbilde!J$3-AB114-skjermbilde!J$6-4,0)","v":-28.145453249893723},{"$f":"+IF(ISNUMBER(skjermbilde!K$3-AC114-skjermbilde!K$6-4),skjermbilde!K$3-AC114-skjermbilde!K$6-4,0)","v":-44.316942454994766},{"$f":"+IF(ISNUMBER(skjermbilde!L$3-AD114-skjermbilde!L$6-4),skjermbilde!L$3-AD114-skjermbilde!L$6-4,0)","v":-30.602492609411087},{"$f":"+IF(ISNUMBER(skjermbilde!M$3-AE114-skjermbilde!M$6-4),skjermbilde!M$3-AE114-skjermbilde!M$6-4,0)","v":-18.742698503420687},{"$f":"+IF(ISNUMBER(skjermbilde!N$3-AF114-skjermbilde!N$6-4),skjermbilde!N$3-AF114-skjermbilde!N$6-4,0)","v":-13.38827153562621},{"$f":"IF(skjermbilde!$O$10=TRUE,10*LOG10(10^(0.1*(AI114+AI$12))+10^(0.1*(AJ114+AJ$12))+10^(0.1*(AK114+AK$12))+10^(0.1*(AL114+AL$12))+10^(0.1*(AM114+AM$12))+10^(0.1*(AN114+AN$12))+10^(0.1*(AO114+AO$12))+10^(0.1*(AP114+AP$12))),\"\")","v":""},1,1,1,1,1,1,1,1,1,1,1,{"$f":"+IF(skjermbilde!$N$10=1,1,0)","v":1},{"$f":"+IF(U114=\"r\",1,IF(M114=skjermbilde!$D$3,1,0))","v":1},{"$f":"+IF(U114=\"s\",1,IF(N114=skjermbilde!$C$3,1,0))","v":0},{"$f":"+IF(U114=\"s\",1,IF(O114=skjermbilde!$C$4,1,0))","v":0},1,0,null,null,null,99,"",null,null,null,null,null,null,null,null,null,null,null,null,null,null,"",99,"",null,null,null,null,null,null,null,null,null,null,null,null,"",99,"",null,null,null,null,{"$f":"+IF(VLOOKUP($CS114,$CB$17:$CD$261,2,FALSE)=2,\"\",VLOOKUP($CS114,$CB$17:$CD$261,2,FALSE))","v":""},{"$f":"IF(skjermbilde!$D$2=1,VLOOKUP($CS114,$CB$17:$CD$261,3,FALSE),CONCATENATE(\"2 x \",VLOOKUP($CS114,$CB$17:$CD$261,3,FALSE)))","v":""},null,null,null,null,null,null,null,null,null,5.7000000000000037E-7,1.0000005700000001,1,"LKL-0,1-350-1500",1.0000005700000001,"LKL-0,1-350-1500",0]
[100,"LKL-0,1-400-640",{"$f":"datagrunnlag!I115","v":0.53359019873935198},{"$f":"datagrunnlag!J115","v":1.9516326493757692},{"$f":"datagrunnlag!K115","v":5.7377308034227603},{"$f":"datagrunnlag!L115","v":11.299107182234012},{"$f":"datagrunnlag!M115","v":16.695356411652046},{"$f":"datagrunnlag!N115","v":11.521414084408539},{"$f":"datagrunnlag!O115","v":6.6500652739814567},{"$f":"datagrunnlag!P115","v":5.3330781488394958},{"$f":"+datagrunnlag!A115","v":"LKL"},{"$f":"+datagrunnlag!B115","v":"r"},null,{"$f":"IF(OR(O115>skjermbilde!$C$3,skjermbilde!$C$3>1000),0.1,skjermbilde!$C$3)","v":0.1},{"$f":"+datagrunnlag!E115","v":400},{"$f":"++IF(datagrunnlag!F115=\"s\",\"c\",datagrunnlag!F115)","v":"r"},{"$f":"+datagrunnlag!G115","v":640},{"$f":"+datagrunnlag!Q115","v":649923.19999999995},0,201,"r",0,0,{"$f":"IF(skjermbilde!$D$2=1,R115*(S115/(N115*O115))^2,2*R115*(S115/(N115*O115))^2)","v":0},{"$f":"IF(C115=\"\",\"\",IF(skjermbilde!$D$2=1,C115,IF(AND(skjermbilde!$D$2=2,2*C115>60),60,IF(skjermbilde!$D$2=2,2*C115))))","v":0.53359019873935198},{"$f":"IF(skjermbilde!$D$2=1,D115,IF(AND(skjermbilde!$D$2=2,2*D115>60),60,IF(skjermbilde!$D$2=2,2*D115)))","v":1.9516326493757692},{"$f":"IF(skjermbilde!$D$2=1,E115,IF(AND(skjermbilde!$D$2=2,2*E115>60),60,IF(skjermbilde!$D$2=2,2*E115)))","v":5.7377308034227603},{"$f":"IF(skjermbilde!$D$2=1,F115,IF(AND(skjermbilde!$D$2=2,2*F115>60),60,IF(skjermbilde!$D$2=2,2*F115)))","v":11.299107182234012},{"$f":"IF(skjermbilde!$D$2=1,G115,IF(AND(skjermbilde!$D$2=2,2*G115>60),60,IF(skjermbilde!$D$2=2,2*G115)))","v":16.695356411652046},{"$f":"IF(skjermbilde!$D$2=1,H115,IF(AND(skjermbilde!$D$2=2,2*H115>60),60,IF(skjermbilde!$D$2=2,2*H115)))","v":11.521414084408539},{"$f":"IF(skjermbilde!$D$2=1,I115,IF(AND(skjermbilde!$D$2=2,2*I115>60),60,IF(skjermbilde!$D$2=2,2*I115)))","v":6.6500652739814567},{"$f":"IF(J115=\"\",\"\",IF(skjermbilde!$D$2=1,J115,IF(AND(skjermbilde!$D$2=2,2*J115>60),60,IF(skjermbilde!$D$2=2,2*J115))))","v":5.3330781488394958},null,null,{"$f":"+IF(ISNUMBER(skjermbilde!G$3-Y115-skjermbilde!G$6-4),skjermbilde!G$3-Y115-skjermbilde!G$6-4,0)","v":-4.5335901987393523},{"$f":"+IF(ISNUMBER(skjermbilde!H$3-Z115-skjermbilde!H$6-4),skjermbilde!H$3-Z115-skjermbilde!H$6-4,0)","v":-5.9516326493757692},{"$f":"+IF(ISNUMBER(skjermbilde!I$3-AA115-skjermbilde!I$6-4),skjermbilde!I$3-AA115-skjermbilde!I$6-4,0)","v":-9.7377308034227603},{"$f":"+IF(ISNUMBER(skjermbilde!J$3-AB115-skjermbilde!J$6-4),skjermbilde!J$3-AB115-skjermbilde!J$6-4,0)","v":-15.299107182234012},{"$f":"+IF(ISNUMBER(skjermbilde!K$3-AC115-skjermbilde!K$6-4),skjermbilde!K$3-AC115-skjermbilde!K$6-4,0)","v":-20.695356411652046},{"$f":"+IF(ISNUMBER(skjermbilde!L$3-AD115-skjermbilde!L$6-4),skjermbilde!L$3-AD115-skjermbilde!L$6-4,0)","v":-15.521414084408539},{"$f":"+IF(ISNUMBER(skjermbilde!M$3-AE115-skjermbilde!M$6-4),skjermbilde!M$3-AE115-skjermbilde!M$6-4,0)","v":-10.650065273981458},{"$f":"+IF(ISNUMBER(skjermbilde!N$3-AF115-skjermbilde!N$6-4),skjermbilde!N$3-AF115-skjermbilde!N$6-4,0)","v":-9.3330781488394958},{"$f":"IF(skjermbilde!$O$10=TRUE,10*LOG10(10^(0.1*(AI115+AI$12))+10^(0.1*(AJ115+AJ$12))+10^(0.1*(AK115+AK$12))+10^(0.1*(AL115+AL$12))+10^(0.1*(AM115+AM$12))+10^(0.1*(AN115+AN$12))+10^(0.1*(AO115+AO$12))+10^(0.1*(AP115+AP$12))),\"\")","v":""},1,1,1,1,1,1,1,1,1,1,1,{"$f":"+IF(skjermbilde!$N$10=1,1,0)","v":1},{"$f":"+IF(U115=\"r\",1,IF(M115=skjermbilde!$D$3,1,0))","v":1},{"$f":"+IF(U115=\"s\",1,IF(N115=skjermbilde!$C$3,1,0))","v":0},{"$f":"+IF(U115=\"s\",1,IF(O115=skjermbilde!$C$4,1,0))","v":0},1,0,null,null,null,100,"",null,null,null,null,null,null,null,null,null,null,null,null,null,null,"",100,"",null,null,null,null,null,null,null,null,null,null,null,null,"",100,"",null,null,null,null,"",{"$f":"IF(skjermbilde!$D$2=1,VLOOKUP($CS115,$CB$17:$CD$261,3,FALSE),CONCATENATE(\"2 x \",VLOOKUP($CS115,$CB$17:$CD$261,3,FALSE)))","v":""},null,null,null,null,null,null,null,null,null,5.8000000000000038E-7,1.00000058,1,"LKL-0,1-400-640",1.00000058,"LKL-0,1-400-640",0]
[101,"LKL-0,1-400-1000",{"$f":"datagrunnlag!I116","v":1.4068782816911338},{"$f":"datagrunnlag!J116","v":3.5339519985588739},{"$f":"datagrunnlag!K116","v":8.1863921651040883},{"$f":"datagrunnlag!L116","v":14.964962697826115},{"$f":"datagrunnlag!M116","v":23.555382260665954},{"$f":"datagrunnlag!N116","v":14.85661071935195},{"$f":"datagrunnlag!O116","v":8.3650501242350881},{"$f":"datagrunnlag!P116","v":6.477008568633055},{"$f":"+datagrunnlag!A116","v":"LKL"},{"$f":"+datagrunnlag!B116","v":"r"},null,{"$f":"IF(OR(O116>skjermbilde!$C$3,skjermbilde!$C$3>1000),0.1,skjermbilde!$C$3)","v":0.1},{"$f":"+datagrunnlag!E116","v":400},{"$f":"++IF(datagrunnlag!F116=\"s\",\"c\",datagrunnlag!F116)","v":"r"},{"$f":"+datagrunnlag!G116","v":1000},{"$f":"+datagrunnlag!Q116","v":743570},0,201,"r",0,0,{"$f":"IF(skjermbilde!$D$2=1,R116*(S116/(N116*O116))^2,2*R116*(S116/(N116*O116))^2)","v":0},{"$f":"IF(C116=\"\",\"\",IF(skjermbilde!$D$2=1,C116,IF(AND(skjermbilde!$D$2=2,2*C116>60),60,IF(skjermbilde!$D$2=2,2*C116))))","v":1.4068782816911338},{"$f":"IF(skjermbilde!$D$2=1,D116,IF(AND(skjermbilde!$D$2=2,2*D116>60),60,IF(skjermbilde!$D$2=2,2*D116)))","v":3.5339519985588739},{"$f":"IF(skjermbilde!$D$2=1,E116,IF(AND(skjermbilde!$D$2=2,2*E116>60),60,IF(skjermbilde!$D$2=2,2*E116)))","v":8.1863921651040883},{"$f":"IF(skjermbilde!$D$2=1,F116,IF(AND(skjermbilde!$D$2=2,2*F116>60),60,IF(skjermbilde!$D$2=2,2*F116)))","v":14.964962697826115},{"$f":"IF(skjermbilde!$D$2=1,G116,IF(AND(skjermbilde!$D$2=2,2*G116>60),60,IF(skjermbilde!$D$2=2,2*G116)))","v":23.555382260665954},{"$f":"IF(skjermbilde!$D$2=1,H116,IF(AND(skjermbilde!$D$2=2,2*H116>60),60,IF(skjermbilde!$D$2=2,2*H116)))","v":14.85661071935195},{"$f":"IF(skjermbilde!$D$2=1,I116,IF(AND(skjermbilde!$D$2=2,2*I116>60),60,IF(skjermbilde!$D$2=2,2*I116)))","v":8.3650501242350881},{"$f":"IF(J116=\"\",\"\",IF(skjermbilde!$D$2=1,J116,IF(AND(skjermbilde!$D$2=2,2*J116>60),60,IF(skjermbilde!$D$2=2,2*J116))))","v":6.477008568633055},null,null,{"$f":"+IF(ISNUMBER(skjermbilde!G$3-Y116-skjermbilde!G$6-4),skjermbilde!G$3-Y116-skjermbilde!G$6-4,0)","v":-5.4068782816911334},{"$f":"+IF(ISNUMBER(skjermbilde!H$3-Z116-skjermbilde!H$6-4),skjermbilde!H$3-Z116-skjermbilde!H$6-4,0)","v":-7.5339519985588739},{"$f":"+IF(ISNUMBER(skjermbilde!I$3-AA116-skjermbilde!I$6-4),skjermbilde!I$3-AA116-skjermbilde!I$6-4,0)","v":-12.186392165104088},{"$f":"+IF(ISNUMBER(skjermbilde!J$3-AB116-skjermbilde!J$6-4),skjermbilde!J$3-AB116-skjermbilde!J$6-4,0)","v":-18.964962697826117},{"$f":"+IF(ISNUMBER(skjermbilde!K$3-AC116-skjermbilde!K$6-4),skjermbilde!K$3-AC116-skjermbilde!K$6-4,0)","v":-27.555382260665954},{"$f":"+IF(ISNUMBER(skjermbilde!L$3-AD116-skjermbilde!L$6-4),skjermbilde!L$3-AD116-skjermbilde!L$6-4,0)","v":-18.856610719351949},{"$f":"+IF(ISNUMBER(skjermbilde!M$3-AE116-skjermbilde!M$6-4),skjermbilde!M$3-AE116-skjermbilde!M$6-4,0)","v":-12.365050124235088},{"$f":"+IF(ISNUMBER(skjermbilde!N$3-AF116-skjermbilde!N$6-4),skjermbilde!N$3-AF116-skjermbilde!N$6-4,0)","v":-10.477008568633055},{"$f":"IF(skjermbilde!$O$10=TRUE,10*LOG10(10^(0.1*(AI116+AI$12))+10^(0.1*(AJ116+AJ$12))+10^(0.1*(AK116+AK$12))+10^(0.1*(AL116+AL$12))+10^(0.1*(AM116+AM$12))+10^(0.1*(AN116+AN$12))+10^(0.1*(AO116+AO$12))+10^(0.1*(AP116+AP$12))),\"\")","v":""},1,1,1,1,1,1,1,1,1,1,1,{"$f":"+IF(skjermbilde!$N$10=1,1,0)","v":1},{"$f":"+IF(U116=\"r\",1,IF(M116=skjermbilde!$D$3,1,0))","v":1},{"$f":"+IF(U116=\"s\",1,IF(N116=skjermbilde!$C$3,1,0))","v":0},{"$f":"+IF(U116=\"s\",1,IF(O116=skjermbilde!$C$4,1,0))","v":0},1,0,null,null,null,101,"",null,null,null,null,null,null,null,null,null,null,null,null,null,null,"",101,"",null,null,null,null,null,null,null,null,null,null,null,null,"",101,"",null,null,null,null,"",{"$f":"IF(skjermbilde!$D$2=1,VLOOKUP($CS116,$CB$17:$CD$261,3,FALSE),CONCATENATE(\"2 x \",VLOOKUP($CS116,$CB$17:$CD$261,3,FALSE)))","v":""},null,null,null,null,null,null,null,null,null,5.9000000000000039E-7,1.00000059,1,"LKL-0,1-400-1000",1.00000059,"LKL-0,1-400-1000",0]
[102,"LKL-0,1-400-1240",{"$f":"datagrunnlag!I117","v":2.2801663646429153},{"$f":"datagrunnlag!J117","v":5.1162713477419786},{"$f":"datagrunnlag!K117","v":10.635053526785414},{"$f":"datagrunnlag!L117","v":18.63081821341822},{"$f":"datagrunnlag!M117","v":30.415408109679866},{"$f":"datagrunnlag!N117","v":18.19180735429536},{"$f":"datagrunnlag!O117","v":10.08003497448872},{"$f":"datagrunnlag!P117","v":7.6209389884266141},{"$f":"+datagrunnlag!A117","v":"LKL"},{"$f":"+datagrunnlag!B117","v":"r"},null,{"$f":"IF(OR(O117>skjermbilde!$C$3,skjermbilde!$C$3>1000),0.1,skjermbilde!$C$3)","v":0.1},{"$f":"+datagrunnlag!E117","v":400},{"$f":"++IF(datagrunnlag!F117=\"s\",\"c\",datagrunnlag!F117)","v":"r"},{"$f":"+datagrunnlag!G117","v":1240},{"$f":"+datagrunnlag!Q117","v":806001.2},0,201,"r",0,0,{"$f":"IF(skjermbilde!$D$2=1,R117*(S117/(N117*O117))^2,2*R117*(S117/(N117*O117))^2)","v":0},{"$f":"IF(C117=\"\",\"\",IF(skjermbilde!$D$2=1,C117,IF(AND(skjermbilde!$D$2=2,2*C117>60),60,IF(skjermbilde!$D$2=2,2*C117))))","v":2.2801663646429153},{"$f":"IF(skjermbilde!$D$2=1,D117,IF(AND(skjermbilde!$D$2=2,2*D117>60),60,IF(skjermbilde!$D$2=2,2*D117)))","v":5.1162713477419786},{"$f":"IF(skjermbilde!$D$2=1,E117,IF(AND(skjermbilde!$D$2=2,2*E117>60),60,IF(skjermbilde!$D$2=2,2*E117)))","v":10.635053526785414},{"$f":"IF(skjermbilde!$D$2=1,F117,IF(AND(skjermbilde!$D$2=2,2*F117>60),60,IF(skjermbilde!$D$2=2,2*F117)))","v":18.63081821341822},{"$f":"IF(skjermbilde!$D$2=1,G117,IF(AND(skjermbilde!$D$2=2,2*G117>60),60,IF(skjermbilde!$D$2=2,2*G117)))","v":30.415408109679866},{"$f":"IF(skjermbilde!$D$2=1,H117,IF(AND(skjermbilde!$D$2=2,2*H117>60),60,IF(skjermbilde!$D$2=2,2*H117)))","v":18.19180735429536},{"$f":"IF(skjermbilde!$D$2=1,I117,IF(AND(skjermbilde!$D$2=2,2*I117>60),60,IF(skjermbilde!$D$2=2,2*I117)))","v":10.08003497448872},{"$f":"IF(J117=\"\",\"\",IF(skjermbilde!$D$2=1,J117,IF(AND(skjermbilde!$D$2=2,2*J117>60),60,IF(skjermbilde!$D$2=2,2*J117))))","v":7.6209389884266141},null,null,{"$f":"+IF(ISNUMBER(skjermbilde!G$3-Y117-skjermbilde!G$6-4),skjermbilde!G$3-Y117-skjermbilde!G$6-4,0)","v":-6.2801663646429153},{"$f":"+IF(ISNUMBER(skjermbilde!H$3-Z117-skjermbilde!H$6-4),skjermbilde!H$3-Z117-skjermbilde!H$6-4,0)","v":-9.1162713477419786},{"$f":"+IF(ISNUMBER(skjermbilde!I$3-AA117-skjermbilde!I$6-4),skjermbilde!I$3-AA117-skjermbilde!I$6-4,0)","v":-14.635053526785414},{"$f":"+IF(ISNUMBER(skjermbilde!J$3-AB117-skjermbilde!J$6-4),skjermbilde!J$3-AB117-skjermbilde!J$6-4,0)","v":-22.63081821341822},{"$f":"+IF(ISNUMBER(skjermbilde!K$3-AC117-skjermbilde!K$6-4),skjermbilde!K$3-AC117-skjermbilde!K$6-4,0)","v":-34.415408109679866},{"$f":"+IF(ISNUMBER(skjermbilde!L$3-AD117-skjermbilde!L$6-4),skjermbilde!L$3-AD117-skjermbilde!L$6-4,0)","v":-22.19180735429536},{"$f":"+IF(ISNUMBER(skjermbilde!M$3-AE117-skjermbilde!M$6-4),skjermbilde!M$3-AE117-skjermbilde!M$6-4,0)","v":-14.08003497448872},{"$f":"+IF(ISNUMBER(skjermbilde!N$3-AF117-skjermbilde!N$6-4),skjermbilde!N$3-AF117-skjermbilde!N$6-4,0)","v":-11.620938988426614},{"$f":"IF(skjermbilde!$O$10=TRUE,10*LOG10(10^(0.1*(AI117+AI$12))+10^(0.1*(AJ117+AJ$12))+10^(0.1*(AK117+AK$12))+10^(0.1*(AL117+AL$12))+10^(0.1*(AM117+AM$12))+10^(0.1*(AN117+AN$12))+10^(0.1*(AO117+AO$12))+10^(0.1*(AP117+AP$12))),\"\")","v":""},1,1,1,1,1,1,1,1,1,1,1,{"$f":"+IF(skjermbilde!$N$10=1,1,0)","v":1},{"$f":"+IF(U117=\"r\",1,IF(M117=skjermbilde!$D$3,1,0))","v":1},{"$f":"+IF(U117=\"s\",1,IF(N117=skjermbilde!$C$3,1,0))","v":0},{"$f":"+IF(U117=\"s\",1,IF(O117=skjermbilde!$C$4,1,0))","v":0},1,0,null,null,null,102,"",null,null,null,null,null,null,null,null,null,null,null,null,null,null,"",102,"",null,null,null,null,null,null,null,null,null,null,null,null,"",102,"",null,null,null,null,"",{"$f":"IF(skjermbilde!$D$2=1,VLOOKUP($CS117,$CB$17:$CD$261,3,FALSE),CONCATENATE(\"2 x \",VLOOKUP($CS117,$CB$17:$CD$261,3,FALSE)))","v":""},null,null,null,null,null,null,null,null,null,6.000000000000004E-7,1.0000005999999999,1,"LKL-0,1-400-1240",1.0000005999999999,"LKL-0,1-400-1240",0]
[103,"LKL-0,1-400-1500",{"$f":"datagrunnlag!I118","v":3.1534544475946973},{"$f":"datagrunnlag!J118","v":6.6985906969250832},{"$f":"datagrunnlag!K118","v":13.083714888466742},{"$f":"datagrunnlag!L118","v":22.296673729010323},{"$f":"datagrunnlag!M118","v":37.275433958693775},{"$f":"datagrunnlag!N118","v":21.527003989238771},{"$f":"datagrunnlag!O118","v":11.795019824742353},{"$f":"datagrunnlag!P118","v":8.7648694082201732},{"$f":"+datagrunnlag!A118","v":"LKL"},{"$f":"+datagrunnlag!B118","v":"r"},null,{"$f":"IF(OR(O118>skjermbilde!$C$3,skjermbilde!$C$3>1000),0.1,skjermbilde!$C$3)","v":0.1},{"$f":"+datagrunnlag!E118","v":400},{"$f":"++IF(datagrunnlag!F118=\"s\",\"c\",datagrunnlag!F118)","v":"r"},{"$f":"+datagrunnlag!G118","v":1500},{"$f":"+datagrunnlag!Q118","v":873635},0,201,"r",0,0,{"$f":"IF(skjermbilde!$D$2=1,R118*(S118/(N118*O118))^2,2*R118*(S118/(N118*O118))^2)","v":0},{"$f":"IF(C118=\"\",\"\",IF(skjermbilde!$D$2=1,C118,IF(AND(skjermbilde!$D$2=2,2*C118>60),60,IF(skjermbilde!$D$2=2,2*C118))))","v":3.1534544475946973},{"$f":"IF(skjermbilde!$D$2=1,D118,IF(AND(skjermbilde!$D$2=2,2*D118>60),60,IF(skjermbilde!$D$2=2,2*D118)))","v":6.6985906969250832},{"$f":"IF(skjermbilde!$D$2=1,E118,IF(AND(skjermbilde!$D$2=2,2*E118>60),60,IF(skjermbilde!$D$2=2,2*E118)))","v":13.083714888466742},{"$f":"IF(skjermbilde!$D$2=1,F118,IF(AND(skjermbilde!$D$2=2,2*F118>60),60,IF(skjermbilde!$D$2=2,2*F118)))","v":22.296673729010323},{"$f":"IF(skjermbilde!$D$2=1,G118,IF(AND(skjermbilde!$D$2=2,2*G118>60),60,IF(skjermbilde!$D$2=2,2*G118)))","v":37.275433958693775},{"$f":"IF(skjermbilde!$D$2=1,H118,IF(AND(skjermbilde!$D$2=2,2*H118>60),60,IF(skjermbilde!$D$2=2,2*H118)))","v":21.527003989238771},{"$f":"IF(skjermbilde!$D$2=1,I118,IF(AND(skjermbilde!$D$2=2,2*I118>60),60,IF(skjermbilde!$D$2=2,2*I118)))","v":11.795019824742353},{"$f":"IF(J118=\"\",\"\",IF(skjermbilde!$D$2=1,J118,IF(AND(skjermbilde!$D$2=2,2*J118>60),60,IF(skjermbilde!$D$2=2,2*J118))))","v":8.7648694082201732},null,null,{"$f":"+IF(ISNUMBER(skjermbilde!G$3-Y118-skjermbilde!G$6-4),skjermbilde!G$3-Y118-skjermbilde!G$6-4,0)","v":-7.1534544475946973},{"$f":"+IF(ISNUMBER(skjermbilde!H$3-Z118-skjermbilde!H$6-4),skjermbilde!H$3-Z118-skjermbilde!H$6-4,0)","v":-10.698590696925084},{"$f":"+IF(ISNUMBER(skjermbilde!I$3-AA118-skjermbilde!I$6-4),skjermbilde!I$3-AA118-skjermbilde!I$6-4,0)","v":-17.083714888466744},{"$f":"+IF(ISNUMBER(skjermbilde!J$3-AB118-skjermbilde!J$6-4),skjermbilde!J$3-AB118-skjermbilde!J$6-4,0)","v":-26.296673729010323},{"$f":"+IF(ISNUMBER(skjermbilde!K$3-AC118-skjermbilde!K$6-4),skjermbilde!K$3-AC118-skjermbilde!K$6-4,0)","v":-41.275433958693775},{"$f":"+IF(ISNUMBER(skjermbilde!L$3-AD118-skjermbilde!L$6-4),skjermbilde!L$3-AD118-skjermbilde!L$6-4,0)","v":-25.527003989238771},{"$f":"+IF(ISNUMBER(skjermbilde!M$3-AE118-skjermbilde!M$6-4),skjermbilde!M$3-AE118-skjermbilde!M$6-4,0)","v":-15.795019824742353},{"$f":"+IF(ISNUMBER(skjermbilde!N$3-AF118-skjermbilde!N$6-4),skjermbilde!N$3-AF118-skjermbilde!N$6-4,0)","v":-12.764869408220173},{"$f":"IF(skjermbilde!$O$10=TRUE,10*LOG10(10^(0.1*(AI118+AI$12))+10^(0.1*(AJ118+AJ$12))+10^(0.1*(AK118+AK$12))+10^(0.1*(AL118+AL$12))+10^(0.1*(AM118+AM$12))+10^(0.1*(AN118+AN$12))+10^(0.1*(AO118+AO$12))+10^(0.1*(AP118+AP$12))),\"\")","v":""},1,1,1,1,1,1,1,1,1,1,1,{"$f":"+IF(skjermbilde!$N$10=1,1,0)","v":1},{"$f":"+IF(U118=\"r\",1,IF(M118=skjermbilde!$D$3,1,0))","v":1},{"$f":"+IF(U118=\"s\",1,IF(N118=skjermbilde!$C$3,1,0))","v":0},{"$f":"+IF(U118=\"s\",1,IF(O118=skjermbilde!$C$4,1,0))","v":0},1,0,null,null,null,103,"",null,null,null,null,null,null,null,null,null,null,null,null,null,null,"",103,"",null,null,null,null,null,null,null,null,null,null,null,null,"",103,"",null,null,null,null,"",{"$f":"IF(skjermbilde!$D$2=1,VLOOKUP($CS118,$CB$17:$CD$261,3,FALSE),CONCATENATE(\"2 x \",VLOOKUP($CS118,$CB$17:$CD$261,3,FALSE)))","v":""},null,null,null,null,null,null,null,null,null,6.1000000000000041E-7,1.0000006100000001,1,"LKL-0,1-400-1500",1.0000006100000001,"LKL-0,1-400-1500",0]
[104,{"$f":"CONCATENATE(\"LKK-\",MID(datagrunnlag!H119,1,1),IF(N119/100<10,CONCATENATE(0,N119/100),N119/100),(MID(datagrunnlag!H119,2,2)))","v":"LKK-100,0015A"},{"$f":"datagrunnlag!I119","v":2},{"$f":"datagrunnlag!J119","v":7},{"$f":"datagrunnlag!K119","v":19},{"$f":"datagrunnlag!L119","v":26},{"$f":"datagrunnlag!M119","v":42},{"$f":"datagrunnlag!N119","v":40},{"$f":"datagrunnlag!O119","v":23},{"$f":"datagrunnlag!P119","v":18},{"$f":"+datagrunnlag!A119","v":"LKK"},{"$f":"+datagrunnlag!B119","v":"r"},{"$f":"IF(N119<1,0.01,(INT((N119+200-100)/(250)))*50)","v":0.01},{"$f":"IF(OR(skjermbilde!$C$3<datagrunnlag!D119,skjermbilde!$C$3>datagrunnlag!E119),0.1,100*ROUND(skjermbilde!$C$3/100,0))","v":0.1},{"$f":"+IF(skjermbilde!$C$4<>0,skjermbilde!$C$4,0.00001)","v":1.0000000000000001E-5},{"$f":"++IF(datagrunnlag!F119=\"s\",\"c\",datagrunnlag!F119)","v":"r"},{"$f":"+datagrunnlag!G119","v":640},{"$f":"datagrunnlag!Q119","v":2.7674130410633432E-2},0,201,"r",0,0,{"$f":"IF(skjermbilde!$D$2=1,R119*($B$6*3.6/(M119*(O119/1000)))^2,2*R119*($B$6*3.6/(M119*(O119/1000)))^2)","v":0},{"$f":"IF(C119=\"\",\"\",IF(skjermbilde!$D$2=1,C119,IF(AND(skjermbilde!$D$2=2,2*C119>60),60,IF(skjermbilde!$D$2=2,2*C119))))","v":2},{"$f":"IF(skjermbilde!$D$2=1,D119,IF(AND(skjermbilde!$D$2=2,2*D119>60),60,IF(skjermbilde!$D$2=2,2*D119)))","v":7},{"$f":"IF(skjermbilde!$D$2=1,E119,IF(AND(skjermbilde!$D$2=2,2*E119>60),60,IF(skjermbilde!$D$2=2,2*E119)))","v":19},{"$f":"IF(skjermbilde!$D$2=1,F119,IF(AND(skjermbilde!$D$2=2,2*F119>60),60,IF(skjermbilde!$D$2=2,2*F119)))","v":26},{"$f":"IF(skjermbilde!$D$2=1,G119,IF(AND(skjermbilde!$D$2=2,2*G119>60),60,IF(skjermbilde!$D$2=2,2*G119)))","v":42},{"$f":"IF(skjermbilde!$D$2=1,H119,IF(AND(skjermbilde!$D$2=2,2*H119>60),60,IF(skjermbilde!$D$2=2,2*H119)))","v":40},{"$f":"IF(skjermbilde!$D$2=1,I119,IF(AND(skjermbilde!$D$2=2,2*I119>60),60,IF(skjermbilde!$D$2=2,2*I119)))","v":23},{"$f":"IF(J119=\"\",\"\",IF(skjermbilde!$D$2=1,J119,IF(AND(skjermbilde!$D$2=2,2*J119>60),60,IF(skjermbilde!$D$2=2,2*J119))))","v":18},null,null,{"$f":"+IF(ISNUMBER(skjermbilde!G$3-Y119-skjermbilde!G$6-4),skjermbilde!G$3-Y119-skjermbilde!G$6-4,0)","v":-6},{"$f":"+IF(ISNUMBER(skjermbilde!H$3-Z119-skjermbilde!H$6-4),skjermbilde!H$3-Z119-skjermbilde!H$6-4,0)","v":-11},{"$f":"+IF(ISNUMBER(skjermbilde!I$3-AA119-skjermbilde!I$6-4),skjermbilde!I$3-AA119-skjermbilde!I$6-4,0)","v":-23},{"$f":"+IF(ISNUMBER(skjermbilde!J$3-AB119-skjermbilde!J$6-4),skjermbilde!J$3-AB119-skjermbilde!J$6-4,0)","v":-30},{"$f":"+IF(ISNUMBER(skjermbilde!K$3-AC119-skjermbilde!K$6-4),skjermbilde!K$3-AC119-skjermbilde!K$6-4,0)","v":-46},{"$f":"+IF(ISNUMBER(skjermbilde!L$3-AD119-skjermbilde!L$6-4),skjermbilde!L$3-AD119-skjermbilde!L$6-4,0)","v":-44},{"$f":"+IF(ISNUMBER(skjermbilde!M$3-AE119-skjermbilde!M$6-4),skjermbilde!M$3-AE119-skjermbilde!M$6-4,0)","v":-27},{"$f":"+IF(ISNUMBER(skjermbilde!N$3-AF119-skjermbilde!N$6-4),skjermbilde!N$3-AF119-skjermbilde!N$6-4,0)","v":-22},{"$f":"IF(skjermbilde!$O$10=TRUE,10*LOG10(10^(0.1*(AI119+AI$12))+10^(0.1*(AJ119+AJ$12))+10^(0.1*(AK119+AK$12))+10^(0.1*(AL119+AL$12))+10^(0.1*(AM119+AM$12))+10^(0.1*(AN119+AN$12))+10^(0.1*(AO119+AO$12))+10^(0.1*(AP119+AP$12))),\"\")","v":""},1,1,1,1,1,1,1,1,1,1,1,{"$f":"+IF(skjermbilde!$N$10=1,1,0)","v":1},{"$f":"+IF(U119=\"r\",1,IF(M119=skjermbilde!$D$3,1,0))","v":1},{"$f":"+IF(U119=\"s\",1,IF(N119=skjermbilde!$C$3,1,IF(OR(N119<datagrunnlag!D119,N119>datagrunnlag!E119),0,0)))","v":0},{"$f":"+IF(U119=\"s\",1,IF(O119=skjermbilde!$C$4,1,0))","v":0},1,0,null,null,null,104,"",null,null,null,null,null,null,null,null,null,null,null,null,null,null,"",104,"",null,null,null,null,null,null,null,null,null,null,null,null,"",104,"",null,null,null,null,"",{"$f":"IF(skjermbilde!$D$2=1,VLOOKUP($CS119,$CB$17:$CD$261,3,FALSE),CONCATENATE(\"2 x \",VLOOKUP($CS119,$CB$17:$CD$261,3,FALSE)))","v":""},null,null,null,null,null,null,null,null,null,6.2000000000000042E-7,1.00000062,1,"LKK-100,0015A",1.00000062,"LKK-100,0015A",0]
[105,{"$f":"CONCATENATE(\"LKK-\",MID(datagrunnlag!H120,1,1),IF(N120/100<10,CONCATENATE(0,N120/100),N120/100),(MID(datagrunnlag!H120,2,2)))","v":"LKK-100,0015B"},{"$f":"datagrunnlag!I120","v":2},{"$f":"datagrunnlag!J120","v":6},{"$f":"datagrunnlag!K120","v":17},{"$f":"datagrunnlag!L120","v":20},{"$f":"datagrunnlag!M120","v":29},{"$f":"datagrunnlag!N120","v":27},{"$f":"datagrunnlag!O120","v":17},{"$f":"datagrunnlag!P120","v":12},{"$f":"+datagrunnlag!A120","v":"LKK"},{"$f":"+datagrunnlag!B120","v":"r"},{"$f":"IF(N120<1,0.01,(INT((N120+200-50)/(275)))*75)","v":0.01},{"$f":"IF(OR(skjermbilde!$C$3<datagrunnlag!D120,skjermbilde!$C$3>datagrunnlag!E120),0.1,100*ROUND(skjermbilde!$C$3/100,0))","v":0.1},{"$f":"+IF(skjermbilde!$C$4<>0,skjermbilde!$C$4,0.00001)","v":1.0000000000000001E-5},{"$f":"++IF(datagrunnlag!F120=\"s\",\"c\",datagrunnlag!F120)","v":"r"},{"$f":"+datagrunnlag!G120","v":640},{"$f":"datagrunnlag!Q120","v":2.823623213732513E-2},0,201,"r",0,0,{"$f":"IF(skjermbilde!$D$2=1,R120*($B$6*3.6/(M120*(O120/1000)))^2,2*R120*($B$6*3.6/(M120*(O120/1000)))^2)","v":0},{"$f":"IF(C120=\"\",\"\",IF(skjermbilde!$D$2=1,C120,IF(AND(skjermbilde!$D$2=2,2*C120>60),60,IF(skjermbilde!$D$2=2,2*C120))))","v":2},{"$f":"IF(skjermbilde!$D$2=1,D120,IF(AND(skjermbilde!$D$2=2,2*D120>60),60,IF(skjermbilde!$D$2=2,2*D120)))","v":6},{"$f":"IF(skjermbilde!$D$2=1,E120,IF(AND(skjermbilde!$D$2=2,2*E120>60),60,IF(skjermbilde!$D$2=2,2*E120)))","v":17},{"$f":"IF(skjermbilde!$D$2=1,F120,IF(AND(skjermbilde!$D$2=2,2*F120>60),60,IF(skjermbilde!$D$2=2,2*F120)))","v":20},{"$f":"IF(skjermbilde!$D$2=1,G120,IF(AND(skjermbilde!$D$2=2,2*G120>60),60,IF(skjermbilde!$D$2=2,2*G120)))","v":29},{"$f":"IF(skjermbilde!$D$2=1,H120,IF(AND(skjermbilde!$D$2=2,2*H120>60),60,IF(skjermbilde!$D$2=2,2*H120)))","v":27},{"$f":"IF(skjermbilde!$D$2=1,I120,IF(AND(skjermbilde!$D$2=2,2*I120>60),60,IF(skjermbilde!$D$2=2,2*I120)))","v":17},{"$f":"IF(J120=\"\",\"\",IF(skjermbilde!$D$2=1,J120,IF(AND(skjermbilde!$D$2=2,2*J120>60),60,IF(skjermbilde!$D$2=2,2*J120))))","v":12},null,null,{"$f":"+IF(ISNUMBER(skjermbilde!G$3-Y120-skjermbilde!G$6-4),skjermbilde!G$3-Y120-skjermbilde!G$6-4,0)","v":-6},{"$f":"+IF(ISNUMBER(skjermbilde!H$3-Z120-skjermbilde!H$6-4),skjermbilde!H$3-Z120-skjermbilde!H$6-4,0)","v":-10},{"$f":"+IF(ISNUMBER(skjermbilde!I$3-AA120-skjermbilde!I$6-4),skjermbilde!I$3-AA120-skjermbilde!I$6-4,0)","v":-21},{"$f":"+IF(ISNUMBER(skjermbilde!J$3-AB120-skjermbilde!J$6-4),skjermbilde!J$3-AB120-skjermbilde!J$6-4,0)","v":-24},{"$f":"+IF(ISNUMBER(skjermbilde!K$3-AC120-skjermbilde!K$6-4),skjermbilde!K$3-AC120-skjermbilde!K$6-4,0)","v":-33},{"$f":"+IF(ISNUMBER(skjermbilde!L$3-AD120-skjermbilde!L$6-4),skjermbilde!L$3-AD120-skjermbilde!L$6-4,0)","v":-31},{"$f":"+IF(ISNUMBER(skjermbilde!M$3-AE120-skjermbilde!M$6-4),skjermbilde!M$3-AE120-skjermbilde!M$6-4,0)","v":-21},{"$f":"+IF(ISNUMBER(skjermbilde!N$3-AF120-skjermbilde!N$6-4),skjermbilde!N$3-AF120-skjermbilde!N$6-4,0)","v":-16},{"$f":"IF(skjermbilde!$O$10=TRUE,10*LOG10(10^(0.1*(AI120+AI$12))+10^(0.1*(AJ120+AJ$12))+10^(0.1*(AK120+AK$12))+10^(0.1*(AL120+AL$12))+10^(0.1*(AM120+AM$12))+10^(0.1*(AN120+AN$12))+10^(0.1*(AO120+AO$12))+10^(0.1*(AP120+AP$12))),\"\")","v":""},1,1,1,1,1,1,1,1,1,1,1,{"$f":"+IF(skjermbilde!$N$10=1,1,0)","v":1},{"$f":"+IF(U120=\"r\",1,IF(M120=skjermbilde!$D$3,1,0))","v":1},{"$f":"+IF(U120=\"s\",1,IF(N120=skjermbilde!$C$3,1,IF(OR(N120<datagrunnlag!D120,N120>datagrunnlag!E120),0,0)))","v":0},{"$f":"+IF(U120=\"s\",1,IF(O120=skjermbilde!$C$4,1,0))","v":0},1,0,null,null,null,105,"",null,null,null,null,null,null,null,null,null,null,null,null,null,null,"",105,"",null,null,null,null,null,null,null,null,null,null,null,null,"",105,"",null,null,null,null,"",{"$f":"IF(skjermbilde!$D$2=1,VLOOKUP($CS120,$CB$17:$CD$261,3,FALSE),CONCATENATE(\"2 x \",VLOOKUP($CS120,$CB$17:$CD$261,3,FALSE)))","v":""},null,null,null,null,null,null,null,null,null,6.3000000000000043E-7,1.0000006299999999,1,"LKK-100,0015B",1.0000006299999999,"LKK-100,0015B",0]
[106,{"$f":"CONCATENATE(\"LKK-\",MID(datagrunnlag!H121,1,1),IF(N121/100<10,CONCATENATE(0,N121/100),N121/100),(MID(datagrunnlag!H121,2,2)))","v":"LKK-100,0015C"},{"$f":"datagrunnlag!I121","v":2},{"$f":"datagrunnlag!J121","v":5},{"$f":"datagrunnlag!K121","v":14},{"$f":"datagrunnlag!L121","v":19},{"$f":"datagrunnlag!M121","v":28},{"$f":"datagrunnlag!N121","v":22},{"$f":"datagrunnlag!O121","v":14},{"$f":"datagrunnlag!P121","v":9},{"$f":"+datagrunnlag!A121","v":"LKK"},{"$f":"+datagrunnlag!B121","v":"r"},{"$f":"IF(N121<1,0.01,(INT((N121+200-100)/(300)))*100)","v":0.01},{"$f":"IF(OR(skjermbilde!$C$3<datagrunnlag!D121,skjermbilde!$C$3>datagrunnlag!E121),0.1,100*ROUND(skjermbilde!$C$3/100,0))","v":0.1},{"$f":"+IF(skjermbilde!$C$4<>0,skjermbilde!$C$4,0.00001)","v":1.0000000000000001E-5},{"$f":"++IF(datagrunnlag!F121=\"s\",\"c\",datagrunnlag!F121)","v":"r"},{"$f":"+datagrunnlag!G121","v":640},{"$f":"datagrunnlag!Q121","v":2.3633584647264502E-2},0,201,"r",0,0,{"$f":"IF(skjermbilde!$D$2=1,R121*($B$6*3.6/(M121*(O121/1000)))^2,2*R121*($B$6*3.6/(M121*(O121/1000)))^2)","v":0},{"$f":"IF(C121=\"\",\"\",IF(skjermbilde!$D$2=1,C121,IF(AND(skjermbilde!$D$2=2,2*C121>60),60,IF(skjermbilde!$D$2=2,2*C121))))","v":2},{"$f":"IF(skjermbilde!$D$2=1,D121,IF(AND(skjermbilde!$D$2=2,2*D121>60),60,IF(skjermbilde!$D$2=2,2*D121)))","v":5},{"$f":"IF(skjermbilde!$D$2=1,E121,IF(AND(skjermbilde!$D$2=2,2*E121>60),60,IF(skjermbilde!$D$2=2,2*E121)))","v":14},{"$f":"IF(skjermbilde!$D$2=1,F121,IF(AND(skjermbilde!$D$2=2,2*F121>60),60,IF(skjermbilde!$D$2=2,2*F121)))","v":19},{"$f":"IF(skjermbilde!$D$2=1,G121,IF(AND(skjermbilde!$D$2=2,2*G121>60),60,IF(skjermbilde!$D$2=2,2*G121)))","v":28},{"$f":"IF(skjermbilde!$D$2=1,H121,IF(AND(skjermbilde!$D$2=2,2*H121>60),60,IF(skjermbilde!$D$2=2,2*H121)))","v":22},{"$f":"IF(skjermbilde!$D$2=1,I121,IF(AND(skjermbilde!$D$2=2,2*I121>60),60,IF(skjermbilde!$D$2=2,2*I121)))","v":14},{"$f":"IF(J121=\"\",\"\",IF(skjermbilde!$D$2=1,J121,IF(AND(skjermbilde!$D$2=2,2*J121>60),60,IF(skjermbilde!$D$2=2,2*J121))))","v":9},null,null,{"$f":"+IF(ISNUMBER(skjermbilde!G$3-Y121-skjermbilde!G$6-4),skjermbilde!G$3-Y121-skjermbilde!G$6-4,0)","v":-6},{"$f":"+IF(ISNUMBER(skjermbilde!H$3-Z121-skjermbilde!H$6-4),skjermbilde!H$3-Z121-skjermbilde!H$6-4,0)","v":-9},{"$f":"+IF(ISNUMBER(skjermbilde!I$3-AA121-skjermbilde!I$6-4),skjermbilde!I$3-AA121-skjermbilde!I$6-4,0)","v":-18},{"$f":"+IF(ISNUMBER(skjermbilde!J$3-AB121-skjermbilde!J$6-4),skjermbilde!J$3-AB121-skjermbilde!J$6-4,0)","v":-23},{"$f":"+IF(ISNUMBER(skjermbilde!K$3-AC121-skjermbilde!K$6-4),skjermbilde!K$3-AC121-skjermbilde!K$6-4,0)","v":-32},{"$f":"+IF(ISNUMBER(skjermbilde!L$3-AD121-skjermbilde!L$6-4),skjermbilde!L$3-AD121-skjermbilde!L$6-4,0)","v":-26},{"$f":"+IF(ISNUMBER(skjermbilde!M$3-AE121-skjermbilde!M$6-4),skjermbilde!M$3-AE121-skjermbilde!M$6-4,0)","v":-18},{"$f":"+IF(ISNUMBER(skjermbilde!N$3-AF121-skjermbilde!N$6-4),skjermbilde!N$3-AF121-skjermbilde!N$6-4,0)","v":-13},{"$f":"IF(skjermbilde!$O$10=TRUE,10*LOG10(10^(0.1*(AI121+AI$12))+10^(0.1*(AJ121+AJ$12))+10^(0.1*(AK121+AK$12))+10^(0.1*(AL121+AL$12))+10^(0.1*(AM121+AM$12))+10^(0.1*(AN121+AN$12))+10^(0.1*(AO121+AO$12))+10^(0.1*(AP121+AP$12))),\"\")","v":""},1,1,1,1,1,1,1,1,1,1,1,{"$f":"+IF(skjermbilde!$N$10=1,1,0)","v":1},{"$f":"+IF(U121=\"r\",1,IF(M121=skjermbilde!$D$3,1,0))","v":1},{"$f":"+IF(U121=\"s\",1,IF(N121=skjermbilde!$C$3,1,IF(OR(N121<datagrunnlag!D121,N121>datagrunnlag!E121),0,0)))","v":0},{"$f":"+IF(U121=\"s\",1,IF(O121=skjermbilde!$C$4,1,0))","v":0},1,0,null,null,null,106,"",null,null,null,null,null,null,null,null,null,null,null,null,null,null,"",106,"",null,null,null,null,null,null,null,null,null,null,null,null,"",106,"",null,null,null,null,"",{"$f":"IF(skjermbilde!$D$2=1,VLOOKUP($CS121,$CB$17:$CD$261,3,FALSE),CONCATENATE(\"2 x \",VLOOKUP($CS121,$CB$17:$CD$261,3,FALSE)))","v":""},null,null,null,null,null,null,null,null,null,6.4000000000000044E-7,1.0000006400000001,1,"LKK-100,0015C",1.0000006400000001,"LKK-100,0015C",0]
[107,{"$f":"CONCATENATE(\"LKK-\",MID(datagrunnlag!H122,1,1),IF(N122/100<10,CONCATENATE(0,N122/100),N122/100),(MID(datagrunnlag!H122,2,2)))","v":"LKK-100,0015D"},{"$f":"datagrunnlag!I122","v":2},{"$f":"datagrunnlag!J122","v":5},{"$f":"datagrunnlag!K122","v":10},{"$f":"datagrunnlag!L122","v":14},{"$f":"datagrunnlag!M122","v":17},{"$f":"datagrunnlag!N122","v":12},{"$f":"datagrunnlag!O122","v":7},{"$f":"datagrunnlag!P122","v":5},{"$f":"+datagrunnlag!A122","v":"LKK"},{"$f":"+datagrunnlag!B122","v":"r"},{"$f":"IF(N122<1,0.01,(INT((N122+200-50)/(350)))*150)","v":0.01},{"$f":"IF(OR(skjermbilde!$C$3<datagrunnlag!D122,skjermbilde!$C$3>datagrunnlag!E122),0.1,100*ROUND(skjermbilde!$C$3/100,0))","v":0.1},{"$f":"+IF(skjermbilde!$C$4<>0,skjermbilde!$C$4,0.00001)","v":1.0000000000000001E-5},{"$f":"++IF(datagrunnlag!F122=\"s\",\"c\",datagrunnlag!F122)","v":"r"},{"$f":"+datagrunnlag!G122","v":640},{"$f":"datagrunnlag!Q122","v":2.3320639935303904E-2},0,201,"r",0,0,{"$f":"IF(skjermbilde!$D$2=1,R122*($B$6*3.6/(M122*(O122/1000)))^2,2*R122*($B$6*3.6/(M122*(O122/1000)))^2)","v":0},{"$f":"IF(C122=\"\",\"\",IF(skjermbilde!$D$2=1,C122,IF(AND(skjermbilde!$D$2=2,2*C122>60),60,IF(skjermbilde!$D$2=2,2*C122))))","v":2},{"$f":"IF(skjermbilde!$D$2=1,D122,IF(AND(skjermbilde!$D$2=2,2*D122>60),60,IF(skjermbilde!$D$2=2,2*D122)))","v":5},{"$f":"IF(skjermbilde!$D$2=1,E122,IF(AND(skjermbilde!$D$2=2,2*E122>60),60,IF(skjermbilde!$D$2=2,2*E122)))","v":10},{"$f":"IF(skjermbilde!$D$2=1,F122,IF(AND(skjermbilde!$D$2=2,2*F122>60),60,IF(skjermbilde!$D$2=2,2*F122)))","v":14},{"$f":"IF(skjermbilde!$D$2=1,G122,IF(AND(skjermbilde!$D$2=2,2*G122>60),60,IF(skjermbilde!$D$2=2,2*G122)))","v":17},{"$f":"IF(skjermbilde!$D$2=1,H122,IF(AND(skjermbilde!$D$2=2,2*H122>60),60,IF(skjermbilde!$D$2=2,2*H122)))","v":12},{"$f":"IF(skjermbilde!$D$2=1,I122,IF(AND(skjermbilde!$D$2=2,2*I122>60),60,IF(skjermbilde!$D$2=2,2*I122)))","v":7},{"$f":"IF(J122=\"\",\"\",IF(skjermbilde!$D$2=1,J122,IF(AND(skjermbilde!$D$2=2,2*J122>60),60,IF(skjermbilde!$D$2=2,2*J122))))","v":5},null,null,{"$f":"+IF(ISNUMBER(skjermbilde!G$3-Y122-skjermbilde!G$6-4),skjermbilde!G$3-Y122-skjermbilde!G$6-4,0)","v":-6},{"$f":"+IF(ISNUMBER(skjermbilde!H$3-Z122-skjermbilde!H$6-4),skjermbilde!H$3-Z122-skjermbilde!H$6-4,0)","v":-9},{"$f":"+IF(ISNUMBER(skjermbilde!I$3-AA122-skjermbilde!I$6-4),skjermbilde!I$3-AA122-skjermbilde!I$6-4,0)","v":-14},{"$f":"+IF(ISNUMBER(skjermbilde!J$3-AB122-skjermbilde!J$6-4),skjermbilde!J$3-AB122-skjermbilde!J$6-4,0)","v":-18},{"$f":"+IF(ISNUMBER(skjermbilde!K$3-AC122-skjermbilde!K$6-4),skjermbilde!K$3-AC122-skjermbilde!K$6-4,0)","v":-21},{"$f":"+IF(ISNUMBER(skjermbilde!L$3-AD122-skjermbilde!L$6-4),skjermbilde!L$3-AD122-skjermbilde!L$6-4,0)","v":-16},{"$f":"+IF(ISNUMBER(skjermbilde!M$3-AE122-skjermbilde!M$6-4),skjermbilde!M$3-AE122-skjermbilde!M$6-4,0)","v":-11},{"$f":"+IF(ISNUMBER(skjermbilde!N$3-AF122-skjermbilde!N$6-4),skjermbilde!N$3-AF122-skjermbilde!N$6-4,0)","v":-9},{"$f":"IF(skjermbilde!$O$10=TRUE,10*LOG10(10^(0.1*(AI122+AI$12))+10^(0.1*(AJ122+AJ$12))+10^(0.1*(AK122+AK$12))+10^(0.1*(AL122+AL$12))+10^(0.1*(AM122+AM$12))+10^(0.1*(AN122+AN$12))+10^(0.1*(AO122+AO$12))+10^(0.1*(AP122+AP$12))),\"\")","v":""},1,1,1,1,1,1,1,1,1,1,1,{"$f":"+IF(skjermbilde!$N$10=1,1,0)","v":1},{"$f":"+IF(U122=\"r\",1,IF(M122=skjermbilde!$D$3,1,0))","v":1},{"$f":"+IF(U122=\"s\",1,IF(N122=skjermbilde!$C$3,1,IF(OR(N122<datagrunnlag!D122,N122>datagrunnlag!E122),0,0)))","v":0},{"$f":"+IF(U122=\"s\",1,IF(O122=skjermbilde!$C$4,1,0))","v":0},1,0,null,null,null,107,"",null,null,null,null,null,null,null,null,null,null,null,null,null,null,"",107,"",null,null,null,null,null,null,null,null,null,null,null,null,"",107,"",null,null,null,null,"",{"$f":"IF(skjermbilde!$D$2=1,VLOOKUP($CS122,$CB$17:$CD$261,3,FALSE),CONCATENATE(\"2 x \",VLOOKUP($CS122,$CB$17:$CD$261,3,FALSE)))","v":""},null,null,null,null,null,null,null,null,null,6.5000000000000045E-7,1.00000065,1,"LKK-100,0015D",1.00000065,"LKK-100,0015D",0]
[108,{"$f":"CONCATENATE(\"LKK-\",MID(datagrunnlag!H123,1,1),IF(N123/100<10,CONCATENATE(0,N123/100),N123/100),(MID(datagrunnlag!H123,2,2)))","v":"LKK-100,0015E"},{"$f":"datagrunnlag!I123","v":2},{"$f":"datagrunnlag!J123","v":2},{"$f":"datagrunnlag!K123","v":8},{"$f":"datagrunnlag!L123","v":11},{"$f":"datagrunnlag!M123","v":13},{"$f":"datagrunnlag!N123","v":10},{"$f":"datagrunnlag!O123","v":5},{"$f":"datagrunnlag!P123","v":4},{"$f":"+datagrunnlag!A123","v":"LKK"},{"$f":"+datagrunnlag!B123","v":"r"},{"$f":"IF(N123<1,0.01,(INT((N123+200-100)/(400)))*200)","v":0.01},{"$f":"IF(OR(skjermbilde!$C$3<datagrunnlag!D123,skjermbilde!$C$3>datagrunnlag!E123),0.1,100*ROUND(skjermbilde!$C$3/100,0))","v":0.1},{"$f":"+IF(skjermbilde!$C$4<>0,skjermbilde!$C$4,0.00001)","v":1.0000000000000001E-5},{"$f":"++IF(datagrunnlag!F123=\"s\",\"c\",datagrunnlag!F123)","v":"r"},{"$f":"+datagrunnlag!G123","v":640},{"$f":"datagrunnlag!Q123","v":1.4710618898964375E-2},0,201,"r",0,0,{"$f":"IF(skjermbilde!$D$2=1,R123*($B$6*3.6/(M123*(O123/1000)))^2,2*R123*($B$6*3.6/(M123*(O123/1000)))^2)","v":0},{"$f":"IF(C123=\"\",\"\",IF(skjermbilde!$D$2=1,C123,IF(AND(skjermbilde!$D$2=2,2*C123>60),60,IF(skjermbilde!$D$2=2,2*C123))))","v":2},{"$f":"IF(skjermbilde!$D$2=1,D123,IF(AND(skjermbilde!$D$2=2,2*D123>60),60,IF(skjermbilde!$D$2=2,2*D123)))","v":2},{"$f":"IF(skjermbilde!$D$2=1,E123,IF(AND(skjermbilde!$D$2=2,2*E123>60),60,IF(skjermbilde!$D$2=2,2*E123)))","v":8},{"$f":"IF(skjermbilde!$D$2=1,F123,IF(AND(skjermbilde!$D$2=2,2*F123>60),60,IF(skjermbilde!$D$2=2,2*F123)))","v":11},{"$f":"IF(skjermbilde!$D$2=1,G123,IF(AND(skjermbilde!$D$2=2,2*G123>60),60,IF(skjermbilde!$D$2=2,2*G123)))","v":13},{"$f":"IF(skjermbilde!$D$2=1,H123,IF(AND(skjermbilde!$D$2=2,2*H123>60),60,IF(skjermbilde!$D$2=2,2*H123)))","v":10},{"$f":"IF(skjermbilde!$D$2=1,I123,IF(AND(skjermbilde!$D$2=2,2*I123>60),60,IF(skjermbilde!$D$2=2,2*I123)))","v":5},{"$f":"IF(J123=\"\",\"\",IF(skjermbilde!$D$2=1,J123,IF(AND(skjermbilde!$D$2=2,2*J123>60),60,IF(skjermbilde!$D$2=2,2*J123))))","v":4},null,null,{"$f":"+IF(ISNUMBER(skjermbilde!G$3-Y123-skjermbilde!G$6-4),skjermbilde!G$3-Y123-skjermbilde!G$6-4,0)","v":-6},{"$f":"+IF(ISNUMBER(skjermbilde!H$3-Z123-skjermbilde!H$6-4),skjermbilde!H$3-Z123-skjermbilde!H$6-4,0)","v":-6},{"$f":"+IF(ISNUMBER(skjermbilde!I$3-AA123-skjermbilde!I$6-4),skjermbilde!I$3-AA123-skjermbilde!I$6-4,0)","v":-12},{"$f":"+IF(ISNUMBER(skjermbilde!J$3-AB123-skjermbilde!J$6-4),skjermbilde!J$3-AB123-skjermbilde!J$6-4,0)","v":-15},{"$f":"+IF(ISNUMBER(skjermbilde!K$3-AC123-skjermbilde!K$6-4),skjermbilde!K$3-AC123-skjermbilde!K$6-4,0)","v":-17},{"$f":"+IF(ISNUMBER(skjermbilde!L$3-AD123-skjermbilde!L$6-4),skjermbilde!L$3-AD123-skjermbilde!L$6-4,0)","v":-14},{"$f":"+IF(ISNUMBER(skjermbilde!M$3-AE123-skjermbilde!M$6-4),skjermbilde!M$3-AE123-skjermbilde!M$6-4,0)","v":-9},{"$f":"+IF(ISNUMBER(skjermbilde!N$3-AF123-skjermbilde!N$6-4),skjermbilde!N$3-AF123-skjermbilde!N$6-4,0)","v":-8},{"$f":"IF(skjermbilde!$O$10=TRUE,10*LOG10(10^(0.1*(AI123+AI$12))+10^(0.1*(AJ123+AJ$12))+10^(0.1*(AK123+AK$12))+10^(0.1*(AL123+AL$12))+10^(0.1*(AM123+AM$12))+10^(0.1*(AN123+AN$12))+10^(0.1*(AO123+AO$12))+10^(0.1*(AP123+AP$12))),\"\")","v":""},1,1,1,1,1,1,1,1,1,1,1,{"$f":"+IF(skjermbilde!$N$10=1,1,0)","v":1},{"$f":"+IF(U123=\"r\",1,IF(M123=skjermbilde!$D$3,1,0))","v":1},{"$f":"+IF(U123=\"s\",1,IF(N123=skjermbilde!$C$3,1,IF(OR(N123<datagrunnlag!D123,N123>datagrunnlag!E123),0,0)))","v":0},{"$f":"+IF(U123=\"s\",1,IF(O123=skjermbilde!$C$4,1,0))","v":0},1,0,null,null,null,108,"",null,null,null,null,null,null,null,null,null,null,null,null,null,null,"",108,"",null,null,null,null,null,null,null,null,null,null,null,null,"",108,"",null,null,null,null,"",{"$f":"IF(skjermbilde!$D$2=1,VLOOKUP($CS123,$CB$17:$CD$261,3,FALSE),CONCATENATE(\"2 x \",VLOOKUP($CS123,$CB$17:$CD$261,3,FALSE)))","v":""},null,null,null,null,null,null,null,null,null,6.6000000000000046E-7,1.00000066,1,"LKK-100,0015E",1.00000066,"LKK-100,0015E",0]
[109,{"$f":"CONCATENATE(\"LKK-\",MID(datagrunnlag!H124,1,1),IF(N124/100<10,CONCATENATE(0,N124/100),N124/100),(MID(datagrunnlag!H124,2,2)))","v":"LKK-100,0017C"},{"$f":"datagrunnlag!I124","v":2},{"$f":"datagrunnlag!J124","v":8},{"$f":"datagrunnlag!K124","v":14},{"$f":"datagrunnlag!L124","v":17},{"$f":"datagrunnlag!M124","v":24},{"$f":"datagrunnlag!N124","v":19},{"$f":"datagrunnlag!O124","v":12},{"$f":"datagrunnlag!P124","v":8},{"$f":"+datagrunnlag!A124","v":"LKK"},{"$f":"+datagrunnlag!B124","v":"r"},{"$f":"IF(N124<1,0.01,(INT((N124+300-100)/(400)))*100)","v":0.01},{"$f":"IF(OR(skjermbilde!$C$3<datagrunnlag!D124,skjermbilde!$C$3>datagrunnlag!E124),0.1,100*ROUND(skjermbilde!$C$3/100,0))","v":0.1},{"$f":"+IF(skjermbilde!$C$4<>0,skjermbilde!$C$4,0.00001)","v":1.0000000000000001E-5},{"$f":"++IF(datagrunnlag!F124=\"s\",\"c\",datagrunnlag!F124)","v":"r"},{"$f":"+datagrunnlag!G124","v":640},{"$f":"datagrunnlag!Q124","v":2.8898018828043704E-2},{"$f":"+$B$6","v":0},201,{"$f":"+$B$7","v":"r"},{"$f":"+$B$3","v":0},{"$f":"+$B$4","v":0},{"$f":"IF(skjermbilde!$D$2=1,R124*($B$6*3.6/(M124*(O124/1000)))^2,2*R124*($B$6*3.6/(M124*(O124/1000)))^2)","v":0},{"$f":"IF(C124=\"\",\"\",IF(skjermbilde!$D$2=1,C124,IF(AND(skjermbilde!$D$2=2,2*C124>60),60,IF(skjermbilde!$D$2=2,2*C124))))","v":2},{"$f":"IF(skjermbilde!$D$2=1,D124,IF(AND(skjermbilde!$D$2=2,2*D124>60),60,IF(skjermbilde!$D$2=2,2*D124)))","v":8},{"$f":"IF(skjermbilde!$D$2=1,E124,IF(AND(skjermbilde!$D$2=2,2*E124>60),60,IF(skjermbilde!$D$2=2,2*E124)))","v":14},{"$f":"IF(skjermbilde!$D$2=1,F124,IF(AND(skjermbilde!$D$2=2,2*F124>60),60,IF(skjermbilde!$D$2=2,2*F124)))","v":17},{"$f":"IF(skjermbilde!$D$2=1,G124,IF(AND(skjermbilde!$D$2=2,2*G124>60),60,IF(skjermbilde!$D$2=2,2*G124)))","v":24},{"$f":"IF(skjermbilde!$D$2=1,H124,IF(AND(skjermbilde!$D$2=2,2*H124>60),60,IF(skjermbilde!$D$2=2,2*H124)))","v":19},{"$f":"IF(skjermbilde!$D$2=1,I124,IF(AND(skjermbilde!$D$2=2,2*I124>60),60,IF(skjermbilde!$D$2=2,2*I124)))","v":12},{"$f":"IF(J124=\"\",\"\",IF(skjermbilde!$D$2=1,J124,IF(AND(skjermbilde!$D$2=2,2*J124>60),60,IF(skjermbilde!$D$2=2,2*J124))))","v":8},null,null,{"$f":"+IF(ISNUMBER(skjermbilde!G$3-Y124-skjermbilde!G$6-4),skjermbilde!G$3-Y124-skjermbilde!G$6-4,0)","v":-6},{"$f":"+IF(ISNUMBER(skjermbilde!H$3-Z124-skjermbilde!H$6-4),skjermbilde!H$3-Z124-skjermbilde!H$6-4,0)","v":-12},{"$f":"+IF(ISNUMBER(skjermbilde!I$3-AA124-skjermbilde!I$6-4),skjermbilde!I$3-AA124-skjermbilde!I$6-4,0)","v":-18},{"$f":"+IF(ISNUMBER(skjermbilde!J$3-AB124-skjermbilde!J$6-4),skjermbilde!J$3-AB124-skjermbilde!J$6-4,0)","v":-21},{"$f":"+IF(ISNUMBER(skjermbilde!K$3-AC124-skjermbilde!K$6-4),skjermbilde!K$3-AC124-skjermbilde!K$6-4,0)","v":-28},{"$f":"+IF(ISNUMBER(skjermbilde!L$3-AD124-skjermbilde!L$6-4),skjermbilde!L$3-AD124-skjermbilde!L$6-4,0)","v":-23},{"$f":"+IF(ISNUMBER(skjermbilde!M$3-AE124-skjermbilde!M$6-4),skjermbilde!M$3-AE124-skjermbilde!M$6-4,0)","v":-16},{"$f":"+IF(ISNUMBER(skjermbilde!N$3-AF124-skjermbilde!N$6-4),skjermbilde!N$3-AF124-skjermbilde!N$6-4,0)","v":-12},{"$f":"IF(skjermbilde!$O$10=TRUE,10*LOG10(10^(0.1*(AI124+AI$12))+10^(0.1*(AJ124+AJ$12))+10^(0.1*(AK124+AK$12))+10^(0.1*(AL124+AL$12))+10^(0.1*(AM124+AM$12))+10^(0.1*(AN124+AN$12))+10^(0.1*(AO124+AO$12))+10^(0.1*(AP124+AP$12))),\"\")","v":""},1,{"$f":"+IF(Y124>Y$11,1,0)","v":1},{"$f":"+IF(Z124>Z$11,1,0)","v":1},{"$f":"+IF(AA124>AA$11,1,0)","v":1},{"$f":"+IF(AB124>AB$11,1,0)","v":1},{"$f":"+IF(AC124>AC$11,1,0)","v":1},{"$f":"+IF(AD124>AD$11,1,0)","v":1},{"$f":"+IF(AE124>AE$11,1,0)","v":1},{"$f":"+IF(AF124>AF$11,1,0)","v":1},1,1,{"$f":"+IF(skjermbilde!$N$10=1,1,0)","v":1},{"$f":"+IF(U124=\"r\",1,IF(M124=skjermbilde!$D$3,1,0))","v":1},{"$f":"+IF(U124=\"s\",1,IF(N124=skjermbilde!$C$3,1,IF(OR(N124<datagrunnlag!D124,N124>datagrunnlag!E124),0,0)))","v":0},{"$f":"+IF(U124=\"s\",1,IF(O124=skjermbilde!$C$4,1,0))","v":0},1,0,null,null,null,109,"",null,null,null,null,null,null,null,null,null,null,null,null,null,null,"",109,"",null,null,null,null,null,null,null,null,null,null,null,null,"",109,"",null,null,null,null,"",{"$f":"IF(skjermbilde!$D$2=1,VLOOKUP($CS124,$CB$17:$CD$261,3,FALSE),CONCATENATE(\"2 x \",VLOOKUP($CS124,$CB$17:$CD$261,3,FALSE)))","v":""},null,null,null,null,null,null,null,null,null,6.7000000000000047E-7,1.0000006699999999,1,"LKK-100,0017C",1.0000006699999999,"LKK-100,0017C",0]
[110,{"$f":"CONCATENATE(\"LKK-\",MID(datagrunnlag!H125,1,1),IF(N125/100<10,CONCATENATE(0,N125/100),N125/100),(MID(datagrunnlag!H125,2,2)))","v":"LKK-100,0017D"},{"$f":"datagrunnlag!I125","v":2},{"$f":"datagrunnlag!J125","v":7},{"$f":"datagrunnlag!K125","v":11},{"$f":"datagrunnlag!L125","v":13},{"$f":"datagrunnlag!M125","v":16},{"$f":"datagrunnlag!N125","v":13},{"$f":"datagrunnlag!O125","v":8},{"$f":"datagrunnlag!P125","v":5},{"$f":"+datagrunnlag!A125","v":"LKK"},{"$f":"+datagrunnlag!B125","v":"r"},{"$f":"IF(N125<1,0.01,(INT((N125+300-100)/(450)))*150)","v":0.01},{"$f":"IF(OR(skjermbilde!$C$3<datagrunnlag!D125,skjermbilde!$C$3>datagrunnlag!E125),0.1,100*ROUND(skjermbilde!$C$3/100,0))","v":0.1},{"$f":"+IF(skjermbilde!$C$4<>0,skjermbilde!$C$4,0.00001)","v":1.0000000000000001E-5},{"$f":"++IF(datagrunnlag!F125=\"s\",\"c\",datagrunnlag!F125)","v":"r"},{"$f":"+datagrunnlag!G125","v":640},{"$f":"datagrunnlag!Q125","v":2.2211098929686333E-2},0,201,"r",0,0,{"$f":"IF(skjermbilde!$D$2=1,R125*($B$6*3.6/(M125*(O125/1000)))^2,2*R125*($B$6*3.6/(M125*(O125/1000)))^2)","v":0},{"$f":"IF(C125=\"\",\"\",IF(skjermbilde!$D$2=1,C125,IF(AND(skjermbilde!$D$2=2,2*C125>60),60,IF(skjermbilde!$D$2=2,2*C125))))","v":2},{"$f":"IF(skjermbilde!$D$2=1,D125,IF(AND(skjermbilde!$D$2=2,2*D125>60),60,IF(skjermbilde!$D$2=2,2*D125)))","v":7},{"$f":"IF(skjermbilde!$D$2=1,E125,IF(AND(skjermbilde!$D$2=2,2*E125>60),60,IF(skjermbilde!$D$2=2,2*E125)))","v":11},{"$f":"IF(skjermbilde!$D$2=1,F125,IF(AND(skjermbilde!$D$2=2,2*F125>60),60,IF(skjermbilde!$D$2=2,2*F125)))","v":13},{"$f":"IF(skjermbilde!$D$2=1,G125,IF(AND(skjermbilde!$D$2=2,2*G125>60),60,IF(skjermbilde!$D$2=2,2*G125)))","v":16},{"$f":"IF(skjermbilde!$D$2=1,H125,IF(AND(skjermbilde!$D$2=2,2*H125>60),60,IF(skjermbilde!$D$2=2,2*H125)))","v":13},{"$f":"IF(skjermbilde!$D$2=1,I125,IF(AND(skjermbilde!$D$2=2,2*I125>60),60,IF(skjermbilde!$D$2=2,2*I125)))","v":8},{"$f":"IF(J125=\"\",\"\",IF(skjermbilde!$D$2=1,J125,IF(AND(skjermbilde!$D$2=2,2*J125>60),60,IF(skjermbilde!$D$2=2,2*J125))))","v":5},null,null,{"$f":"+IF(ISNUMBER(skjermbilde!G$3-Y125-skjermbilde!G$6-4),skjermbilde!G$3-Y125-skjermbilde!G$6-4,0)","v":-6},{"$f":"+IF(ISNUMBER(skjermbilde!H$3-Z125-skjermbilde!H$6-4),skjermbilde!H$3-Z125-skjermbilde!H$6-4,0)","v":-11},{"$f":"+IF(ISNUMBER(skjermbilde!I$3-AA125-skjermbilde!I$6-4),skjermbilde!I$3-AA125-skjermbilde!I$6-4,0)","v":-15},{"$f":"+IF(ISNUMBER(skjermbilde!J$3-AB125-skjermbilde!J$6-4),skjermbilde!J$3-AB125-skjermbilde!J$6-4,0)","v":-17},{"$f":"+IF(ISNUMBER(skjermbilde!K$3-AC125-skjermbilde!K$6-4),skjermbilde!K$3-AC125-skjermbilde!K$6-4,0)","v":-20},{"$f":"+IF(ISNUMBER(skjermbilde!L$3-AD125-skjermbilde!L$6-4),skjermbilde!L$3-AD125-skjermbilde!L$6-4,0)","v":-17},{"$f":"+IF(ISNUMBER(skjermbilde!M$3-AE125-skjermbilde!M$6-4),skjermbilde!M$3-AE125-skjermbilde!M$6-4,0)","v":-12},{"$f":"+IF(ISNUMBER(skjermbilde!N$3-AF125-skjermbilde!N$6-4),skjermbilde!N$3-AF125-skjermbilde!N$6-4,0)","v":-9},{"$f":"IF(skjermbilde!$O$10=TRUE,10*LOG10(10^(0.1*(AI125+AI$12))+10^(0.1*(AJ125+AJ$12))+10^(0.1*(AK125+AK$12))+10^(0.1*(AL125+AL$12))+10^(0.1*(AM125+AM$12))+10^(0.1*(AN125+AN$12))+10^(0.1*(AO125+AO$12))+10^(0.1*(AP125+AP$12))),\"\")","v":""},1,1,1,1,1,1,1,1,1,1,1,{"$f":"+IF(skjermbilde!$N$10=1,1,0)","v":1},{"$f":"+IF(U125=\"r\",1,IF(M125=skjermbilde!$D$3,1,0))","v":1},{"$f":"+IF(U125=\"s\",1,IF(N125=skjermbilde!$C$3,1,IF(OR(N125<datagrunnlag!D125,N125>datagrunnlag!E125),0,0)))","v":0},{"$f":"+IF(U125=\"s\",1,IF(O125=skjermbilde!$C$4,1,0))","v":0},1,0,null,null,null,110,"",null,null,null,null,null,null,null,null,null,null,null,null,null,null,"",110,"",null,null,null,null,null,null,null,null,null,null,null,null,"",110,"",null,null,null,null,"",{"$f":"IF(skjermbilde!$D$2=1,VLOOKUP($CS125,$CB$17:$CD$261,3,FALSE),CONCATENATE(\"2 x \",VLOOKUP($CS125,$CB$17:$CD$261,3,FALSE)))","v":""},null,null,null,null,null,null,null,null,null,6.8000000000000048E-7,1.0000006800000001,1,"LKK-100,0017D",1.0000006800000001,"LKK-100,0017D",0]
[111,{"$f":"CONCATENATE(\"LKK-\",MID(datagrunnlag!H126,1,1),IF(N126/100<10,CONCATENATE(0,N126/100),N126/100),(MID(datagrunnlag!H126,2,2)))","v":"LKK-100,0017E"},{"$f":"datagrunnlag!I126","v":2},{"$f":"datagrunnlag!J126","v":7},{"$f":"datagrunnlag!K126","v":8},{"$f":"datagrunnlag!L126","v":11},{"$f":"datagrunnlag!M126","v":14},{"$f":"datagrunnlag!N126","v":12},{"$f":"datagrunnlag!O126","v":8},{"$f":"datagrunnlag!P126","v":7},{"$f":"+datagrunnlag!A126","v":"LKK"},{"$f":"+datagrunnlag!B126","v":"r"},{"$f":"IF(N126<1,0.01,(INT((N126+300-100)/(500)))*200)","v":0.01},{"$f":"IF(OR(skjermbilde!$C$3<datagrunnlag!D126,skjermbilde!$C$3>datagrunnlag!E126),0.1,100*ROUND(skjermbilde!$C$3/100,0))","v":0.1},{"$f":"+IF(skjermbilde!$C$4<>0,skjermbilde!$C$4,0.00001)","v":1.0000000000000001E-5},{"$f":"++IF(datagrunnlag!F126=\"s\",\"c\",datagrunnlag!F126)","v":"r"},{"$f":"+datagrunnlag!G126","v":640},{"$f":"datagrunnlag!Q126","v":2.8740842346461477E-2},0,201,"r",0,0,{"$f":"IF(skjermbilde!$D$2=1,R126*($B$6*3.6/(M126*(O126/1000)))^2,2*R126*($B$6*3.6/(M126*(O126/1000)))^2)","v":0},{"$f":"IF(C126=\"\",\"\",IF(skjermbilde!$D$2=1,C126,IF(AND(skjermbilde!$D$2=2,2*C126>60),60,IF(skjermbilde!$D$2=2,2*C126))))","v":2},{"$f":"IF(skjermbilde!$D$2=1,D126,IF(AND(skjermbilde!$D$2=2,2*D126>60),60,IF(skjermbilde!$D$2=2,2*D126)))","v":7},{"$f":"IF(skjermbilde!$D$2=1,E126,IF(AND(skjermbilde!$D$2=2,2*E126>60),60,IF(skjermbilde!$D$2=2,2*E126)))","v":8},{"$f":"IF(skjermbilde!$D$2=1,F126,IF(AND(skjermbilde!$D$2=2,2*F126>60),60,IF(skjermbilde!$D$2=2,2*F126)))","v":11},{"$f":"IF(skjermbilde!$D$2=1,G126,IF(AND(skjermbilde!$D$2=2,2*G126>60),60,IF(skjermbilde!$D$2=2,2*G126)))","v":14},{"$f":"IF(skjermbilde!$D$2=1,H126,IF(AND(skjermbilde!$D$2=2,2*H126>60),60,IF(skjermbilde!$D$2=2,2*H126)))","v":12},{"$f":"IF(skjermbilde!$D$2=1,I126,IF(AND(skjermbilde!$D$2=2,2*I126>60),60,IF(skjermbilde!$D$2=2,2*I126)))","v":8},{"$f":"IF(J126=\"\",\"\",IF(skjermbilde!$D$2=1,J126,IF(AND(skjermbilde!$D$2=2,2*J126>60),60,IF(skjermbilde!$D$2=2,2*J126))))","v":7},null,null,{"$f":"+IF(ISNUMBER(skjermbilde!G$3-Y126-skjermbilde!G$6-4),skjermbilde!G$3-Y126-skjermbilde!G$6-4,0)","v":-6},{"$f":"+IF(ISNUMBER(skjermbilde!H$3-Z126-skjermbilde!H$6-4),skjermbilde!H$3-Z126-skjermbilde!H$6-4,0)","v":-11},{"$f":"+IF(ISNUMBER(skjermbilde!I$3-AA126-skjermbilde!I$6-4),skjermbilde!I$3-AA126-skjermbilde!I$6-4,0)","v":-12},{"$f":"+IF(ISNUMBER(skjermbilde!J$3-AB126-skjermbilde!J$6-4),skjermbilde!J$3-AB126-skjermbilde!J$6-4,0)","v":-15},{"$f":"+IF(ISNUMBER(skjermbilde!K$3-AC126-skjermbilde!K$6-4),skjermbilde!K$3-AC126-skjermbilde!K$6-4,0)","v":-18},{"$f":"+IF(ISNUMBER(skjermbilde!L$3-AD126-skjermbilde!L$6-4),skjermbilde!L$3-AD126-skjermbilde!L$6-4,0)","v":-16},{"$f":"+IF(ISNUMBER(skjermbilde!M$3-AE126-skjermbilde!M$6-4),skjermbilde!M$3-AE126-skjermbilde!M$6-4,0)","v":-12},{"$f":"+IF(ISNUMBER(skjermbilde!N$3-AF126-skjermbilde!N$6-4),skjermbilde!N$3-AF126-skjermbilde!N$6-4,0)","v":-11},{"$f":"IF(skjermbilde!$O$10=TRUE,10*LOG10(10^(0.1*(AI126+AI$12))+10^(0.1*(AJ126+AJ$12))+10^(0.1*(AK126+AK$12))+10^(0.1*(AL126+AL$12))+10^(0.1*(AM126+AM$12))+10^(0.1*(AN126+AN$12))+10^(0.1*(AO126+AO$12))+10^(0.1*(AP126+AP$12))),\"\")","v":""},1,1,1,1,1,1,1,1,1,1,1,{"$f":"+IF(skjermbilde!$N$10=1,1,0)","v":1},{"$f":"+IF(U126=\"r\",1,IF(M126=skjermbilde!$D$3,1,0))","v":1},{"$f":"+IF(U126=\"s\",1,IF(N126=skjermbilde!$C$3,1,IF(OR(N126<datagrunnlag!D126,N126>datagrunnlag!E126),0,0)))","v":0},{"$f":"+IF(U126=\"s\",1,IF(O126=skjermbilde!$C$4,1,0))","v":0},1,0,null,null,null,111,"",null,null,null,null,null,null,null,null,null,null,null,null,null,null,"",111,"",null,null,null,null,null,null,null,null,null,null,null,null,"",111,"",null,null,null,null,"",{"$f":"IF(skjermbilde!$D$2=1,VLOOKUP($CS126,$CB$17:$CD$261,3,FALSE),CONCATENATE(\"2 x \",VLOOKUP($CS126,$CB$17:$CD$261,3,FALSE)))","v":""},null,null,null,null,null,null,null,null,null,6.9000000000000049E-7,1.00000069,1,"LKK-100,0017E",1.00000069,"LKK-100,0017E",0]
[112,{"$f":"CONCATENATE(\"LKK-\",MID(datagrunnlag!H127,1,1),IF(N127/100<10,CONCATENATE(0,N127/100),N127/100),(MID(datagrunnlag!H127,2,2)))","v":"LKK-100,0019D"},{"$f":"datagrunnlag!I127","v":6},{"$f":"datagrunnlag!J127","v":17},{"$f":"datagrunnlag!K127","v":18},{"$f":"datagrunnlag!L127","v":16},{"$f":"datagrunnlag!M127","v":20},{"$f":"datagrunnlag!N127","v":25},{"$f":"datagrunnlag!O127","v":16},{"$f":"datagrunnlag!P127","v":12},{"$f":"+datagrunnlag!A127","v":"LKK"},{"$f":"+datagrunnlag!B127","v":"r"},{"$f":"IF(N127<1,0.01,(INT((N127+400-100)/(550)))*150)","v":0.01},{"$f":"IF(OR(skjermbilde!$C$3<datagrunnlag!D127,skjermbilde!$C$3>datagrunnlag!E127),0.1,100*ROUND(skjermbilde!$C$3/100,0))","v":0.1},{"$f":"+IF(skjermbilde!$C$4<>0,skjermbilde!$C$4,0.00001)","v":1.0000000000000001E-5},{"$f":"++IF(datagrunnlag!F127=\"s\",\"c\",datagrunnlag!F127)","v":"r"},{"$f":"+datagrunnlag!G127","v":640},{"$f":"datagrunnlag!Q127","v":2.5022181122448979E-2},0,201,"r",0,0,{"$f":"IF(skjermbilde!$D$2=1,R127*($B$6*3.6/(M127*(O127/1000)))^2,2*R127*($B$6*3.6/(M127*(O127/1000)))^2)","v":0},{"$f":"IF(C127=\"\",\"\",IF(skjermbilde!$D$2=1,C127,IF(AND(skjermbilde!$D$2=2,2*C127>60),60,IF(skjermbilde!$D$2=2,2*C127))))","v":6},{"$f":"IF(skjermbilde!$D$2=1,D127,IF(AND(skjermbilde!$D$2=2,2*D127>60),60,IF(skjermbilde!$D$2=2,2*D127)))","v":17},{"$f":"IF(skjermbilde!$D$2=1,E127,IF(AND(skjermbilde!$D$2=2,2*E127>60),60,IF(skjermbilde!$D$2=2,2*E127)))","v":18},{"$f":"IF(skjermbilde!$D$2=1,F127,IF(AND(skjermbilde!$D$2=2,2*F127>60),60,IF(skjermbilde!$D$2=2,2*F127)))","v":16},{"$f":"IF(skjermbilde!$D$2=1,G127,IF(AND(skjermbilde!$D$2=2,2*G127>60),60,IF(skjermbilde!$D$2=2,2*G127)))","v":20},{"$f":"IF(skjermbilde!$D$2=1,H127,IF(AND(skjermbilde!$D$2=2,2*H127>60),60,IF(skjermbilde!$D$2=2,2*H127)))","v":25},{"$f":"IF(skjermbilde!$D$2=1,I127,IF(AND(skjermbilde!$D$2=2,2*I127>60),60,IF(skjermbilde!$D$2=2,2*I127)))","v":16},{"$f":"IF(J127=\"\",\"\",IF(skjermbilde!$D$2=1,J127,IF(AND(skjermbilde!$D$2=2,2*J127>60),60,IF(skjermbilde!$D$2=2,2*J127))))","v":12},null,null,{"$f":"+IF(ISNUMBER(skjermbilde!G$3-Y127-skjermbilde!G$6-4),skjermbilde!G$3-Y127-skjermbilde!G$6-4,0)","v":-10},{"$f":"+IF(ISNUMBER(skjermbilde!H$3-Z127-skjermbilde!H$6-4),skjermbilde!H$3-Z127-skjermbilde!H$6-4,0)","v":-21},{"$f":"+IF(ISNUMBER(skjermbilde!I$3-AA127-skjermbilde!I$6-4),skjermbilde!I$3-AA127-skjermbilde!I$6-4,0)","v":-22},{"$f":"+IF(ISNUMBER(skjermbilde!J$3-AB127-skjermbilde!J$6-4),skjermbilde!J$3-AB127-skjermbilde!J$6-4,0)","v":-20},{"$f":"+IF(ISNUMBER(skjermbilde!K$3-AC127-skjermbilde!K$6-4),skjermbilde!K$3-AC127-skjermbilde!K$6-4,0)","v":-24},{"$f":"+IF(ISNUMBER(skjermbilde!L$3-AD127-skjermbilde!L$6-4),skjermbilde!L$3-AD127-skjermbilde!L$6-4,0)","v":-29},{"$f":"+IF(ISNUMBER(skjermbilde!M$3-AE127-skjermbilde!M$6-4),skjermbilde!M$3-AE127-skjermbilde!M$6-4,0)","v":-20},{"$f":"+IF(ISNUMBER(skjermbilde!N$3-AF127-skjermbilde!N$6-4),skjermbilde!N$3-AF127-skjermbilde!N$6-4,0)","v":-16},{"$f":"IF(skjermbilde!$O$10=TRUE,10*LOG10(10^(0.1*(AI127+AI$12))+10^(0.1*(AJ127+AJ$12))+10^(0.1*(AK127+AK$12))+10^(0.1*(AL127+AL$12))+10^(0.1*(AM127+AM$12))+10^(0.1*(AN127+AN$12))+10^(0.1*(AO127+AO$12))+10^(0.1*(AP127+AP$12))),\"\")","v":""},1,1,1,1,1,1,1,1,1,1,1,{"$f":"+IF(skjermbilde!$N$10=1,1,0)","v":1},{"$f":"+IF(U127=\"r\",1,IF(M127=skjermbilde!$D$3,1,0))","v":1},{"$f":"+IF(U127=\"s\",1,IF(N127=skjermbilde!$C$3,1,IF(OR(N127<datagrunnlag!D127,N127>datagrunnlag!E127),0,0)))","v":0},{"$f":"+IF(U127=\"s\",1,IF(O127=skjermbilde!$C$4,1,0))","v":0},1,0,null,null,null,112,"",null,null,null,null,null,null,null,null,null,null,null,null,null,null,"",112,"",null,null,null,null,null,null,null,null,null,null,null,null,"",112,"",null,null,null,null,"",{"$f":"IF(skjermbilde!$D$2=1,VLOOKUP($CS127,$CB$17:$CD$261,3,FALSE),CONCATENATE(\"2 x \",VLOOKUP($CS127,$CB$17:$CD$261,3,FALSE)))","v":""},null,null,null,null,null,null,null,null,null,7.000000000000005E-7,1.0000007,1,"LKK-100,0019D",1.0000007,"LKK-100,0019D",0]
[113,{"$f":"CONCATENATE(\"LKK-\",MID(datagrunnlag!H128,1,1),IF(N128/100<10,CONCATENATE(0,N128/100),N128/100),(MID(datagrunnlag!H128,2,2)))","v":"LKK-100,0019E"},{"$f":"datagrunnlag!I128","v":6},{"$f":"datagrunnlag!J128","v":11},{"$f":"datagrunnlag!K128","v":9},{"$f":"datagrunnlag!L128","v":10},{"$f":"datagrunnlag!M128","v":17},{"$f":"datagrunnlag!N128","v":24},{"$f":"datagrunnlag!O128","v":18},{"$f":"datagrunnlag!P128","v":13},{"$f":"+datagrunnlag!A128","v":"LKK"},{"$f":"+datagrunnlag!B128","v":"r"},{"$f":"IF(N128<1,0.01,(INT((N128+400-100)/(600)))*200)","v":0.01},{"$f":"IF(OR(skjermbilde!$C$3<datagrunnlag!D128,skjermbilde!$C$3>datagrunnlag!E128),0.1,100*ROUND(skjermbilde!$C$3/100,0))","v":0.1},{"$f":"+IF(skjermbilde!$C$4<>0,skjermbilde!$C$4,0.00001)","v":1.0000000000000001E-5},{"$f":"++IF(datagrunnlag!F128=\"s\",\"c\",datagrunnlag!F128)","v":"r"},{"$f":"+datagrunnlag!G128","v":640},{"$f":"datagrunnlag!Q128","v":2.2349387755102042E-2},0,201,"r",0,0,{"$f":"IF(skjermbilde!$D$2=1,R128*($B$6*3.6/(M128*(O128/1000)))^2,2*R128*($B$6*3.6/(M128*(O128/1000)))^2)","v":0},{"$f":"IF(C128=\"\",\"\",IF(skjermbilde!$D$2=1,C128,IF(AND(skjermbilde!$D$2=2,2*C128>60),60,IF(skjermbilde!$D$2=2,2*C128))))","v":6},{"$f":"IF(skjermbilde!$D$2=1,D128,IF(AND(skjermbilde!$D$2=2,2*D128>60),60,IF(skjermbilde!$D$2=2,2*D128)))","v":11},{"$f":"IF(skjermbilde!$D$2=1,E128,IF(AND(skjermbilde!$D$2=2,2*E128>60),60,IF(skjermbilde!$D$2=2,2*E128)))","v":9},{"$f":"IF(skjermbilde!$D$2=1,F128,IF(AND(skjermbilde!$D$2=2,2*F128>60),60,IF(skjermbilde!$D$2=2,2*F128)))","v":10},{"$f":"IF(skjermbilde!$D$2=1,G128,IF(AND(skjermbilde!$D$2=2,2*G128>60),60,IF(skjermbilde!$D$2=2,2*G128)))","v":17},{"$f":"IF(skjermbilde!$D$2=1,H128,IF(AND(skjermbilde!$D$2=2,2*H128>60),60,IF(skjermbilde!$D$2=2,2*H128)))","v":24},{"$f":"IF(skjermbilde!$D$2=1,I128,IF(AND(skjermbilde!$D$2=2,2*I128>60),60,IF(skjermbilde!$D$2=2,2*I128)))","v":18},{"$f":"IF(J128=\"\",\"\",IF(skjermbilde!$D$2=1,J128,IF(AND(skjermbilde!$D$2=2,2*J128>60),60,IF(skjermbilde!$D$2=2,2*J128))))","v":13},null,null,{"$f":"+IF(ISNUMBER(skjermbilde!G$3-Y128-skjermbilde!G$6-4),skjermbilde!G$3-Y128-skjermbilde!G$6-4,0)","v":-10},{"$f":"+IF(ISNUMBER(skjermbilde!H$3-Z128-skjermbilde!H$6-4),skjermbilde!H$3-Z128-skjermbilde!H$6-4,0)","v":-15},{"$f":"+IF(ISNUMBER(skjermbilde!I$3-AA128-skjermbilde!I$6-4),skjermbilde!I$3-AA128-skjermbilde!I$6-4,0)","v":-13},{"$f":"+IF(ISNUMBER(skjermbilde!J$3-AB128-skjermbilde!J$6-4),skjermbilde!J$3-AB128-skjermbilde!J$6-4,0)","v":-14},{"$f":"+IF(ISNUMBER(skjermbilde!K$3-AC128-skjermbilde!K$6-4),skjermbilde!K$3-AC128-skjermbilde!K$6-4,0)","v":-21},{"$f":"+IF(ISNUMBER(skjermbilde!L$3-AD128-skjermbilde!L$6-4),skjermbilde!L$3-AD128-skjermbilde!L$6-4,0)","v":-28},{"$f":"+IF(ISNUMBER(skjermbilde!M$3-AE128-skjermbilde!M$6-4),skjermbilde!M$3-AE128-skjermbilde!M$6-4,0)","v":-22},{"$f":"+IF(ISNUMBER(skjermbilde!N$3-AF128-skjermbilde!N$6-4),skjermbilde!N$3-AF128-skjermbilde!N$6-4,0)","v":-17},{"$f":"IF(skjermbilde!$O$10=TRUE,10*LOG10(10^(0.1*(AI128+AI$12))+10^(0.1*(AJ128+AJ$12))+10^(0.1*(AK128+AK$12))+10^(0.1*(AL128+AL$12))+10^(0.1*(AM128+AM$12))+10^(0.1*(AN128+AN$12))+10^(0.1*(AO128+AO$12))+10^(0.1*(AP128+AP$12))),\"\")","v":""},1,1,1,1,1,1,1,1,1,{"$f":"+IF(U128=L128,1,0)","v":1},1,{"$f":"+IF(skjermbilde!$N$10=1,1,0)","v":1},{"$f":"+IF(U128=\"r\",1,IF(M128=skjermbilde!$D$3,1,0))","v":1},{"$f":"+IF(U128=\"s\",1,IF(N128=skjermbilde!$C$3,1,IF(OR(N128<datagrunnlag!D128,N128>datagrunnlag!E128),0,0)))","v":0},{"$f":"+IF(U128=\"s\",1,IF(O128=skjermbilde!$C$4,1,0))","v":0},1,0,null,null,null,113,{"$f":"+IF($BH128=1,$B128,\"\")","v":""},null,null,null,null,null,null,null,null,null,null,null,null,null,null,{"$f":"+IF($BH128=1,$X128+DI128,\"\")","v":""},113,{"$f":"+IF($BH128=1,$B128,\"\")","v":""},null,null,null,null,null,null,null,null,null,null,null,null,"",113,"",null,null,null,null,"",{"$f":"IF(skjermbilde!$D$2=1,VLOOKUP($CS128,$CB$17:$CD$261,3,FALSE),CONCATENATE(\"2 x \",VLOOKUP($CS128,$CB$17:$CD$261,3,FALSE)))","v":""},null,null,null,null,null,null,null,null,null,7.1000000000000051E-7,1.0000007099999999,{"$f":"SEARCH($DL$14,B128,1)","v":1},{"$f":"IF(ISNUMBER(DK128),B128,\"\")","v":"LKK-100,0019E"},1.0000007099999999,"LKK-100,0019E",0]
[114,{"$f":"CONCATENATE(\"LKK-\",MID(datagrunnlag!H129,1,1),IF(N129/100<10,CONCATENATE(0,N129/100),N129/100),(MID(datagrunnlag!H129,2,2)))","v":"LKK-100,0019F"},{"$f":"datagrunnlag!I129","v":4},{"$f":"datagrunnlag!J129","v":10},{"$f":"datagrunnlag!K129","v":7},{"$f":"datagrunnlag!L129","v":8},{"$f":"datagrunnlag!M129","v":14},{"$f":"datagrunnlag!N129","v":21},{"$f":"datagrunnlag!O129","v":18},{"$f":"datagrunnlag!P129","v":9},{"$f":"+datagrunnlag!A129","v":"LKK"},{"$f":"+datagrunnlag!B129","v":"r"},{"$f":"IF(N129<1,0.01,(INT((N129+400-100)/(650)))*250)","v":0.01},{"$f":"IF(OR(skjermbilde!$C$3<datagrunnlag!D129,skjermbilde!$C$3>datagrunnlag!E129),0.1,100*ROUND(skjermbilde!$C$3/100,0))","v":0.1},{"$f":"+IF(skjermbilde!$C$4<>0,skjermbilde!$C$4,0.00001)","v":1.0000000000000001E-5},{"$f":"++IF(datagrunnlag!F129=\"s\",\"c\",datagrunnlag!F129)","v":"r"},{"$f":"+datagrunnlag!G129","v":640},{"$f":"datagrunnlag!Q129","v":2.5724081632653065E-2},0,201,"r",0,0,{"$f":"IF(skjermbilde!$D$2=1,R129*($B$6*3.6/(M129*(O129/1000)))^2,2*R129*($B$6*3.6/(M129*(O129/1000)))^2)","v":0},{"$f":"IF(C129=\"\",\"\",IF(skjermbilde!$D$2=1,C129,IF(AND(skjermbilde!$D$2=2,2*C129>60),60,IF(skjermbilde!$D$2=2,2*C129))))","v":4},{"$f":"IF(skjermbilde!$D$2=1,D129,IF(AND(skjermbilde!$D$2=2,2*D129>60),60,IF(skjermbilde!$D$2=2,2*D129)))","v":10},{"$f":"IF(skjermbilde!$D$2=1,E129,IF(AND(skjermbilde!$D$2=2,2*E129>60),60,IF(skjermbilde!$D$2=2,2*E129)))","v":7},{"$f":"IF(skjermbilde!$D$2=1,F129,IF(AND(skjermbilde!$D$2=2,2*F129>60),60,IF(skjermbilde!$D$2=2,2*F129)))","v":8},{"$f":"IF(skjermbilde!$D$2=1,G129,IF(AND(skjermbilde!$D$2=2,2*G129>60),60,IF(skjermbilde!$D$2=2,2*G129)))","v":14},{"$f":"IF(skjermbilde!$D$2=1,H129,IF(AND(skjermbilde!$D$2=2,2*H129>60),60,IF(skjermbilde!$D$2=2,2*H129)))","v":21},{"$f":"IF(skjermbilde!$D$2=1,I129,IF(AND(skjermbilde!$D$2=2,2*I129>60),60,IF(skjermbilde!$D$2=2,2*I129)))","v":18},{"$f":"IF(J129=\"\",\"\",IF(skjermbilde!$D$2=1,J129,IF(AND(skjermbilde!$D$2=2,2*J129>60),60,IF(skjermbilde!$D$2=2,2*J129))))","v":9},null,null,{"$f":"+IF(ISNUMBER(skjermbilde!G$3-Y129-skjermbilde!G$6-4),skjermbilde!G$3-Y129-skjermbilde!G$6-4,0)","v":-8},{"$f":"+IF(ISNUMBER(skjermbilde!H$3-Z129-skjermbilde!H$6-4),skjermbilde!H$3-Z129-skjermbilde!H$6-4,0)","v":-14},{"$f":"+IF(ISNUMBER(skjermbilde!I$3-AA129-skjermbilde!I$6-4),skjermbilde!I$3-AA129-skjermbilde!I$6-4,0)","v":-11},{"$f":"+IF(ISNUMBER(skjermbilde!J$3-AB129-skjermbilde!J$6-4),skjermbilde!J$3-AB129-skjermbilde!J$6-4,0)","v":-12},{"$f":"+IF(ISNUMBER(skjermbilde!K$3-AC129-skjermbilde!K$6-4),skjermbilde!K$3-AC129-skjermbilde!K$6-4,0)","v":-18},{"$f":"+IF(ISNUMBER(skjermbilde!L$3-AD129-skjermbilde!L$6-4),skjermbilde!L$3-AD129-skjermbilde!L$6-4,0)","v":-25},{"$f":"+IF(ISNUMBER(skjermbilde!M$3-AE129-skjermbilde!M$6-4),skjermbilde!M$3-AE129-skjermbilde!M$6-4,0)","v":-22},{"$f":"+IF(ISNUMBER(skjermbilde!N$3-AF129-skjermbilde!N$6-4),skjermbilde!N$3-AF129-skjermbilde!N$6-4,0)","v":-13},{"$f":"IF(skjermbilde!$O$10=TRUE,10*LOG10(10^(0.1*(AI129+AI$12))+10^(0.1*(AJ129+AJ$12))+10^(0.1*(AK129+AK$12))+10^(0.1*(AL129+AL$12))+10^(0.1*(AM129+AM$12))+10^(0.1*(AN129+AN$12))+10^(0.1*(AO129+AO$12))+10^(0.1*(AP129+AP$12))),\"\")","v":""},1,1,1,1,1,1,1,1,1,1,1,{"$f":"+IF(skjermbilde!$N$10=1,1,0)","v":1},{"$f":"+IF(U129=\"r\",1,IF(M129=skjermbilde!$D$3,1,0))","v":1},{"$f":"+IF(U129=\"s\",1,IF(N129=skjermbilde!$C$3,1,IF(OR(N129<datagrunnlag!D129,N129>datagrunnlag!E129),0,0)))","v":0},{"$f":"+IF(U129=\"s\",1,IF(O129=skjermbilde!$C$4,1,0))","v":0},1,0,null,null,null,{"$f":"+A129","v":114},"",null,null,null,null,null,null,null,null,null,null,null,null,null,null,"",{"$f":"+BL129","v":114},"",null,null,null,null,null,null,null,null,null,null,null,null,{"$f":"+IF($BH129=1,$AQ129,\"\")","v":""},114,"",null,null,null,null,"",{"$f":"IF(skjermbilde!$D$2=1,VLOOKUP($CS129,$CB$17:$CD$261,3,FALSE),CONCATENATE(\"2 x \",VLOOKUP($CS129,$CB$17:$CD$261,3,FALSE)))","v":""},null,null,null,null,null,null,null,null,null,7.2000000000000052E-7,{"$f":"IF(ISNUMBER(DK129),DK129+DI129,\"\")","v":1.0000007200000001},1,"LKK-100,0019F",1.0000007200000001,"LKK-100,0019F",0]
[115,{"$f":"CONCATENATE(\"LKK-\",MID(datagrunnlag!H130,1,1),IF(N130/100<10,CONCATENATE(0,N130/100),N130/100),(MID(datagrunnlag!H130,2,2)))","v":"LKK-200,0015A"},{"$f":"datagrunnlag!I130","v":2},{"$f":"datagrunnlag!J130","v":14},{"$f":"datagrunnlag!K130","v":38},{"$f":"datagrunnlag!L130","v":37},{"$f":"datagrunnlag!M130","v":50},{"$f":"datagrunnlag!N130","v":49},{"$f":"datagrunnlag!O130","v":36},{"$f":"datagrunnlag!P130","v":26},{"$f":"+datagrunnlag!A130","v":"LKK"},{"$f":"+datagrunnlag!B130","v":"r"},{"$f":"IF(N130<1,0.01,(INT((N130+200-100)/(250)))*50)","v":0.01},{"$f":"IF(OR(skjermbilde!$C$3<datagrunnlag!D130,skjermbilde!$C$3>datagrunnlag!E130),0.1,100*ROUND(skjermbilde!$C$3/100,0))","v":0.1},{"$f":"+IF(skjermbilde!$C$4<>0,skjermbilde!$C$4,0.00001)","v":1.0000000000000001E-5},{"$f":"++IF(datagrunnlag!F130=\"s\",\"c\",datagrunnlag!F130)","v":"r"},{"$f":"+datagrunnlag!G130","v":1240},{"$f":"datagrunnlag!Q130","v":3.3208956492760115E-2},0,201,"r",0,0,{"$f":"IF(skjermbilde!$D$2=1,R130*($B$6*3.6/(M130*(O130/1000)))^2,2*R130*($B$6*3.6/(M130*(O130/1000)))^2)","v":0},{"$f":"IF(C130=\"\",\"\",IF(skjermbilde!$D$2=1,C130,IF(AND(skjermbilde!$D$2=2,2*C130>60),60,IF(skjermbilde!$D$2=2,2*C130))))","v":2},{"$f":"IF(skjermbilde!$D$2=1,D130,IF(AND(skjermbilde!$D$2=2,2*D130>60),60,IF(skjermbilde!$D$2=2,2*D130)))","v":14},{"$f":"IF(skjermbilde!$D$2=1,E130,IF(AND(skjermbilde!$D$2=2,2*E130>60),60,IF(skjermbilde!$D$2=2,2*E130)))","v":38},{"$f":"IF(skjermbilde!$D$2=1,F130,IF(AND(skjermbilde!$D$2=2,2*F130>60),60,IF(skjermbilde!$D$2=2,2*F130)))","v":37},{"$f":"IF(skjermbilde!$D$2=1,G130,IF(AND(skjermbilde!$D$2=2,2*G130>60),60,IF(skjermbilde!$D$2=2,2*G130)))","v":50},{"$f":"IF(skjermbilde!$D$2=1,H130,IF(AND(skjermbilde!$D$2=2,2*H130>60),60,IF(skjermbilde!$D$2=2,2*H130)))","v":49},{"$f":"IF(skjermbilde!$D$2=1,I130,IF(AND(skjermbilde!$D$2=2,2*I130>60),60,IF(skjermbilde!$D$2=2,2*I130)))","v":36},{"$f":"IF(J130=\"\",\"\",IF(skjermbilde!$D$2=1,J130,IF(AND(skjermbilde!$D$2=2,2*J130>60),60,IF(skjermbilde!$D$2=2,2*J130))))","v":26},null,null,{"$f":"+IF(ISNUMBER(skjermbilde!G$3-Y130-skjermbilde!G$6-4),skjermbilde!G$3-Y130-skjermbilde!G$6-4,0)","v":-6},{"$f":"+IF(ISNUMBER(skjermbilde!H$3-Z130-skjermbilde!H$6-4),skjermbilde!H$3-Z130-skjermbilde!H$6-4,0)","v":-18},{"$f":"+IF(ISNUMBER(skjermbilde!I$3-AA130-skjermbilde!I$6-4),skjermbilde!I$3-AA130-skjermbilde!I$6-4,0)","v":-42},{"$f":"+IF(ISNUMBER(skjermbilde!J$3-AB130-skjermbilde!J$6-4),skjermbilde!J$3-AB130-skjermbilde!J$6-4,0)","v":-41},{"$f":"+IF(ISNUMBER(skjermbilde!K$3-AC130-skjermbilde!K$6-4),skjermbilde!K$3-AC130-skjermbilde!K$6-4,0)","v":-54},{"$f":"+IF(ISNUMBER(skjermbilde!L$3-AD130-skjermbilde!L$6-4),skjermbilde!L$3-AD130-skjermbilde!L$6-4,0)","v":-53},{"$f":"+IF(ISNUMBER(skjermbilde!M$3-AE130-skjermbilde!M$6-4),skjermbilde!M$3-AE130-skjermbilde!M$6-4,0)","v":-40},{"$f":"+IF(ISNUMBER(skjermbilde!N$3-AF130-skjermbilde!N$6-4),skjermbilde!N$3-AF130-skjermbilde!N$6-4,0)","v":-30},{"$f":"IF(skjermbilde!$O$10=TRUE,10*LOG10(10^(0.1*(AI130+AI$12))+10^(0.1*(AJ130+AJ$12))+10^(0.1*(AK130+AK$12))+10^(0.1*(AL130+AL$12))+10^(0.1*(AM130+AM$12))+10^(0.1*(AN130+AN$12))+10^(0.1*(AO130+AO$12))+10^(0.1*(AP130+AP$12))),\"\")","v":""},1,1,1,1,1,1,1,1,1,1,1,{"$f":"+IF(skjermbilde!$N$10=1,1,0)","v":1},{"$f":"+IF(U130=\"r\",1,IF(M130=skjermbilde!$D$3,1,0))","v":1},{"$f":"+IF(U130=\"s\",1,IF(N130=skjermbilde!$C$3,1,IF(OR(N130<datagrunnlag!D130,N130>datagrunnlag!E130),0,0)))","v":0},{"$f":"+IF(U130=\"s\",1,IF(O130=skjermbilde!$C$4,1,0))","v":0},1,0,null,null,null,115,"",null,null,null,null,null,null,null,null,null,null,null,null,null,null,"",115,"",null,null,null,null,null,null,null,null,null,null,null,null,"",115,"",null,null,null,null,"",{"$f":"IF(skjermbilde!$D$2=1,VLOOKUP($CS130,$CB$17:$CD$261,3,FALSE),CONCATENATE(\"2 x \",VLOOKUP($CS130,$CB$17:$CD$261,3,FALSE)))","v":""},null,null,null,null,null,null,null,null,null,7.3000000000000053E-7,1.00000073,1,"LKK-200,0015A",1.00000073,"LKK-200,0015A",0]
[116,{"$f":"CONCATENATE(\"LKK-\",MID(datagrunnlag!H131,1,1),IF(N131/100<10,CONCATENATE(0,N131/100),N131/100),(MID(datagrunnlag!H131,2,2)))","v":"LKK-200,0015B"},{"$f":"datagrunnlag!I131","v":2},{"$f":"datagrunnlag!J131","v":13},{"$f":"datagrunnlag!K131","v":30},{"$f":"datagrunnlag!L131","v":32},{"$f":"datagrunnlag!M131","v":42},{"$f":"datagrunnlag!N131","v":44},{"$f":"datagrunnlag!O131","v":29},{"$f":"datagrunnlag!P131","v":20},{"$f":"+datagrunnlag!A131","v":"LKK"},{"$f":"+datagrunnlag!B131","v":"r"},{"$f":"IF(N131<1,0.01,(INT((N131+200-50)/(275)))*75)","v":0.01},{"$f":"IF(OR(skjermbilde!$C$3<datagrunnlag!D131,skjermbilde!$C$3>datagrunnlag!E131),0.1,100*ROUND(skjermbilde!$C$3/100,0))","v":0.1},{"$f":"+IF(skjermbilde!$C$4<>0,skjermbilde!$C$4,0.00001)","v":1.0000000000000001E-5},{"$f":"++IF(datagrunnlag!F131=\"s\",\"c\",datagrunnlag!F131)","v":"r"},{"$f":"+datagrunnlag!G131","v":1240},{"$f":"datagrunnlag!Q131","v":3.3883478564790154E-2},0,201,"r",0,0,{"$f":"IF(skjermbilde!$D$2=1,R131*($B$6*3.6/(M131*(O131/1000)))^2,2*R131*($B$6*3.6/(M131*(O131/1000)))^2)","v":0},{"$f":"IF(C131=\"\",\"\",IF(skjermbilde!$D$2=1,C131,IF(AND(skjermbilde!$D$2=2,2*C131>60),60,IF(skjermbilde!$D$2=2,2*C131))))","v":2},{"$f":"IF(skjermbilde!$D$2=1,D131,IF(AND(skjermbilde!$D$2=2,2*D131>60),60,IF(skjermbilde!$D$2=2,2*D131)))","v":13},{"$f":"IF(skjermbilde!$D$2=1,E131,IF(AND(skjermbilde!$D$2=2,2*E131>60),60,IF(skjermbilde!$D$2=2,2*E131)))","v":30},{"$f":"IF(skjermbilde!$D$2=1,F131,IF(AND(skjermbilde!$D$2=2,2*F131>60),60,IF(skjermbilde!$D$2=2,2*F131)))","v":32},{"$f":"IF(skjermbilde!$D$2=1,G131,IF(AND(skjermbilde!$D$2=2,2*G131>60),60,IF(skjermbilde!$D$2=2,2*G131)))","v":42},{"$f":"IF(skjermbilde!$D$2=1,H131,IF(AND(skjermbilde!$D$2=2,2*H131>60),60,IF(skjermbilde!$D$2=2,2*H131)))","v":44},{"$f":"IF(skjermbilde!$D$2=1,I131,IF(AND(skjermbilde!$D$2=2,2*I131>60),60,IF(skjermbilde!$D$2=2,2*I131)))","v":29},{"$f":"IF(J131=\"\",\"\",IF(skjermbilde!$D$2=1,J131,IF(AND(skjermbilde!$D$2=2,2*J131>60),60,IF(skjermbilde!$D$2=2,2*J131))))","v":20},null,null,{"$f":"+IF(ISNUMBER(skjermbilde!G$3-Y131-skjermbilde!G$6-4),skjermbilde!G$3-Y131-skjermbilde!G$6-4,0)","v":-6},{"$f":"+IF(ISNUMBER(skjermbilde!H$3-Z131-skjermbilde!H$6-4),skjermbilde!H$3-Z131-skjermbilde!H$6-4,0)","v":-17},{"$f":"+IF(ISNUMBER(skjermbilde!I$3-AA131-skjermbilde!I$6-4),skjermbilde!I$3-AA131-skjermbilde!I$6-4,0)","v":-34},{"$f":"+IF(ISNUMBER(skjermbilde!J$3-AB131-skjermbilde!J$6-4),skjermbilde!J$3-AB131-skjermbilde!J$6-4,0)","v":-36},{"$f":"+IF(ISNUMBER(skjermbilde!K$3-AC131-skjermbilde!K$6-4),skjermbilde!K$3-AC131-skjermbilde!K$6-4,0)","v":-46},{"$f":"+IF(ISNUMBER(skjermbilde!L$3-AD131-skjermbilde!L$6-4),skjermbilde!L$3-AD131-skjermbilde!L$6-4,0)","v":-48},{"$f":"+IF(ISNUMBER(skjermbilde!M$3-AE131-skjermbilde!M$6-4),skjermbilde!M$3-AE131-skjermbilde!M$6-4,0)","v":-33},{"$f":"+IF(ISNUMBER(skjermbilde!N$3-AF131-skjermbilde!N$6-4),skjermbilde!N$3-AF131-skjermbilde!N$6-4,0)","v":-24},{"$f":"IF(skjermbilde!$O$10=TRUE,10*LOG10(10^(0.1*(AI131+AI$12))+10^(0.1*(AJ131+AJ$12))+10^(0.1*(AK131+AK$12))+10^(0.1*(AL131+AL$12))+10^(0.1*(AM131+AM$12))+10^(0.1*(AN131+AN$12))+10^(0.1*(AO131+AO$12))+10^(0.1*(AP131+AP$12))),\"\")","v":""},1,1,1,1,1,1,1,1,1,1,1,{"$f":"+IF(skjermbilde!$N$10=1,1,0)","v":1},{"$f":"+IF(U131=\"r\",1,IF(M131=skjermbilde!$D$3,1,0))","v":1},{"$f":"+IF(U131=\"s\",1,IF(N131=skjermbilde!$C$3,1,IF(OR(N131<datagrunnlag!D131,N131>datagrunnlag!E131),0,0)))","v":0},{"$f":"+IF(U131=\"s\",1,IF(O131=skjermbilde!$C$4,1,0))","v":0},1,0,null,null,null,116,"",null,null,null,null,null,null,null,null,null,null,null,null,null,null,"",116,"",null,null,null,null,null,null,null,null,null,null,null,null,"",116,"",null,null,null,null,"",{"$f":"IF(skjermbilde!$D$2=1,VLOOKUP($CS131,$CB$17:$CD$261,3,FALSE),CONCATENATE(\"2 x \",VLOOKUP($CS131,$CB$17:$CD$261,3,FALSE)))","v":""},null,null,null,null,null,null,null,null,null,7.4000000000000054E-7,1.0000007399999999,1,"LKK-200,0015B",1.0000007399999999,"LKK-200,0015B",0]
[117,{"$f":"CONCATENATE(\"LKK-\",MID(datagrunnlag!H132,1,1),IF(N132/100<10,CONCATENATE(0,N132/100),N132/100),(MID(datagrunnlag!H132,2,2)))","v":"LKK-200,0015C"},{"$f":"datagrunnlag!I132","v":2},{"$f":"datagrunnlag!J132","v":9},{"$f":"datagrunnlag!K132","v":25},{"$f":"datagrunnlag!L132","v":31},{"$f":"datagrunnlag!M132","v":41},{"$f":"datagrunnlag!N132","v":38},{"$f":"datagrunnlag!O132","v":23},{"$f":"datagrunnlag!P132","v":14},{"$f":"+datagrunnlag!A132","v":"LKK"},{"$f":"+datagrunnlag!B132","v":"r"},{"$f":"IF(N132<1,0.01,(INT((N132+200-100)/(300)))*100)","v":0.01},{"$f":"IF(OR(skjermbilde!$C$3<datagrunnlag!D132,skjermbilde!$C$3>datagrunnlag!E132),0.1,100*ROUND(skjermbilde!$C$3/100,0))","v":0.1},{"$f":"+IF(skjermbilde!$C$4<>0,skjermbilde!$C$4,0.00001)","v":1.0000000000000001E-5},{"$f":"++IF(datagrunnlag!F132=\"s\",\"c\",datagrunnlag!F132)","v":"r"},{"$f":"+datagrunnlag!G132","v":1240},{"$f":"datagrunnlag!Q132","v":2.83603015767174E-2},0,201,"r",0,0,{"$f":"IF(skjermbilde!$D$2=1,R132*($B$6*3.6/(M132*(O132/1000)))^2,2*R132*($B$6*3.6/(M132*(O132/1000)))^2)","v":0},{"$f":"IF(C132=\"\",\"\",IF(skjermbilde!$D$2=1,C132,IF(AND(skjermbilde!$D$2=2,2*C132>60),60,IF(skjermbilde!$D$2=2,2*C132))))","v":2},{"$f":"IF(skjermbilde!$D$2=1,D132,IF(AND(skjermbilde!$D$2=2,2*D132>60),60,IF(skjermbilde!$D$2=2,2*D132)))","v":9},{"$f":"IF(skjermbilde!$D$2=1,E132,IF(AND(skjermbilde!$D$2=2,2*E132>60),60,IF(skjermbilde!$D$2=2,2*E132)))","v":25},{"$f":"IF(skjermbilde!$D$2=1,F132,IF(AND(skjermbilde!$D$2=2,2*F132>60),60,IF(skjermbilde!$D$2=2,2*F132)))","v":31},{"$f":"IF(skjermbilde!$D$2=1,G132,IF(AND(skjermbilde!$D$2=2,2*G132>60),60,IF(skjermbilde!$D$2=2,2*G132)))","v":41},{"$f":"IF(skjermbilde!$D$2=1,H132,IF(AND(skjermbilde!$D$2=2,2*H132>60),60,IF(skjermbilde!$D$2=2,2*H132)))","v":38},{"$f":"IF(skjermbilde!$D$2=1,I132,IF(AND(skjermbilde!$D$2=2,2*I132>60),60,IF(skjermbilde!$D$2=2,2*I132)))","v":23},{"$f":"IF(J132=\"\",\"\",IF(skjermbilde!$D$2=1,J132,IF(AND(skjermbilde!$D$2=2,2*J132>60),60,IF(skjermbilde!$D$2=2,2*J132))))","v":14},null,null,{"$f":"+IF(ISNUMBER(skjermbilde!G$3-Y132-skjermbilde!G$6-4),skjermbilde!G$3-Y132-skjermbilde!G$6-4,0)","v":-6},{"$f":"+IF(ISNUMBER(skjermbilde!H$3-Z132-skjermbilde!H$6-4),skjermbilde!H$3-Z132-skjermbilde!H$6-4,0)","v":-13},{"$f":"+IF(ISNUMBER(skjermbilde!I$3-AA132-skjermbilde!I$6-4),skjermbilde!I$3-AA132-skjermbilde!I$6-4,0)","v":-29},{"$f":"+IF(ISNUMBER(skjermbilde!J$3-AB132-skjermbilde!J$6-4),skjermbilde!J$3-AB132-skjermbilde!J$6-4,0)","v":-35},{"$f":"+IF(ISNUMBER(skjermbilde!K$3-AC132-skjermbilde!K$6-4),skjermbilde!K$3-AC132-skjermbilde!K$6-4,0)","v":-45},{"$f":"+IF(ISNUMBER(skjermbilde!L$3-AD132-skjermbilde!L$6-4),skjermbilde!L$3-AD132-skjermbilde!L$6-4,0)","v":-42},{"$f":"+IF(ISNUMBER(skjermbilde!M$3-AE132-skjermbilde!M$6-4),skjermbilde!M$3-AE132-skjermbilde!M$6-4,0)","v":-27},{"$f":"+IF(ISNUMBER(skjermbilde!N$3-AF132-skjermbilde!N$6-4),skjermbilde!N$3-AF132-skjermbilde!N$6-4,0)","v":-18},{"$f":"IF(skjermbilde!$O$10=TRUE,10*LOG10(10^(0.1*(AI132+AI$12))+10^(0.1*(AJ132+AJ$12))+10^(0.1*(AK132+AK$12))+10^(0.1*(AL132+AL$12))+10^(0.1*(AM132+AM$12))+10^(0.1*(AN132+AN$12))+10^(0.1*(AO132+AO$12))+10^(0.1*(AP132+AP$12))),\"\")","v":""},1,1,1,1,1,1,1,1,1,1,1,{"$f":"+IF(skjermbilde!$N$10=1,1,0)","v":1},{"$f":"+IF(U132=\"r\",1,IF(M132=skjermbilde!$D$3,1,0))","v":1},{"$f":"+IF(U132=\"s\",1,IF(N132=skjermbilde!$C$3,1,IF(OR(N132<datagrunnlag!D132,N132>datagrunnlag!E132),0,0)))","v":0},{"$f":"+IF(U132=\"s\",1,IF(O132=skjermbilde!$C$4,1,0))","v":0},1,0,null,null,null,117,"",null,null,null,null,null,null,null,null,null,null,null,null,null,null,"",117,"",null,null,null,null,null,null,null,null,null,null,null,null,"",117,"",null,null,null,null,"",{"$f":"IF(skjermbilde!$D$2=1,VLOOKUP($CS132,$CB$17:$CD$261,3,FALSE),CONCATENATE(\"2 x \",VLOOKUP($CS132,$CB$17:$CD$261,3,FALSE)))","v":""},null,null,null,null,null,null,null,null,null,7.5000000000000055E-7,1.0000007500000001,1,"LKK-200,0015C",1.0000007500000001,"LKK-200,0015C",0]
[118,{"$f":"CONCATENATE(\"LKK-\",MID(datagrunnlag!H133,1,1),IF(N133/100<10,CONCATENATE(0,N133/100),N133/100),(MID(datagrunnlag!H133,2,2)))","v":"LKK-200,0015D"},{"$f":"datagrunnlag!I133","v":2},{"$f":"datagrunnlag!J133","v":11},{"$f":"datagrunnlag!K133","v":18},{"$f":"datagrunnlag!L133","v":24},{"$f":"datagrunnlag!M133","v":30},{"$f":"datagrunnlag!N133","v":24},{"$f":"datagrunnlag!O133","v":13},{"$f":"datagrunnlag!P133","v":8},{"$f":"+datagrunnlag!A133","v":"LKK"},{"$f":"+datagrunnlag!B133","v":"r"},{"$f":"IF(N133<1,0.01,(INT((N133+200-50)/(350)))*150)","v":0.01},{"$f":"IF(OR(skjermbilde!$C$3<datagrunnlag!D133,skjermbilde!$C$3>datagrunnlag!E133),0.1,100*ROUND(skjermbilde!$C$3/100,0))","v":0.1},{"$f":"+IF(skjermbilde!$C$4<>0,skjermbilde!$C$4,0.00001)","v":1.0000000000000001E-5},{"$f":"++IF(datagrunnlag!F133=\"s\",\"c\",datagrunnlag!F133)","v":"r"},{"$f":"+datagrunnlag!G133","v":1240},{"$f":"datagrunnlag!Q133","v":2.7984767922364685E-2},0,201,"r",0,0,{"$f":"IF(skjermbilde!$D$2=1,R133*($B$6*3.6/(M133*(O133/1000)))^2,2*R133*($B$6*3.6/(M133*(O133/1000)))^2)","v":0},{"$f":"IF(C133=\"\",\"\",IF(skjermbilde!$D$2=1,C133,IF(AND(skjermbilde!$D$2=2,2*C133>60),60,IF(skjermbilde!$D$2=2,2*C133))))","v":2},{"$f":"IF(skjermbilde!$D$2=1,D133,IF(AND(skjermbilde!$D$2=2,2*D133>60),60,IF(skjermbilde!$D$2=2,2*D133)))","v":11},{"$f":"IF(skjermbilde!$D$2=1,E133,IF(AND(skjermbilde!$D$2=2,2*E133>60),60,IF(skjermbilde!$D$2=2,2*E133)))","v":18},{"$f":"IF(skjermbilde!$D$2=1,F133,IF(AND(skjermbilde!$D$2=2,2*F133>60),60,IF(skjermbilde!$D$2=2,2*F133)))","v":24},{"$f":"IF(skjermbilde!$D$2=1,G133,IF(AND(skjermbilde!$D$2=2,2*G133>60),60,IF(skjermbilde!$D$2=2,2*G133)))","v":30},{"$f":"IF(skjermbilde!$D$2=1,H133,IF(AND(skjermbilde!$D$2=2,2*H133>60),60,IF(skjermbilde!$D$2=2,2*H133)))","v":24},{"$f":"IF(skjermbilde!$D$2=1,I133,IF(AND(skjermbilde!$D$2=2,2*I133>60),60,IF(skjermbilde!$D$2=2,2*I133)))","v":13},{"$f":"IF(J133=\"\",\"\",IF(skjermbilde!$D$2=1,J133,IF(AND(skjermbilde!$D$2=2,2*J133>60),60,IF(skjermbilde!$D$2=2,2*J133))))","v":8},null,null,{"$f":"+IF(ISNUMBER(skjermbilde!G$3-Y133-skjermbilde!G$6-4),skjermbilde!G$3-Y133-skjermbilde!G$6-4,0)","v":-6},{"$f":"+IF(ISNUMBER(skjermbilde!H$3-Z133-skjermbilde!H$6-4),skjermbilde!H$3-Z133-skjermbilde!H$6-4,0)","v":-15},{"$f":"+IF(ISNUMBER(skjermbilde!I$3-AA133-skjermbilde!I$6-4),skjermbilde!I$3-AA133-skjermbilde!I$6-4,0)","v":-22},{"$f":"+IF(ISNUMBER(skjermbilde!J$3-AB133-skjermbilde!J$6-4),skjermbilde!J$3-AB133-skjermbilde!J$6-4,0)","v":-28},{"$f":"+IF(ISNUMBER(skjermbilde!K$3-AC133-skjermbilde!K$6-4),skjermbilde!K$3-AC133-skjermbilde!K$6-4,0)","v":-34},{"$f":"+IF(ISNUMBER(skjermbilde!L$3-AD133-skjermbilde!L$6-4),skjermbilde!L$3-AD133-skjermbilde!L$6-4,0)","v":-28},{"$f":"+IF(ISNUMBER(skjermbilde!M$3-AE133-skjermbilde!M$6-4),skjermbilde!M$3-AE133-skjermbilde!M$6-4,0)","v":-17},{"$f":"+IF(ISNUMBER(skjermbilde!N$3-AF133-skjermbilde!N$6-4),skjermbilde!N$3-AF133-skjermbilde!N$6-4,0)","v":-12},{"$f":"IF(skjermbilde!$O$10=TRUE,10*LOG10(10^(0.1*(AI133+AI$12))+10^(0.1*(AJ133+AJ$12))+10^(0.1*(AK133+AK$12))+10^(0.1*(AL133+AL$12))+10^(0.1*(AM133+AM$12))+10^(0.1*(AN133+AN$12))+10^(0.1*(AO133+AO$12))+10^(0.1*(AP133+AP$12))),\"\")","v":""},1,1,1,1,1,1,1,1,1,1,1,{"$f":"+IF(skjermbilde!$N$10=1,1,0)","v":1},{"$f":"+IF(U133=\"r\",1,IF(M133=skjermbilde!$D$3,1,0))","v":1},{"$f":"+IF(U133=\"s\",1,IF(N133=skjermbilde!$C$3,1,IF(OR(N133<datagrunnlag!D133,N133>datagrunnlag!E133),0,0)))","v":0},{"$f":"+IF(U133=\"s\",1,IF(O133=skjermbilde!$C$4,1,0))","v":0},1,0,null,null,null,118,"",null,null,null,null,null,null,null,null,null,null,null,null,null,null,"",118,"",null,null,null,null,null,null,null,null,null,null,null,null,"",118,"",null,null,null,null,"",{"$f":"IF(skjermbilde!$D$2=1,VLOOKUP($CS133,$CB$17:$CD$261,3,FALSE),CONCATENATE(\"2 x \",VLOOKUP($CS133,$CB$17:$CD$261,3,FALSE)))","v":""},null,null,null,null,null,null,null,null,null,7.6000000000000056E-7,1.00000076,1,"LKK-200,0015D",1.00000076,"LKK-200,0015D",0]
[119,{"$f":"CONCATENATE(\"LKK-\",MID(datagrunnlag!H134,1,1),IF(N134/100<10,CONCATENATE(0,N134/100),N134/100),(MID(datagrunnlag!H134,2,2)))","v":"LKK-200,0015E"},{"$f":"datagrunnlag!I134","v":2},{"$f":"datagrunnlag!J134","v":6},{"$f":"datagrunnlag!K134","v":15},{"$f":"datagrunnlag!L134","v":19},{"$f":"datagrunnlag!M134","v":24},{"$f":"datagrunnlag!N134","v":18},{"$f":"datagrunnlag!O134","v":9},{"$f":"datagrunnlag!P134","v":6},{"$f":"+datagrunnlag!A134","v":"LKK"},{"$f":"+datagrunnlag!B134","v":"r"},{"$f":"IF(N134<1,0.01,(INT((N134+200-100)/(400)))*200)","v":0.01},{"$f":"IF(OR(skjermbilde!$C$3<datagrunnlag!D134,skjermbilde!$C$3>datagrunnlag!E134),0.1,100*ROUND(skjermbilde!$C$3/100,0))","v":0.1},{"$f":"+IF(skjermbilde!$C$4<>0,skjermbilde!$C$4,0.00001)","v":1.0000000000000001E-5},{"$f":"++IF(datagrunnlag!F134=\"s\",\"c\",datagrunnlag!F134)","v":"r"},{"$f":"+datagrunnlag!G134","v":1240},{"$f":"datagrunnlag!Q134","v":1.7652742678757251E-2},0,201,"r",0,0,{"$f":"IF(skjermbilde!$D$2=1,R134*($B$6*3.6/(M134*(O134/1000)))^2,2*R134*($B$6*3.6/(M134*(O134/1000)))^2)","v":0},{"$f":"IF(C134=\"\",\"\",IF(skjermbilde!$D$2=1,C134,IF(AND(skjermbilde!$D$2=2,2*C134>60),60,IF(skjermbilde!$D$2=2,2*C134))))","v":2},{"$f":"IF(skjermbilde!$D$2=1,D134,IF(AND(skjermbilde!$D$2=2,2*D134>60),60,IF(skjermbilde!$D$2=2,2*D134)))","v":6},{"$f":"IF(skjermbilde!$D$2=1,E134,IF(AND(skjermbilde!$D$2=2,2*E134>60),60,IF(skjermbilde!$D$2=2,2*E134)))","v":15},{"$f":"IF(skjermbilde!$D$2=1,F134,IF(AND(skjermbilde!$D$2=2,2*F134>60),60,IF(skjermbilde!$D$2=2,2*F134)))","v":19},{"$f":"IF(skjermbilde!$D$2=1,G134,IF(AND(skjermbilde!$D$2=2,2*G134>60),60,IF(skjermbilde!$D$2=2,2*G134)))","v":24},{"$f":"IF(skjermbilde!$D$2=1,H134,IF(AND(skjermbilde!$D$2=2,2*H134>60),60,IF(skjermbilde!$D$2=2,2*H134)))","v":18},{"$f":"IF(skjermbilde!$D$2=1,I134,IF(AND(skjermbilde!$D$2=2,2*I134>60),60,IF(skjermbilde!$D$2=2,2*I134)))","v":9},{"$f":"IF(J134=\"\",\"\",IF(skjermbilde!$D$2=1,J134,IF(AND(skjermbilde!$D$2=2,2*J134>60),60,IF(skjermbilde!$D$2=2,2*J134))))","v":6},null,null,{"$f":"+IF(ISNUMBER(skjermbilde!G$3-Y134-skjermbilde!G$6-4),skjermbilde!G$3-Y134-skjermbilde!G$6-4,0)","v":-6},{"$f":"+IF(ISNUMBER(skjermbilde!H$3-Z134-skjermbilde!H$6-4),skjermbilde!H$3-Z134-skjermbilde!H$6-4,0)","v":-10},{"$f":"+IF(ISNUMBER(skjermbilde!I$3-AA134-skjermbilde!I$6-4),skjermbilde!I$3-AA134-skjermbilde!I$6-4,0)","v":-19},{"$f":"+IF(ISNUMBER(skjermbilde!J$3-AB134-skjermbilde!J$6-4),skjermbilde!J$3-AB134-skjermbilde!J$6-4,0)","v":-23},{"$f":"+IF(ISNUMBER(skjermbilde!K$3-AC134-skjermbilde!K$6-4),skjermbilde!K$3-AC134-skjermbilde!K$6-4,0)","v":-28},{"$f":"+IF(ISNUMBER(skjermbilde!L$3-AD134-skjermbilde!L$6-4),skjermbilde!L$3-AD134-skjermbilde!L$6-4,0)","v":-22},{"$f":"+IF(ISNUMBER(skjermbilde!M$3-AE134-skjermbilde!M$6-4),skjermbilde!M$3-AE134-skjermbilde!M$6-4,0)","v":-13},{"$f":"+IF(ISNUMBER(skjermbilde!N$3-AF134-skjermbilde!N$6-4),skjermbilde!N$3-AF134-skjermbilde!N$6-4,0)","v":-10},{"$f":"IF(skjermbilde!$O$10=TRUE,10*LOG10(10^(0.1*(AI134+AI$12))+10^(0.1*(AJ134+AJ$12))+10^(0.1*(AK134+AK$12))+10^(0.1*(AL134+AL$12))+10^(0.1*(AM134+AM$12))+10^(0.1*(AN134+AN$12))+10^(0.1*(AO134+AO$12))+10^(0.1*(AP134+AP$12))),\"\")","v":""},1,1,1,1,1,1,1,1,1,1,1,{"$f":"+IF(skjermbilde!$N$10=1,1,0)","v":1},{"$f":"+IF(U134=\"r\",1,IF(M134=skjermbilde!$D$3,1,0))","v":1},{"$f":"+IF(U134=\"s\",1,IF(N134=skjermbilde!$C$3,1,IF(OR(N134<datagrunnlag!D134,N134>datagrunnlag!E134),0,0)))","v":0},{"$f":"+IF(U134=\"s\",1,IF(O134=skjermbilde!$C$4,1,0))","v":0},1,0,null,null,null,119,"",null,null,null,null,null,null,null,null,null,null,null,null,null,null,"",119,"",null,null,null,null,null,null,null,null,null,null,null,null,"",119,"",null,null,null,null,"",{"$f":"IF(skjermbilde!$D$2=1,VLOOKUP($CS134,$CB$17:$CD$261,3,FALSE),CONCATENATE(\"2 x \",VLOOKUP($CS134,$CB$17:$CD$261,3,FALSE)))","v":""},null,null,null,null,null,null,null,null,null,7.7000000000000057E-7,1.00000077,1,"LKK-200,0015E",1.00000077,"LKK-200,0015E",0]
[120,{"$f":"CONCATENATE(\"LKK-\",MID(datagrunnlag!H135,1,1),IF(N135/100<10,CONCATENATE(0,N135/100),N135/100),(MID(datagrunnlag!H135,2,2)))","v":"LKK-200,0017C"},{"$f":"datagrunnlag!I135","v":3},{"$f":"datagrunnlag!J135","v":18},{"$f":"datagrunnlag!K135","v":24},{"$f":"datagrunnlag!L135","v":31},{"$f":"datagrunnlag!M135","v":42},{"$f":"datagrunnlag!N135","v":36},{"$f":"datagrunnlag!O135","v":21},{"$f":"datagrunnlag!P135","v":13},{"$f":"+datagrunnlag!A135","v":"LKK"},{"$f":"+datagrunnlag!B135","v":"r"},{"$f":"IF(N135<1,0.01,(INT((N135+300-100)/(400)))*100)","v":0.01},{"$f":"IF(OR(skjermbilde!$C$3<datagrunnlag!D135,skjermbilde!$C$3>datagrunnlag!E135),0.1,100*ROUND(skjermbilde!$C$3/100,0))","v":0.1},{"$f":"+IF(skjermbilde!$C$4<>0,skjermbilde!$C$4,0.00001)","v":1.0000000000000001E-5},{"$f":"++IF(datagrunnlag!F135=\"s\",\"c\",datagrunnlag!F135)","v":"r"},{"$f":"+datagrunnlag!G135","v":1240},{"$f":"datagrunnlag!Q135","v":3.4677622593652445E-2},0,201,"r",0,0,{"$f":"IF(skjermbilde!$D$2=1,R135*($B$6*3.6/(M135*(O135/1000)))^2,2*R135*($B$6*3.6/(M135*(O135/1000)))^2)","v":0},{"$f":"IF(C135=\"\",\"\",IF(skjermbilde!$D$2=1,C135,IF(AND(skjermbilde!$D$2=2,2*C135>60),60,IF(skjermbilde!$D$2=2,2*C135))))","v":3},{"$f":"IF(skjermbilde!$D$2=1,D135,IF(AND(skjermbilde!$D$2=2,2*D135>60),60,IF(skjermbilde!$D$2=2,2*D135)))","v":18},{"$f":"IF(skjermbilde!$D$2=1,E135,IF(AND(skjermbilde!$D$2=2,2*E135>60),60,IF(skjermbilde!$D$2=2,2*E135)))","v":24},{"$f":"IF(skjermbilde!$D$2=1,F135,IF(AND(skjermbilde!$D$2=2,2*F135>60),60,IF(skjermbilde!$D$2=2,2*F135)))","v":31},{"$f":"IF(skjermbilde!$D$2=1,G135,IF(AND(skjermbilde!$D$2=2,2*G135>60),60,IF(skjermbilde!$D$2=2,2*G135)))","v":42},{"$f":"IF(skjermbilde!$D$2=1,H135,IF(AND(skjermbilde!$D$2=2,2*H135>60),60,IF(skjermbilde!$D$2=2,2*H135)))","v":36},{"$f":"IF(skjermbilde!$D$2=1,I135,IF(AND(skjermbilde!$D$2=2,2*I135>60),60,IF(skjermbilde!$D$2=2,2*I135)))","v":21},{"$f":"IF(J135=\"\",\"\",IF(skjermbilde!$D$2=1,J135,IF(AND(skjermbilde!$D$2=2,2*J135>60),60,IF(skjermbilde!$D$2=2,2*J135))))","v":13},null,null,{"$f":"+IF(ISNUMBER(skjermbilde!G$3-Y135-skjermbilde!G$6-4),skjermbilde!G$3-Y135-skjermbilde!G$6-4,0)","v":-7},{"$f":"+IF(ISNUMBER(skjermbilde!H$3-Z135-skjermbilde!H$6-4),skjermbilde!H$3-Z135-skjermbilde!H$6-4,0)","v":-22},{"$f":"+IF(ISNUMBER(skjermbilde!I$3-AA135-skjermbilde!I$6-4),skjermbilde!I$3-AA135-skjermbilde!I$6-4,0)","v":-28},{"$f":"+IF(ISNUMBER(skjermbilde!J$3-AB135-skjermbilde!J$6-4),skjermbilde!J$3-AB135-skjermbilde!J$6-4,0)","v":-35},{"$f":"+IF(ISNUMBER(skjermbilde!K$3-AC135-skjermbilde!K$6-4),skjermbilde!K$3-AC135-skjermbilde!K$6-4,0)","v":-46},{"$f":"+IF(ISNUMBER(skjermbilde!L$3-AD135-skjermbilde!L$6-4),skjermbilde!L$3-AD135-skjermbilde!L$6-4,0)","v":-40},{"$f":"+IF(ISNUMBER(skjermbilde!M$3-AE135-skjermbilde!M$6-4),skjermbilde!M$3-AE135-skjermbilde!M$6-4,0)","v":-25},{"$f":"+IF(ISNUMBER(skjermbilde!N$3-AF135-skjermbilde!N$6-4),skjermbilde!N$3-AF135-skjermbilde!N$6-4,0)","v":-17},{"$f":"IF(skjermbilde!$O$10=TRUE,10*LOG10(10^(0.1*(AI135+AI$12))+10^(0.1*(AJ135+AJ$12))+10^(0.1*(AK135+AK$12))+10^(0.1*(AL135+AL$12))+10^(0.1*(AM135+AM$12))+10^(0.1*(AN135+AN$12))+10^(0.1*(AO135+AO$12))+10^(0.1*(AP135+AP$12))),\"\")","v":""},1,1,1,1,1,1,1,1,1,1,1,{"$f":"+IF(skjermbilde!$N$10=1,1,0)","v":1},{"$f":"+IF(U135=\"r\",1,IF(M135=skjermbilde!$D$3,1,0))","v":1},{"$f":"+IF(U135=\"s\",1,IF(N135=skjermbilde!$C$3,1,IF(OR(N135<datagrunnlag!D135,N135>datagrunnlag!E135),0,0)))","v":0},{"$f":"+IF(U135=\"s\",1,IF(O135=skjermbilde!$C$4,1,0))","v":0},1,0,null,null,null,120,"",null,null,null,null,null,null,null,null,null,null,null,null,null,null,"",120,"",null,null,null,null,null,null,null,null,null,null,null,null,"",120,"",null,null,null,null,"",{"$f":"IF(skjermbilde!$D$2=1,VLOOKUP($CS135,$CB$17:$CD$261,3,FALSE),CONCATENATE(\"2 x \",VLOOKUP($CS135,$CB$17:$CD$261,3,FALSE)))","v":""},null,null,null,null,null,null,null,null,null,7.8000000000000058E-7,1.0000007799999999,1,"LKK-200,0017C",1.0000007799999999,"LKK-200,0017C",0]
[121,{"$f":"CONCATENATE(\"LKK-\",MID(datagrunnlag!H136,1,1),IF(N136/100<10,CONCATENATE(0,N136/100),N136/100),(MID(datagrunnlag!H136,2,2)))","v":"LKK-200,0017D"},{"$f":"datagrunnlag!I136","v":2},{"$f":"datagrunnlag!J136","v":13},{"$f":"datagrunnlag!K136","v":17},{"$f":"datagrunnlag!L136","v":23},{"$f":"datagrunnlag!M136","v":29},{"$f":"datagrunnlag!N136","v":24},{"$f":"datagrunnlag!O136","v":13},{"$f":"datagrunnlag!P136","v":8},{"$f":"+datagrunnlag!A136","v":"LKK"},{"$f":"+datagrunnlag!B136","v":"r"},{"$f":"IF(N136<1,0.01,(INT((N136+300-100)/(450)))*150)","v":0.01},{"$f":"IF(OR(skjermbilde!$C$3<datagrunnlag!D136,skjermbilde!$C$3>datagrunnlag!E136),0.1,100*ROUND(skjermbilde!$C$3/100,0))","v":0.1},{"$f":"+IF(skjermbilde!$C$4<>0,skjermbilde!$C$4,0.00001)","v":1.0000000000000001E-5},{"$f":"++IF(datagrunnlag!F136=\"s\",\"c\",datagrunnlag!F136)","v":"r"},{"$f":"+datagrunnlag!G136","v":1240},{"$f":"datagrunnlag!Q136","v":2.6653318715623601E-2},0,201,"r",0,0,{"$f":"IF(skjermbilde!$D$2=1,R136*($B$6*3.6/(M136*(O136/1000)))^2,2*R136*($B$6*3.6/(M136*(O136/1000)))^2)","v":0},{"$f":"IF(C136=\"\",\"\",IF(skjermbilde!$D$2=1,C136,IF(AND(skjermbilde!$D$2=2,2*C136>60),60,IF(skjermbilde!$D$2=2,2*C136))))","v":2},{"$f":"IF(skjermbilde!$D$2=1,D136,IF(AND(skjermbilde!$D$2=2,2*D136>60),60,IF(skjermbilde!$D$2=2,2*D136)))","v":13},{"$f":"IF(skjermbilde!$D$2=1,E136,IF(AND(skjermbilde!$D$2=2,2*E136>60),60,IF(skjermbilde!$D$2=2,2*E136)))","v":17},{"$f":"IF(skjermbilde!$D$2=1,F136,IF(AND(skjermbilde!$D$2=2,2*F136>60),60,IF(skjermbilde!$D$2=2,2*F136)))","v":23},{"$f":"IF(skjermbilde!$D$2=1,G136,IF(AND(skjermbilde!$D$2=2,2*G136>60),60,IF(skjermbilde!$D$2=2,2*G136)))","v":29},{"$f":"IF(skjermbilde!$D$2=1,H136,IF(AND(skjermbilde!$D$2=2,2*H136>60),60,IF(skjermbilde!$D$2=2,2*H136)))","v":24},{"$f":"IF(skjermbilde!$D$2=1,I136,IF(AND(skjermbilde!$D$2=2,2*I136>60),60,IF(skjermbilde!$D$2=2,2*I136)))","v":13},{"$f":"IF(J136=\"\",\"\",IF(skjermbilde!$D$2=1,J136,IF(AND(skjermbilde!$D$2=2,2*J136>60),60,IF(skjermbilde!$D$2=2,2*J136))))","v":8},null,null,{"$f":"+IF(ISNUMBER(skjermbilde!G$3-Y136-skjermbilde!G$6-4),skjermbilde!G$3-Y136-skjermbilde!G$6-4,0)","v":-6},{"$f":"+IF(ISNUMBER(skjermbilde!H$3-Z136-skjermbilde!H$6-4),skjermbilde!H$3-Z136-skjermbilde!H$6-4,0)","v":-17},{"$f":"+IF(ISNUMBER(skjermbilde!I$3-AA136-skjermbilde!I$6-4),skjermbilde!I$3-AA136-skjermbilde!I$6-4,0)","v":-21},{"$f":"+IF(ISNUMBER(skjermbilde!J$3-AB136-skjermbilde!J$6-4),skjermbilde!J$3-AB136-skjermbilde!J$6-4,0)","v":-27},{"$f":"+IF(ISNUMBER(skjermbilde!K$3-AC136-skjermbilde!K$6-4),skjermbilde!K$3-AC136-skjermbilde!K$6-4,0)","v":-33},{"$f":"+IF(ISNUMBER(skjermbilde!L$3-AD136-skjermbilde!L$6-4),skjermbilde!L$3-AD136-skjermbilde!L$6-4,0)","v":-28},{"$f":"+IF(ISNUMBER(skjermbilde!M$3-AE136-skjermbilde!M$6-4),skjermbilde!M$3-AE136-skjermbilde!M$6-4,0)","v":-17},{"$f":"+IF(ISNUMBER(skjermbilde!N$3-AF136-skjermbilde!N$6-4),skjermbilde!N$3-AF136-skjermbilde!N$6-4,0)","v":-12},{"$f":"IF(skjermbilde!$O$10=TRUE,10*LOG10(10^(0.1*(AI136+AI$12))+10^(0.1*(AJ136+AJ$12))+10^(0.1*(AK136+AK$12))+10^(0.1*(AL136+AL$12))+10^(0.1*(AM136+AM$12))+10^(0.1*(AN136+AN$12))+10^(0.1*(AO136+AO$12))+10^(0.1*(AP136+AP$12))),\"\")","v":""},1,1,1,1,1,1,1,1,1,1,1,{"$f":"+IF(skjermbilde!$N$10=1,1,0)","v":1},{"$f":"+IF(U136=\"r\",1,IF(M136=skjermbilde!$D$3,1,0))","v":1},{"$f":"+IF(U136=\"s\",1,IF(N136=skjermbilde!$C$3,1,IF(OR(N136<datagrunnlag!D136,N136>datagrunnlag!E136),0,0)))","v":0},{"$f":"+IF(U136=\"s\",1,IF(O136=skjermbilde!$C$4,1,0))","v":0},1,0,null,null,null,121,"",null,null,null,null,null,null,null,null,null,null,null,null,null,null,"",121,"",null,null,null,null,null,null,null,null,null,null,null,null,"",121,"",null,null,null,null,"",{"$f":"IF(skjermbilde!$D$2=1,VLOOKUP($CS136,$CB$17:$CD$261,3,FALSE),CONCATENATE(\"2 x \",VLOOKUP($CS136,$CB$17:$CD$261,3,FALSE)))","v":""},null,null,null,null,null,null,null,null,null,7.9000000000000059E-7,1.0000007900000001,1,"LKK-200,0017D",1.0000007900000001,"LKK-200,0017D",0]
[122,{"$f":"CONCATENATE(\"LKK-\",MID(datagrunnlag!H137,1,1),IF(N137/100<10,CONCATENATE(0,N137/100),N137/100),(MID(datagrunnlag!H137,2,2)))","v":"LKK-200,0017E"},{"$f":"datagrunnlag!I137","v":3},{"$f":"datagrunnlag!J137","v":14},{"$f":"datagrunnlag!K137","v":14},{"$f":"datagrunnlag!L137","v":20},{"$f":"datagrunnlag!M137","v":24},{"$f":"datagrunnlag!N137","v":19},{"$f":"datagrunnlag!O137","v":12},{"$f":"datagrunnlag!P137","v":9},{"$f":"+datagrunnlag!A137","v":"LKK"},{"$f":"+datagrunnlag!B137","v":"r"},{"$f":"IF(N137<1,0.01,(INT((N137+300-100)/(500)))*200)","v":0.01},{"$f":"IF(OR(skjermbilde!$C$3<datagrunnlag!D137,skjermbilde!$C$3>datagrunnlag!E137),0.1,100*ROUND(skjermbilde!$C$3/100,0))","v":0.1},{"$f":"+IF(skjermbilde!$C$4<>0,skjermbilde!$C$4,0.00001)","v":1.0000000000000001E-5},{"$f":"++IF(datagrunnlag!F137=\"s\",\"c\",datagrunnlag!F137)","v":"r"},{"$f":"+datagrunnlag!G137","v":1240},{"$f":"datagrunnlag!Q137","v":3.4489010815753771E-2},0,201,"r",0,0,{"$f":"IF(skjermbilde!$D$2=1,R137*($B$6*3.6/(M137*(O137/1000)))^2,2*R137*($B$6*3.6/(M137*(O137/1000)))^2)","v":0},{"$f":"IF(C137=\"\",\"\",IF(skjermbilde!$D$2=1,C137,IF(AND(skjermbilde!$D$2=2,2*C137>60),60,IF(skjermbilde!$D$2=2,2*C137))))","v":3},{"$f":"IF(skjermbilde!$D$2=1,D137,IF(AND(skjermbilde!$D$2=2,2*D137>60),60,IF(skjermbilde!$D$2=2,2*D137)))","v":14},{"$f":"IF(skjermbilde!$D$2=1,E137,IF(AND(skjermbilde!$D$2=2,2*E137>60),60,IF(skjermbilde!$D$2=2,2*E137)))","v":14},{"$f":"IF(skjermbilde!$D$2=1,F137,IF(AND(skjermbilde!$D$2=2,2*F137>60),60,IF(skjermbilde!$D$2=2,2*F137)))","v":20},{"$f":"IF(skjermbilde!$D$2=1,G137,IF(AND(skjermbilde!$D$2=2,2*G137>60),60,IF(skjermbilde!$D$2=2,2*G137)))","v":24},{"$f":"IF(skjermbilde!$D$2=1,H137,IF(AND(skjermbilde!$D$2=2,2*H137>60),60,IF(skjermbilde!$D$2=2,2*H137)))","v":19},{"$f":"IF(skjermbilde!$D$2=1,I137,IF(AND(skjermbilde!$D$2=2,2*I137>60),60,IF(skjermbilde!$D$2=2,2*I137)))","v":12},{"$f":"IF(J137=\"\",\"\",IF(skjermbilde!$D$2=1,J137,IF(AND(skjermbilde!$D$2=2,2*J137>60),60,IF(skjermbilde!$D$2=2,2*J137))))","v":9},null,null,{"$f":"+IF(ISNUMBER(skjermbilde!G$3-Y137-skjermbilde!G$6-4),skjermbilde!G$3-Y137-skjermbilde!G$6-4,0)","v":-7},{"$f":"+IF(ISNUMBER(skjermbilde!H$3-Z137-skjermbilde!H$6-4),skjermbilde!H$3-Z137-skjermbilde!H$6-4,0)","v":-18},{"$f":"+IF(ISNUMBER(skjermbilde!I$3-AA137-skjermbilde!I$6-4),skjermbilde!I$3-AA137-skjermbilde!I$6-4,0)","v":-18},{"$f":"+IF(ISNUMBER(skjermbilde!J$3-AB137-skjermbilde!J$6-4),skjermbilde!J$3-AB137-skjermbilde!J$6-4,0)","v":-24},{"$f":"+IF(ISNUMBER(skjermbilde!K$3-AC137-skjermbilde!K$6-4),skjermbilde!K$3-AC137-skjermbilde!K$6-4,0)","v":-28},{"$f":"+IF(ISNUMBER(skjermbilde!L$3-AD137-skjermbilde!L$6-4),skjermbilde!L$3-AD137-skjermbilde!L$6-4,0)","v":-23},{"$f":"+IF(ISNUMBER(skjermbilde!M$3-AE137-skjermbilde!M$6-4),skjermbilde!M$3-AE137-skjermbilde!M$6-4,0)","v":-16},{"$f":"+IF(ISNUMBER(skjermbilde!N$3-AF137-skjermbilde!N$6-4),skjermbilde!N$3-AF137-skjermbilde!N$6-4,0)","v":-13},{"$f":"IF(skjermbilde!$O$10=TRUE,10*LOG10(10^(0.1*(AI137+AI$12))+10^(0.1*(AJ137+AJ$12))+10^(0.1*(AK137+AK$12))+10^(0.1*(AL137+AL$12))+10^(0.1*(AM137+AM$12))+10^(0.1*(AN137+AN$12))+10^(0.1*(AO137+AO$12))+10^(0.1*(AP137+AP$12))),\"\")","v":""},1,1,1,1,1,1,1,1,1,1,1,{"$f":"+IF(skjermbilde!$N$10=1,1,0)","v":1},{"$f":"+IF(U137=\"r\",1,IF(M137=skjermbilde!$D$3,1,0))","v":1},{"$f":"+IF(U137=\"s\",1,IF(N137=skjermbilde!$C$3,1,IF(OR(N137<datagrunnlag!D137,N137>datagrunnlag!E137),0,0)))","v":0},{"$f":"+IF(U137=\"s\",1,IF(O137=skjermbilde!$C$4,1,0))","v":0},1,0,null,null,null,122,"",null,null,null,null,null,null,null,null,null,null,null,null,null,null,"",122,"",null,null,null,null,null,null,null,null,null,null,null,null,"",122,"",null,null,null,null,"",{"$f":"IF(skjermbilde!$D$2=1,VLOOKUP($CS137,$CB$17:$CD$261,3,FALSE),CONCATENATE(\"2 x \",VLOOKUP($CS137,$CB$17:$CD$261,3,FALSE)))","v":""},null,null,null,null,null,null,null,null,null,8.000000000000006E-7,1.0000008,1,"LKK-200,0017E",1.0000008,"LKK-200,0017E",0]
[123,{"$f":"CONCATENATE(\"LKK-\",MID(datagrunnlag!H138,1,1),IF(N138/100<10,CONCATENATE(0,N138/100),N138/100),(MID(datagrunnlag!H138,2,2)))","v":"LKK-200,0019D"},{"$f":"datagrunnlag!I138","v":7},{"$f":"datagrunnlag!J138","v":28},{"$f":"datagrunnlag!K138","v":23},{"$f":"datagrunnlag!L138","v":23},{"$f":"datagrunnlag!M138","v":29},{"$f":"datagrunnlag!N138","v":34},{"$f":"datagrunnlag!O138","v":17},{"$f":"datagrunnlag!P138","v":14},{"$f":"+datagrunnlag!A138","v":"LKK"},{"$f":"+datagrunnlag!B138","v":"r"},{"$f":"IF(N138<1,0.01,(INT((N138+400-100)/(550)))*150)","v":0.01},{"$f":"IF(OR(skjermbilde!$C$3<datagrunnlag!D138,skjermbilde!$C$3>datagrunnlag!E138),0.1,100*ROUND(skjermbilde!$C$3/100,0))","v":0.1},{"$f":"+IF(skjermbilde!$C$4<>0,skjermbilde!$C$4,0.00001)","v":1.0000000000000001E-5},{"$f":"++IF(datagrunnlag!F138=\"s\",\"c\",datagrunnlag!F138)","v":"r"},{"$f":"+datagrunnlag!G138","v":1240},{"$f":"datagrunnlag!Q138","v":3.0026617346938771E-2},0,201,"r",0,0,{"$f":"IF(skjermbilde!$D$2=1,R138*($B$6*3.6/(M138*(O138/1000)))^2,2*R138*($B$6*3.6/(M138*(O138/1000)))^2)","v":0},{"$f":"IF(C138=\"\",\"\",IF(skjermbilde!$D$2=1,C138,IF(AND(skjermbilde!$D$2=2,2*C138>60),60,IF(skjermbilde!$D$2=2,2*C138))))","v":7},{"$f":"IF(skjermbilde!$D$2=1,D138,IF(AND(skjermbilde!$D$2=2,2*D138>60),60,IF(skjermbilde!$D$2=2,2*D138)))","v":28},{"$f":"IF(skjermbilde!$D$2=1,E138,IF(AND(skjermbilde!$D$2=2,2*E138>60),60,IF(skjermbilde!$D$2=2,2*E138)))","v":23},{"$f":"IF(skjermbilde!$D$2=1,F138,IF(AND(skjermbilde!$D$2=2,2*F138>60),60,IF(skjermbilde!$D$2=2,2*F138)))","v":23},{"$f":"IF(skjermbilde!$D$2=1,G138,IF(AND(skjermbilde!$D$2=2,2*G138>60),60,IF(skjermbilde!$D$2=2,2*G138)))","v":29},{"$f":"IF(skjermbilde!$D$2=1,H138,IF(AND(skjermbilde!$D$2=2,2*H138>60),60,IF(skjermbilde!$D$2=2,2*H138)))","v":34},{"$f":"IF(skjermbilde!$D$2=1,I138,IF(AND(skjermbilde!$D$2=2,2*I138>60),60,IF(skjermbilde!$D$2=2,2*I138)))","v":17},{"$f":"IF(J138=\"\",\"\",IF(skjermbilde!$D$2=1,J138,IF(AND(skjermbilde!$D$2=2,2*J138>60),60,IF(skjermbilde!$D$2=2,2*J138))))","v":14},null,null,{"$f":"+IF(ISNUMBER(skjermbilde!G$3-Y138-skjermbilde!G$6-4),skjermbilde!G$3-Y138-skjermbilde!G$6-4,0)","v":-11},{"$f":"+IF(ISNUMBER(skjermbilde!H$3-Z138-skjermbilde!H$6-4),skjermbilde!H$3-Z138-skjermbilde!H$6-4,0)","v":-32},{"$f":"+IF(ISNUMBER(skjermbilde!I$3-AA138-skjermbilde!I$6-4),skjermbilde!I$3-AA138-skjermbilde!I$6-4,0)","v":-27},{"$f":"+IF(ISNUMBER(skjermbilde!J$3-AB138-skjermbilde!J$6-4),skjermbilde!J$3-AB138-skjermbilde!J$6-4,0)","v":-27},{"$f":"+IF(ISNUMBER(skjermbilde!K$3-AC138-skjermbilde!K$6-4),skjermbilde!K$3-AC138-skjermbilde!K$6-4,0)","v":-33},{"$f":"+IF(ISNUMBER(skjermbilde!L$3-AD138-skjermbilde!L$6-4),skjermbilde!L$3-AD138-skjermbilde!L$6-4,0)","v":-38},{"$f":"+IF(ISNUMBER(skjermbilde!M$3-AE138-skjermbilde!M$6-4),skjermbilde!M$3-AE138-skjermbilde!M$6-4,0)","v":-21},{"$f":"+IF(ISNUMBER(skjermbilde!N$3-AF138-skjermbilde!N$6-4),skjermbilde!N$3-AF138-skjermbilde!N$6-4,0)","v":-18},{"$f":"IF(skjermbilde!$O$10=TRUE,10*LOG10(10^(0.1*(AI138+AI$12))+10^(0.1*(AJ138+AJ$12))+10^(0.1*(AK138+AK$12))+10^(0.1*(AL138+AL$12))+10^(0.1*(AM138+AM$12))+10^(0.1*(AN138+AN$12))+10^(0.1*(AO138+AO$12))+10^(0.1*(AP138+AP$12))),\"\")","v":""},1,1,1,1,1,1,1,1,1,1,1,{"$f":"+IF(skjermbilde!$N$10=1,1,0)","v":1},{"$f":"+IF(U138=\"r\",1,IF(M138=skjermbilde!$D$3,1,0))","v":1},{"$f":"+IF(U138=\"s\",1,IF(N138=skjermbilde!$C$3,1,IF(OR(N138<datagrunnlag!D138,N138>datagrunnlag!E138),0,0)))","v":0},{"$f":"+IF(U138=\"s\",1,IF(O138=skjermbilde!$C$4,1,0))","v":0},1,0,null,null,null,123,"",null,null,null,null,null,null,null,null,null,null,null,null,null,null,"",123,"",null,null,null,null,null,null,null,null,null,null,null,null,"",123,{"$f":"IF(ISERROR(SMALL(CB$17:CB$261,BL137)),\"\",SMALL(CB$17:CB$261,BL137))","v":""},null,null,null,null,"",{"$f":"IF(skjermbilde!$D$2=1,VLOOKUP($CS138,$CB$17:$CD$261,3,FALSE),CONCATENATE(\"2 x \",VLOOKUP($CS138,$CB$17:$CD$261,3,FALSE)))","v":""},null,null,null,null,null,null,null,null,null,8.1000000000000061E-7,1.00000081,1,"LKK-200,0019D",{"$f":"IF(ISERROR(SMALL(DJ$17:DJ$261,BL137)),\"\",SMALL(DJ$17:DJ$261,BL137))","v":1.00000081},"LKK-200,0019D",0]
[124,{"$f":"CONCATENATE(\"LKK-\",MID(datagrunnlag!H139,1,1),IF(N139/100<10,CONCATENATE(0,N139/100),N139/100),(MID(datagrunnlag!H139,2,2)))","v":"LKK-200,0019E"},{"$f":"datagrunnlag!I139","v":7},{"$f":"datagrunnlag!J139","v":19},{"$f":"datagrunnlag!K139","v":13},{"$f":"datagrunnlag!L139","v":15},{"$f":"datagrunnlag!M139","v":25},{"$f":"datagrunnlag!N139","v":34},{"$f":"datagrunnlag!O139","v":22},{"$f":"datagrunnlag!P139","v":18},{"$f":"+datagrunnlag!A139","v":"LKK"},{"$f":"+datagrunnlag!B139","v":"r"},{"$f":"IF(N139<1,0.01,(INT((N139+400-100)/(600)))*200)","v":0.01},{"$f":"IF(OR(skjermbilde!$C$3<datagrunnlag!D139,skjermbilde!$C$3>datagrunnlag!E139),0.1,100*ROUND(skjermbilde!$C$3/100,0))","v":0.1},{"$f":"+IF(skjermbilde!$C$4<>0,skjermbilde!$C$4,0.00001)","v":1.0000000000000001E-5},{"$f":"++IF(datagrunnlag!F139=\"s\",\"c\",datagrunnlag!F139)","v":"r"},{"$f":"+datagrunnlag!G139","v":1240},{"$f":"datagrunnlag!Q139","v":2.6819265306122449E-2},0,201,"r",0,0,{"$f":"IF(skjermbilde!$D$2=1,R139*($B$6*3.6/(M139*(O139/1000)))^2,2*R139*($B$6*3.6/(M139*(O139/1000)))^2)","v":0},{"$f":"IF(C139=\"\",\"\",IF(skjermbilde!$D$2=1,C139,IF(AND(skjermbilde!$D$2=2,2*C139>60),60,IF(skjermbilde!$D$2=2,2*C139))))","v":7},{"$f":"IF(skjermbilde!$D$2=1,D139,IF(AND(skjermbilde!$D$2=2,2*D139>60),60,IF(skjermbilde!$D$2=2,2*D139)))","v":19},{"$f":"IF(skjermbilde!$D$2=1,E139,IF(AND(skjermbilde!$D$2=2,2*E139>60),60,IF(skjermbilde!$D$2=2,2*E139)))","v":13},{"$f":"IF(skjermbilde!$D$2=1,F139,IF(AND(skjermbilde!$D$2=2,2*F139>60),60,IF(skjermbilde!$D$2=2,2*F139)))","v":15},{"$f":"IF(skjermbilde!$D$2=1,G139,IF(AND(skjermbilde!$D$2=2,2*G139>60),60,IF(skjermbilde!$D$2=2,2*G139)))","v":25},{"$f":"IF(skjermbilde!$D$2=1,H139,IF(AND(skjermbilde!$D$2=2,2*H139>60),60,IF(skjermbilde!$D$2=2,2*H139)))","v":34},{"$f":"IF(skjermbilde!$D$2=1,I139,IF(AND(skjermbilde!$D$2=2,2*I139>60),60,IF(skjermbilde!$D$2=2,2*I139)))","v":22},{"$f":"IF(J139=\"\",\"\",IF(skjermbilde!$D$2=1,J139,IF(AND(skjermbilde!$D$2=2,2*J139>60),60,IF(skjermbilde!$D$2=2,2*J139))))","v":18},null,null,{"$f":"+IF(ISNUMBER(skjermbilde!G$3-Y139-skjermbilde!G$6-4),skjermbilde!G$3-Y139-skjermbilde!G$6-4,0)","v":-11},{"$f":"+IF(ISNUMBER(skjermbilde!H$3-Z139-skjermbilde!H$6-4),skjermbilde!H$3-Z139-skjermbilde!H$6-4,0)","v":-23},{"$f":"+IF(ISNUMBER(skjermbilde!I$3-AA139-skjermbilde!I$6-4),skjermbilde!I$3-AA139-skjermbilde!I$6-4,0)","v":-17},{"$f":"+IF(ISNUMBER(skjermbilde!J$3-AB139-skjermbilde!J$6-4),skjermbilde!J$3-AB139-skjermbilde!J$6-4,0)","v":-19},{"$f":"+IF(ISNUMBER(skjermbilde!K$3-AC139-skjermbilde!K$6-4),skjermbilde!K$3-AC139-skjermbilde!K$6-4,0)","v":-29},{"$f":"+IF(ISNUMBER(skjermbilde!L$3-AD139-skjermbilde!L$6-4),skjermbilde!L$3-AD139-skjermbilde!L$6-4,0)","v":-38},{"$f":"+IF(ISNUMBER(skjermbilde!M$3-AE139-skjermbilde!M$6-4),skjermbilde!M$3-AE139-skjermbilde!M$6-4,0)","v":-26},{"$f":"+IF(ISNUMBER(skjermbilde!N$3-AF139-skjermbilde!N$6-4),skjermbilde!N$3-AF139-skjermbilde!N$6-4,0)","v":-22},{"$f":"IF(skjermbilde!$O$10=TRUE,10*LOG10(10^(0.1*(AI139+AI$12))+10^(0.1*(AJ139+AJ$12))+10^(0.1*(AK139+AK$12))+10^(0.1*(AL139+AL$12))+10^(0.1*(AM139+AM$12))+10^(0.1*(AN139+AN$12))+10^(0.1*(AO139+AO$12))+10^(0.1*(AP139+AP$12))),\"\")","v":""},1,1,1,1,1,1,1,1,1,1,1,{"$f":"+IF(skjermbilde!$N$10=1,1,0)","v":1},{"$f":"+IF(U139=\"r\",1,IF(M139=skjermbilde!$D$3,1,0))","v":1},{"$f":"+IF(U139=\"s\",1,IF(N139=skjermbilde!$C$3,1,IF(OR(N139<datagrunnlag!D139,N139>datagrunnlag!E139),0,0)))","v":0},{"$f":"+IF(U139=\"s\",1,IF(O139=skjermbilde!$C$4,1,0))","v":0},1,0,null,null,null,124,"",null,null,null,null,null,null,null,null,null,null,null,null,null,null,"",124,"",null,null,null,null,null,null,null,null,null,null,null,null,"",124,"",null,null,null,null,"",{"$f":"IF(skjermbilde!$D$2=1,VLOOKUP($CS139,$CB$17:$CD$261,3,FALSE),CONCATENATE(\"2 x \",VLOOKUP($CS139,$CB$17:$CD$261,3,FALSE)))","v":""},null,null,null,null,null,null,null,null,null,8.2000000000000062E-7,1.0000008199999999,1,"LKK-200,0019E",1.0000008199999999,"LKK-200,0019E",0]
[125,{"$f":"CONCATENATE(\"LKK-\",MID(datagrunnlag!H140,1,1),IF(N140/100<10,CONCATENATE(0,N140/100),N140/100),(MID(datagrunnlag!H140,2,2)))","v":"LKK-200,0019F"},{"$f":"datagrunnlag!I140","v":7},{"$f":"datagrunnlag!J140","v":14},{"$f":"datagrunnlag!K140","v":12},{"$f":"datagrunnlag!L140","v":13},{"$f":"datagrunnlag!M140","v":21},{"$f":"datagrunnlag!N140","v":27},{"$f":"datagrunnlag!O140","v":20},{"$f":"datagrunnlag!P140","v":14},{"$f":"+datagrunnlag!A140","v":"LKK"},{"$f":"+datagrunnlag!B140","v":"r"},{"$f":"IF(N140<1,0.01,(INT((N140+400-100)/(650)))*250)","v":0.01},{"$f":"IF(OR(skjermbilde!$C$3<datagrunnlag!D140,skjermbilde!$C$3>datagrunnlag!E140),0.1,100*ROUND(skjermbilde!$C$3/100,0))","v":0.1},{"$f":"+IF(skjermbilde!$C$4<>0,skjermbilde!$C$4,0.00001)","v":1.0000000000000001E-5},{"$f":"++IF(datagrunnlag!F140=\"s\",\"c\",datagrunnlag!F140)","v":"r"},{"$f":"+datagrunnlag!G140","v":1240},{"$f":"datagrunnlag!Q140","v":3.0868897959183676E-2},0,201,"r",0,0,{"$f":"IF(skjermbilde!$D$2=1,R140*($B$6*3.6/(M140*(O140/1000)))^2,2*R140*($B$6*3.6/(M140*(O140/1000)))^2)","v":0},{"$f":"IF(C140=\"\",\"\",IF(skjermbilde!$D$2=1,C140,IF(AND(skjermbilde!$D$2=2,2*C140>60),60,IF(skjermbilde!$D$2=2,2*C140))))","v":7},{"$f":"IF(skjermbilde!$D$2=1,D140,IF(AND(skjermbilde!$D$2=2,2*D140>60),60,IF(skjermbilde!$D$2=2,2*D140)))","v":14},{"$f":"IF(skjermbilde!$D$2=1,E140,IF(AND(skjermbilde!$D$2=2,2*E140>60),60,IF(skjermbilde!$D$2=2,2*E140)))","v":12},{"$f":"IF(skjermbilde!$D$2=1,F140,IF(AND(skjermbilde!$D$2=2,2*F140>60),60,IF(skjermbilde!$D$2=2,2*F140)))","v":13},{"$f":"IF(skjermbilde!$D$2=1,G140,IF(AND(skjermbilde!$D$2=2,2*G140>60),60,IF(skjermbilde!$D$2=2,2*G140)))","v":21},{"$f":"IF(skjermbilde!$D$2=1,H140,IF(AND(skjermbilde!$D$2=2,2*H140>60),60,IF(skjermbilde!$D$2=2,2*H140)))","v":27},{"$f":"IF(skjermbilde!$D$2=1,I140,IF(AND(skjermbilde!$D$2=2,2*I140>60),60,IF(skjermbilde!$D$2=2,2*I140)))","v":20},{"$f":"IF(J140=\"\",\"\",IF(skjermbilde!$D$2=1,J140,IF(AND(skjermbilde!$D$2=2,2*J140>60),60,IF(skjermbilde!$D$2=2,2*J140))))","v":14},null,null,{"$f":"+IF(ISNUMBER(skjermbilde!G$3-Y140-skjermbilde!G$6-4),skjermbilde!G$3-Y140-skjermbilde!G$6-4,0)","v":-11},{"$f":"+IF(ISNUMBER(skjermbilde!H$3-Z140-skjermbilde!H$6-4),skjermbilde!H$3-Z140-skjermbilde!H$6-4,0)","v":-18},{"$f":"+IF(ISNUMBER(skjermbilde!I$3-AA140-skjermbilde!I$6-4),skjermbilde!I$3-AA140-skjermbilde!I$6-4,0)","v":-16},{"$f":"+IF(ISNUMBER(skjermbilde!J$3-AB140-skjermbilde!J$6-4),skjermbilde!J$3-AB140-skjermbilde!J$6-4,0)","v":-17},{"$f":"+IF(ISNUMBER(skjermbilde!K$3-AC140-skjermbilde!K$6-4),skjermbilde!K$3-AC140-skjermbilde!K$6-4,0)","v":-25},{"$f":"+IF(ISNUMBER(skjermbilde!L$3-AD140-skjermbilde!L$6-4),skjermbilde!L$3-AD140-skjermbilde!L$6-4,0)","v":-31},{"$f":"+IF(ISNUMBER(skjermbilde!M$3-AE140-skjermbilde!M$6-4),skjermbilde!M$3-AE140-skjermbilde!M$6-4,0)","v":-24},{"$f":"+IF(ISNUMBER(skjermbilde!N$3-AF140-skjermbilde!N$6-4),skjermbilde!N$3-AF140-skjermbilde!N$6-4,0)","v":-18},{"$f":"IF(skjermbilde!$O$10=TRUE,10*LOG10(10^(0.1*(AI140+AI$12))+10^(0.1*(AJ140+AJ$12))+10^(0.1*(AK140+AK$12))+10^(0.1*(AL140+AL$12))+10^(0.1*(AM140+AM$12))+10^(0.1*(AN140+AN$12))+10^(0.1*(AO140+AO$12))+10^(0.1*(AP140+AP$12))),\"\")","v":""},1,1,1,1,1,1,1,1,1,1,1,{"$f":"+IF(skjermbilde!$N$10=1,1,0)","v":1},{"$f":"+IF(U140=\"r\",1,IF(M140=skjermbilde!$D$3,1,0))","v":1},{"$f":"+IF(U140=\"s\",1,IF(N140=skjermbilde!$C$3,1,IF(OR(N140<datagrunnlag!D140,N140>datagrunnlag!E140),0,0)))","v":0},{"$f":"+IF(U140=\"s\",1,IF(O140=skjermbilde!$C$4,1,0))","v":0},1,0,null,null,null,125,"",null,null,null,null,null,null,null,null,null,null,null,null,null,null,"",125,"",null,null,null,null,null,null,null,null,null,null,null,null,"",125,"",null,null,null,null,"",{"$f":"IF(skjermbilde!$D$2=1,VLOOKUP($CS140,$CB$17:$CD$261,3,FALSE),CONCATENATE(\"2 x \",VLOOKUP($CS140,$CB$17:$CD$261,3,FALSE)))","v":""},null,null,null,null,null,null,null,null,null,8.3000000000000063E-7,1.0000008300000001,1,"LKK-200,0019F",1.0000008300000001,"LKK-200,0019F",0]
[126,{"$f":"CONCATENATE(\"LKK-\",MID(datagrunnlag!H141,1,1),IF(N141/100<10,CONCATENATE(0,N141/100),N141/100),(MID(datagrunnlag!H141,2,2)))","v":"LKK-300,0015A"},{"$f":"datagrunnlag!I141","v":2},{"$f":"datagrunnlag!J141","v":17},{"$f":"datagrunnlag!K141","v":44},{"$f":"datagrunnlag!L141","v":47},{"$f":"datagrunnlag!M141","v":50},{"$f":"datagrunnlag!N141","v":50},{"$f":"datagrunnlag!O141","v":44},{"$f":"datagrunnlag!P141","v":37},{"$f":"+datagrunnlag!A141","v":"LKK"},{"$f":"+datagrunnlag!B141","v":"r"},{"$f":"IF(N141<1,0.01,(INT((N141+200-100)/(250)))*50)","v":0.01},{"$f":"IF(OR(skjermbilde!$C$3<datagrunnlag!D141,skjermbilde!$C$3>datagrunnlag!E141),0.1,100*ROUND(skjermbilde!$C$3/100,0))","v":0.1},{"$f":"+IF(skjermbilde!$C$4<>0,skjermbilde!$C$4,0.00001)","v":1.0000000000000001E-5},{"$f":"++IF(datagrunnlag!F141=\"s\",\"c\",datagrunnlag!F141)","v":"r"},{"$f":"+datagrunnlag!G141","v":1500},{"$f":"datagrunnlag!Q141","v":3.542288692561079E-2},0,201,"r",0,0,{"$f":"IF(skjermbilde!$D$2=1,R141*($B$6*3.6/(M141*(O141/1000)))^2,2*R141*($B$6*3.6/(M141*(O141/1000)))^2)","v":0},{"$f":"IF(C141=\"\",\"\",IF(skjermbilde!$D$2=1,C141,IF(AND(skjermbilde!$D$2=2,2*C141>60),60,IF(skjermbilde!$D$2=2,2*C141))))","v":2},{"$f":"IF(skjermbilde!$D$2=1,D141,IF(AND(skjermbilde!$D$2=2,2*D141>60),60,IF(skjermbilde!$D$2=2,2*D141)))","v":17},{"$f":"IF(skjermbilde!$D$2=1,E141,IF(AND(skjermbilde!$D$2=2,2*E141>60),60,IF(skjermbilde!$D$2=2,2*E141)))","v":44},{"$f":"IF(skjermbilde!$D$2=1,F141,IF(AND(skjermbilde!$D$2=2,2*F141>60),60,IF(skjermbilde!$D$2=2,2*F141)))","v":47},{"$f":"IF(skjermbilde!$D$2=1,G141,IF(AND(skjermbilde!$D$2=2,2*G141>60),60,IF(skjermbilde!$D$2=2,2*G141)))","v":50},{"$f":"IF(skjermbilde!$D$2=1,H141,IF(AND(skjermbilde!$D$2=2,2*H141>60),60,IF(skjermbilde!$D$2=2,2*H141)))","v":50},{"$f":"IF(skjermbilde!$D$2=1,I141,IF(AND(skjermbilde!$D$2=2,2*I141>60),60,IF(skjermbilde!$D$2=2,2*I141)))","v":44},{"$f":"IF(J141=\"\",\"\",IF(skjermbilde!$D$2=1,J141,IF(AND(skjermbilde!$D$2=2,2*J141>60),60,IF(skjermbilde!$D$2=2,2*J141))))","v":37},null,null,{"$f":"+IF(ISNUMBER(skjermbilde!G$3-Y141-skjermbilde!G$6-4),skjermbilde!G$3-Y141-skjermbilde!G$6-4,0)","v":-6},{"$f":"+IF(ISNUMBER(skjermbilde!H$3-Z141-skjermbilde!H$6-4),skjermbilde!H$3-Z141-skjermbilde!H$6-4,0)","v":-21},{"$f":"+IF(ISNUMBER(skjermbilde!I$3-AA141-skjermbilde!I$6-4),skjermbilde!I$3-AA141-skjermbilde!I$6-4,0)","v":-48},{"$f":"+IF(ISNUMBER(skjermbilde!J$3-AB141-skjermbilde!J$6-4),skjermbilde!J$3-AB141-skjermbilde!J$6-4,0)","v":-51},{"$f":"+IF(ISNUMBER(skjermbilde!K$3-AC141-skjermbilde!K$6-4),skjermbilde!K$3-AC141-skjermbilde!K$6-4,0)","v":-54},{"$f":"+IF(ISNUMBER(skjermbilde!L$3-AD141-skjermbilde!L$6-4),skjermbilde!L$3-AD141-skjermbilde!L$6-4,0)","v":-54},{"$f":"+IF(ISNUMBER(skjermbilde!M$3-AE141-skjermbilde!M$6-4),skjermbilde!M$3-AE141-skjermbilde!M$6-4,0)","v":-48},{"$f":"+IF(ISNUMBER(skjermbilde!N$3-AF141-skjermbilde!N$6-4),skjermbilde!N$3-AF141-skjermbilde!N$6-4,0)","v":-41},{"$f":"IF(skjermbilde!$O$10=TRUE,10*LOG10(10^(0.1*(AI141+AI$12))+10^(0.1*(AJ141+AJ$12))+10^(0.1*(AK141+AK$12))+10^(0.1*(AL141+AL$12))+10^(0.1*(AM141+AM$12))+10^(0.1*(AN141+AN$12))+10^(0.1*(AO141+AO$12))+10^(0.1*(AP141+AP$12))),\"\")","v":""},1,1,1,1,1,1,1,1,1,1,1,{"$f":"+IF(skjermbilde!$N$10=1,1,0)","v":1},{"$f":"+IF(U141=\"r\",1,IF(M141=skjermbilde!$D$3,1,0))","v":1},{"$f":"+IF(U141=\"s\",1,IF(N141=skjermbilde!$C$3,1,IF(OR(N141<datagrunnlag!D141,N141>datagrunnlag!E141),0,0)))","v":0},{"$f":"+IF(U141=\"s\",1,IF(O141=skjermbilde!$C$4,1,0))","v":0},1,0,null,null,null,126,"",null,null,null,null,null,null,null,null,null,null,null,null,null,null,"",126,"",null,null,null,null,null,null,null,null,null,null,null,null,"",126,"",null,null,null,null,"",{"$f":"IF(skjermbilde!$D$2=1,VLOOKUP($CS141,$CB$17:$CD$261,3,FALSE),CONCATENATE(\"2 x \",VLOOKUP($CS141,$CB$17:$CD$261,3,FALSE)))","v":""},null,null,null,null,null,null,null,null,null,8.4000000000000064E-7,1.00000084,1,"LKK-300,0015A",1.00000084,"LKK-300,0015A",0]
[127,{"$f":"CONCATENATE(\"LKK-\",MID(datagrunnlag!H142,1,1),IF(N142/100<10,CONCATENATE(0,N142/100),N142/100),(MID(datagrunnlag!H142,2,2)))","v":"LKK-300,0015B"},{"$f":"datagrunnlag!I142","v":2},{"$f":"datagrunnlag!J142","v":16},{"$f":"datagrunnlag!K142","v":38},{"$f":"datagrunnlag!L142","v":43},{"$f":"datagrunnlag!M142","v":42},{"$f":"datagrunnlag!N142","v":46},{"$f":"datagrunnlag!O142","v":38},{"$f":"datagrunnlag!P142","v":27},{"$f":"+datagrunnlag!A142","v":"LKK"},{"$f":"+datagrunnlag!B142","v":"r"},{"$f":"IF(N142<1,0.01,(INT((N142+200-50)/(275)))*75)","v":0.01},{"$f":"IF(OR(skjermbilde!$C$3<datagrunnlag!D142,skjermbilde!$C$3>datagrunnlag!E142),0.1,100*ROUND(skjermbilde!$C$3/100,0))","v":0.1},{"$f":"+IF(skjermbilde!$C$4<>0,skjermbilde!$C$4,0.00001)","v":1.0000000000000001E-5},{"$f":"++IF(datagrunnlag!F142=\"s\",\"c\",datagrunnlag!F142)","v":"r"},{"$f":"+datagrunnlag!G142","v":1500},{"$f":"datagrunnlag!Q142","v":3.6142377135776164E-2},0,201,"r",0,0,{"$f":"IF(skjermbilde!$D$2=1,R142*($B$6*3.6/(M142*(O142/1000)))^2,2*R142*($B$6*3.6/(M142*(O142/1000)))^2)","v":0},{"$f":"IF(C142=\"\",\"\",IF(skjermbilde!$D$2=1,C142,IF(AND(skjermbilde!$D$2=2,2*C142>60),60,IF(skjermbilde!$D$2=2,2*C142))))","v":2},{"$f":"IF(skjermbilde!$D$2=1,D142,IF(AND(skjermbilde!$D$2=2,2*D142>60),60,IF(skjermbilde!$D$2=2,2*D142)))","v":16},{"$f":"IF(skjermbilde!$D$2=1,E142,IF(AND(skjermbilde!$D$2=2,2*E142>60),60,IF(skjermbilde!$D$2=2,2*E142)))","v":38},{"$f":"IF(skjermbilde!$D$2=1,F142,IF(AND(skjermbilde!$D$2=2,2*F142>60),60,IF(skjermbilde!$D$2=2,2*F142)))","v":43},{"$f":"IF(skjermbilde!$D$2=1,G142,IF(AND(skjermbilde!$D$2=2,2*G142>60),60,IF(skjermbilde!$D$2=2,2*G142)))","v":42},{"$f":"IF(skjermbilde!$D$2=1,H142,IF(AND(skjermbilde!$D$2=2,2*H142>60),60,IF(skjermbilde!$D$2=2,2*H142)))","v":46},{"$f":"IF(skjermbilde!$D$2=1,I142,IF(AND(skjermbilde!$D$2=2,2*I142>60),60,IF(skjermbilde!$D$2=2,2*I142)))","v":38},{"$f":"IF(J142=\"\",\"\",IF(skjermbilde!$D$2=1,J142,IF(AND(skjermbilde!$D$2=2,2*J142>60),60,IF(skjermbilde!$D$2=2,2*J142))))","v":27},null,null,{"$f":"+IF(ISNUMBER(skjermbilde!G$3-Y142-skjermbilde!G$6-4),skjermbilde!G$3-Y142-skjermbilde!G$6-4,0)","v":-6},{"$f":"+IF(ISNUMBER(skjermbilde!H$3-Z142-skjermbilde!H$6-4),skjermbilde!H$3-Z142-skjermbilde!H$6-4,0)","v":-20},{"$f":"+IF(ISNUMBER(skjermbilde!I$3-AA142-skjermbilde!I$6-4),skjermbilde!I$3-AA142-skjermbilde!I$6-4,0)","v":-42},{"$f":"+IF(ISNUMBER(skjermbilde!J$3-AB142-skjermbilde!J$6-4),skjermbilde!J$3-AB142-skjermbilde!J$6-4,0)","v":-47},{"$f":"+IF(ISNUMBER(skjermbilde!K$3-AC142-skjermbilde!K$6-4),skjermbilde!K$3-AC142-skjermbilde!K$6-4,0)","v":-46},{"$f":"+IF(ISNUMBER(skjermbilde!L$3-AD142-skjermbilde!L$6-4),skjermbilde!L$3-AD142-skjermbilde!L$6-4,0)","v":-50},{"$f":"+IF(ISNUMBER(skjermbilde!M$3-AE142-skjermbilde!M$6-4),skjermbilde!M$3-AE142-skjermbilde!M$6-4,0)","v":-42},{"$f":"+IF(ISNUMBER(skjermbilde!N$3-AF142-skjermbilde!N$6-4),skjermbilde!N$3-AF142-skjermbilde!N$6-4,0)","v":-31},{"$f":"IF(skjermbilde!$O$10=TRUE,10*LOG10(10^(0.1*(AI142+AI$12))+10^(0.1*(AJ142+AJ$12))+10^(0.1*(AK142+AK$12))+10^(0.1*(AL142+AL$12))+10^(0.1*(AM142+AM$12))+10^(0.1*(AN142+AN$12))+10^(0.1*(AO142+AO$12))+10^(0.1*(AP142+AP$12))),\"\")","v":""},1,1,1,1,1,1,1,1,1,1,1,{"$f":"+IF(skjermbilde!$N$10=1,1,0)","v":1},{"$f":"+IF(U142=\"r\",1,IF(M142=skjermbilde!$D$3,1,0))","v":1},{"$f":"+IF(U142=\"s\",1,IF(N142=skjermbilde!$C$3,1,IF(OR(N142<datagrunnlag!D142,N142>datagrunnlag!E142),0,0)))","v":0},{"$f":"+IF(U142=\"s\",1,IF(O142=skjermbilde!$C$4,1,0))","v":0},1,0,null,null,null,127,"",null,null,null,null,null,null,null,null,null,null,null,null,null,null,"",127,"",null,null,null,null,null,null,null,null,null,null,null,null,"",127,"",null,null,null,null,"",{"$f":"IF(skjermbilde!$D$2=1,VLOOKUP($CS142,$CB$17:$CD$261,3,FALSE),CONCATENATE(\"2 x \",VLOOKUP($CS142,$CB$17:$CD$261,3,FALSE)))","v":""},null,null,null,null,null,null,null,null,null,8.5000000000000065E-7,1.0000008499999999,1,"LKK-300,0015B",1.0000008499999999,"LKK-300,0015B",0]
[128,{"$f":"CONCATENATE(\"LKK-\",MID(datagrunnlag!H143,1,1),IF(N143/100<10,CONCATENATE(0,N143/100),N143/100),(MID(datagrunnlag!H143,2,2)))","v":"LKK-300,0015C"},{"$f":"datagrunnlag!I143","v":2},{"$f":"datagrunnlag!J143","v":11},{"$f":"datagrunnlag!K143","v":31},{"$f":"datagrunnlag!L143","v":41},{"$f":"datagrunnlag!M143","v":50},{"$f":"datagrunnlag!N143","v":48},{"$f":"datagrunnlag!O143","v":30},{"$f":"datagrunnlag!P143","v":19},{"$f":"+datagrunnlag!A143","v":"LKK"},{"$f":"+datagrunnlag!B143","v":"r"},{"$f":"IF(N143<1,0.01,(INT((N143+200-100)/(300)))*100)","v":0.01},{"$f":"IF(OR(skjermbilde!$C$3<datagrunnlag!D143,skjermbilde!$C$3>datagrunnlag!E143),0.1,100*ROUND(skjermbilde!$C$3/100,0))","v":0.1},{"$f":"+IF(skjermbilde!$C$4<>0,skjermbilde!$C$4,0.00001)","v":1.0000000000000001E-5},{"$f":"++IF(datagrunnlag!F143=\"s\",\"c\",datagrunnlag!F143)","v":"r"},{"$f":"+datagrunnlag!G143","v":1500},{"$f":"datagrunnlag!Q143","v":3.0250988348498559E-2},0,201,"r",0,0,{"$f":"IF(skjermbilde!$D$2=1,R143*($B$6*3.6/(M143*(O143/1000)))^2,2*R143*($B$6*3.6/(M143*(O143/1000)))^2)","v":0},{"$f":"IF(C143=\"\",\"\",IF(skjermbilde!$D$2=1,C143,IF(AND(skjermbilde!$D$2=2,2*C143>60),60,IF(skjermbilde!$D$2=2,2*C143))))","v":2},{"$f":"IF(skjermbilde!$D$2=1,D143,IF(AND(skjermbilde!$D$2=2,2*D143>60),60,IF(skjermbilde!$D$2=2,2*D143)))","v":11},{"$f":"IF(skjermbilde!$D$2=1,E143,IF(AND(skjermbilde!$D$2=2,2*E143>60),60,IF(skjermbilde!$D$2=2,2*E143)))","v":31},{"$f":"IF(skjermbilde!$D$2=1,F143,IF(AND(skjermbilde!$D$2=2,2*F143>60),60,IF(skjermbilde!$D$2=2,2*F143)))","v":41},{"$f":"IF(skjermbilde!$D$2=1,G143,IF(AND(skjermbilde!$D$2=2,2*G143>60),60,IF(skjermbilde!$D$2=2,2*G143)))","v":50},{"$f":"IF(skjermbilde!$D$2=1,H143,IF(AND(skjermbilde!$D$2=2,2*H143>60),60,IF(skjermbilde!$D$2=2,2*H143)))","v":48},{"$f":"IF(skjermbilde!$D$2=1,I143,IF(AND(skjermbilde!$D$2=2,2*I143>60),60,IF(skjermbilde!$D$2=2,2*I143)))","v":30},{"$f":"IF(J143=\"\",\"\",IF(skjermbilde!$D$2=1,J143,IF(AND(skjermbilde!$D$2=2,2*J143>60),60,IF(skjermbilde!$D$2=2,2*J143))))","v":19},null,null,{"$f":"+IF(ISNUMBER(skjermbilde!G$3-Y143-skjermbilde!G$6-4),skjermbilde!G$3-Y143-skjermbilde!G$6-4,0)","v":-6},{"$f":"+IF(ISNUMBER(skjermbilde!H$3-Z143-skjermbilde!H$6-4),skjermbilde!H$3-Z143-skjermbilde!H$6-4,0)","v":-15},{"$f":"+IF(ISNUMBER(skjermbilde!I$3-AA143-skjermbilde!I$6-4),skjermbilde!I$3-AA143-skjermbilde!I$6-4,0)","v":-35},{"$f":"+IF(ISNUMBER(skjermbilde!J$3-AB143-skjermbilde!J$6-4),skjermbilde!J$3-AB143-skjermbilde!J$6-4,0)","v":-45},{"$f":"+IF(ISNUMBER(skjermbilde!K$3-AC143-skjermbilde!K$6-4),skjermbilde!K$3-AC143-skjermbilde!K$6-4,0)","v":-54},{"$f":"+IF(ISNUMBER(skjermbilde!L$3-AD143-skjermbilde!L$6-4),skjermbilde!L$3-AD143-skjermbilde!L$6-4,0)","v":-52},{"$f":"+IF(ISNUMBER(skjermbilde!M$3-AE143-skjermbilde!M$6-4),skjermbilde!M$3-AE143-skjermbilde!M$6-4,0)","v":-34},{"$f":"+IF(ISNUMBER(skjermbilde!N$3-AF143-skjermbilde!N$6-4),skjermbilde!N$3-AF143-skjermbilde!N$6-4,0)","v":-23},{"$f":"IF(skjermbilde!$O$10=TRUE,10*LOG10(10^(0.1*(AI143+AI$12))+10^(0.1*(AJ143+AJ$12))+10^(0.1*(AK143+AK$12))+10^(0.1*(AL143+AL$12))+10^(0.1*(AM143+AM$12))+10^(0.1*(AN143+AN$12))+10^(0.1*(AO143+AO$12))+10^(0.1*(AP143+AP$12))),\"\")","v":""},1,1,1,1,1,1,1,1,1,1,1,{"$f":"+IF(skjermbilde!$N$10=1,1,0)","v":1},{"$f":"+IF(U143=\"r\",1,IF(M143=skjermbilde!$D$3,1,0))","v":1},{"$f":"+IF(U143=\"s\",1,IF(N143=skjermbilde!$C$3,1,IF(OR(N143<datagrunnlag!D143,N143>datagrunnlag!E143),0,0)))","v":0},{"$f":"+IF(U143=\"s\",1,IF(O143=skjermbilde!$C$4,1,0))","v":0},1,0,null,null,null,128,"",null,null,null,null,null,null,null,null,null,null,null,null,null,null,"",128,"",null,null,null,null,null,null,null,null,null,null,null,null,"",128,"",null,null,null,null,"",{"$f":"IF(skjermbilde!$D$2=1,VLOOKUP($CS143,$CB$17:$CD$261,3,FALSE),CONCATENATE(\"2 x \",VLOOKUP($CS143,$CB$17:$CD$261,3,FALSE)))","v":""},null,null,null,null,null,null,null,null,null,8.6000000000000066E-7,1.0000008600000001,1,"LKK-300,0015C",1.0000008600000001,"LKK-300,0015C",0]
[129,{"$f":"CONCATENATE(\"LKK-\",MID(datagrunnlag!H144,1,1),IF(N144/100<10,CONCATENATE(0,N144/100),N144/100),(MID(datagrunnlag!H144,2,2)))","v":"LKK-300,0015D"},{"$f":"datagrunnlag!I144","v":2},{"$f":"datagrunnlag!J144","v":12},{"$f":"datagrunnlag!K144","v":23},{"$f":"datagrunnlag!L144","v":31},{"$f":"datagrunnlag!M144","v":38},{"$f":"datagrunnlag!N144","v":29},{"$f":"datagrunnlag!O144","v":17},{"$f":"datagrunnlag!P144","v":11},{"$f":"+datagrunnlag!A144","v":"LKK"},{"$f":"+datagrunnlag!B144","v":"r"},{"$f":"IF(N144<1,0.01,(INT((N144+200-50)/(350)))*150)","v":0.01},{"$f":"IF(OR(skjermbilde!$C$3<datagrunnlag!D144,skjermbilde!$C$3>datagrunnlag!E144),0.1,100*ROUND(skjermbilde!$C$3/100,0))","v":0.1},{"$f":"+IF(skjermbilde!$C$4<>0,skjermbilde!$C$4,0.00001)","v":1.0000000000000001E-5},{"$f":"++IF(datagrunnlag!F144=\"s\",\"c\",datagrunnlag!F144)","v":"r"},{"$f":"+datagrunnlag!G144","v":1500},{"$f":"datagrunnlag!Q144","v":2.9850419117188998E-2},0,201,"r",0,0,{"$f":"IF(skjermbilde!$D$2=1,R144*($B$6*3.6/(M144*(O144/1000)))^2,2*R144*($B$6*3.6/(M144*(O144/1000)))^2)","v":0},{"$f":"IF(C144=\"\",\"\",IF(skjermbilde!$D$2=1,C144,IF(AND(skjermbilde!$D$2=2,2*C144>60),60,IF(skjermbilde!$D$2=2,2*C144))))","v":2},{"$f":"IF(skjermbilde!$D$2=1,D144,IF(AND(skjermbilde!$D$2=2,2*D144>60),60,IF(skjermbilde!$D$2=2,2*D144)))","v":12},{"$f":"IF(skjermbilde!$D$2=1,E144,IF(AND(skjermbilde!$D$2=2,2*E144>60),60,IF(skjermbilde!$D$2=2,2*E144)))","v":23},{"$f":"IF(skjermbilde!$D$2=1,F144,IF(AND(skjermbilde!$D$2=2,2*F144>60),60,IF(skjermbilde!$D$2=2,2*F144)))","v":31},{"$f":"IF(skjermbilde!$D$2=1,G144,IF(AND(skjermbilde!$D$2=2,2*G144>60),60,IF(skjermbilde!$D$2=2,2*G144)))","v":38},{"$f":"IF(skjermbilde!$D$2=1,H144,IF(AND(skjermbilde!$D$2=2,2*H144>60),60,IF(skjermbilde!$D$2=2,2*H144)))","v":29},{"$f":"IF(skjermbilde!$D$2=1,I144,IF(AND(skjermbilde!$D$2=2,2*I144>60),60,IF(skjermbilde!$D$2=2,2*I144)))","v":17},{"$f":"IF(J144=\"\",\"\",IF(skjermbilde!$D$2=1,J144,IF(AND(skjermbilde!$D$2=2,2*J144>60),60,IF(skjermbilde!$D$2=2,2*J144))))","v":11},null,null,{"$f":"+IF(ISNUMBER(skjermbilde!G$3-Y144-skjermbilde!G$6-4),skjermbilde!G$3-Y144-skjermbilde!G$6-4,0)","v":-6},{"$f":"+IF(ISNUMBER(skjermbilde!H$3-Z144-skjermbilde!H$6-4),skjermbilde!H$3-Z144-skjermbilde!H$6-4,0)","v":-16},{"$f":"+IF(ISNUMBER(skjermbilde!I$3-AA144-skjermbilde!I$6-4),skjermbilde!I$3-AA144-skjermbilde!I$6-4,0)","v":-27},{"$f":"+IF(ISNUMBER(skjermbilde!J$3-AB144-skjermbilde!J$6-4),skjermbilde!J$3-AB144-skjermbilde!J$6-4,0)","v":-35},{"$f":"+IF(ISNUMBER(skjermbilde!K$3-AC144-skjermbilde!K$6-4),skjermbilde!K$3-AC144-skjermbilde!K$6-4,0)","v":-42},{"$f":"+IF(ISNUMBER(skjermbilde!L$3-AD144-skjermbilde!L$6-4),skjermbilde!L$3-AD144-skjermbilde!L$6-4,0)","v":-33},{"$f":"+IF(ISNUMBER(skjermbilde!M$3-AE144-skjermbilde!M$6-4),skjermbilde!M$3-AE144-skjermbilde!M$6-4,0)","v":-21},{"$f":"+IF(ISNUMBER(skjermbilde!N$3-AF144-skjermbilde!N$6-4),skjermbilde!N$3-AF144-skjermbilde!N$6-4,0)","v":-15},{"$f":"IF(skjermbilde!$O$10=TRUE,10*LOG10(10^(0.1*(AI144+AI$12))+10^(0.1*(AJ144+AJ$12))+10^(0.1*(AK144+AK$12))+10^(0.1*(AL144+AL$12))+10^(0.1*(AM144+AM$12))+10^(0.1*(AN144+AN$12))+10^(0.1*(AO144+AO$12))+10^(0.1*(AP144+AP$12))),\"\")","v":""},1,1,1,1,1,1,1,1,1,1,1,{"$f":"+IF(skjermbilde!$N$10=1,1,0)","v":1},{"$f":"+IF(U144=\"r\",1,IF(M144=skjermbilde!$D$3,1,0))","v":1},{"$f":"+IF(U144=\"s\",1,IF(N144=skjermbilde!$C$3,1,IF(OR(N144<datagrunnlag!D144,N144>datagrunnlag!E144),0,0)))","v":0},{"$f":"+IF(U144=\"s\",1,IF(O144=skjermbilde!$C$4,1,0))","v":0},1,0,null,null,null,129,"",null,null,null,null,null,null,null,null,null,null,null,null,null,null,"",129,"",null,null,null,null,null,null,null,null,null,null,null,null,"",129,"",null,null,null,null,"",{"$f":"IF(skjermbilde!$D$2=1,VLOOKUP($CS144,$CB$17:$CD$261,3,FALSE),CONCATENATE(\"2 x \",VLOOKUP($CS144,$CB$17:$CD$261,3,FALSE)))","v":""},null,null,null,null,null,null,null,null,null,8.7000000000000067E-7,1.00000087,1,"LKK-300,0015D",1.00000087,"LKK-300,0015D",0]
[130,{"$f":"CONCATENATE(\"LKK-\",MID(datagrunnlag!H145,1,1),IF(N145/100<10,CONCATENATE(0,N145/100),N145/100),(MID(datagrunnlag!H145,2,2)))","v":"LKK-300,0015E"},{"$f":"datagrunnlag!I145","v":2},{"$f":"datagrunnlag!J145","v":6},{"$f":"datagrunnlag!K145","v":19},{"$f":"datagrunnlag!L145","v":24},{"$f":"datagrunnlag!M145","v":30},{"$f":"datagrunnlag!N145","v":22},{"$f":"datagrunnlag!O145","v":12},{"$f":"datagrunnlag!P145","v":8},{"$f":"+datagrunnlag!A145","v":"LKK"},{"$f":"+datagrunnlag!B145","v":"r"},{"$f":"IF(N145<1,0.01,(INT((N145+200-100)/(400)))*200)","v":0.01},{"$f":"IF(OR(skjermbilde!$C$3<datagrunnlag!D145,skjermbilde!$C$3>datagrunnlag!E145),0.1,100*ROUND(skjermbilde!$C$3/100,0))","v":0.1},{"$f":"+IF(skjermbilde!$C$4<>0,skjermbilde!$C$4,0.00001)","v":1.0000000000000001E-5},{"$f":"++IF(datagrunnlag!F145=\"s\",\"c\",datagrunnlag!F145)","v":"r"},{"$f":"+datagrunnlag!G145","v":1500},{"$f":"datagrunnlag!Q145","v":1.8829592190674399E-2},0,201,"r",0,0,{"$f":"IF(skjermbilde!$D$2=1,R145*($B$6*3.6/(M145*(O145/1000)))^2,2*R145*($B$6*3.6/(M145*(O145/1000)))^2)","v":0},{"$f":"IF(C145=\"\",\"\",IF(skjermbilde!$D$2=1,C145,IF(AND(skjermbilde!$D$2=2,2*C145>60),60,IF(skjermbilde!$D$2=2,2*C145))))","v":2},{"$f":"IF(skjermbilde!$D$2=1,D145,IF(AND(skjermbilde!$D$2=2,2*D145>60),60,IF(skjermbilde!$D$2=2,2*D145)))","v":6},{"$f":"IF(skjermbilde!$D$2=1,E145,IF(AND(skjermbilde!$D$2=2,2*E145>60),60,IF(skjermbilde!$D$2=2,2*E145)))","v":19},{"$f":"IF(skjermbilde!$D$2=1,F145,IF(AND(skjermbilde!$D$2=2,2*F145>60),60,IF(skjermbilde!$D$2=2,2*F145)))","v":24},{"$f":"IF(skjermbilde!$D$2=1,G145,IF(AND(skjermbilde!$D$2=2,2*G145>60),60,IF(skjermbilde!$D$2=2,2*G145)))","v":30},{"$f":"IF(skjermbilde!$D$2=1,H145,IF(AND(skjermbilde!$D$2=2,2*H145>60),60,IF(skjermbilde!$D$2=2,2*H145)))","v":22},{"$f":"IF(skjermbilde!$D$2=1,I145,IF(AND(skjermbilde!$D$2=2,2*I145>60),60,IF(skjermbilde!$D$2=2,2*I145)))","v":12},{"$f":"IF(J145=\"\",\"\",IF(skjermbilde!$D$2=1,J145,IF(AND(skjermbilde!$D$2=2,2*J145>60),60,IF(skjermbilde!$D$2=2,2*J145))))","v":8},null,null,{"$f":"+IF(ISNUMBER(skjermbilde!G$3-Y145-skjermbilde!G$6-4),skjermbilde!G$3-Y145-skjermbilde!G$6-4,0)","v":-6},{"$f":"+IF(ISNUMBER(skjermbilde!H$3-Z145-skjermbilde!H$6-4),skjermbilde!H$3-Z145-skjermbilde!H$6-4,0)","v":-10},{"$f":"+IF(ISNUMBER(skjermbilde!I$3-AA145-skjermbilde!I$6-4),skjermbilde!I$3-AA145-skjermbilde!I$6-4,0)","v":-23},{"$f":"+IF(ISNUMBER(skjermbilde!J$3-AB145-skjermbilde!J$6-4),skjermbilde!J$3-AB145-skjermbilde!J$6-4,0)","v":-28},{"$f":"+IF(ISNUMBER(skjermbilde!K$3-AC145-skjermbilde!K$6-4),skjermbilde!K$3-AC145-skjermbilde!K$6-4,0)","v":-34},{"$f":"+IF(ISNUMBER(skjermbilde!L$3-AD145-skjermbilde!L$6-4),skjermbilde!L$3-AD145-skjermbilde!L$6-4,0)","v":-26},{"$f":"+IF(ISNUMBER(skjermbilde!M$3-AE145-skjermbilde!M$6-4),skjermbilde!M$3-AE145-skjermbilde!M$6-4,0)","v":-16},{"$f":"+IF(ISNUMBER(skjermbilde!N$3-AF145-skjermbilde!N$6-4),skjermbilde!N$3-AF145-skjermbilde!N$6-4,0)","v":-12},{"$f":"IF(skjermbilde!$O$10=TRUE,10*LOG10(10^(0.1*(AI145+AI$12))+10^(0.1*(AJ145+AJ$12))+10^(0.1*(AK145+AK$12))+10^(0.1*(AL145+AL$12))+10^(0.1*(AM145+AM$12))+10^(0.1*(AN145+AN$12))+10^(0.1*(AO145+AO$12))+10^(0.1*(AP145+AP$12))),\"\")","v":""},1,1,1,1,1,1,1,1,1,{"$f":"+IF(U145=L145,1,0)","v":1},1,{"$f":"+IF(skjermbilde!$N$10=1,1,0)","v":1},{"$f":"+IF(U145=\"r\",1,IF(M145=skjermbilde!$D$3,1,0))","v":1},{"$f":"+IF(U145=\"s\",1,IF(N145=skjermbilde!$C$3,1,IF(OR(N145<datagrunnlag!D145,N145>datagrunnlag!E145),0,0)))","v":0},{"$f":"+IF(U145=\"s\",1,IF(O145=skjermbilde!$C$4,1,0))","v":0},1,0,null,null,null,{"$f":"+A145","v":130},"",null,null,null,null,null,null,null,null,null,null,null,null,null,null,{"$f":"+IF($BH145=1,$X145+DI145,\"\")","v":""},{"$f":"+BL145","v":130},"",null,null,null,null,null,null,null,null,null,null,null,null,"",130,"",null,null,null,null,"",{"$f":"IF(skjermbilde!$D$2=1,VLOOKUP($CS145,$CB$17:$CD$261,3,FALSE),CONCATENATE(\"2 x \",VLOOKUP($CS145,$CB$17:$CD$261,3,FALSE)))","v":""},null,null,null,null,null,null,null,null,null,8.8000000000000068E-7,{"$f":"IF(ISNUMBER(DK145),DK145+DI145,\"\")","v":1.00000088},{"$f":"SEARCH($DL$14,B145,1)","v":1},{"$f":"IF(ISNUMBER(DK145),B145,\"\")","v":"LKK-300,0015E"},1.00000088,{"$f":"VLOOKUP(DM145,DJ$17:DM$261,3,FALSE)","v":"LKK-300,0015E"},{"$f":"VLOOKUP(DN145,$B$17:$CQ$261,62,FALSE)","v":0}]
[131,{"$f":"CONCATENATE(\"LKK-\",MID(datagrunnlag!H146,1,1),IF(N146/100<10,CONCATENATE(0,N146/100),N146/100),(MID(datagrunnlag!H146,2,2)))","v":"LKK-300,0017C"},{"$f":"datagrunnlag!I146","v":5},{"$f":"datagrunnlag!J146","v":20},{"$f":"datagrunnlag!K146","v":31},{"$f":"datagrunnlag!L146","v":41},{"$f":"datagrunnlag!M146","v":42},{"$f":"datagrunnlag!N146","v":41},{"$f":"datagrunnlag!O146","v":27},{"$f":"datagrunnlag!P146","v":17},{"$f":"+datagrunnlag!A146","v":"LKK"},{"$f":"+datagrunnlag!B146","v":"r"},{"$f":"IF(N146<1,0.01,(INT((N146+300-100)/(400)))*100)","v":0.01},{"$f":"IF(OR(skjermbilde!$C$3<datagrunnlag!D146,skjermbilde!$C$3>datagrunnlag!E146),0.1,100*ROUND(skjermbilde!$C$3/100,0))","v":0.1},{"$f":"+IF(skjermbilde!$C$4<>0,skjermbilde!$C$4,0.00001)","v":1.0000000000000001E-5},{"$f":"++IF(datagrunnlag!F146=\"s\",\"c\",datagrunnlag!F146)","v":"r"},{"$f":"+datagrunnlag!G146","v":1500},{"$f":"datagrunnlag!Q146","v":3.6989464099895938E-2},0,201,"r",0,0,{"$f":"IF(skjermbilde!$D$2=1,R146*($B$6*3.6/(M146*(O146/1000)))^2,2*R146*($B$6*3.6/(M146*(O146/1000)))^2)","v":0},{"$f":"IF(C146=\"\",\"\",IF(skjermbilde!$D$2=1,C146,IF(AND(skjermbilde!$D$2=2,2*C146>60),60,IF(skjermbilde!$D$2=2,2*C146))))","v":5},{"$f":"IF(skjermbilde!$D$2=1,D146,IF(AND(skjermbilde!$D$2=2,2*D146>60),60,IF(skjermbilde!$D$2=2,2*D146)))","v":20},{"$f":"IF(skjermbilde!$D$2=1,E146,IF(AND(skjermbilde!$D$2=2,2*E146>60),60,IF(skjermbilde!$D$2=2,2*E146)))","v":31},{"$f":"IF(skjermbilde!$D$2=1,F146,IF(AND(skjermbilde!$D$2=2,2*F146>60),60,IF(skjermbilde!$D$2=2,2*F146)))","v":41},{"$f":"IF(skjermbilde!$D$2=1,G146,IF(AND(skjermbilde!$D$2=2,2*G146>60),60,IF(skjermbilde!$D$2=2,2*G146)))","v":42},{"$f":"IF(skjermbilde!$D$2=1,H146,IF(AND(skjermbilde!$D$2=2,2*H146>60),60,IF(skjermbilde!$D$2=2,2*H146)))","v":41},{"$f":"IF(skjermbilde!$D$2=1,I146,IF(AND(skjermbilde!$D$2=2,2*I146>60),60,IF(skjermbilde!$D$2=2,2*I146)))","v":27},{"$f":"IF(J146=\"\",\"\",IF(skjermbilde!$D$2=1,J146,IF(AND(skjermbilde!$D$2=2,2*J146>60),60,IF(skjermbilde!$D$2=2,2*J146))))","v":17},null,null,{"$f":"+IF(ISNUMBER(skjermbilde!G$3-Y146-skjermbilde!G$6-4),skjermbilde!G$3-Y146-skjermbilde!G$6-4,0)","v":-9},{"$f":"+IF(ISNUMBER(skjermbilde!H$3-Z146-skjermbilde!H$6-4),skjermbilde!H$3-Z146-skjermbilde!H$6-4,0)","v":-24},{"$f":"+IF(ISNUMBER(skjermbilde!I$3-AA146-skjermbilde!I$6-4),skjermbilde!I$3-AA146-skjermbilde!I$6-4,0)","v":-35},{"$f":"+IF(ISNUMBER(skjermbilde!J$3-AB146-skjermbilde!J$6-4),skjermbilde!J$3-AB146-skjermbilde!J$6-4,0)","v":-45},{"$f":"+IF(ISNUMBER(skjermbilde!K$3-AC146-skjermbilde!K$6-4),skjermbilde!K$3-AC146-skjermbilde!K$6-4,0)","v":-46},{"$f":"+IF(ISNUMBER(skjermbilde!L$3-AD146-skjermbilde!L$6-4),skjermbilde!L$3-AD146-skjermbilde!L$6-4,0)","v":-45},{"$f":"+IF(ISNUMBER(skjermbilde!M$3-AE146-skjermbilde!M$6-4),skjermbilde!M$3-AE146-skjermbilde!M$6-4,0)","v":-31},{"$f":"+IF(ISNUMBER(skjermbilde!N$3-AF146-skjermbilde!N$6-4),skjermbilde!N$3-AF146-skjermbilde!N$6-4,0)","v":-21},{"$f":"IF(skjermbilde!$O$10=TRUE,10*LOG10(10^(0.1*(AI146+AI$12))+10^(0.1*(AJ146+AJ$12))+10^(0.1*(AK146+AK$12))+10^(0.1*(AL146+AL$12))+10^(0.1*(AM146+AM$12))+10^(0.1*(AN146+AN$12))+10^(0.1*(AO146+AO$12))+10^(0.1*(AP146+AP$12))),\"\")","v":""},1,1,1,1,1,1,1,1,1,1,1,{"$f":"+IF(skjermbilde!$N$10=1,1,0)","v":1},{"$f":"+IF(U146=\"r\",1,IF(M146=skjermbilde!$D$3,1,0))","v":1},{"$f":"+IF(U146=\"s\",1,IF(N146=skjermbilde!$C$3,1,IF(OR(N146<datagrunnlag!D146,N146>datagrunnlag!E146),0,0)))","v":0},{"$f":"+IF(U146=\"s\",1,IF(O146=skjermbilde!$C$4,1,0))","v":0},1,0,null,null,null,131,"",null,null,null,null,null,null,null,null,null,null,null,null,null,null,"",131,"",null,null,null,null,null,null,null,null,null,null,null,null,"",131,"",null,null,null,null,{"$f":"+IF(VLOOKUP($CS146,$CB$17:$CD$261,2,FALSE)=2,\"\",VLOOKUP($CS146,$CB$17:$CD$261,2,FALSE))","v":""},{"$f":"IF(skjermbilde!$D$2=1,VLOOKUP($CS146,$CB$17:$CD$261,3,FALSE),CONCATENATE(\"2 x \",VLOOKUP($CS146,$CB$17:$CD$261,3,FALSE)))","v":""},null,null,null,null,null,null,null,null,null,8.9000000000000069E-7,1.0000008899999999,1,"LKK-300,0017C",1.0000008899999999,"LKK-300,0017C",0]
[132,{"$f":"CONCATENATE(\"LKK-\",MID(datagrunnlag!H147,1,1),IF(N147/100<10,CONCATENATE(0,N147/100),N147/100),(MID(datagrunnlag!H147,2,2)))","v":"LKK-300,0017D"},{"$f":"datagrunnlag!I147","v":2},{"$f":"datagrunnlag!J147","v":16},{"$f":"datagrunnlag!K147","v":23},{"$f":"datagrunnlag!L147","v":29},{"$f":"datagrunnlag!M147","v":39},{"$f":"datagrunnlag!N147","v":30},{"$f":"datagrunnlag!O147","v":17},{"$f":"datagrunnlag!P147","v":11},{"$f":"+datagrunnlag!A147","v":"LKK"},{"$f":"+datagrunnlag!B147","v":"r"},{"$f":"IF(N147<1,0.01,(INT((N147+300-100)/(450)))*150)","v":0.01},{"$f":"IF(OR(skjermbilde!$C$3<datagrunnlag!D147,skjermbilde!$C$3>datagrunnlag!E147),0.1,100*ROUND(skjermbilde!$C$3/100,0))","v":0.1},{"$f":"+IF(skjermbilde!$C$4<>0,skjermbilde!$C$4,0.00001)","v":1.0000000000000001E-5},{"$f":"++IF(datagrunnlag!F147=\"s\",\"c\",datagrunnlag!F147)","v":"r"},{"$f":"+datagrunnlag!G147","v":1500},{"$f":"datagrunnlag!Q147","v":2.8430206629998508E-2},0,201,"r",0,0,{"$f":"IF(skjermbilde!$D$2=1,R147*($B$6*3.6/(M147*(O147/1000)))^2,2*R147*($B$6*3.6/(M147*(O147/1000)))^2)","v":0},{"$f":"IF(C147=\"\",\"\",IF(skjermbilde!$D$2=1,C147,IF(AND(skjermbilde!$D$2=2,2*C147>60),60,IF(skjermbilde!$D$2=2,2*C147))))","v":2},{"$f":"IF(skjermbilde!$D$2=1,D147,IF(AND(skjermbilde!$D$2=2,2*D147>60),60,IF(skjermbilde!$D$2=2,2*D147)))","v":16},{"$f":"IF(skjermbilde!$D$2=1,E147,IF(AND(skjermbilde!$D$2=2,2*E147>60),60,IF(skjermbilde!$D$2=2,2*E147)))","v":23},{"$f":"IF(skjermbilde!$D$2=1,F147,IF(AND(skjermbilde!$D$2=2,2*F147>60),60,IF(skjermbilde!$D$2=2,2*F147)))","v":29},{"$f":"IF(skjermbilde!$D$2=1,G147,IF(AND(skjermbilde!$D$2=2,2*G147>60),60,IF(skjermbilde!$D$2=2,2*G147)))","v":39},{"$f":"IF(skjermbilde!$D$2=1,H147,IF(AND(skjermbilde!$D$2=2,2*H147>60),60,IF(skjermbilde!$D$2=2,2*H147)))","v":30},{"$f":"IF(skjermbilde!$D$2=1,I147,IF(AND(skjermbilde!$D$2=2,2*I147>60),60,IF(skjermbilde!$D$2=2,2*I147)))","v":17},{"$f":"IF(J147=\"\",\"\",IF(skjermbilde!$D$2=1,J147,IF(AND(skjermbilde!$D$2=2,2*J147>60),60,IF(skjermbilde!$D$2=2,2*J147))))","v":11},null,null,{"$f":"+IF(ISNUMBER(skjermbilde!G$3-Y147-skjermbilde!G$6-4),skjermbilde!G$3-Y147-skjermbilde!G$6-4,0)","v":-6},{"$f":"+IF(ISNUMBER(skjermbilde!H$3-Z147-skjermbilde!H$6-4),skjermbilde!H$3-Z147-skjermbilde!H$6-4,0)","v":-20},{"$f":"+IF(ISNUMBER(skjermbilde!I$3-AA147-skjermbilde!I$6-4),skjermbilde!I$3-AA147-skjermbilde!I$6-4,0)","v":-27},{"$f":"+IF(ISNUMBER(skjermbilde!J$3-AB147-skjermbilde!J$6-4),skjermbilde!J$3-AB147-skjermbilde!J$6-4,0)","v":-33},{"$f":"+IF(ISNUMBER(skjermbilde!K$3-AC147-skjermbilde!K$6-4),skjermbilde!K$3-AC147-skjermbilde!K$6-4,0)","v":-43},{"$f":"+IF(ISNUMBER(skjermbilde!L$3-AD147-skjermbilde!L$6-4),skjermbilde!L$3-AD147-skjermbilde!L$6-4,0)","v":-34},{"$f":"+IF(ISNUMBER(skjermbilde!M$3-AE147-skjermbilde!M$6-4),skjermbilde!M$3-AE147-skjermbilde!M$6-4,0)","v":-21},{"$f":"+IF(ISNUMBER(skjermbilde!N$3-AF147-skjermbilde!N$6-4),skjermbilde!N$3-AF147-skjermbilde!N$6-4,0)","v":-15},{"$f":"IF(skjermbilde!$O$10=TRUE,10*LOG10(10^(0.1*(AI147+AI$12))+10^(0.1*(AJ147+AJ$12))+10^(0.1*(AK147+AK$12))+10^(0.1*(AL147+AL$12))+10^(0.1*(AM147+AM$12))+10^(0.1*(AN147+AN$12))+10^(0.1*(AO147+AO$12))+10^(0.1*(AP147+AP$12))),\"\")","v":""},1,1,1,1,1,1,1,1,1,1,1,{"$f":"+IF(skjermbilde!$N$10=1,1,0)","v":1},{"$f":"+IF(U147=\"r\",1,IF(M147=skjermbilde!$D$3,1,0))","v":1},{"$f":"+IF(U147=\"s\",1,IF(N147=skjermbilde!$C$3,1,IF(OR(N147<datagrunnlag!D147,N147>datagrunnlag!E147),0,0)))","v":0},{"$f":"+IF(U147=\"s\",1,IF(O147=skjermbilde!$C$4,1,0))","v":0},1,0,null,null,null,132,"",null,null,null,null,null,null,null,null,null,null,null,null,null,null,"",132,"",null,null,null,null,null,null,null,null,null,null,null,null,"",132,"",null,null,null,null,"",{"$f":"IF(skjermbilde!$D$2=1,VLOOKUP($CS147,$CB$17:$CD$261,3,FALSE),CONCATENATE(\"2 x \",VLOOKUP($CS147,$CB$17:$CD$261,3,FALSE)))","v":""},null,null,null,null,null,null,null,null,null,9.000000000000007E-7,1.0000009000000001,1,"LKK-300,0017D",1.0000009000000001,"LKK-300,0017D",0]
[133,{"$f":"CONCATENATE(\"LKK-\",MID(datagrunnlag!H148,1,1),IF(N148/100<10,CONCATENATE(0,N148/100),N148/100),(MID(datagrunnlag!H148,2,2)))","v":"LKK-300,0017E"},{"$f":"datagrunnlag!I148","v":4},{"$f":"datagrunnlag!J148","v":17},{"$f":"datagrunnlag!K148","v":17},{"$f":"datagrunnlag!L148","v":27},{"$f":"datagrunnlag!M148","v":31},{"$f":"datagrunnlag!N148","v":25},{"$f":"datagrunnlag!O148","v":17},{"$f":"datagrunnlag!P148","v":14},{"$f":"+datagrunnlag!A148","v":"LKK"},{"$f":"+datagrunnlag!B148","v":"r"},{"$f":"IF(N148<1,0.01,(INT((N148+300-100)/(500)))*200)","v":0.01},{"$f":"IF(OR(skjermbilde!$C$3<datagrunnlag!D148,skjermbilde!$C$3>datagrunnlag!E148),0.1,100*ROUND(skjermbilde!$C$3/100,0))","v":0.1},{"$f":"+IF(skjermbilde!$C$4<>0,skjermbilde!$C$4,0.00001)","v":1.0000000000000001E-5},{"$f":"++IF(datagrunnlag!F148=\"s\",\"c\",datagrunnlag!F148)","v":"r"},{"$f":"+datagrunnlag!G148","v":1500},{"$f":"datagrunnlag!Q148","v":3.6788278203470685E-2},0,201,"r",0,0,{"$f":"IF(skjermbilde!$D$2=1,R148*($B$6*3.6/(M148*(O148/1000)))^2,2*R148*($B$6*3.6/(M148*(O148/1000)))^2)","v":0},{"$f":"IF(C148=\"\",\"\",IF(skjermbilde!$D$2=1,C148,IF(AND(skjermbilde!$D$2=2,2*C148>60),60,IF(skjermbilde!$D$2=2,2*C148))))","v":4},{"$f":"IF(skjermbilde!$D$2=1,D148,IF(AND(skjermbilde!$D$2=2,2*D148>60),60,IF(skjermbilde!$D$2=2,2*D148)))","v":17},{"$f":"IF(skjermbilde!$D$2=1,E148,IF(AND(skjermbilde!$D$2=2,2*E148>60),60,IF(skjermbilde!$D$2=2,2*E148)))","v":17},{"$f":"IF(skjermbilde!$D$2=1,F148,IF(AND(skjermbilde!$D$2=2,2*F148>60),60,IF(skjermbilde!$D$2=2,2*F148)))","v":27},{"$f":"IF(skjermbilde!$D$2=1,G148,IF(AND(skjermbilde!$D$2=2,2*G148>60),60,IF(skjermbilde!$D$2=2,2*G148)))","v":31},{"$f":"IF(skjermbilde!$D$2=1,H148,IF(AND(skjermbilde!$D$2=2,2*H148>60),60,IF(skjermbilde!$D$2=2,2*H148)))","v":25},{"$f":"IF(skjermbilde!$D$2=1,I148,IF(AND(skjermbilde!$D$2=2,2*I148>60),60,IF(skjermbilde!$D$2=2,2*I148)))","v":17},{"$f":"IF(J148=\"\",\"\",IF(skjermbilde!$D$2=1,J148,IF(AND(skjermbilde!$D$2=2,2*J148>60),60,IF(skjermbilde!$D$2=2,2*J148))))","v":14},null,null,{"$f":"+IF(ISNUMBER(skjermbilde!G$3-Y148-skjermbilde!G$6-4),skjermbilde!G$3-Y148-skjermbilde!G$6-4,0)","v":-8},{"$f":"+IF(ISNUMBER(skjermbilde!H$3-Z148-skjermbilde!H$6-4),skjermbilde!H$3-Z148-skjermbilde!H$6-4,0)","v":-21},{"$f":"+IF(ISNUMBER(skjermbilde!I$3-AA148-skjermbilde!I$6-4),skjermbilde!I$3-AA148-skjermbilde!I$6-4,0)","v":-21},{"$f":"+IF(ISNUMBER(skjermbilde!J$3-AB148-skjermbilde!J$6-4),skjermbilde!J$3-AB148-skjermbilde!J$6-4,0)","v":-31},{"$f":"+IF(ISNUMBER(skjermbilde!K$3-AC148-skjermbilde!K$6-4),skjermbilde!K$3-AC148-skjermbilde!K$6-4,0)","v":-35},{"$f":"+IF(ISNUMBER(skjermbilde!L$3-AD148-skjermbilde!L$6-4),skjermbilde!L$3-AD148-skjermbilde!L$6-4,0)","v":-29},{"$f":"+IF(ISNUMBER(skjermbilde!M$3-AE148-skjermbilde!M$6-4),skjermbilde!M$3-AE148-skjermbilde!M$6-4,0)","v":-21},{"$f":"+IF(ISNUMBER(skjermbilde!N$3-AF148-skjermbilde!N$6-4),skjermbilde!N$3-AF148-skjermbilde!N$6-4,0)","v":-18},{"$f":"IF(skjermbilde!$O$10=TRUE,10*LOG10(10^(0.1*(AI148+AI$12))+10^(0.1*(AJ148+AJ$12))+10^(0.1*(AK148+AK$12))+10^(0.1*(AL148+AL$12))+10^(0.1*(AM148+AM$12))+10^(0.1*(AN148+AN$12))+10^(0.1*(AO148+AO$12))+10^(0.1*(AP148+AP$12))),\"\")","v":""},1,1,1,1,1,1,1,1,1,1,1,{"$f":"+IF(skjermbilde!$N$10=1,1,0)","v":1},{"$f":"+IF(U148=\"r\",1,IF(M148=skjermbilde!$D$3,1,0))","v":1},{"$f":"+IF(U148=\"s\",1,IF(N148=skjermbilde!$C$3,1,IF(OR(N148<datagrunnlag!D148,N148>datagrunnlag!E148),0,0)))","v":0},{"$f":"+IF(U148=\"s\",1,IF(O148=skjermbilde!$C$4,1,0))","v":0},1,0,null,null,null,133,"",null,null,null,null,null,null,null,null,null,null,null,null,null,null,"",133,"",null,null,null,null,null,null,null,null,null,null,null,null,"",133,"",null,null,null,null,"",{"$f":"IF(skjermbilde!$D$2=1,VLOOKUP($CS148,$CB$17:$CD$261,3,FALSE),CONCATENATE(\"2 x \",VLOOKUP($CS148,$CB$17:$CD$261,3,FALSE)))","v":""},null,null,null,null,null,null,null,null,null,9.1000000000000071E-7,1.00000091,1,"LKK-300,0017E",1.00000091,"LKK-300,0017E",0]
[134,{"$f":"CONCATENATE(\"LKK-\",MID(datagrunnlag!H149,1,1),IF(N149/100<10,CONCATENATE(0,N149/100),N149/100),(MID(datagrunnlag!H149,2,2)))","v":"LKK-300,0019D"},{"$f":"datagrunnlag!I149","v":8},{"$f":"datagrunnlag!J149","v":31},{"$f":"datagrunnlag!K149","v":27},{"$f":"datagrunnlag!L149","v":26},{"$f":"datagrunnlag!M149","v":33},{"$f":"datagrunnlag!N149","v":37},{"$f":"datagrunnlag!O149","v":20},{"$f":"datagrunnlag!P149","v":14},{"$f":"+datagrunnlag!A149","v":"LKK"},{"$f":"+datagrunnlag!B149","v":"r"},{"$f":"IF(N149<1,0.01,(INT((N149+400-100)/(550)))*150)","v":0.01},{"$f":"IF(OR(skjermbilde!$C$3<datagrunnlag!D149,skjermbilde!$C$3>datagrunnlag!E149),0.1,100*ROUND(skjermbilde!$C$3/100,0))","v":0.1},{"$f":"+IF(skjermbilde!$C$4<>0,skjermbilde!$C$4,0.00001)","v":1.0000000000000001E-5},{"$f":"++IF(datagrunnlag!F149=\"s\",\"c\",datagrunnlag!F149)","v":"r"},{"$f":"+datagrunnlag!G149","v":1500},{"$f":"datagrunnlag!Q149","v":3.2028391836734685E-2},0,201,"r",0,0,{"$f":"IF(skjermbilde!$D$2=1,R149*($B$6*3.6/(M149*(O149/1000)))^2,2*R149*($B$6*3.6/(M149*(O149/1000)))^2)","v":0},{"$f":"IF(C149=\"\",\"\",IF(skjermbilde!$D$2=1,C149,IF(AND(skjermbilde!$D$2=2,2*C149>60),60,IF(skjermbilde!$D$2=2,2*C149))))","v":8},{"$f":"IF(skjermbilde!$D$2=1,D149,IF(AND(skjermbilde!$D$2=2,2*D149>60),60,IF(skjermbilde!$D$2=2,2*D149)))","v":31},{"$f":"IF(skjermbilde!$D$2=1,E149,IF(AND(skjermbilde!$D$2=2,2*E149>60),60,IF(skjermbilde!$D$2=2,2*E149)))","v":27},{"$f":"IF(skjermbilde!$D$2=1,F149,IF(AND(skjermbilde!$D$2=2,2*F149>60),60,IF(skjermbilde!$D$2=2,2*F149)))","v":26},{"$f":"IF(skjermbilde!$D$2=1,G149,IF(AND(skjermbilde!$D$2=2,2*G149>60),60,IF(skjermbilde!$D$2=2,2*G149)))","v":33},{"$f":"IF(skjermbilde!$D$2=1,H149,IF(AND(skjermbilde!$D$2=2,2*H149>60),60,IF(skjermbilde!$D$2=2,2*H149)))","v":37},{"$f":"IF(skjermbilde!$D$2=1,I149,IF(AND(skjermbilde!$D$2=2,2*I149>60),60,IF(skjermbilde!$D$2=2,2*I149)))","v":20},{"$f":"IF(J149=\"\",\"\",IF(skjermbilde!$D$2=1,J149,IF(AND(skjermbilde!$D$2=2,2*J149>60),60,IF(skjermbilde!$D$2=2,2*J149))))","v":14},null,null,{"$f":"+IF(ISNUMBER(skjermbilde!G$3-Y149-skjermbilde!G$6-4),skjermbilde!G$3-Y149-skjermbilde!G$6-4,0)","v":-12},{"$f":"+IF(ISNUMBER(skjermbilde!H$3-Z149-skjermbilde!H$6-4),skjermbilde!H$3-Z149-skjermbilde!H$6-4,0)","v":-35},{"$f":"+IF(ISNUMBER(skjermbilde!I$3-AA149-skjermbilde!I$6-4),skjermbilde!I$3-AA149-skjermbilde!I$6-4,0)","v":-31},{"$f":"+IF(ISNUMBER(skjermbilde!J$3-AB149-skjermbilde!J$6-4),skjermbilde!J$3-AB149-skjermbilde!J$6-4,0)","v":-30},{"$f":"+IF(ISNUMBER(skjermbilde!K$3-AC149-skjermbilde!K$6-4),skjermbilde!K$3-AC149-skjermbilde!K$6-4,0)","v":-37},{"$f":"+IF(ISNUMBER(skjermbilde!L$3-AD149-skjermbilde!L$6-4),skjermbilde!L$3-AD149-skjermbilde!L$6-4,0)","v":-41},{"$f":"+IF(ISNUMBER(skjermbilde!M$3-AE149-skjermbilde!M$6-4),skjermbilde!M$3-AE149-skjermbilde!M$6-4,0)","v":-24},{"$f":"+IF(ISNUMBER(skjermbilde!N$3-AF149-skjermbilde!N$6-4),skjermbilde!N$3-AF149-skjermbilde!N$6-4,0)","v":-18},{"$f":"IF(skjermbilde!$O$10=TRUE,10*LOG10(10^(0.1*(AI149+AI$12))+10^(0.1*(AJ149+AJ$12))+10^(0.1*(AK149+AK$12))+10^(0.1*(AL149+AL$12))+10^(0.1*(AM149+AM$12))+10^(0.1*(AN149+AN$12))+10^(0.1*(AO149+AO$12))+10^(0.1*(AP149+AP$12))),\"\")","v":""},1,1,1,1,1,1,1,1,1,1,1,{"$f":"+IF(skjermbilde!$N$10=1,1,0)","v":1},{"$f":"+IF(U149=\"r\",1,IF(M149=skjermbilde!$D$3,1,0))","v":1},{"$f":"+IF(U149=\"s\",1,IF(N149=skjermbilde!$C$3,1,IF(OR(N149<datagrunnlag!D149,N149>datagrunnlag!E149),0,0)))","v":0},{"$f":"+IF(U149=\"s\",1,IF(O149=skjermbilde!$C$4,1,0))","v":0},1,0,null,null,null,134,"",null,null,null,null,null,null,null,null,null,null,null,null,null,null,"",134,"",null,null,null,null,null,null,null,null,null,null,null,null,"",134,"",null,null,null,null,"",{"$f":"IF(skjermbilde!$D$2=1,VLOOKUP($CS149,$CB$17:$CD$261,3,FALSE),CONCATENATE(\"2 x \",VLOOKUP($CS149,$CB$17:$CD$261,3,FALSE)))","v":""},null,null,null,null,null,null,null,null,null,9.2000000000000072E-7,1.00000092,1,"LKK-300,0019D",1.00000092,"LKK-300,0019D",0]
[135,{"$f":"CONCATENATE(\"LKK-\",MID(datagrunnlag!H150,1,1),IF(N150/100<10,CONCATENATE(0,N150/100),N150/100),(MID(datagrunnlag!H150,2,2)))","v":"LKK-300,0019E"},{"$f":"datagrunnlag!I150","v":9},{"$f":"datagrunnlag!J150","v":22},{"$f":"datagrunnlag!K150","v":15},{"$f":"datagrunnlag!L150","v":17},{"$f":"datagrunnlag!M150","v":29},{"$f":"datagrunnlag!N150","v":37},{"$f":"datagrunnlag!O150","v":26},{"$f":"datagrunnlag!P150","v":21},{"$f":"+datagrunnlag!A150","v":"LKK"},{"$f":"+datagrunnlag!B150","v":"r"},{"$f":"IF(N150<1,0.01,(INT((N150+400-100)/(600)))*200)","v":0.01},{"$f":"IF(OR(skjermbilde!$C$3<datagrunnlag!D150,skjermbilde!$C$3>datagrunnlag!E150),0.1,100*ROUND(skjermbilde!$C$3/100,0))","v":0.1},{"$f":"+IF(skjermbilde!$C$4<>0,skjermbilde!$C$4,0.00001)","v":1.0000000000000001E-5},{"$f":"++IF(datagrunnlag!F150=\"s\",\"c\",datagrunnlag!F150)","v":"r"},{"$f":"+datagrunnlag!G150","v":1500},{"$f":"datagrunnlag!Q150","v":2.8607216326530609E-2},0,201,"r",0,0,{"$f":"IF(skjermbilde!$D$2=1,R150*($B$6*3.6/(M150*(O150/1000)))^2,2*R150*($B$6*3.6/(M150*(O150/1000)))^2)","v":0},{"$f":"IF(C150=\"\",\"\",IF(skjermbilde!$D$2=1,C150,IF(AND(skjermbilde!$D$2=2,2*C150>60),60,IF(skjermbilde!$D$2=2,2*C150))))","v":9},{"$f":"IF(skjermbilde!$D$2=1,D150,IF(AND(skjermbilde!$D$2=2,2*D150>60),60,IF(skjermbilde!$D$2=2,2*D150)))","v":22},{"$f":"IF(skjermbilde!$D$2=1,E150,IF(AND(skjermbilde!$D$2=2,2*E150>60),60,IF(skjermbilde!$D$2=2,2*E150)))","v":15},{"$f":"IF(skjermbilde!$D$2=1,F150,IF(AND(skjermbilde!$D$2=2,2*F150>60),60,IF(skjermbilde!$D$2=2,2*F150)))","v":17},{"$f":"IF(skjermbilde!$D$2=1,G150,IF(AND(skjermbilde!$D$2=2,2*G150>60),60,IF(skjermbilde!$D$2=2,2*G150)))","v":29},{"$f":"IF(skjermbilde!$D$2=1,H150,IF(AND(skjermbilde!$D$2=2,2*H150>60),60,IF(skjermbilde!$D$2=2,2*H150)))","v":37},{"$f":"IF(skjermbilde!$D$2=1,I150,IF(AND(skjermbilde!$D$2=2,2*I150>60),60,IF(skjermbilde!$D$2=2,2*I150)))","v":26},{"$f":"IF(J150=\"\",\"\",IF(skjermbilde!$D$2=1,J150,IF(AND(skjermbilde!$D$2=2,2*J150>60),60,IF(skjermbilde!$D$2=2,2*J150))))","v":21},null,null,{"$f":"+IF(ISNUMBER(skjermbilde!G$3-Y150-skjermbilde!G$6-4),skjermbilde!G$3-Y150-skjermbilde!G$6-4,0)","v":-13},{"$f":"+IF(ISNUMBER(skjermbilde!H$3-Z150-skjermbilde!H$6-4),skjermbilde!H$3-Z150-skjermbilde!H$6-4,0)","v":-26},{"$f":"+IF(ISNUMBER(skjermbilde!I$3-AA150-skjermbilde!I$6-4),skjermbilde!I$3-AA150-skjermbilde!I$6-4,0)","v":-19},{"$f":"+IF(ISNUMBER(skjermbilde!J$3-AB150-skjermbilde!J$6-4),skjermbilde!J$3-AB150-skjermbilde!J$6-4,0)","v":-21},{"$f":"+IF(ISNUMBER(skjermbilde!K$3-AC150-skjermbilde!K$6-4),skjermbilde!K$3-AC150-skjermbilde!K$6-4,0)","v":-33},{"$f":"+IF(ISNUMBER(skjermbilde!L$3-AD150-skjermbilde!L$6-4),skjermbilde!L$3-AD150-skjermbilde!L$6-4,0)","v":-41},{"$f":"+IF(ISNUMBER(skjermbilde!M$3-AE150-skjermbilde!M$6-4),skjermbilde!M$3-AE150-skjermbilde!M$6-4,0)","v":-30},{"$f":"+IF(ISNUMBER(skjermbilde!N$3-AF150-skjermbilde!N$6-4),skjermbilde!N$3-AF150-skjermbilde!N$6-4,0)","v":-25},{"$f":"IF(skjermbilde!$O$10=TRUE,10*LOG10(10^(0.1*(AI150+AI$12))+10^(0.1*(AJ150+AJ$12))+10^(0.1*(AK150+AK$12))+10^(0.1*(AL150+AL$12))+10^(0.1*(AM150+AM$12))+10^(0.1*(AN150+AN$12))+10^(0.1*(AO150+AO$12))+10^(0.1*(AP150+AP$12))),\"\")","v":""},1,1,1,1,1,1,1,1,1,1,1,{"$f":"+IF(skjermbilde!$N$10=1,1,0)","v":1},{"$f":"+IF(U150=\"r\",1,IF(M150=skjermbilde!$D$3,1,0))","v":1},{"$f":"+IF(U150=\"s\",1,IF(N150=skjermbilde!$C$3,1,IF(OR(N150<datagrunnlag!D150,N150>datagrunnlag!E150),0,0)))","v":0},{"$f":"+IF(U150=\"s\",1,IF(O150=skjermbilde!$C$4,1,0))","v":0},1,0,null,null,null,135,"",null,null,null,null,null,null,null,null,null,null,null,null,null,null,"",135,"",null,null,null,null,null,null,null,null,null,null,null,null,"",135,"",null,null,null,null,"",{"$f":"IF(skjermbilde!$D$2=1,VLOOKUP($CS150,$CB$17:$CD$261,3,FALSE),CONCATENATE(\"2 x \",VLOOKUP($CS150,$CB$17:$CD$261,3,FALSE)))","v":""},null,null,null,null,null,null,null,null,null,9.3000000000000073E-7,1.0000009299999999,1,"LKK-300,0019E",1.0000009299999999,"LKK-300,0019E",0]
[136,{"$f":"CONCATENATE(\"LKK-\",MID(datagrunnlag!H151,1,1),IF(N151/100<10,CONCATENATE(0,N151/100),N151/100),(MID(datagrunnlag!H151,2,2)))","v":"LKK-300,0019F"},{"$f":"datagrunnlag!I151","v":8},{"$f":"datagrunnlag!J151","v":18},{"$f":"datagrunnlag!K151","v":13},{"$f":"datagrunnlag!L151","v":15},{"$f":"datagrunnlag!M151","v":25},{"$f":"datagrunnlag!N151","v":29},{"$f":"datagrunnlag!O151","v":24},{"$f":"datagrunnlag!P151","v":16},{"$f":"+datagrunnlag!A151","v":"LKK"},{"$f":"+datagrunnlag!B151","v":"r"},{"$f":"IF(N151<1,0.01,(INT((N151+400-100)/(650)))*250)","v":0.01},{"$f":"IF(OR(skjermbilde!$C$3<datagrunnlag!D151,skjermbilde!$C$3>datagrunnlag!E151),0.1,100*ROUND(skjermbilde!$C$3/100,0))","v":0.1},{"$f":"+IF(skjermbilde!$C$4<>0,skjermbilde!$C$4,0.00001)","v":1.0000000000000001E-5},{"$f":"++IF(datagrunnlag!F151=\"s\",\"c\",datagrunnlag!F151)","v":"r"},{"$f":"+datagrunnlag!G151","v":1500},{"$f":"datagrunnlag!Q151","v":3.2926824489795919E-2},0,201,"r",0,0,{"$f":"IF(skjermbilde!$D$2=1,R151*($B$6*3.6/(M151*(O151/1000)))^2,2*R151*($B$6*3.6/(M151*(O151/1000)))^2)","v":0},{"$f":"IF(C151=\"\",\"\",IF(skjermbilde!$D$2=1,C151,IF(AND(skjermbilde!$D$2=2,2*C151>60),60,IF(skjermbilde!$D$2=2,2*C151))))","v":8},{"$f":"IF(skjermbilde!$D$2=1,D151,IF(AND(skjermbilde!$D$2=2,2*D151>60),60,IF(skjermbilde!$D$2=2,2*D151)))","v":18},{"$f":"IF(skjermbilde!$D$2=1,E151,IF(AND(skjermbilde!$D$2=2,2*E151>60),60,IF(skjermbilde!$D$2=2,2*E151)))","v":13},{"$f":"IF(skjermbilde!$D$2=1,F151,IF(AND(skjermbilde!$D$2=2,2*F151>60),60,IF(skjermbilde!$D$2=2,2*F151)))","v":15},{"$f":"IF(skjermbilde!$D$2=1,G151,IF(AND(skjermbilde!$D$2=2,2*G151>60),60,IF(skjermbilde!$D$2=2,2*G151)))","v":25},{"$f":"IF(skjermbilde!$D$2=1,H151,IF(AND(skjermbilde!$D$2=2,2*H151>60),60,IF(skjermbilde!$D$2=2,2*H151)))","v":29},{"$f":"IF(skjermbilde!$D$2=1,I151,IF(AND(skjermbilde!$D$2=2,2*I151>60),60,IF(skjermbilde!$D$2=2,2*I151)))","v":24},{"$f":"IF(J151=\"\",\"\",IF(skjermbilde!$D$2=1,J151,IF(AND(skjermbilde!$D$2=2,2*J151>60),60,IF(skjermbilde!$D$2=2,2*J151))))","v":16},null,null,{"$f":"+IF(ISNUMBER(skjermbilde!G$3-Y151-skjermbilde!G$6-4),skjermbilde!G$3-Y151-skjermbilde!G$6-4,0)","v":-12},{"$f":"+IF(ISNUMBER(skjermbilde!H$3-Z151-skjermbilde!H$6-4),skjermbilde!H$3-Z151-skjermbilde!H$6-4,0)","v":-22},{"$f":"+IF(ISNUMBER(skjermbilde!I$3-AA151-skjermbilde!I$6-4),skjermbilde!I$3-AA151-skjermbilde!I$6-4,0)","v":-17},{"$f":"+IF(ISNUMBER(skjermbilde!J$3-AB151-skjermbilde!J$6-4),skjermbilde!J$3-AB151-skjermbilde!J$6-4,0)","v":-19},{"$f":"+IF(ISNUMBER(skjermbilde!K$3-AC151-skjermbilde!K$6-4),skjermbilde!K$3-AC151-skjermbilde!K$6-4,0)","v":-29},{"$f":"+IF(ISNUMBER(skjermbilde!L$3-AD151-skjermbilde!L$6-4),skjermbilde!L$3-AD151-skjermbilde!L$6-4,0)","v":-33},{"$f":"+IF(ISNUMBER(skjermbilde!M$3-AE151-skjermbilde!M$6-4),skjermbilde!M$3-AE151-skjermbilde!M$6-4,0)","v":-28},{"$f":"+IF(ISNUMBER(skjermbilde!N$3-AF151-skjermbilde!N$6-4),skjermbilde!N$3-AF151-skjermbilde!N$6-4,0)","v":-20},{"$f":"IF(skjermbilde!$O$10=TRUE,10*LOG10(10^(0.1*(AI151+AI$12))+10^(0.1*(AJ151+AJ$12))+10^(0.1*(AK151+AK$12))+10^(0.1*(AL151+AL$12))+10^(0.1*(AM151+AM$12))+10^(0.1*(AN151+AN$12))+10^(0.1*(AO151+AO$12))+10^(0.1*(AP151+AP$12))),\"\")","v":""},1,1,1,1,1,1,1,1,1,1,1,{"$f":"+IF(skjermbilde!$N$10=1,1,0)","v":1},{"$f":"+IF(U151=\"r\",1,IF(M151=skjermbilde!$D$3,1,0))","v":1},{"$f":"+IF(U151=\"s\",1,IF(N151=skjermbilde!$C$3,1,IF(OR(N151<datagrunnlag!D151,N151>datagrunnlag!E151),0,0)))","v":0},{"$f":"+IF(U151=\"s\",1,IF(O151=skjermbilde!$C$4,1,0))","v":0},1,0,null,null,null,136,"",null,null,null,null,null,null,null,null,null,null,null,null,null,null,"",136,"",null,null,null,null,null,null,null,null,null,null,null,null,"",136,"",null,null,null,null,"",{"$f":"IF(skjermbilde!$D$2=1,VLOOKUP($CS151,$CB$17:$CD$261,3,FALSE),CONCATENATE(\"2 x \",VLOOKUP($CS151,$CB$17:$CD$261,3,FALSE)))","v":""},null,null,null,null,null,null,null,null,null,9.4000000000000074E-7,1.0000009400000001,1,"LKK-300,0019F",1.0000009400000001,"LKK-300,0019F",0]
[{"$f":"+A151+1","v":137},{"$f":"CONCATENATE(\"LKK-\",MID(datagrunnlag!H152,1,1),IF(N152/100<10,CONCATENATE(0,N152/100),N152/100),(MID(datagrunnlag!H152,2,2)))","v":"LKK-400,0015A"},{"$f":"datagrunnlag!I152","v":3},{"$f":"datagrunnlag!J152","v":21},{"$f":"datagrunnlag!K152","v":50},{"$f":"datagrunnlag!L152","v":47},{"$f":"datagrunnlag!M152","v":50},{"$f":"datagrunnlag!N152","v":50},{"$f":"datagrunnlag!O152","v":44},{"$f":"datagrunnlag!P152","v":44},{"$f":"+datagrunnlag!A152","v":"LKK"},{"$f":"+datagrunnlag!B152","v":"r"},{"$f":"IF(N152<1,0.01,(INT((N152+200-100)/(250)))*50)","v":0.01},{"$f":"IF(OR(skjermbilde!$C$3<datagrunnlag!D152,skjermbilde!$C$3>datagrunnlag!E152),0.1,100*ROUND(skjermbilde!$C$3/100,0))","v":0.1},{"$f":"+IF(skjermbilde!$C$4<>0,skjermbilde!$C$4,0.00001)","v":1.0000000000000001E-5},{"$f":"++IF(datagrunnlag!F152=\"s\",\"c\",datagrunnlag!F152)","v":"r"},{"$f":"+datagrunnlag!G152","v":1880},{"$f":"datagrunnlag!Q152","v":3.7636817358461465E-2},0,201,"r",0,0,{"$f":"IF(skjermbilde!$D$2=1,R152*($B$6*3.6/(M152*(O152/1000)))^2,2*R152*($B$6*3.6/(M152*(O152/1000)))^2)","v":0},{"$f":"IF(C152=\"\",\"\",IF(skjermbilde!$D$2=1,C152,IF(AND(skjermbilde!$D$2=2,2*C152>60),60,IF(skjermbilde!$D$2=2,2*C152))))","v":3},{"$f":"IF(skjermbilde!$D$2=1,D152,IF(AND(skjermbilde!$D$2=2,2*D152>60),60,IF(skjermbilde!$D$2=2,2*D152)))","v":21},{"$f":"IF(skjermbilde!$D$2=1,E152,IF(AND(skjermbilde!$D$2=2,2*E152>60),60,IF(skjermbilde!$D$2=2,2*E152)))","v":50},{"$f":"IF(skjermbilde!$D$2=1,F152,IF(AND(skjermbilde!$D$2=2,2*F152>60),60,IF(skjermbilde!$D$2=2,2*F152)))","v":47},{"$f":"IF(skjermbilde!$D$2=1,G152,IF(AND(skjermbilde!$D$2=2,2*G152>60),60,IF(skjermbilde!$D$2=2,2*G152)))","v":50},{"$f":"IF(skjermbilde!$D$2=1,H152,IF(AND(skjermbilde!$D$2=2,2*H152>60),60,IF(skjermbilde!$D$2=2,2*H152)))","v":50},{"$f":"IF(skjermbilde!$D$2=1,I152,IF(AND(skjermbilde!$D$2=2,2*I152>60),60,IF(skjermbilde!$D$2=2,2*I152)))","v":44},{"$f":"IF(J152=\"\",\"\",IF(skjermbilde!$D$2=1,J152,IF(AND(skjermbilde!$D$2=2,2*J152>60),60,IF(skjermbilde!$D$2=2,2*J152))))","v":44},null,null,{"$f":"+IF(ISNUMBER(skjermbilde!G$3-Y152-skjermbilde!G$6-4),skjermbilde!G$3-Y152-skjermbilde!G$6-4,0)","v":-7},{"$f":"+IF(ISNUMBER(skjermbilde!H$3-Z152-skjermbilde!H$6-4),skjermbilde!H$3-Z152-skjermbilde!H$6-4,0)","v":-25},{"$f":"+IF(ISNUMBER(skjermbilde!I$3-AA152-skjermbilde!I$6-4),skjermbilde!I$3-AA152-skjermbilde!I$6-4,0)","v":-54},{"$f":"+IF(ISNUMBER(skjermbilde!J$3-AB152-skjermbilde!J$6-4),skjermbilde!J$3-AB152-skjermbilde!J$6-4,0)","v":-51},{"$f":"+IF(ISNUMBER(skjermbilde!K$3-AC152-skjermbilde!K$6-4),skjermbilde!K$3-AC152-skjermbilde!K$6-4,0)","v":-54},{"$f":"+IF(ISNUMBER(skjermbilde!L$3-AD152-skjermbilde!L$6-4),skjermbilde!L$3-AD152-skjermbilde!L$6-4,0)","v":-54},{"$f":"+IF(ISNUMBER(skjermbilde!M$3-AE152-skjermbilde!M$6-4),skjermbilde!M$3-AE152-skjermbilde!M$6-4,0)","v":-48},{"$f":"+IF(ISNUMBER(skjermbilde!N$3-AF152-skjermbilde!N$6-4),skjermbilde!N$3-AF152-skjermbilde!N$6-4,0)","v":-48},{"$f":"IF(skjermbilde!$O$10=TRUE,10*LOG10(10^(0.1*(AI152+AI$12))+10^(0.1*(AJ152+AJ$12))+10^(0.1*(AK152+AK$12))+10^(0.1*(AL152+AL$12))+10^(0.1*(AM152+AM$12))+10^(0.1*(AN152+AN$12))+10^(0.1*(AO152+AO$12))+10^(0.1*(AP152+AP$12))),\"\")","v":""},1,1,1,1,1,1,1,1,1,1,1,{"$f":"+IF(skjermbilde!$N$10=1,1,0)","v":1},{"$f":"+IF(U152=\"r\",1,IF(M152=skjermbilde!$D$3,1,0))","v":1},{"$f":"+IF(U152=\"s\",1,IF(N152=skjermbilde!$C$3,1,IF(OR(N152<datagrunnlag!D152,N152>datagrunnlag!E152),0,0)))","v":0},{"$f":"+IF(U152=\"s\",1,IF(O152=skjermbilde!$C$4,1,0))","v":0},1,0,null,null,null,137,"",null,null,null,null,null,null,null,null,null,null,null,null,null,null,"",137,"",null,null,null,null,null,null,null,null,null,null,null,null,"",{"$f":"+CR151+1","v":137},"",null,null,null,null,"",{"$f":"IF(skjermbilde!$D$2=1,VLOOKUP($CS152,$CB$17:$CD$261,3,FALSE),CONCATENATE(\"2 x \",VLOOKUP($CS152,$CB$17:$CD$261,3,FALSE)))","v":""},null,null,null,null,null,null,null,null,null,9.5000000000000075E-7,1.00000095,1,"LKK-400,0015A",1.00000095,"LKK-400,0015A",0]
[138,{"$f":"CONCATENATE(\"LKK-\",MID(datagrunnlag!H153,1,1),IF(N153/100<10,CONCATENATE(0,N153/100),N153/100),(MID(datagrunnlag!H153,2,2)))","v":"LKK-400,0015B"},{"$f":"datagrunnlag!I153","v":3},{"$f":"datagrunnlag!J153","v":19},{"$f":"datagrunnlag!K153","v":45},{"$f":"datagrunnlag!L153","v":43},{"$f":"datagrunnlag!M153","v":42},{"$f":"datagrunnlag!N153","v":46},{"$f":"datagrunnlag!O153","v":42},{"$f":"datagrunnlag!P153","v":34},{"$f":"+datagrunnlag!A153","v":"LKK"},{"$f":"+datagrunnlag!B153","v":"r"},{"$f":"IF(N153<1,0.01,(INT((N153+200-50)/(275)))*75)","v":0.01},{"$f":"IF(OR(skjermbilde!$C$3<datagrunnlag!D153,skjermbilde!$C$3>datagrunnlag!E153),0.1,100*ROUND(skjermbilde!$C$3/100,0))","v":0.1},{"$f":"+IF(skjermbilde!$C$4<>0,skjermbilde!$C$4,0.00001)","v":1.0000000000000001E-5},{"$f":"++IF(datagrunnlag!F153=\"s\",\"c\",datagrunnlag!F153)","v":"r"},{"$f":"+datagrunnlag!G153","v":1880},{"$f":"datagrunnlag!Q153","v":3.8401275706762175E-2},0,201,"r",0,0,{"$f":"IF(skjermbilde!$D$2=1,R153*($B$6*3.6/(M153*(O153/1000)))^2,2*R153*($B$6*3.6/(M153*(O153/1000)))^2)","v":0},{"$f":"IF(C153=\"\",\"\",IF(skjermbilde!$D$2=1,C153,IF(AND(skjermbilde!$D$2=2,2*C153>60),60,IF(skjermbilde!$D$2=2,2*C153))))","v":3},{"$f":"IF(skjermbilde!$D$2=1,D153,IF(AND(skjermbilde!$D$2=2,2*D153>60),60,IF(skjermbilde!$D$2=2,2*D153)))","v":19},{"$f":"IF(skjermbilde!$D$2=1,E153,IF(AND(skjermbilde!$D$2=2,2*E153>60),60,IF(skjermbilde!$D$2=2,2*E153)))","v":45},{"$f":"IF(skjermbilde!$D$2=1,F153,IF(AND(skjermbilde!$D$2=2,2*F153>60),60,IF(skjermbilde!$D$2=2,2*F153)))","v":43},{"$f":"IF(skjermbilde!$D$2=1,G153,IF(AND(skjermbilde!$D$2=2,2*G153>60),60,IF(skjermbilde!$D$2=2,2*G153)))","v":42},{"$f":"IF(skjermbilde!$D$2=1,H153,IF(AND(skjermbilde!$D$2=2,2*H153>60),60,IF(skjermbilde!$D$2=2,2*H153)))","v":46},{"$f":"IF(skjermbilde!$D$2=1,I153,IF(AND(skjermbilde!$D$2=2,2*I153>60),60,IF(skjermbilde!$D$2=2,2*I153)))","v":42},{"$f":"IF(J153=\"\",\"\",IF(skjermbilde!$D$2=1,J153,IF(AND(skjermbilde!$D$2=2,2*J153>60),60,IF(skjermbilde!$D$2=2,2*J153))))","v":34},null,null,{"$f":"+IF(ISNUMBER(skjermbilde!G$3-Y153-skjermbilde!G$6-4),skjermbilde!G$3-Y153-skjermbilde!G$6-4,0)","v":-7},{"$f":"+IF(ISNUMBER(skjermbilde!H$3-Z153-skjermbilde!H$6-4),skjermbilde!H$3-Z153-skjermbilde!H$6-4,0)","v":-23},{"$f":"+IF(ISNUMBER(skjermbilde!I$3-AA153-skjermbilde!I$6-4),skjermbilde!I$3-AA153-skjermbilde!I$6-4,0)","v":-49},{"$f":"+IF(ISNUMBER(skjermbilde!J$3-AB153-skjermbilde!J$6-4),skjermbilde!J$3-AB153-skjermbilde!J$6-4,0)","v":-47},{"$f":"+IF(ISNUMBER(skjermbilde!K$3-AC153-skjermbilde!K$6-4),skjermbilde!K$3-AC153-skjermbilde!K$6-4,0)","v":-46},{"$f":"+IF(ISNUMBER(skjermbilde!L$3-AD153-skjermbilde!L$6-4),skjermbilde!L$3-AD153-skjermbilde!L$6-4,0)","v":-50},{"$f":"+IF(ISNUMBER(skjermbilde!M$3-AE153-skjermbilde!M$6-4),skjermbilde!M$3-AE153-skjermbilde!M$6-4,0)","v":-46},{"$f":"+IF(ISNUMBER(skjermbilde!N$3-AF153-skjermbilde!N$6-4),skjermbilde!N$3-AF153-skjermbilde!N$6-4,0)","v":-38},{"$f":"IF(skjermbilde!$O$10=TRUE,10*LOG10(10^(0.1*(AI153+AI$12))+10^(0.1*(AJ153+AJ$12))+10^(0.1*(AK153+AK$12))+10^(0.1*(AL153+AL$12))+10^(0.1*(AM153+AM$12))+10^(0.1*(AN153+AN$12))+10^(0.1*(AO153+AO$12))+10^(0.1*(AP153+AP$12))),\"\")","v":""},1,1,1,1,1,1,1,1,1,1,1,{"$f":"+IF(skjermbilde!$N$10=1,1,0)","v":1},{"$f":"+IF(U153=\"r\",1,IF(M153=skjermbilde!$D$3,1,0))","v":1},{"$f":"+IF(U153=\"s\",1,IF(N153=skjermbilde!$C$3,1,IF(OR(N153<datagrunnlag!D153,N153>datagrunnlag!E153),0,0)))","v":0},{"$f":"+IF(U153=\"s\",1,IF(O153=skjermbilde!$C$4,1,0))","v":0},1,0,null,null,null,138,"",null,null,null,null,null,null,null,null,null,null,null,null,null,null,"",138,"",null,null,null,null,null,null,null,null,null,null,null,null,"",138,"",null,null,null,null,"",{"$f":"IF(skjermbilde!$D$2=1,VLOOKUP($CS153,$CB$17:$CD$261,3,FALSE),CONCATENATE(\"2 x \",VLOOKUP($CS153,$CB$17:$CD$261,3,FALSE)))","v":""},null,null,null,null,null,null,null,null,null,9.6000000000000076E-7,1.0000009599999999,1,"LKK-400,0015B",1.0000009599999999,"LKK-400,0015B",0]
[139,{"$f":"CONCATENATE(\"LKK-\",MID(datagrunnlag!H154,1,1),IF(N154/100<10,CONCATENATE(0,N154/100),N154/100),(MID(datagrunnlag!H154,2,2)))","v":"LKK-400,0015C"},{"$f":"datagrunnlag!I154","v":3},{"$f":"datagrunnlag!J154","v":14},{"$f":"datagrunnlag!K154","v":37},{"$f":"datagrunnlag!L154","v":50},{"$f":"datagrunnlag!M154","v":50},{"$f":"datagrunnlag!N154","v":48},{"$f":"datagrunnlag!O154","v":38},{"$f":"datagrunnlag!P154","v":24},{"$f":"+datagrunnlag!A154","v":"LKK"},{"$f":"+datagrunnlag!B154","v":"r"},{"$f":"IF(N154<1,0.01,(INT((N154+200-100)/(300)))*100)","v":0.01},{"$f":"IF(OR(skjermbilde!$C$3<datagrunnlag!D154,skjermbilde!$C$3>datagrunnlag!E154),0.1,100*ROUND(skjermbilde!$C$3/100,0))","v":0.1},{"$f":"+IF(skjermbilde!$C$4<>0,skjermbilde!$C$4,0.00001)","v":1.0000000000000001E-5},{"$f":"++IF(datagrunnlag!F154=\"s\",\"c\",datagrunnlag!F154)","v":"r"},{"$f":"+datagrunnlag!G154","v":1880},{"$f":"datagrunnlag!Q154","v":3.2141675120279718E-2},0,201,"r",0,0,{"$f":"IF(skjermbilde!$D$2=1,R154*($B$6*3.6/(M154*(O154/1000)))^2,2*R154*($B$6*3.6/(M154*(O154/1000)))^2)","v":0},{"$f":"IF(C154=\"\",\"\",IF(skjermbilde!$D$2=1,C154,IF(AND(skjermbilde!$D$2=2,2*C154>60),60,IF(skjermbilde!$D$2=2,2*C154))))","v":3},{"$f":"IF(skjermbilde!$D$2=1,D154,IF(AND(skjermbilde!$D$2=2,2*D154>60),60,IF(skjermbilde!$D$2=2,2*D154)))","v":14},{"$f":"IF(skjermbilde!$D$2=1,E154,IF(AND(skjermbilde!$D$2=2,2*E154>60),60,IF(skjermbilde!$D$2=2,2*E154)))","v":37},{"$f":"IF(skjermbilde!$D$2=1,F154,IF(AND(skjermbilde!$D$2=2,2*F154>60),60,IF(skjermbilde!$D$2=2,2*F154)))","v":50},{"$f":"IF(skjermbilde!$D$2=1,G154,IF(AND(skjermbilde!$D$2=2,2*G154>60),60,IF(skjermbilde!$D$2=2,2*G154)))","v":50},{"$f":"IF(skjermbilde!$D$2=1,H154,IF(AND(skjermbilde!$D$2=2,2*H154>60),60,IF(skjermbilde!$D$2=2,2*H154)))","v":48},{"$f":"IF(skjermbilde!$D$2=1,I154,IF(AND(skjermbilde!$D$2=2,2*I154>60),60,IF(skjermbilde!$D$2=2,2*I154)))","v":38},{"$f":"IF(J154=\"\",\"\",IF(skjermbilde!$D$2=1,J154,IF(AND(skjermbilde!$D$2=2,2*J154>60),60,IF(skjermbilde!$D$2=2,2*J154))))","v":24},null,null,{"$f":"+IF(ISNUMBER(skjermbilde!G$3-Y154-skjermbilde!G$6-4),skjermbilde!G$3-Y154-skjermbilde!G$6-4,0)","v":-7},{"$f":"+IF(ISNUMBER(skjermbilde!H$3-Z154-skjermbilde!H$6-4),skjermbilde!H$3-Z154-skjermbilde!H$6-4,0)","v":-18},{"$f":"+IF(ISNUMBER(skjermbilde!I$3-AA154-skjermbilde!I$6-4),skjermbilde!I$3-AA154-skjermbilde!I$6-4,0)","v":-41},{"$f":"+IF(ISNUMBER(skjermbilde!J$3-AB154-skjermbilde!J$6-4),skjermbilde!J$3-AB154-skjermbilde!J$6-4,0)","v":-54},{"$f":"+IF(ISNUMBER(skjermbilde!K$3-AC154-skjermbilde!K$6-4),skjermbilde!K$3-AC154-skjermbilde!K$6-4,0)","v":-54},{"$f":"+IF(ISNUMBER(skjermbilde!L$3-AD154-skjermbilde!L$6-4),skjermbilde!L$3-AD154-skjermbilde!L$6-4,0)","v":-52},{"$f":"+IF(ISNUMBER(skjermbilde!M$3-AE154-skjermbilde!M$6-4),skjermbilde!M$3-AE154-skjermbilde!M$6-4,0)","v":-42},{"$f":"+IF(ISNUMBER(skjermbilde!N$3-AF154-skjermbilde!N$6-4),skjermbilde!N$3-AF154-skjermbilde!N$6-4,0)","v":-28},{"$f":"IF(skjermbilde!$O$10=TRUE,10*LOG10(10^(0.1*(AI154+AI$12))+10^(0.1*(AJ154+AJ$12))+10^(0.1*(AK154+AK$12))+10^(0.1*(AL154+AL$12))+10^(0.1*(AM154+AM$12))+10^(0.1*(AN154+AN$12))+10^(0.1*(AO154+AO$12))+10^(0.1*(AP154+AP$12))),\"\")","v":""},1,1,1,1,1,1,1,1,1,1,1,{"$f":"+IF(skjermbilde!$N$10=1,1,0)","v":1},{"$f":"+IF(U154=\"r\",1,IF(M154=skjermbilde!$D$3,1,0))","v":1},{"$f":"+IF(U154=\"s\",1,IF(N154=skjermbilde!$C$3,1,IF(OR(N154<datagrunnlag!D154,N154>datagrunnlag!E154),0,0)))","v":0},{"$f":"+IF(U154=\"s\",1,IF(O154=skjermbilde!$C$4,1,0))","v":0},1,0,null,null,null,139,"",null,null,null,null,null,null,null,null,null,null,null,null,null,null,"",139,"",null,null,null,null,null,null,null,null,null,null,null,null,"",139,"",null,null,null,null,"",{"$f":"IF(skjermbilde!$D$2=1,VLOOKUP($CS154,$CB$17:$CD$261,3,FALSE),CONCATENATE(\"2 x \",VLOOKUP($CS154,$CB$17:$CD$261,3,FALSE)))","v":""},null,null,null,null,null,null,null,null,null,9.7000000000000067E-7,1.0000009700000001,1,"LKK-400,0015C",1.0000009700000001,"LKK-400,0015C",0]
[140,{"$f":"CONCATENATE(\"LKK-\",MID(datagrunnlag!H155,1,1),IF(N155/100<10,CONCATENATE(0,N155/100),N155/100),(MID(datagrunnlag!H155,2,2)))","v":"LKK-400,0015D"},{"$f":"datagrunnlag!I155","v":2},{"$f":"datagrunnlag!J155","v":15},{"$f":"datagrunnlag!K155","v":29},{"$f":"datagrunnlag!L155","v":39},{"$f":"datagrunnlag!M155","v":41},{"$f":"datagrunnlag!N155","v":36},{"$f":"datagrunnlag!O155","v":21},{"$f":"datagrunnlag!P155","v":14},{"$f":"+datagrunnlag!A155","v":"LKK"},{"$f":"+datagrunnlag!B155","v":"r"},{"$f":"IF(N155<1,0.01,(INT((N155+200-50)/(350)))*150)","v":0.01},{"$f":"IF(OR(skjermbilde!$C$3<datagrunnlag!D155,skjermbilde!$C$3>datagrunnlag!E155),0.1,100*ROUND(skjermbilde!$C$3/100,0))","v":0.1},{"$f":"+IF(skjermbilde!$C$4<>0,skjermbilde!$C$4,0.00001)","v":1.0000000000000001E-5},{"$f":"++IF(datagrunnlag!F155=\"s\",\"c\",datagrunnlag!F155)","v":"r"},{"$f":"+datagrunnlag!G155","v":1880},{"$f":"datagrunnlag!Q155","v":3.171607031201331E-2},0,201,"r",0,0,{"$f":"IF(skjermbilde!$D$2=1,R155*($B$6*3.6/(M155*(O155/1000)))^2,2*R155*($B$6*3.6/(M155*(O155/1000)))^2)","v":0},{"$f":"IF(C155=\"\",\"\",IF(skjermbilde!$D$2=1,C155,IF(AND(skjermbilde!$D$2=2,2*C155>60),60,IF(skjermbilde!$D$2=2,2*C155))))","v":2},{"$f":"IF(skjermbilde!$D$2=1,D155,IF(AND(skjermbilde!$D$2=2,2*D155>60),60,IF(skjermbilde!$D$2=2,2*D155)))","v":15},{"$f":"IF(skjermbilde!$D$2=1,E155,IF(AND(skjermbilde!$D$2=2,2*E155>60),60,IF(skjermbilde!$D$2=2,2*E155)))","v":29},{"$f":"IF(skjermbilde!$D$2=1,F155,IF(AND(skjermbilde!$D$2=2,2*F155>60),60,IF(skjermbilde!$D$2=2,2*F155)))","v":39},{"$f":"IF(skjermbilde!$D$2=1,G155,IF(AND(skjermbilde!$D$2=2,2*G155>60),60,IF(skjermbilde!$D$2=2,2*G155)))","v":41},{"$f":"IF(skjermbilde!$D$2=1,H155,IF(AND(skjermbilde!$D$2=2,2*H155>60),60,IF(skjermbilde!$D$2=2,2*H155)))","v":36},{"$f":"IF(skjermbilde!$D$2=1,I155,IF(AND(skjermbilde!$D$2=2,2*I155>60),60,IF(skjermbilde!$D$2=2,2*I155)))","v":21},{"$f":"IF(J155=\"\",\"\",IF(skjermbilde!$D$2=1,J155,IF(AND(skjermbilde!$D$2=2,2*J155>60),60,IF(skjermbilde!$D$2=2,2*J155))))","v":14},null,null,{"$f":"+IF(ISNUMBER(skjermbilde!G$3-Y155-skjermbilde!G$6-4),skjermbilde!G$3-Y155-skjermbilde!G$6-4,0)","v":-6},{"$f":"+IF(ISNUMBER(skjermbilde!H$3-Z155-skjermbilde!H$6-4),skjermbilde!H$3-Z155-skjermbilde!H$6-4,0)","v":-19},{"$f":"+IF(ISNUMBER(skjermbilde!I$3-AA155-skjermbilde!I$6-4),skjermbilde!I$3-AA155-skjermbilde!I$6-4,0)","v":-33},{"$f":"+IF(ISNUMBER(skjermbilde!J$3-AB155-skjermbilde!J$6-4),skjermbilde!J$3-AB155-skjermbilde!J$6-4,0)","v":-43},{"$f":"+IF(ISNUMBER(skjermbilde!K$3-AC155-skjermbilde!K$6-4),skjermbilde!K$3-AC155-skjermbilde!K$6-4,0)","v":-45},{"$f":"+IF(ISNUMBER(skjermbilde!L$3-AD155-skjermbilde!L$6-4),skjermbilde!L$3-AD155-skjermbilde!L$6-4,0)","v":-40},{"$f":"+IF(ISNUMBER(skjermbilde!M$3-AE155-skjermbilde!M$6-4),skjermbilde!M$3-AE155-skjermbilde!M$6-4,0)","v":-25},{"$f":"+IF(ISNUMBER(skjermbilde!N$3-AF155-skjermbilde!N$6-4),skjermbilde!N$3-AF155-skjermbilde!N$6-4,0)","v":-18},{"$f":"IF(skjermbilde!$O$10=TRUE,10*LOG10(10^(0.1*(AI155+AI$12))+10^(0.1*(AJ155+AJ$12))+10^(0.1*(AK155+AK$12))+10^(0.1*(AL155+AL$12))+10^(0.1*(AM155+AM$12))+10^(0.1*(AN155+AN$12))+10^(0.1*(AO155+AO$12))+10^(0.1*(AP155+AP$12))),\"\")","v":""},1,1,1,1,1,1,1,1,1,1,1,{"$f":"+IF(skjermbilde!$N$10=1,1,0)","v":1},{"$f":"+IF(U155=\"r\",1,IF(M155=skjermbilde!$D$3,1,0))","v":1},{"$f":"+IF(U155=\"s\",1,IF(N155=skjermbilde!$C$3,1,IF(OR(N155<datagrunnlag!D155,N155>datagrunnlag!E155),0,0)))","v":0},{"$f":"+IF(U155=\"s\",1,IF(O155=skjermbilde!$C$4,1,0))","v":0},1,0,null,null,null,140,"",null,null,null,null,null,null,null,null,null,null,null,null,null,null,"",140,"",null,null,null,null,null,null,null,null,null,null,null,null,"",140,"",null,null,null,null,"",{"$f":"IF(skjermbilde!$D$2=1,VLOOKUP($CS155,$CB$17:$CD$261,3,FALSE),CONCATENATE(\"2 x \",VLOOKUP($CS155,$CB$17:$CD$261,3,FALSE)))","v":""},null,null,null,null,null,null,null,null,null,9.8000000000000057E-7,1.00000098,1,"LKK-400,0015D",1.00000098,"LKK-400,0015D",0]
[141,{"$f":"CONCATENATE(\"LKK-\",MID(datagrunnlag!H156,1,1),IF(N156/100<10,CONCATENATE(0,N156/100),N156/100),(MID(datagrunnlag!H156,2,2)))","v":"LKK-400,0015E"},{"$f":"datagrunnlag!I156","v":2},{"$f":"datagrunnlag!J156","v":8},{"$f":"datagrunnlag!K156","v":23},{"$f":"datagrunnlag!L156","v":31},{"$f":"datagrunnlag!M156","v":38},{"$f":"datagrunnlag!N156","v":28},{"$f":"datagrunnlag!O156","v":15},{"$f":"datagrunnlag!P156","v":10},{"$f":"+datagrunnlag!A156","v":"LKK"},{"$f":"+datagrunnlag!B156","v":"r"},{"$f":"IF(N156<1,0.01,(INT((N156+200-100)/(400)))*200)","v":0.01},{"$f":"IF(OR(skjermbilde!$C$3<datagrunnlag!D156,skjermbilde!$C$3>datagrunnlag!E156),0.1,100*ROUND(skjermbilde!$C$3/100,0))","v":0.1},{"$f":"+IF(skjermbilde!$C$4<>0,skjermbilde!$C$4,0.00001)","v":1.0000000000000001E-5},{"$f":"++IF(datagrunnlag!F156=\"s\",\"c\",datagrunnlag!F156)","v":"r"},{"$f":"+datagrunnlag!G156","v":1880},{"$f":"datagrunnlag!Q156","v":2.0006441702591551E-2},{"$f":"+$B$6","v":0},201,{"$f":"+$B$7","v":"r"},{"$f":"+$B$3","v":0},{"$f":"+$B$4","v":0},{"$f":"IF(skjermbilde!$D$2=1,R156*($B$6*3.6/(M156*(O156/1000)))^2,2*R156*($B$6*3.6/(M156*(O156/1000)))^2)","v":0},{"$f":"IF(C156=\"\",\"\",IF(skjermbilde!$D$2=1,C156,IF(AND(skjermbilde!$D$2=2,2*C156>60),60,IF(skjermbilde!$D$2=2,2*C156))))","v":2},{"$f":"IF(skjermbilde!$D$2=1,D156,IF(AND(skjermbilde!$D$2=2,2*D156>60),60,IF(skjermbilde!$D$2=2,2*D156)))","v":8},{"$f":"IF(skjermbilde!$D$2=1,E156,IF(AND(skjermbilde!$D$2=2,2*E156>60),60,IF(skjermbilde!$D$2=2,2*E156)))","v":23},{"$f":"IF(skjermbilde!$D$2=1,F156,IF(AND(skjermbilde!$D$2=2,2*F156>60),60,IF(skjermbilde!$D$2=2,2*F156)))","v":31},{"$f":"IF(skjermbilde!$D$2=1,G156,IF(AND(skjermbilde!$D$2=2,2*G156>60),60,IF(skjermbilde!$D$2=2,2*G156)))","v":38},{"$f":"IF(skjermbilde!$D$2=1,H156,IF(AND(skjermbilde!$D$2=2,2*H156>60),60,IF(skjermbilde!$D$2=2,2*H156)))","v":28},{"$f":"IF(skjermbilde!$D$2=1,I156,IF(AND(skjermbilde!$D$2=2,2*I156>60),60,IF(skjermbilde!$D$2=2,2*I156)))","v":15},{"$f":"IF(J156=\"\",\"\",IF(skjermbilde!$D$2=1,J156,IF(AND(skjermbilde!$D$2=2,2*J156>60),60,IF(skjermbilde!$D$2=2,2*J156))))","v":10},null,null,{"$f":"+IF(ISNUMBER(skjermbilde!G$3-Y156-skjermbilde!G$6-4),skjermbilde!G$3-Y156-skjermbilde!G$6-4,0)","v":-6},{"$f":"+IF(ISNUMBER(skjermbilde!H$3-Z156-skjermbilde!H$6-4),skjermbilde!H$3-Z156-skjermbilde!H$6-4,0)","v":-12},{"$f":"+IF(ISNUMBER(skjermbilde!I$3-AA156-skjermbilde!I$6-4),skjermbilde!I$3-AA156-skjermbilde!I$6-4,0)","v":-27},{"$f":"+IF(ISNUMBER(skjermbilde!J$3-AB156-skjermbilde!J$6-4),skjermbilde!J$3-AB156-skjermbilde!J$6-4,0)","v":-35},{"$f":"+IF(ISNUMBER(skjermbilde!K$3-AC156-skjermbilde!K$6-4),skjermbilde!K$3-AC156-skjermbilde!K$6-4,0)","v":-42},{"$f":"+IF(ISNUMBER(skjermbilde!L$3-AD156-skjermbilde!L$6-4),skjermbilde!L$3-AD156-skjermbilde!L$6-4,0)","v":-32},{"$f":"+IF(ISNUMBER(skjermbilde!M$3-AE156-skjermbilde!M$6-4),skjermbilde!M$3-AE156-skjermbilde!M$6-4,0)","v":-19},{"$f":"+IF(ISNUMBER(skjermbilde!N$3-AF156-skjermbilde!N$6-4),skjermbilde!N$3-AF156-skjermbilde!N$6-4,0)","v":-14},{"$f":"IF(skjermbilde!$O$10=TRUE,10*LOG10(10^(0.1*(AI156+AI$12))+10^(0.1*(AJ156+AJ$12))+10^(0.1*(AK156+AK$12))+10^(0.1*(AL156+AL$12))+10^(0.1*(AM156+AM$12))+10^(0.1*(AN156+AN$12))+10^(0.1*(AO156+AO$12))+10^(0.1*(AP156+AP$12))),\"\")","v":""},1,{"$f":"+IF(Y156>Y$11,1,0)","v":1},{"$f":"+IF(Z156>Z$11,1,0)","v":1},{"$f":"+IF(AA156>AA$11,1,0)","v":1},{"$f":"+IF(AB156>AB$11,1,0)","v":1},{"$f":"+IF(AC156>AC$11,1,0)","v":1},{"$f":"+IF(AD156>AD$11,1,0)","v":1},{"$f":"+IF(AE156>AE$11,1,0)","v":1},{"$f":"+IF(AF156>AF$11,1,0)","v":1},1,1,{"$f":"+IF(skjermbilde!$N$10=1,1,0)","v":1},{"$f":"+IF(U156=\"r\",1,IF(M156=skjermbilde!$D$3,1,0))","v":1},{"$f":"+IF(U156=\"s\",1,IF(N156=skjermbilde!$C$3,1,IF(OR(N156<datagrunnlag!D156,N156>datagrunnlag!E156),0,0)))","v":0},{"$f":"+IF(U156=\"s\",1,IF(O156=skjermbilde!$C$4,1,0))","v":0},1,0,null,null,null,141,"",null,null,null,null,null,null,null,null,null,null,null,null,null,null,"",141,"",null,null,null,null,null,null,null,null,null,null,null,null,"",141,"",null,null,null,null,"",{"$f":"IF(skjermbilde!$D$2=1,VLOOKUP($CS156,$CB$17:$CD$261,3,FALSE),CONCATENATE(\"2 x \",VLOOKUP($CS156,$CB$17:$CD$261,3,FALSE)))","v":""},null,null,null,null,null,null,null,null,null,9.9000000000000047E-7,1.00000099,1,"LKK-400,0015E",1.00000099,"LKK-400,0015E",0]
[142,{"$f":"CONCATENATE(\"LKK-\",MID(datagrunnlag!H157,1,1),IF(N157/100<10,CONCATENATE(0,N157/100),N157/100),(MID(datagrunnlag!H157,2,2)))","v":"LKK-400,0017C"},{"$f":"datagrunnlag!I157","v":6},{"$f":"datagrunnlag!J157","v":25},{"$f":"datagrunnlag!K157","v":39},{"$f":"datagrunnlag!L157","v":41},{"$f":"datagrunnlag!M157","v":42},{"$f":"datagrunnlag!N157","v":41},{"$f":"datagrunnlag!O157","v":34},{"$f":"datagrunnlag!P157","v":22},{"$f":"+datagrunnlag!A157","v":"LKK"},{"$f":"+datagrunnlag!B157","v":"r"},{"$f":"IF(N157<1,0.01,(INT((N157+300-100)/(400)))*100)","v":0.01},{"$f":"IF(OR(skjermbilde!$C$3<datagrunnlag!D157,skjermbilde!$C$3>datagrunnlag!E157),0.1,100*ROUND(skjermbilde!$C$3/100,0))","v":0.1},{"$f":"+IF(skjermbilde!$C$4<>0,skjermbilde!$C$4,0.00001)","v":1.0000000000000001E-5},{"$f":"++IF(datagrunnlag!F157=\"s\",\"c\",datagrunnlag!F157)","v":"r"},{"$f":"+datagrunnlag!G157","v":1880},{"$f":"datagrunnlag!Q157","v":3.9301305606139439E-2},0,{"$f":"+IF($B$2=0,201,$B$2)","v":201},"r",0,0,{"$f":"IF(skjermbilde!$D$2=1,R157*($B$6*3.6/(M157*(O157/1000)))^2,2*R157*($B$6*3.6/(M157*(O157/1000)))^2)","v":0},{"$f":"IF(C157=\"\",\"\",IF(skjermbilde!$D$2=1,C157,IF(AND(skjermbilde!$D$2=2,2*C157>60),60,IF(skjermbilde!$D$2=2,2*C157))))","v":6},{"$f":"IF(skjermbilde!$D$2=1,D157,IF(AND(skjermbilde!$D$2=2,2*D157>60),60,IF(skjermbilde!$D$2=2,2*D157)))","v":25},{"$f":"IF(skjermbilde!$D$2=1,E157,IF(AND(skjermbilde!$D$2=2,2*E157>60),60,IF(skjermbilde!$D$2=2,2*E157)))","v":39},{"$f":"IF(skjermbilde!$D$2=1,F157,IF(AND(skjermbilde!$D$2=2,2*F157>60),60,IF(skjermbilde!$D$2=2,2*F157)))","v":41},{"$f":"IF(skjermbilde!$D$2=1,G157,IF(AND(skjermbilde!$D$2=2,2*G157>60),60,IF(skjermbilde!$D$2=2,2*G157)))","v":42},{"$f":"IF(skjermbilde!$D$2=1,H157,IF(AND(skjermbilde!$D$2=2,2*H157>60),60,IF(skjermbilde!$D$2=2,2*H157)))","v":41},{"$f":"IF(skjermbilde!$D$2=1,I157,IF(AND(skjermbilde!$D$2=2,2*I157>60),60,IF(skjermbilde!$D$2=2,2*I157)))","v":34},{"$f":"IF(J157=\"\",\"\",IF(skjermbilde!$D$2=1,J157,IF(AND(skjermbilde!$D$2=2,2*J157>60),60,IF(skjermbilde!$D$2=2,2*J157))))","v":22},null,null,{"$f":"+IF(ISNUMBER(skjermbilde!G$3-Y157-skjermbilde!G$6-4),skjermbilde!G$3-Y157-skjermbilde!G$6-4,0)","v":-10},{"$f":"+IF(ISNUMBER(skjermbilde!H$3-Z157-skjermbilde!H$6-4),skjermbilde!H$3-Z157-skjermbilde!H$6-4,0)","v":-29},{"$f":"+IF(ISNUMBER(skjermbilde!I$3-AA157-skjermbilde!I$6-4),skjermbilde!I$3-AA157-skjermbilde!I$6-4,0)","v":-43},{"$f":"+IF(ISNUMBER(skjermbilde!J$3-AB157-skjermbilde!J$6-4),skjermbilde!J$3-AB157-skjermbilde!J$6-4,0)","v":-45},{"$f":"+IF(ISNUMBER(skjermbilde!K$3-AC157-skjermbilde!K$6-4),skjermbilde!K$3-AC157-skjermbilde!K$6-4,0)","v":-46},{"$f":"+IF(ISNUMBER(skjermbilde!L$3-AD157-skjermbilde!L$6-4),skjermbilde!L$3-AD157-skjermbilde!L$6-4,0)","v":-45},{"$f":"+IF(ISNUMBER(skjermbilde!M$3-AE157-skjermbilde!M$6-4),skjermbilde!M$3-AE157-skjermbilde!M$6-4,0)","v":-38},{"$f":"+IF(ISNUMBER(skjermbilde!N$3-AF157-skjermbilde!N$6-4),skjermbilde!N$3-AF157-skjermbilde!N$6-4,0)","v":-26},{"$f":"IF(skjermbilde!$O$10=TRUE,10*LOG10(10^(0.1*(AI157+AI$12))+10^(0.1*(AJ157+AJ$12))+10^(0.1*(AK157+AK$12))+10^(0.1*(AL157+AL$12))+10^(0.1*(AM157+AM$12))+10^(0.1*(AN157+AN$12))+10^(0.1*(AO157+AO$12))+10^(0.1*(AP157+AP$12))),\"\")","v":""},{"$f":"+IF(AND(X157-1<T157,X157<201),1,0)","v":1},1,1,1,1,1,1,1,1,1,1,{"$f":"+IF(skjermbilde!$N$10=1,1,0)","v":1},{"$f":"+IF(U157=\"r\",1,IF(M157=skjermbilde!$D$3,1,0))","v":1},{"$f":"+IF(U157=\"s\",1,IF(N157=skjermbilde!$C$3,1,IF(OR(N157<datagrunnlag!D157,N157>datagrunnlag!E157),0,0)))","v":0},{"$f":"+IF(U157=\"s\",1,IF(O157=skjermbilde!$C$4,1,0))","v":0},{"$f":"+IF(OR(W157=Q157,W157=0),1,0)","v":1},{"$f":"+IF(SUM(AR157:BG157)=16,1,0)","v":0},null,null,null,142,"",null,null,null,null,null,null,null,null,null,null,null,null,null,null,"",142,"",null,null,null,null,null,null,null,null,null,null,null,null,"",142,"",null,null,null,null,"",{"$f":"IF(skjermbilde!$D$2=1,VLOOKUP($CS157,$CB$17:$CD$261,3,FALSE),CONCATENATE(\"2 x \",VLOOKUP($CS157,$CB$17:$CD$261,3,FALSE)))","v":""},null,null,null,null,null,null,null,null,null,{"$f":"0.00000001+DI156","v":1.0000000000000004E-6},1.0000009999999999,1,"LKK-400,0017C",1.0000009999999999,"LKK-400,0017C",0]
[143,{"$f":"CONCATENATE(\"LKK-\",MID(datagrunnlag!H158,1,1),IF(N158/100<10,CONCATENATE(0,N158/100),N158/100),(MID(datagrunnlag!H158,2,2)))","v":"LKK-400,0017D"},{"$f":"datagrunnlag!I158","v":3},{"$f":"datagrunnlag!J158","v":21},{"$f":"datagrunnlag!K158","v":29},{"$f":"datagrunnlag!L158","v":37},{"$f":"datagrunnlag!M158","v":41},{"$f":"datagrunnlag!N158","v":38},{"$f":"datagrunnlag!O158","v":22},{"$f":"datagrunnlag!P158","v":14},{"$f":"+datagrunnlag!A158","v":"LKK"},{"$f":"+datagrunnlag!B158","v":"r"},{"$f":"IF(N158<1,0.01,(INT((N158+300-100)/(450)))*150)","v":0.01},{"$f":"IF(OR(skjermbilde!$C$3<datagrunnlag!D158,skjermbilde!$C$3>datagrunnlag!E158),0.1,100*ROUND(skjermbilde!$C$3/100,0))","v":0.1},{"$f":"+IF(skjermbilde!$C$4<>0,skjermbilde!$C$4,0.00001)","v":1.0000000000000001E-5},{"$f":"++IF(datagrunnlag!F158=\"s\",\"c\",datagrunnlag!F158)","v":"r"},{"$f":"+datagrunnlag!G158","v":1880},{"$f":"datagrunnlag!Q158","v":3.0207094544373411E-2},0,201,"r",0,0,{"$f":"IF(skjermbilde!$D$2=1,R158*($B$6*3.6/(M158*(O158/1000)))^2,2*R158*($B$6*3.6/(M158*(O158/1000)))^2)","v":0},{"$f":"IF(C158=\"\",\"\",IF(skjermbilde!$D$2=1,C158,IF(AND(skjermbilde!$D$2=2,2*C158>60),60,IF(skjermbilde!$D$2=2,2*C158))))","v":3},{"$f":"IF(skjermbilde!$D$2=1,D158,IF(AND(skjermbilde!$D$2=2,2*D158>60),60,IF(skjermbilde!$D$2=2,2*D158)))","v":21},{"$f":"IF(skjermbilde!$D$2=1,E158,IF(AND(skjermbilde!$D$2=2,2*E158>60),60,IF(skjermbilde!$D$2=2,2*E158)))","v":29},{"$f":"IF(skjermbilde!$D$2=1,F158,IF(AND(skjermbilde!$D$2=2,2*F158>60),60,IF(skjermbilde!$D$2=2,2*F158)))","v":37},{"$f":"IF(skjermbilde!$D$2=1,G158,IF(AND(skjermbilde!$D$2=2,2*G158>60),60,IF(skjermbilde!$D$2=2,2*G158)))","v":41},{"$f":"IF(skjermbilde!$D$2=1,H158,IF(AND(skjermbilde!$D$2=2,2*H158>60),60,IF(skjermbilde!$D$2=2,2*H158)))","v":38},{"$f":"IF(skjermbilde!$D$2=1,I158,IF(AND(skjermbilde!$D$2=2,2*I158>60),60,IF(skjermbilde!$D$2=2,2*I158)))","v":22},{"$f":"IF(J158=\"\",\"\",IF(skjermbilde!$D$2=1,J158,IF(AND(skjermbilde!$D$2=2,2*J158>60),60,IF(skjermbilde!$D$2=2,2*J158))))","v":14},null,null,{"$f":"+IF(ISNUMBER(skjermbilde!G$3-Y158-skjermbilde!G$6-4),skjermbilde!G$3-Y158-skjermbilde!G$6-4,0)","v":-7},{"$f":"+IF(ISNUMBER(skjermbilde!H$3-Z158-skjermbilde!H$6-4),skjermbilde!H$3-Z158-skjermbilde!H$6-4,0)","v":-25},{"$f":"+IF(ISNUMBER(skjermbilde!I$3-AA158-skjermbilde!I$6-4),skjermbilde!I$3-AA158-skjermbilde!I$6-4,0)","v":-33},{"$f":"+IF(ISNUMBER(skjermbilde!J$3-AB158-skjermbilde!J$6-4),skjermbilde!J$3-AB158-skjermbilde!J$6-4,0)","v":-41},{"$f":"+IF(ISNUMBER(skjermbilde!K$3-AC158-skjermbilde!K$6-4),skjermbilde!K$3-AC158-skjermbilde!K$6-4,0)","v":-45},{"$f":"+IF(ISNUMBER(skjermbilde!L$3-AD158-skjermbilde!L$6-4),skjermbilde!L$3-AD158-skjermbilde!L$6-4,0)","v":-42},{"$f":"+IF(ISNUMBER(skjermbilde!M$3-AE158-skjermbilde!M$6-4),skjermbilde!M$3-AE158-skjermbilde!M$6-4,0)","v":-26},{"$f":"+IF(ISNUMBER(skjermbilde!N$3-AF158-skjermbilde!N$6-4),skjermbilde!N$3-AF158-skjermbilde!N$6-4,0)","v":-18},{"$f":"IF(skjermbilde!$O$10=TRUE,10*LOG10(10^(0.1*(AI158+AI$12))+10^(0.1*(AJ158+AJ$12))+10^(0.1*(AK158+AK$12))+10^(0.1*(AL158+AL$12))+10^(0.1*(AM158+AM$12))+10^(0.1*(AN158+AN$12))+10^(0.1*(AO158+AO$12))+10^(0.1*(AP158+AP$12))),\"\")","v":""},1,1,1,1,1,1,1,1,1,1,1,{"$f":"+IF(skjermbilde!$N$10=1,1,0)","v":1},{"$f":"+IF(U158=\"r\",1,IF(M158=skjermbilde!$D$3,1,0))","v":1},{"$f":"+IF(U158=\"s\",1,IF(N158=skjermbilde!$C$3,1,IF(OR(N158<datagrunnlag!D158,N158>datagrunnlag!E158),0,0)))","v":0},{"$f":"+IF(U158=\"s\",1,IF(O158=skjermbilde!$C$4,1,0))","v":0},1,0,null,null,null,143,"",null,null,null,null,null,null,null,null,null,null,null,null,null,null,"",143,"",null,null,null,null,null,null,null,null,null,null,null,null,"",143,"",null,null,null,null,"",{"$f":"IF(skjermbilde!$D$2=1,VLOOKUP($CS158,$CB$17:$CD$261,3,FALSE),CONCATENATE(\"2 x \",VLOOKUP($CS158,$CB$17:$CD$261,3,FALSE)))","v":""},null,null,null,null,null,null,null,null,null,1.0100000000000003E-6,1.0000010100000001,1,"LKK-400,0017D",1.0000010100000001,"LKK-400,0017D",0]
[144,{"$f":"CONCATENATE(\"LKK-\",MID(datagrunnlag!H159,1,1),IF(N159/100<10,CONCATENATE(0,N159/100),N159/100),(MID(datagrunnlag!H159,2,2)))","v":"LKK-400,0017E"},{"$f":"datagrunnlag!I159","v":5},{"$f":"datagrunnlag!J159","v":22},{"$f":"datagrunnlag!K159","v":22},{"$f":"datagrunnlag!L159","v":36},{"$f":"datagrunnlag!M159","v":40},{"$f":"datagrunnlag!N159","v":31},{"$f":"datagrunnlag!O159","v":21},{"$f":"datagrunnlag!P159","v":17},{"$f":"+datagrunnlag!A159","v":"LKK"},{"$f":"+datagrunnlag!B159","v":"r"},{"$f":"IF(N159<1,0.01,(INT((N159+300-100)/(500)))*200)","v":0.01},{"$f":"IF(OR(skjermbilde!$C$3<datagrunnlag!D159,skjermbilde!$C$3>datagrunnlag!E159),0.1,100*ROUND(skjermbilde!$C$3/100,0))","v":0.1},{"$f":"+IF(skjermbilde!$C$4<>0,skjermbilde!$C$4,0.00001)","v":1.0000000000000001E-5},{"$f":"++IF(datagrunnlag!F159=\"s\",\"c\",datagrunnlag!F159)","v":"r"},{"$f":"+datagrunnlag!G159","v":1880},{"$f":"datagrunnlag!Q159","v":3.9087545591187607E-2},0,201,"r",0,0,{"$f":"IF(skjermbilde!$D$2=1,R159*($B$6*3.6/(M159*(O159/1000)))^2,2*R159*($B$6*3.6/(M159*(O159/1000)))^2)","v":0},{"$f":"IF(C159=\"\",\"\",IF(skjermbilde!$D$2=1,C159,IF(AND(skjermbilde!$D$2=2,2*C159>60),60,IF(skjermbilde!$D$2=2,2*C159))))","v":5},{"$f":"IF(skjermbilde!$D$2=1,D159,IF(AND(skjermbilde!$D$2=2,2*D159>60),60,IF(skjermbilde!$D$2=2,2*D159)))","v":22},{"$f":"IF(skjermbilde!$D$2=1,E159,IF(AND(skjermbilde!$D$2=2,2*E159>60),60,IF(skjermbilde!$D$2=2,2*E159)))","v":22},{"$f":"IF(skjermbilde!$D$2=1,F159,IF(AND(skjermbilde!$D$2=2,2*F159>60),60,IF(skjermbilde!$D$2=2,2*F159)))","v":36},{"$f":"IF(skjermbilde!$D$2=1,G159,IF(AND(skjermbilde!$D$2=2,2*G159>60),60,IF(skjermbilde!$D$2=2,2*G159)))","v":40},{"$f":"IF(skjermbilde!$D$2=1,H159,IF(AND(skjermbilde!$D$2=2,2*H159>60),60,IF(skjermbilde!$D$2=2,2*H159)))","v":31},{"$f":"IF(skjermbilde!$D$2=1,I159,IF(AND(skjermbilde!$D$2=2,2*I159>60),60,IF(skjermbilde!$D$2=2,2*I159)))","v":21},{"$f":"IF(J159=\"\",\"\",IF(skjermbilde!$D$2=1,J159,IF(AND(skjermbilde!$D$2=2,2*J159>60),60,IF(skjermbilde!$D$2=2,2*J159))))","v":17},null,null,{"$f":"+IF(ISNUMBER(skjermbilde!G$3-Y159-skjermbilde!G$6-4),skjermbilde!G$3-Y159-skjermbilde!G$6-4,0)","v":-9},{"$f":"+IF(ISNUMBER(skjermbilde!H$3-Z159-skjermbilde!H$6-4),skjermbilde!H$3-Z159-skjermbilde!H$6-4,0)","v":-26},{"$f":"+IF(ISNUMBER(skjermbilde!I$3-AA159-skjermbilde!I$6-4),skjermbilde!I$3-AA159-skjermbilde!I$6-4,0)","v":-26},{"$f":"+IF(ISNUMBER(skjermbilde!J$3-AB159-skjermbilde!J$6-4),skjermbilde!J$3-AB159-skjermbilde!J$6-4,0)","v":-40},{"$f":"+IF(ISNUMBER(skjermbilde!K$3-AC159-skjermbilde!K$6-4),skjermbilde!K$3-AC159-skjermbilde!K$6-4,0)","v":-44},{"$f":"+IF(ISNUMBER(skjermbilde!L$3-AD159-skjermbilde!L$6-4),skjermbilde!L$3-AD159-skjermbilde!L$6-4,0)","v":-35},{"$f":"+IF(ISNUMBER(skjermbilde!M$3-AE159-skjermbilde!M$6-4),skjermbilde!M$3-AE159-skjermbilde!M$6-4,0)","v":-25},{"$f":"+IF(ISNUMBER(skjermbilde!N$3-AF159-skjermbilde!N$6-4),skjermbilde!N$3-AF159-skjermbilde!N$6-4,0)","v":-21},{"$f":"IF(skjermbilde!$O$10=TRUE,10*LOG10(10^(0.1*(AI159+AI$12))+10^(0.1*(AJ159+AJ$12))+10^(0.1*(AK159+AK$12))+10^(0.1*(AL159+AL$12))+10^(0.1*(AM159+AM$12))+10^(0.1*(AN159+AN$12))+10^(0.1*(AO159+AO$12))+10^(0.1*(AP159+AP$12))),\"\")","v":""},1,1,1,1,1,1,1,1,1,{"$f":"+IF(U159=L159,1,0)","v":1},1,{"$f":"+IF(skjermbilde!$N$10=1,1,0)","v":1},{"$f":"+IF(U159=\"r\",1,IF(M159=skjermbilde!$D$3,1,0))","v":1},{"$f":"+IF(U159=\"s\",1,IF(N159=skjermbilde!$C$3,1,IF(OR(N159<datagrunnlag!D159,N159>datagrunnlag!E159),0,0)))","v":0},{"$f":"+IF(U159=\"s\",1,IF(O159=skjermbilde!$C$4,1,0))","v":0},1,0,null,null,null,{"$f":"+A159","v":144},"",null,null,null,null,null,null,null,null,null,null,null,null,null,null,{"$f":"+IF($BH159=1,$X159+DI159,\"\")","v":""},{"$f":"+BL159","v":144},"",null,null,null,null,null,null,null,null,null,null,null,null,"",144,"",null,null,null,null,"",{"$f":"IF(skjermbilde!$D$2=1,VLOOKUP($CS159,$CB$17:$CD$261,3,FALSE),CONCATENATE(\"2 x \",VLOOKUP($CS159,$CB$17:$CD$261,3,FALSE)))","v":""},null,null,null,null,null,null,null,null,null,1.0200000000000002E-6,{"$f":"IF(ISNUMBER(DK159),DK159+DI159,\"\")","v":1.00000102},{"$f":"SEARCH($DL$14,B159,1)","v":1},{"$f":"IF(ISNUMBER(DK159),B159,\"\")","v":"LKK-400,0017E"},1.00000102,"LKK-400,0017E",0]
[145,{"$f":"CONCATENATE(\"LKK-\",MID(datagrunnlag!H160,1,1),IF(N160/100<10,CONCATENATE(0,N160/100),N160/100),(MID(datagrunnlag!H160,2,2)))","v":"LKK-400,0019D"},{"$f":"datagrunnlag!I160","v":9},{"$f":"datagrunnlag!J160","v":33},{"$f":"datagrunnlag!K160","v":31},{"$f":"datagrunnlag!L160","v":30},{"$f":"datagrunnlag!M160","v":37},{"$f":"datagrunnlag!N160","v":40},{"$f":"datagrunnlag!O160","v":22},{"$f":"datagrunnlag!P160","v":16},{"$f":"+datagrunnlag!A160","v":"LKK"},{"$f":"+datagrunnlag!B160","v":"r"},{"$f":"IF(N160<1,0.01,(INT((N160+400-100)/(550)))*150)","v":0.01},{"$f":"IF(OR(skjermbilde!$C$3<datagrunnlag!D160,skjermbilde!$C$3>datagrunnlag!E160),0.1,100*ROUND(skjermbilde!$C$3/100,0))","v":0.1},{"$f":"+IF(skjermbilde!$C$4<>0,skjermbilde!$C$4,0.00001)","v":1.0000000000000001E-5},{"$f":"++IF(datagrunnlag!F160=\"s\",\"c\",datagrunnlag!F160)","v":"r"},{"$f":"+datagrunnlag!G160","v":1880},{"$f":"datagrunnlag!Q160","v":3.4030166326530609E-2},0,201,"r",0,0,{"$f":"IF(skjermbilde!$D$2=1,R160*($B$6*3.6/(M160*(O160/1000)))^2,2*R160*($B$6*3.6/(M160*(O160/1000)))^2)","v":0},{"$f":"IF(C160=\"\",\"\",IF(skjermbilde!$D$2=1,C160,IF(AND(skjermbilde!$D$2=2,2*C160>60),60,IF(skjermbilde!$D$2=2,2*C160))))","v":9},{"$f":"IF(skjermbilde!$D$2=1,D160,IF(AND(skjermbilde!$D$2=2,2*D160>60),60,IF(skjermbilde!$D$2=2,2*D160)))","v":33},{"$f":"IF(skjermbilde!$D$2=1,E160,IF(AND(skjermbilde!$D$2=2,2*E160>60),60,IF(skjermbilde!$D$2=2,2*E160)))","v":31},{"$f":"IF(skjermbilde!$D$2=1,F160,IF(AND(skjermbilde!$D$2=2,2*F160>60),60,IF(skjermbilde!$D$2=2,2*F160)))","v":30},{"$f":"IF(skjermbilde!$D$2=1,G160,IF(AND(skjermbilde!$D$2=2,2*G160>60),60,IF(skjermbilde!$D$2=2,2*G160)))","v":37},{"$f":"IF(skjermbilde!$D$2=1,H160,IF(AND(skjermbilde!$D$2=2,2*H160>60),60,IF(skjermbilde!$D$2=2,2*H160)))","v":40},{"$f":"IF(skjermbilde!$D$2=1,I160,IF(AND(skjermbilde!$D$2=2,2*I160>60),60,IF(skjermbilde!$D$2=2,2*I160)))","v":22},{"$f":"IF(J160=\"\",\"\",IF(skjermbilde!$D$2=1,J160,IF(AND(skjermbilde!$D$2=2,2*J160>60),60,IF(skjermbilde!$D$2=2,2*J160))))","v":16},null,null,{"$f":"+IF(ISNUMBER(skjermbilde!G$3-Y160-skjermbilde!G$6-4),skjermbilde!G$3-Y160-skjermbilde!G$6-4,0)","v":-13},{"$f":"+IF(ISNUMBER(skjermbilde!H$3-Z160-skjermbilde!H$6-4),skjermbilde!H$3-Z160-skjermbilde!H$6-4,0)","v":-37},{"$f":"+IF(ISNUMBER(skjermbilde!I$3-AA160-skjermbilde!I$6-4),skjermbilde!I$3-AA160-skjermbilde!I$6-4,0)","v":-35},{"$f":"+IF(ISNUMBER(skjermbilde!J$3-AB160-skjermbilde!J$6-4),skjermbilde!J$3-AB160-skjermbilde!J$6-4,0)","v":-34},{"$f":"+IF(ISNUMBER(skjermbilde!K$3-AC160-skjermbilde!K$6-4),skjermbilde!K$3-AC160-skjermbilde!K$6-4,0)","v":-41},{"$f":"+IF(ISNUMBER(skjermbilde!L$3-AD160-skjermbilde!L$6-4),skjermbilde!L$3-AD160-skjermbilde!L$6-4,0)","v":-44},{"$f":"+IF(ISNUMBER(skjermbilde!M$3-AE160-skjermbilde!M$6-4),skjermbilde!M$3-AE160-skjermbilde!M$6-4,0)","v":-26},{"$f":"+IF(ISNUMBER(skjermbilde!N$3-AF160-skjermbilde!N$6-4),skjermbilde!N$3-AF160-skjermbilde!N$6-4,0)","v":-20},{"$f":"IF(skjermbilde!$O$10=TRUE,10*LOG10(10^(0.1*(AI160+AI$12))+10^(0.1*(AJ160+AJ$12))+10^(0.1*(AK160+AK$12))+10^(0.1*(AL160+AL$12))+10^(0.1*(AM160+AM$12))+10^(0.1*(AN160+AN$12))+10^(0.1*(AO160+AO$12))+10^(0.1*(AP160+AP$12))),\"\")","v":""},1,1,1,1,1,1,1,1,1,1,1,{"$f":"+IF(skjermbilde!$N$10=1,1,0)","v":1},{"$f":"+IF(U160=\"r\",1,IF(M160=skjermbilde!$D$3,1,0))","v":1},{"$f":"+IF(U160=\"s\",1,IF(N160=skjermbilde!$C$3,1,IF(OR(N160<datagrunnlag!D160,N160>datagrunnlag!E160),0,0)))","v":0},{"$f":"+IF(U160=\"s\",1,IF(O160=skjermbilde!$C$4,1,0))","v":0},1,0,null,null,null,145,"",null,null,null,null,null,null,null,null,null,null,null,null,null,null,"",145,"",null,null,null,null,null,null,null,null,null,null,null,null,"",145,"",null,null,null,null,"",{"$f":"IF(skjermbilde!$D$2=1,VLOOKUP($CS160,$CB$17:$CD$261,3,FALSE),CONCATENATE(\"2 x \",VLOOKUP($CS160,$CB$17:$CD$261,3,FALSE)))","v":""},null,null,null,null,null,null,null,null,null,1.0300000000000001E-6,1.00000103,1,"LKK-400,0019D",1.00000103,"LKK-400,0019D",0]
[146,{"$f":"CONCATENATE(\"LKK-\",MID(datagrunnlag!H161,1,1),IF(N161/100<10,CONCATENATE(0,N161/100),N161/100),(MID(datagrunnlag!H161,2,2)))","v":"LKK-400,0019E"},{"$f":"datagrunnlag!I161","v":9},{"$f":"datagrunnlag!J161","v":25},{"$f":"datagrunnlag!K161","v":17},{"$f":"datagrunnlag!L161","v":20},{"$f":"datagrunnlag!M161","v":32},{"$f":"datagrunnlag!N161","v":41},{"$f":"datagrunnlag!O161","v":35},{"$f":"datagrunnlag!P161","v":23},{"$f":"+datagrunnlag!A161","v":"LKK"},{"$f":"+datagrunnlag!B161","v":"r"},{"$f":"IF(N161<1,0.01,(INT((N161+400-100)/(600)))*200)","v":0.01},{"$f":"IF(OR(skjermbilde!$C$3<datagrunnlag!D161,skjermbilde!$C$3>datagrunnlag!E161),0.1,100*ROUND(skjermbilde!$C$3/100,0))","v":0.1},{"$f":"+IF(skjermbilde!$C$4<>0,skjermbilde!$C$4,0.00001)","v":1.0000000000000001E-5},{"$f":"++IF(datagrunnlag!F161=\"s\",\"c\",datagrunnlag!F161)","v":"r"},{"$f":"+datagrunnlag!G161","v":1880},{"$f":"datagrunnlag!Q161","v":3.0395167346938774E-2},0,201,"r",0,0,{"$f":"IF(skjermbilde!$D$2=1,R161*($B$6*3.6/(M161*(O161/1000)))^2,2*R161*($B$6*3.6/(M161*(O161/1000)))^2)","v":0},{"$f":"IF(C161=\"\",\"\",IF(skjermbilde!$D$2=1,C161,IF(AND(skjermbilde!$D$2=2,2*C161>60),60,IF(skjermbilde!$D$2=2,2*C161))))","v":9},{"$f":"IF(skjermbilde!$D$2=1,D161,IF(AND(skjermbilde!$D$2=2,2*D161>60),60,IF(skjermbilde!$D$2=2,2*D161)))","v":25},{"$f":"IF(skjermbilde!$D$2=1,E161,IF(AND(skjermbilde!$D$2=2,2*E161>60),60,IF(skjermbilde!$D$2=2,2*E161)))","v":17},{"$f":"IF(skjermbilde!$D$2=1,F161,IF(AND(skjermbilde!$D$2=2,2*F161>60),60,IF(skjermbilde!$D$2=2,2*F161)))","v":20},{"$f":"IF(skjermbilde!$D$2=1,G161,IF(AND(skjermbilde!$D$2=2,2*G161>60),60,IF(skjermbilde!$D$2=2,2*G161)))","v":32},{"$f":"IF(skjermbilde!$D$2=1,H161,IF(AND(skjermbilde!$D$2=2,2*H161>60),60,IF(skjermbilde!$D$2=2,2*H161)))","v":41},{"$f":"IF(skjermbilde!$D$2=1,I161,IF(AND(skjermbilde!$D$2=2,2*I161>60),60,IF(skjermbilde!$D$2=2,2*I161)))","v":35},{"$f":"IF(J161=\"\",\"\",IF(skjermbilde!$D$2=1,J161,IF(AND(skjermbilde!$D$2=2,2*J161>60),60,IF(skjermbilde!$D$2=2,2*J161))))","v":23},null,null,{"$f":"+IF(ISNUMBER(skjermbilde!G$3-Y161-skjermbilde!G$6-4),skjermbilde!G$3-Y161-skjermbilde!G$6-4,0)","v":-13},{"$f":"+IF(ISNUMBER(skjermbilde!H$3-Z161-skjermbilde!H$6-4),skjermbilde!H$3-Z161-skjermbilde!H$6-4,0)","v":-29},{"$f":"+IF(ISNUMBER(skjermbilde!I$3-AA161-skjermbilde!I$6-4),skjermbilde!I$3-AA161-skjermbilde!I$6-4,0)","v":-21},{"$f":"+IF(ISNUMBER(skjermbilde!J$3-AB161-skjermbilde!J$6-4),skjermbilde!J$3-AB161-skjermbilde!J$6-4,0)","v":-24},{"$f":"+IF(ISNUMBER(skjermbilde!K$3-AC161-skjermbilde!K$6-4),skjermbilde!K$3-AC161-skjermbilde!K$6-4,0)","v":-36},{"$f":"+IF(ISNUMBER(skjermbilde!L$3-AD161-skjermbilde!L$6-4),skjermbilde!L$3-AD161-skjermbilde!L$6-4,0)","v":-45},{"$f":"+IF(ISNUMBER(skjermbilde!M$3-AE161-skjermbilde!M$6-4),skjermbilde!M$3-AE161-skjermbilde!M$6-4,0)","v":-39},{"$f":"+IF(ISNUMBER(skjermbilde!N$3-AF161-skjermbilde!N$6-4),skjermbilde!N$3-AF161-skjermbilde!N$6-4,0)","v":-27},{"$f":"IF(skjermbilde!$O$10=TRUE,10*LOG10(10^(0.1*(AI161+AI$12))+10^(0.1*(AJ161+AJ$12))+10^(0.1*(AK161+AK$12))+10^(0.1*(AL161+AL$12))+10^(0.1*(AM161+AM$12))+10^(0.1*(AN161+AN$12))+10^(0.1*(AO161+AO$12))+10^(0.1*(AP161+AP$12))),\"\")","v":""},1,1,1,1,1,1,1,1,1,1,1,{"$f":"+IF(skjermbilde!$N$10=1,1,0)","v":1},{"$f":"+IF(U161=\"r\",1,IF(M161=skjermbilde!$D$3,1,0))","v":1},{"$f":"+IF(U161=\"s\",1,IF(N161=skjermbilde!$C$3,1,IF(OR(N161<datagrunnlag!D161,N161>datagrunnlag!E161),0,0)))","v":0},{"$f":"+IF(U161=\"s\",1,IF(O161=skjermbilde!$C$4,1,0))","v":0},1,0,null,null,null,146,"",null,null,null,null,null,null,null,null,null,null,null,null,null,null,"",146,"",null,null,null,null,null,null,null,null,null,null,null,null,"",146,"",null,null,null,null,"",{"$f":"IF(skjermbilde!$D$2=1,VLOOKUP($CS161,$CB$17:$CD$261,3,FALSE),CONCATENATE(\"2 x \",VLOOKUP($CS161,$CB$17:$CD$261,3,FALSE)))","v":""},null,null,null,null,null,null,null,null,null,1.04E-6,1.0000010399999999,1,"LKK-400,0019E",1.0000010399999999,"LKK-400,0019E",0]
[147,{"$f":"CONCATENATE(\"LKK-\",MID(datagrunnlag!H162,1,1),IF(N162/100<10,CONCATENATE(0,N162/100),N162/100),(MID(datagrunnlag!H162,2,2)))","v":"LKK-400,0019F"},{"$f":"datagrunnlag!I162","v":9},{"$f":"datagrunnlag!J162","v":22},{"$f":"datagrunnlag!K162","v":16},{"$f":"datagrunnlag!L162","v":18},{"$f":"datagrunnlag!M162","v":29},{"$f":"datagrunnlag!N162","v":32},{"$f":"datagrunnlag!O162","v":29},{"$f":"datagrunnlag!P162","v":18},{"$f":"+datagrunnlag!A162","v":"LKK"},{"$f":"+datagrunnlag!B162","v":"r"},{"$f":"IF(N162<1,0.01,(INT((N162+400-100)/(650)))*250)","v":0.01},{"$f":"IF(OR(skjermbilde!$C$3<datagrunnlag!D162,skjermbilde!$C$3>datagrunnlag!E162),0.1,100*ROUND(skjermbilde!$C$3/100,0))","v":0.1},{"$f":"+IF(skjermbilde!$C$4<>0,skjermbilde!$C$4,0.00001)","v":1.0000000000000001E-5},{"$f":"++IF(datagrunnlag!F162=\"s\",\"c\",datagrunnlag!F162)","v":"r"},{"$f":"+datagrunnlag!G162","v":1880},{"$f":"datagrunnlag!Q162","v":3.498475102040817E-2},0,201,"r",0,0,{"$f":"IF(skjermbilde!$D$2=1,R162*($B$6*3.6/(M162*(O162/1000)))^2,2*R162*($B$6*3.6/(M162*(O162/1000)))^2)","v":0},{"$f":"IF(C162=\"\",\"\",IF(skjermbilde!$D$2=1,C162,IF(AND(skjermbilde!$D$2=2,2*C162>60),60,IF(skjermbilde!$D$2=2,2*C162))))","v":9},{"$f":"IF(skjermbilde!$D$2=1,D162,IF(AND(skjermbilde!$D$2=2,2*D162>60),60,IF(skjermbilde!$D$2=2,2*D162)))","v":22},{"$f":"IF(skjermbilde!$D$2=1,E162,IF(AND(skjermbilde!$D$2=2,2*E162>60),60,IF(skjermbilde!$D$2=2,2*E162)))","v":16},{"$f":"IF(skjermbilde!$D$2=1,F162,IF(AND(skjermbilde!$D$2=2,2*F162>60),60,IF(skjermbilde!$D$2=2,2*F162)))","v":18},{"$f":"IF(skjermbilde!$D$2=1,G162,IF(AND(skjermbilde!$D$2=2,2*G162>60),60,IF(skjermbilde!$D$2=2,2*G162)))","v":29},{"$f":"IF(skjermbilde!$D$2=1,H162,IF(AND(skjermbilde!$D$2=2,2*H162>60),60,IF(skjermbilde!$D$2=2,2*H162)))","v":32},{"$f":"IF(skjermbilde!$D$2=1,I162,IF(AND(skjermbilde!$D$2=2,2*I162>60),60,IF(skjermbilde!$D$2=2,2*I162)))","v":29},{"$f":"IF(J162=\"\",\"\",IF(skjermbilde!$D$2=1,J162,IF(AND(skjermbilde!$D$2=2,2*J162>60),60,IF(skjermbilde!$D$2=2,2*J162))))","v":18},null,null,{"$f":"+IF(ISNUMBER(skjermbilde!G$3-Y162-skjermbilde!G$6-4),skjermbilde!G$3-Y162-skjermbilde!G$6-4,0)","v":-13},{"$f":"+IF(ISNUMBER(skjermbilde!H$3-Z162-skjermbilde!H$6-4),skjermbilde!H$3-Z162-skjermbilde!H$6-4,0)","v":-26},{"$f":"+IF(ISNUMBER(skjermbilde!I$3-AA162-skjermbilde!I$6-4),skjermbilde!I$3-AA162-skjermbilde!I$6-4,0)","v":-20},{"$f":"+IF(ISNUMBER(skjermbilde!J$3-AB162-skjermbilde!J$6-4),skjermbilde!J$3-AB162-skjermbilde!J$6-4,0)","v":-22},{"$f":"+IF(ISNUMBER(skjermbilde!K$3-AC162-skjermbilde!K$6-4),skjermbilde!K$3-AC162-skjermbilde!K$6-4,0)","v":-33},{"$f":"+IF(ISNUMBER(skjermbilde!L$3-AD162-skjermbilde!L$6-4),skjermbilde!L$3-AD162-skjermbilde!L$6-4,0)","v":-36},{"$f":"+IF(ISNUMBER(skjermbilde!M$3-AE162-skjermbilde!M$6-4),skjermbilde!M$3-AE162-skjermbilde!M$6-4,0)","v":-33},{"$f":"+IF(ISNUMBER(skjermbilde!N$3-AF162-skjermbilde!N$6-4),skjermbilde!N$3-AF162-skjermbilde!N$6-4,0)","v":-22},{"$f":"IF(skjermbilde!$O$10=TRUE,10*LOG10(10^(0.1*(AI162+AI$12))+10^(0.1*(AJ162+AJ$12))+10^(0.1*(AK162+AK$12))+10^(0.1*(AL162+AL$12))+10^(0.1*(AM162+AM$12))+10^(0.1*(AN162+AN$12))+10^(0.1*(AO162+AO$12))+10^(0.1*(AP162+AP$12))),\"\")","v":""},1,1,1,1,1,1,1,1,1,1,1,{"$f":"+IF(skjermbilde!$N$10=1,1,0)","v":1},{"$f":"+IF(U162=\"r\",1,IF(M162=skjermbilde!$D$3,1,0))","v":1},{"$f":"+IF(U162=\"s\",1,IF(N162=skjermbilde!$C$3,1,IF(OR(N162<datagrunnlag!D162,N162>datagrunnlag!E162),0,0)))","v":0},{"$f":"+IF(U162=\"s\",1,IF(O162=skjermbilde!$C$4,1,0))","v":0},1,0,null,null,null,147,"",null,null,null,null,null,null,null,null,null,null,null,null,null,null,"",147,"",null,null,null,null,null,null,null,null,null,null,null,null,"",147,"",null,null,null,null,"",{"$f":"IF(skjermbilde!$D$2=1,VLOOKUP($CS162,$CB$17:$CD$261,3,FALSE),CONCATENATE(\"2 x \",VLOOKUP($CS162,$CB$17:$CD$261,3,FALSE)))","v":""},null,null,null,null,null,null,null,null,null,1.0499999999999999E-6,1.0000010500000001,1,"LKK-400,0019F",1.0000010500000001,"LKK-400,0019F",0]
[148,{"$f":"CONCATENATE(\"LKK-\",MID(datagrunnlag!H163,1,1),IF(N163/100<10,CONCATENATE(0,N163/100),N163/100),(MID(datagrunnlag!H163,2,2)))","v":"LKK-500,0015A"},{"$f":"datagrunnlag!I163","v":4},{"$f":"datagrunnlag!J163","v":28},{"$f":"datagrunnlag!K163","v":50},{"$f":"datagrunnlag!L163","v":47},{"$f":"datagrunnlag!M163","v":50},{"$f":"datagrunnlag!N163","v":50},{"$f":"datagrunnlag!O163","v":44},{"$f":"datagrunnlag!P163","v":44},{"$f":"+datagrunnlag!A163","v":"LKK"},{"$f":"+datagrunnlag!B163","v":"r"},{"$f":"IF(N163<1,0.01,(INT((N163+200-100)/(250)))*50)","v":0.01},{"$f":"IF(OR(skjermbilde!$C$3<datagrunnlag!D163,skjermbilde!$C$3>datagrunnlag!E163),0.1,100*ROUND(skjermbilde!$C$3/100,0))","v":0.1},{"$f":"+IF(skjermbilde!$C$4<>0,skjermbilde!$C$4,0.00001)","v":1.0000000000000001E-5},{"$f":"++IF(datagrunnlag!F163=\"s\",\"c\",datagrunnlag!F163)","v":"r"},{"$f":"+datagrunnlag!G163","v":2480},{"$f":"datagrunnlag!Q163","v":3.985074779131214E-2},0,201,"r",0,0,{"$f":"IF(skjermbilde!$D$2=1,R163*($B$6*3.6/(M163*(O163/1000)))^2,2*R163*($B$6*3.6/(M163*(O163/1000)))^2)","v":0},{"$f":"IF(C163=\"\",\"\",IF(skjermbilde!$D$2=1,C163,IF(AND(skjermbilde!$D$2=2,2*C163>60),60,IF(skjermbilde!$D$2=2,2*C163))))","v":4},{"$f":"IF(skjermbilde!$D$2=1,D163,IF(AND(skjermbilde!$D$2=2,2*D163>60),60,IF(skjermbilde!$D$2=2,2*D163)))","v":28},{"$f":"IF(skjermbilde!$D$2=1,E163,IF(AND(skjermbilde!$D$2=2,2*E163>60),60,IF(skjermbilde!$D$2=2,2*E163)))","v":50},{"$f":"IF(skjermbilde!$D$2=1,F163,IF(AND(skjermbilde!$D$2=2,2*F163>60),60,IF(skjermbilde!$D$2=2,2*F163)))","v":47},{"$f":"IF(skjermbilde!$D$2=1,G163,IF(AND(skjermbilde!$D$2=2,2*G163>60),60,IF(skjermbilde!$D$2=2,2*G163)))","v":50},{"$f":"IF(skjermbilde!$D$2=1,H163,IF(AND(skjermbilde!$D$2=2,2*H163>60),60,IF(skjermbilde!$D$2=2,2*H163)))","v":50},{"$f":"IF(skjermbilde!$D$2=1,I163,IF(AND(skjermbilde!$D$2=2,2*I163>60),60,IF(skjermbilde!$D$2=2,2*I163)))","v":44},{"$f":"IF(J163=\"\",\"\",IF(skjermbilde!$D$2=1,J163,IF(AND(skjermbilde!$D$2=2,2*J163>60),60,IF(skjermbilde!$D$2=2,2*J163))))","v":44},null,null,{"$f":"+IF(ISNUMBER(skjermbilde!G$3-Y163-skjermbilde!G$6-4),skjermbilde!G$3-Y163-skjermbilde!G$6-4,0)","v":-8},{"$f":"+IF(ISNUMBER(skjermbilde!H$3-Z163-skjermbilde!H$6-4),skjermbilde!H$3-Z163-skjermbilde!H$6-4,0)","v":-32},{"$f":"+IF(ISNUMBER(skjermbilde!I$3-AA163-skjermbilde!I$6-4),skjermbilde!I$3-AA163-skjermbilde!I$6-4,0)","v":-54},{"$f":"+IF(ISNUMBER(skjermbilde!J$3-AB163-skjermbilde!J$6-4),skjermbilde!J$3-AB163-skjermbilde!J$6-4,0)","v":-51},{"$f":"+IF(ISNUMBER(skjermbilde!K$3-AC163-skjermbilde!K$6-4),skjermbilde!K$3-AC163-skjermbilde!K$6-4,0)","v":-54},{"$f":"+IF(ISNUMBER(skjermbilde!L$3-AD163-skjermbilde!L$6-4),skjermbilde!L$3-AD163-skjermbilde!L$6-4,0)","v":-54},{"$f":"+IF(ISNUMBER(skjermbilde!M$3-AE163-skjermbilde!M$6-4),skjermbilde!M$3-AE163-skjermbilde!M$6-4,0)","v":-48},{"$f":"+IF(ISNUMBER(skjermbilde!N$3-AF163-skjermbilde!N$6-4),skjermbilde!N$3-AF163-skjermbilde!N$6-4,0)","v":-48},{"$f":"IF(skjermbilde!$O$10=TRUE,10*LOG10(10^(0.1*(AI163+AI$12))+10^(0.1*(AJ163+AJ$12))+10^(0.1*(AK163+AK$12))+10^(0.1*(AL163+AL$12))+10^(0.1*(AM163+AM$12))+10^(0.1*(AN163+AN$12))+10^(0.1*(AO163+AO$12))+10^(0.1*(AP163+AP$12))),\"\")","v":""},1,1,1,1,1,1,1,1,1,1,1,{"$f":"+IF(skjermbilde!$N$10=1,1,0)","v":1},{"$f":"+IF(U163=\"r\",1,IF(M163=skjermbilde!$D$3,1,0))","v":1},{"$f":"+IF(U163=\"s\",1,IF(N163=skjermbilde!$C$3,1,IF(OR(N163<datagrunnlag!D163,N163>datagrunnlag!E163),0,0)))","v":0},{"$f":"+IF(U163=\"s\",1,IF(O163=skjermbilde!$C$4,1,0))","v":0},1,0,null,null,null,148,"",null,null,null,null,null,null,null,null,null,null,null,null,null,null,"",148,"",null,null,null,null,null,null,null,null,null,null,null,null,"",148,"",null,null,null,null,"",{"$f":"IF(skjermbilde!$D$2=1,VLOOKUP($CS163,$CB$17:$CD$261,3,FALSE),CONCATENATE(\"2 x \",VLOOKUP($CS163,$CB$17:$CD$261,3,FALSE)))","v":""},null,null,null,null,null,null,null,null,null,1.0599999999999998E-6,1.00000106,1,"LKK-500,0015A",1.00000106,"LKK-500,0015A",0]
[149,{"$f":"CONCATENATE(\"LKK-\",MID(datagrunnlag!H164,1,1),IF(N164/100<10,CONCATENATE(0,N164/100),N164/100),(MID(datagrunnlag!H164,2,2)))","v":"LKK-500,0015B"},{"$f":"datagrunnlag!I164","v":4},{"$f":"datagrunnlag!J164","v":26},{"$f":"datagrunnlag!K164","v":50},{"$f":"datagrunnlag!L164","v":43},{"$f":"datagrunnlag!M164","v":42},{"$f":"datagrunnlag!N164","v":46},{"$f":"datagrunnlag!O164","v":42},{"$f":"datagrunnlag!P164","v":41},{"$f":"+datagrunnlag!A164","v":"LKK"},{"$f":"+datagrunnlag!B164","v":"r"},{"$f":"IF(N164<1,0.01,(INT((N164+200-50)/(275)))*75)","v":0.01},{"$f":"IF(OR(skjermbilde!$C$3<datagrunnlag!D164,skjermbilde!$C$3>datagrunnlag!E164),0.1,100*ROUND(skjermbilde!$C$3/100,0))","v":0.1},{"$f":"+IF(skjermbilde!$C$4<>0,skjermbilde!$C$4,0.00001)","v":1.0000000000000001E-5},{"$f":"++IF(datagrunnlag!F164=\"s\",\"c\",datagrunnlag!F164)","v":"r"},{"$f":"+datagrunnlag!G164","v":2480},{"$f":"datagrunnlag!Q164","v":4.0660174277748186E-2},0,201,"r",0,0,{"$f":"IF(skjermbilde!$D$2=1,R164*($B$6*3.6/(M164*(O164/1000)))^2,2*R164*($B$6*3.6/(M164*(O164/1000)))^2)","v":0},{"$f":"IF(C164=\"\",\"\",IF(skjermbilde!$D$2=1,C164,IF(AND(skjermbilde!$D$2=2,2*C164>60),60,IF(skjermbilde!$D$2=2,2*C164))))","v":4},{"$f":"IF(skjermbilde!$D$2=1,D164,IF(AND(skjermbilde!$D$2=2,2*D164>60),60,IF(skjermbilde!$D$2=2,2*D164)))","v":26},{"$f":"IF(skjermbilde!$D$2=1,E164,IF(AND(skjermbilde!$D$2=2,2*E164>60),60,IF(skjermbilde!$D$2=2,2*E164)))","v":50},{"$f":"IF(skjermbilde!$D$2=1,F164,IF(AND(skjermbilde!$D$2=2,2*F164>60),60,IF(skjermbilde!$D$2=2,2*F164)))","v":43},{"$f":"IF(skjermbilde!$D$2=1,G164,IF(AND(skjermbilde!$D$2=2,2*G164>60),60,IF(skjermbilde!$D$2=2,2*G164)))","v":42},{"$f":"IF(skjermbilde!$D$2=1,H164,IF(AND(skjermbilde!$D$2=2,2*H164>60),60,IF(skjermbilde!$D$2=2,2*H164)))","v":46},{"$f":"IF(skjermbilde!$D$2=1,I164,IF(AND(skjermbilde!$D$2=2,2*I164>60),60,IF(skjermbilde!$D$2=2,2*I164)))","v":42},{"$f":"IF(J164=\"\",\"\",IF(skjermbilde!$D$2=1,J164,IF(AND(skjermbilde!$D$2=2,2*J164>60),60,IF(skjermbilde!$D$2=2,2*J164))))","v":41},null,null,{"$f":"+IF(ISNUMBER(skjermbilde!G$3-Y164-skjermbilde!G$6-4),skjermbilde!G$3-Y164-skjermbilde!G$6-4,0)","v":-8},{"$f":"+IF(ISNUMBER(skjermbilde!H$3-Z164-skjermbilde!H$6-4),skjermbilde!H$3-Z164-skjermbilde!H$6-4,0)","v":-30},{"$f":"+IF(ISNUMBER(skjermbilde!I$3-AA164-skjermbilde!I$6-4),skjermbilde!I$3-AA164-skjermbilde!I$6-4,0)","v":-54},{"$f":"+IF(ISNUMBER(skjermbilde!J$3-AB164-skjermbilde!J$6-4),skjermbilde!J$3-AB164-skjermbilde!J$6-4,0)","v":-47},{"$f":"+IF(ISNUMBER(skjermbilde!K$3-AC164-skjermbilde!K$6-4),skjermbilde!K$3-AC164-skjermbilde!K$6-4,0)","v":-46},{"$f":"+IF(ISNUMBER(skjermbilde!L$3-AD164-skjermbilde!L$6-4),skjermbilde!L$3-AD164-skjermbilde!L$6-4,0)","v":-50},{"$f":"+IF(ISNUMBER(skjermbilde!M$3-AE164-skjermbilde!M$6-4),skjermbilde!M$3-AE164-skjermbilde!M$6-4,0)","v":-46},{"$f":"+IF(ISNUMBER(skjermbilde!N$3-AF164-skjermbilde!N$6-4),skjermbilde!N$3-AF164-skjermbilde!N$6-4,0)","v":-45},{"$f":"IF(skjermbilde!$O$10=TRUE,10*LOG10(10^(0.1*(AI164+AI$12))+10^(0.1*(AJ164+AJ$12))+10^(0.1*(AK164+AK$12))+10^(0.1*(AL164+AL$12))+10^(0.1*(AM164+AM$12))+10^(0.1*(AN164+AN$12))+10^(0.1*(AO164+AO$12))+10^(0.1*(AP164+AP$12))),\"\")","v":""},1,1,1,1,1,1,1,1,1,1,1,{"$f":"+IF(skjermbilde!$N$10=1,1,0)","v":1},{"$f":"+IF(U164=\"r\",1,IF(M164=skjermbilde!$D$3,1,0))","v":1},{"$f":"+IF(U164=\"s\",1,IF(N164=skjermbilde!$C$3,1,IF(OR(N164<datagrunnlag!D164,N164>datagrunnlag!E164),0,0)))","v":0},{"$f":"+IF(U164=\"s\",1,IF(O164=skjermbilde!$C$4,1,0))","v":0},1,0,null,null,null,149,"",null,null,null,null,null,null,null,null,null,null,null,null,null,null,"",149,"",null,null,null,null,null,null,null,null,null,null,null,null,"",149,"",null,null,null,null,"",{"$f":"IF(skjermbilde!$D$2=1,VLOOKUP($CS164,$CB$17:$CD$261,3,FALSE),CONCATENATE(\"2 x \",VLOOKUP($CS164,$CB$17:$CD$261,3,FALSE)))","v":""},null,null,null,null,null,null,null,null,null,1.0699999999999997E-6,1.0000010699999999,1,"LKK-500,0015B",1.0000010699999999,"LKK-500,0015B",0]
[150,{"$f":"CONCATENATE(\"LKK-\",MID(datagrunnlag!H165,1,1),IF(N165/100<10,CONCATENATE(0,N165/100),N165/100),(MID(datagrunnlag!H165,2,2)))","v":"LKK-500,0015C"},{"$f":"datagrunnlag!I165","v":4},{"$f":"datagrunnlag!J165","v":18},{"$f":"datagrunnlag!K165","v":46},{"$f":"datagrunnlag!L165","v":50},{"$f":"datagrunnlag!M165","v":50},{"$f":"datagrunnlag!N165","v":48},{"$f":"datagrunnlag!O165","v":45},{"$f":"datagrunnlag!P165","v":31},{"$f":"+datagrunnlag!A165","v":"LKK"},{"$f":"+datagrunnlag!B165","v":"r"},{"$f":"IF(N165<1,0.01,(INT((N165+200-100)/(300)))*100)","v":0.01},{"$f":"IF(OR(skjermbilde!$C$3<datagrunnlag!D165,skjermbilde!$C$3>datagrunnlag!E165),0.1,100*ROUND(skjermbilde!$C$3/100,0))","v":0.1},{"$f":"+IF(skjermbilde!$C$4<>0,skjermbilde!$C$4,0.00001)","v":1.0000000000000001E-5},{"$f":"++IF(datagrunnlag!F165=\"s\",\"c\",datagrunnlag!F165)","v":"r"},{"$f":"+datagrunnlag!G165","v":2480},{"$f":"datagrunnlag!Q165","v":3.4032361892060881E-2},0,201,"r",0,0,{"$f":"IF(skjermbilde!$D$2=1,R165*($B$6*3.6/(M165*(O165/1000)))^2,2*R165*($B$6*3.6/(M165*(O165/1000)))^2)","v":0},{"$f":"IF(C165=\"\",\"\",IF(skjermbilde!$D$2=1,C165,IF(AND(skjermbilde!$D$2=2,2*C165>60),60,IF(skjermbilde!$D$2=2,2*C165))))","v":4},{"$f":"IF(skjermbilde!$D$2=1,D165,IF(AND(skjermbilde!$D$2=2,2*D165>60),60,IF(skjermbilde!$D$2=2,2*D165)))","v":18},{"$f":"IF(skjermbilde!$D$2=1,E165,IF(AND(skjermbilde!$D$2=2,2*E165>60),60,IF(skjermbilde!$D$2=2,2*E165)))","v":46},{"$f":"IF(skjermbilde!$D$2=1,F165,IF(AND(skjermbilde!$D$2=2,2*F165>60),60,IF(skjermbilde!$D$2=2,2*F165)))","v":50},{"$f":"IF(skjermbilde!$D$2=1,G165,IF(AND(skjermbilde!$D$2=2,2*G165>60),60,IF(skjermbilde!$D$2=2,2*G165)))","v":50},{"$f":"IF(skjermbilde!$D$2=1,H165,IF(AND(skjermbilde!$D$2=2,2*H165>60),60,IF(skjermbilde!$D$2=2,2*H165)))","v":48},{"$f":"IF(skjermbilde!$D$2=1,I165,IF(AND(skjermbilde!$D$2=2,2*I165>60),60,IF(skjermbilde!$D$2=2,2*I165)))","v":45},{"$f":"IF(J165=\"\",\"\",IF(skjermbilde!$D$2=1,J165,IF(AND(skjermbilde!$D$2=2,2*J165>60),60,IF(skjermbilde!$D$2=2,2*J165))))","v":31},null,null,{"$f":"+IF(ISNUMBER(skjermbilde!G$3-Y165-skjermbilde!G$6-4),skjermbilde!G$3-Y165-skjermbilde!G$6-4,0)","v":-8},{"$f":"+IF(ISNUMBER(skjermbilde!H$3-Z165-skjermbilde!H$6-4),skjermbilde!H$3-Z165-skjermbilde!H$6-4,0)","v":-22},{"$f":"+IF(ISNUMBER(skjermbilde!I$3-AA165-skjermbilde!I$6-4),skjermbilde!I$3-AA165-skjermbilde!I$6-4,0)","v":-50},{"$f":"+IF(ISNUMBER(skjermbilde!J$3-AB165-skjermbilde!J$6-4),skjermbilde!J$3-AB165-skjermbilde!J$6-4,0)","v":-54},{"$f":"+IF(ISNUMBER(skjermbilde!K$3-AC165-skjermbilde!K$6-4),skjermbilde!K$3-AC165-skjermbilde!K$6-4,0)","v":-54},{"$f":"+IF(ISNUMBER(skjermbilde!L$3-AD165-skjermbilde!L$6-4),skjermbilde!L$3-AD165-skjermbilde!L$6-4,0)","v":-52},{"$f":"+IF(ISNUMBER(skjermbilde!M$3-AE165-skjermbilde!M$6-4),skjermbilde!M$3-AE165-skjermbilde!M$6-4,0)","v":-49},{"$f":"+IF(ISNUMBER(skjermbilde!N$3-AF165-skjermbilde!N$6-4),skjermbilde!N$3-AF165-skjermbilde!N$6-4,0)","v":-35},{"$f":"IF(skjermbilde!$O$10=TRUE,10*LOG10(10^(0.1*(AI165+AI$12))+10^(0.1*(AJ165+AJ$12))+10^(0.1*(AK165+AK$12))+10^(0.1*(AL165+AL$12))+10^(0.1*(AM165+AM$12))+10^(0.1*(AN165+AN$12))+10^(0.1*(AO165+AO$12))+10^(0.1*(AP165+AP$12))),\"\")","v":""},1,1,1,1,1,1,1,1,1,1,1,{"$f":"+IF(skjermbilde!$N$10=1,1,0)","v":1},{"$f":"+IF(U165=\"r\",1,IF(M165=skjermbilde!$D$3,1,0))","v":1},{"$f":"+IF(U165=\"s\",1,IF(N165=skjermbilde!$C$3,1,IF(OR(N165<datagrunnlag!D165,N165>datagrunnlag!E165),0,0)))","v":0},{"$f":"+IF(U165=\"s\",1,IF(O165=skjermbilde!$C$4,1,0))","v":0},1,0,null,null,null,150,"",null,null,null,null,null,null,null,null,null,null,null,null,null,null,"",150,"",null,null,null,null,null,null,null,null,null,null,null,null,"",150,"",null,null,null,null,"",{"$f":"IF(skjermbilde!$D$2=1,VLOOKUP($CS165,$CB$17:$CD$261,3,FALSE),CONCATENATE(\"2 x \",VLOOKUP($CS165,$CB$17:$CD$261,3,FALSE)))","v":""},null,null,null,null,null,null,null,null,null,1.0799999999999996E-6,1.0000010800000001,1,"LKK-500,0015C",1.0000010800000001,"LKK-500,0015C",0]
[151,{"$f":"CONCATENATE(\"LKK-\",MID(datagrunnlag!H166,1,1),IF(N166/100<10,CONCATENATE(0,N166/100),N166/100),(MID(datagrunnlag!H166,2,2)))","v":"LKK-500,0015D"},{"$f":"datagrunnlag!I166","v":2},{"$f":"datagrunnlag!J166","v":20},{"$f":"datagrunnlag!K166","v":38},{"$f":"datagrunnlag!L166","v":42},{"$f":"datagrunnlag!M166","v":41},{"$f":"datagrunnlag!N166","v":41},{"$f":"datagrunnlag!O166","v":27},{"$f":"datagrunnlag!P166","v":18},{"$f":"+datagrunnlag!A166","v":"LKK"},{"$f":"+datagrunnlag!B166","v":"r"},{"$f":"IF(N166<1,0.01,(INT((N166+200-50)/(350)))*150)","v":0.01},{"$f":"IF(OR(skjermbilde!$C$3<datagrunnlag!D166,skjermbilde!$C$3>datagrunnlag!E166),0.1,100*ROUND(skjermbilde!$C$3/100,0))","v":0.1},{"$f":"+IF(skjermbilde!$C$4<>0,skjermbilde!$C$4,0.00001)","v":1.0000000000000001E-5},{"$f":"++IF(datagrunnlag!F166=\"s\",\"c\",datagrunnlag!F166)","v":"r"},{"$f":"+datagrunnlag!G166","v":2480},{"$f":"datagrunnlag!Q166","v":3.3581721506837622E-2},0,201,"r",0,0,{"$f":"IF(skjermbilde!$D$2=1,R166*($B$6*3.6/(M166*(O166/1000)))^2,2*R166*($B$6*3.6/(M166*(O166/1000)))^2)","v":0},{"$f":"IF(C166=\"\",\"\",IF(skjermbilde!$D$2=1,C166,IF(AND(skjermbilde!$D$2=2,2*C166>60),60,IF(skjermbilde!$D$2=2,2*C166))))","v":2},{"$f":"IF(skjermbilde!$D$2=1,D166,IF(AND(skjermbilde!$D$2=2,2*D166>60),60,IF(skjermbilde!$D$2=2,2*D166)))","v":20},{"$f":"IF(skjermbilde!$D$2=1,E166,IF(AND(skjermbilde!$D$2=2,2*E166>60),60,IF(skjermbilde!$D$2=2,2*E166)))","v":38},{"$f":"IF(skjermbilde!$D$2=1,F166,IF(AND(skjermbilde!$D$2=2,2*F166>60),60,IF(skjermbilde!$D$2=2,2*F166)))","v":42},{"$f":"IF(skjermbilde!$D$2=1,G166,IF(AND(skjermbilde!$D$2=2,2*G166>60),60,IF(skjermbilde!$D$2=2,2*G166)))","v":41},{"$f":"IF(skjermbilde!$D$2=1,H166,IF(AND(skjermbilde!$D$2=2,2*H166>60),60,IF(skjermbilde!$D$2=2,2*H166)))","v":41},{"$f":"IF(skjermbilde!$D$2=1,I166,IF(AND(skjermbilde!$D$2=2,2*I166>60),60,IF(skjermbilde!$D$2=2,2*I166)))","v":27},{"$f":"IF(J166=\"\",\"\",IF(skjermbilde!$D$2=1,J166,IF(AND(skjermbilde!$D$2=2,2*J166>60),60,IF(skjermbilde!$D$2=2,2*J166))))","v":18},null,null,{"$f":"+IF(ISNUMBER(skjermbilde!G$3-Y166-skjermbilde!G$6-4),skjermbilde!G$3-Y166-skjermbilde!G$6-4,0)","v":-6},{"$f":"+IF(ISNUMBER(skjermbilde!H$3-Z166-skjermbilde!H$6-4),skjermbilde!H$3-Z166-skjermbilde!H$6-4,0)","v":-24},{"$f":"+IF(ISNUMBER(skjermbilde!I$3-AA166-skjermbilde!I$6-4),skjermbilde!I$3-AA166-skjermbilde!I$6-4,0)","v":-42},{"$f":"+IF(ISNUMBER(skjermbilde!J$3-AB166-skjermbilde!J$6-4),skjermbilde!J$3-AB166-skjermbilde!J$6-4,0)","v":-46},{"$f":"+IF(ISNUMBER(skjermbilde!K$3-AC166-skjermbilde!K$6-4),skjermbilde!K$3-AC166-skjermbilde!K$6-4,0)","v":-45},{"$f":"+IF(ISNUMBER(skjermbilde!L$3-AD166-skjermbilde!L$6-4),skjermbilde!L$3-AD166-skjermbilde!L$6-4,0)","v":-45},{"$f":"+IF(ISNUMBER(skjermbilde!M$3-AE166-skjermbilde!M$6-4),skjermbilde!M$3-AE166-skjermbilde!M$6-4,0)","v":-31},{"$f":"+IF(ISNUMBER(skjermbilde!N$3-AF166-skjermbilde!N$6-4),skjermbilde!N$3-AF166-skjermbilde!N$6-4,0)","v":-22},{"$f":"IF(skjermbilde!$O$10=TRUE,10*LOG10(10^(0.1*(AI166+AI$12))+10^(0.1*(AJ166+AJ$12))+10^(0.1*(AK166+AK$12))+10^(0.1*(AL166+AL$12))+10^(0.1*(AM166+AM$12))+10^(0.1*(AN166+AN$12))+10^(0.1*(AO166+AO$12))+10^(0.1*(AP166+AP$12))),\"\")","v":""},1,1,1,1,1,1,1,1,1,1,1,{"$f":"+IF(skjermbilde!$N$10=1,1,0)","v":1},{"$f":"+IF(U166=\"r\",1,IF(M166=skjermbilde!$D$3,1,0))","v":1},{"$f":"+IF(U166=\"s\",1,IF(N166=skjermbilde!$C$3,1,IF(OR(N166<datagrunnlag!D166,N166>datagrunnlag!E166),0,0)))","v":0},{"$f":"+IF(U166=\"s\",1,IF(O166=skjermbilde!$C$4,1,0))","v":0},1,0,null,null,null,151,"",null,null,null,null,null,null,null,null,null,null,null,null,null,null,"",151,"",null,null,null,null,null,null,null,null,null,null,null,null,"",151,"",null,null,null,null,"",{"$f":"IF(skjermbilde!$D$2=1,VLOOKUP($CS166,$CB$17:$CD$261,3,FALSE),CONCATENATE(\"2 x \",VLOOKUP($CS166,$CB$17:$CD$261,3,FALSE)))","v":""},null,null,null,null,null,null,null,null,null,1.0899999999999995E-6,1.00000109,1,"LKK-500,0015D",1.00000109,"LKK-500,0015D",0]
[152,{"$f":"CONCATENATE(\"LKK-\",MID(datagrunnlag!H167,1,1),IF(N167/100<10,CONCATENATE(0,N167/100),N167/100),(MID(datagrunnlag!H167,2,2)))","v":"LKK-500,0015E"},{"$f":"datagrunnlag!I167","v":2},{"$f":"datagrunnlag!J167","v":11},{"$f":"datagrunnlag!K167","v":31},{"$f":"datagrunnlag!L167","v":41},{"$f":"datagrunnlag!M167","v":41},{"$f":"datagrunnlag!N167","v":37},{"$f":"datagrunnlag!O167","v":20},{"$f":"datagrunnlag!P167","v":13},{"$f":"+datagrunnlag!A167","v":"LKK"},{"$f":"+datagrunnlag!B167","v":"r"},{"$f":"IF(N167<1,0.01,(INT((N167+200-100)/(400)))*200)","v":0.01},{"$f":"IF(OR(skjermbilde!$C$3<datagrunnlag!D167,skjermbilde!$C$3>datagrunnlag!E167),0.1,100*ROUND(skjermbilde!$C$3/100,0))","v":0.1},{"$f":"+IF(skjermbilde!$C$4<>0,skjermbilde!$C$4,0.00001)","v":1.0000000000000001E-5},{"$f":"++IF(datagrunnlag!F167=\"s\",\"c\",datagrunnlag!F167)","v":"r"},{"$f":"+datagrunnlag!G167","v":2480},{"$f":"datagrunnlag!Q167","v":2.1183291214508699E-2},0,201,"r",0,0,{"$f":"IF(skjermbilde!$D$2=1,R167*($B$6*3.6/(M167*(O167/1000)))^2,2*R167*($B$6*3.6/(M167*(O167/1000)))^2)","v":0},{"$f":"IF(C167=\"\",\"\",IF(skjermbilde!$D$2=1,C167,IF(AND(skjermbilde!$D$2=2,2*C167>60),60,IF(skjermbilde!$D$2=2,2*C167))))","v":2},{"$f":"IF(skjermbilde!$D$2=1,D167,IF(AND(skjermbilde!$D$2=2,2*D167>60),60,IF(skjermbilde!$D$2=2,2*D167)))","v":11},{"$f":"IF(skjermbilde!$D$2=1,E167,IF(AND(skjermbilde!$D$2=2,2*E167>60),60,IF(skjermbilde!$D$2=2,2*E167)))","v":31},{"$f":"IF(skjermbilde!$D$2=1,F167,IF(AND(skjermbilde!$D$2=2,2*F167>60),60,IF(skjermbilde!$D$2=2,2*F167)))","v":41},{"$f":"IF(skjermbilde!$D$2=1,G167,IF(AND(skjermbilde!$D$2=2,2*G167>60),60,IF(skjermbilde!$D$2=2,2*G167)))","v":41},{"$f":"IF(skjermbilde!$D$2=1,H167,IF(AND(skjermbilde!$D$2=2,2*H167>60),60,IF(skjermbilde!$D$2=2,2*H167)))","v":37},{"$f":"IF(skjermbilde!$D$2=1,I167,IF(AND(skjermbilde!$D$2=2,2*I167>60),60,IF(skjermbilde!$D$2=2,2*I167)))","v":20},{"$f":"IF(J167=\"\",\"\",IF(skjermbilde!$D$2=1,J167,IF(AND(skjermbilde!$D$2=2,2*J167>60),60,IF(skjermbilde!$D$2=2,2*J167))))","v":13},null,null,{"$f":"+IF(ISNUMBER(skjermbilde!G$3-Y167-skjermbilde!G$6-4),skjermbilde!G$3-Y167-skjermbilde!G$6-4,0)","v":-6},{"$f":"+IF(ISNUMBER(skjermbilde!H$3-Z167-skjermbilde!H$6-4),skjermbilde!H$3-Z167-skjermbilde!H$6-4,0)","v":-15},{"$f":"+IF(ISNUMBER(skjermbilde!I$3-AA167-skjermbilde!I$6-4),skjermbilde!I$3-AA167-skjermbilde!I$6-4,0)","v":-35},{"$f":"+IF(ISNUMBER(skjermbilde!J$3-AB167-skjermbilde!J$6-4),skjermbilde!J$3-AB167-skjermbilde!J$6-4,0)","v":-45},{"$f":"+IF(ISNUMBER(skjermbilde!K$3-AC167-skjermbilde!K$6-4),skjermbilde!K$3-AC167-skjermbilde!K$6-4,0)","v":-45},{"$f":"+IF(ISNUMBER(skjermbilde!L$3-AD167-skjermbilde!L$6-4),skjermbilde!L$3-AD167-skjermbilde!L$6-4,0)","v":-41},{"$f":"+IF(ISNUMBER(skjermbilde!M$3-AE167-skjermbilde!M$6-4),skjermbilde!M$3-AE167-skjermbilde!M$6-4,0)","v":-24},{"$f":"+IF(ISNUMBER(skjermbilde!N$3-AF167-skjermbilde!N$6-4),skjermbilde!N$3-AF167-skjermbilde!N$6-4,0)","v":-17},{"$f":"IF(skjermbilde!$O$10=TRUE,10*LOG10(10^(0.1*(AI167+AI$12))+10^(0.1*(AJ167+AJ$12))+10^(0.1*(AK167+AK$12))+10^(0.1*(AL167+AL$12))+10^(0.1*(AM167+AM$12))+10^(0.1*(AN167+AN$12))+10^(0.1*(AO167+AO$12))+10^(0.1*(AP167+AP$12))),\"\")","v":""},1,1,1,1,1,1,1,1,1,1,1,{"$f":"+IF(skjermbilde!$N$10=1,1,0)","v":1},{"$f":"+IF(U167=\"r\",1,IF(M167=skjermbilde!$D$3,1,0))","v":1},{"$f":"+IF(U167=\"s\",1,IF(N167=skjermbilde!$C$3,1,IF(OR(N167<datagrunnlag!D167,N167>datagrunnlag!E167),0,0)))","v":0},{"$f":"+IF(U167=\"s\",1,IF(O167=skjermbilde!$C$4,1,0))","v":0},1,0,null,null,null,152,"",null,null,null,null,null,null,null,null,null,null,null,null,null,null,"",152,"",null,null,null,null,null,null,null,null,null,null,null,null,"",152,"",null,null,null,null,"",{"$f":"IF(skjermbilde!$D$2=1,VLOOKUP($CS167,$CB$17:$CD$261,3,FALSE),CONCATENATE(\"2 x \",VLOOKUP($CS167,$CB$17:$CD$261,3,FALSE)))","v":""},null,null,null,null,null,null,null,null,null,1.0999999999999994E-6,1.0000011,1,"LKK-500,0015E",1.0000011,"LKK-500,0015E",0]
[153,{"$f":"CONCATENATE(\"LKK-\",MID(datagrunnlag!H168,1,1),IF(N168/100<10,CONCATENATE(0,N168/100),N168/100),(MID(datagrunnlag!H168,2,2)))","v":"LKK-500,0017C"},{"$f":"datagrunnlag!I168","v":7},{"$f":"datagrunnlag!J168","v":33},{"$f":"datagrunnlag!K168","v":50},{"$f":"datagrunnlag!L168","v":41},{"$f":"datagrunnlag!M168","v":42},{"$f":"datagrunnlag!N168","v":41},{"$f":"datagrunnlag!O168","v":41},{"$f":"datagrunnlag!P168","v":32},{"$f":"+datagrunnlag!A168","v":"LKK"},{"$f":"+datagrunnlag!B168","v":"r"},{"$f":"IF(N168<1,0.01,(INT((N168+300-100)/(400)))*100)","v":0.01},{"$f":"IF(OR(skjermbilde!$C$3<datagrunnlag!D168,skjermbilde!$C$3>datagrunnlag!E168),0.1,100*ROUND(skjermbilde!$C$3/100,0))","v":0.1},{"$f":"+IF(skjermbilde!$C$4<>0,skjermbilde!$C$4,0.00001)","v":1.0000000000000001E-5},{"$f":"++IF(datagrunnlag!F168=\"s\",\"c\",datagrunnlag!F168)","v":"r"},{"$f":"+datagrunnlag!G168","v":2480},{"$f":"datagrunnlag!Q168","v":4.1613147112382932E-2},0,201,"r",0,0,{"$f":"IF(skjermbilde!$D$2=1,R168*($B$6*3.6/(M168*(O168/1000)))^2,2*R168*($B$6*3.6/(M168*(O168/1000)))^2)","v":0},{"$f":"IF(C168=\"\",\"\",IF(skjermbilde!$D$2=1,C168,IF(AND(skjermbilde!$D$2=2,2*C168>60),60,IF(skjermbilde!$D$2=2,2*C168))))","v":7},{"$f":"IF(skjermbilde!$D$2=1,D168,IF(AND(skjermbilde!$D$2=2,2*D168>60),60,IF(skjermbilde!$D$2=2,2*D168)))","v":33},{"$f":"IF(skjermbilde!$D$2=1,E168,IF(AND(skjermbilde!$D$2=2,2*E168>60),60,IF(skjermbilde!$D$2=2,2*E168)))","v":50},{"$f":"IF(skjermbilde!$D$2=1,F168,IF(AND(skjermbilde!$D$2=2,2*F168>60),60,IF(skjermbilde!$D$2=2,2*F168)))","v":41},{"$f":"IF(skjermbilde!$D$2=1,G168,IF(AND(skjermbilde!$D$2=2,2*G168>60),60,IF(skjermbilde!$D$2=2,2*G168)))","v":42},{"$f":"IF(skjermbilde!$D$2=1,H168,IF(AND(skjermbilde!$D$2=2,2*H168>60),60,IF(skjermbilde!$D$2=2,2*H168)))","v":41},{"$f":"IF(skjermbilde!$D$2=1,I168,IF(AND(skjermbilde!$D$2=2,2*I168>60),60,IF(skjermbilde!$D$2=2,2*I168)))","v":41},{"$f":"IF(J168=\"\",\"\",IF(skjermbilde!$D$2=1,J168,IF(AND(skjermbilde!$D$2=2,2*J168>60),60,IF(skjermbilde!$D$2=2,2*J168))))","v":32},null,null,{"$f":"+IF(ISNUMBER(skjermbilde!G$3-Y168-skjermbilde!G$6-4),skjermbilde!G$3-Y168-skjermbilde!G$6-4,0)","v":-11},{"$f":"+IF(ISNUMBER(skjermbilde!H$3-Z168-skjermbilde!H$6-4),skjermbilde!H$3-Z168-skjermbilde!H$6-4,0)","v":-37},{"$f":"+IF(ISNUMBER(skjermbilde!I$3-AA168-skjermbilde!I$6-4),skjermbilde!I$3-AA168-skjermbilde!I$6-4,0)","v":-54},{"$f":"+IF(ISNUMBER(skjermbilde!J$3-AB168-skjermbilde!J$6-4),skjermbilde!J$3-AB168-skjermbilde!J$6-4,0)","v":-45},{"$f":"+IF(ISNUMBER(skjermbilde!K$3-AC168-skjermbilde!K$6-4),skjermbilde!K$3-AC168-skjermbilde!K$6-4,0)","v":-46},{"$f":"+IF(ISNUMBER(skjermbilde!L$3-AD168-skjermbilde!L$6-4),skjermbilde!L$3-AD168-skjermbilde!L$6-4,0)","v":-45},{"$f":"+IF(ISNUMBER(skjermbilde!M$3-AE168-skjermbilde!M$6-4),skjermbilde!M$3-AE168-skjermbilde!M$6-4,0)","v":-45},{"$f":"+IF(ISNUMBER(skjermbilde!N$3-AF168-skjermbilde!N$6-4),skjermbilde!N$3-AF168-skjermbilde!N$6-4,0)","v":-36},{"$f":"IF(skjermbilde!$O$10=TRUE,10*LOG10(10^(0.1*(AI168+AI$12))+10^(0.1*(AJ168+AJ$12))+10^(0.1*(AK168+AK$12))+10^(0.1*(AL168+AL$12))+10^(0.1*(AM168+AM$12))+10^(0.1*(AN168+AN$12))+10^(0.1*(AO168+AO$12))+10^(0.1*(AP168+AP$12))),\"\")","v":""},1,1,1,1,1,1,1,1,1,1,1,{"$f":"+IF(skjermbilde!$N$10=1,1,0)","v":1},{"$f":"+IF(U168=\"r\",1,IF(M168=skjermbilde!$D$3,1,0))","v":1},{"$f":"+IF(U168=\"s\",1,IF(N168=skjermbilde!$C$3,1,IF(OR(N168<datagrunnlag!D168,N168>datagrunnlag!E168),0,0)))","v":0},{"$f":"+IF(U168=\"s\",1,IF(O168=skjermbilde!$C$4,1,0))","v":0},1,0,null,null,null,153,"",null,null,null,null,null,null,null,null,null,null,null,null,null,null,"",153,"",null,null,null,null,null,null,null,null,null,null,null,null,"",153,"",null,null,null,null,"",{"$f":"IF(skjermbilde!$D$2=1,VLOOKUP($CS168,$CB$17:$CD$261,3,FALSE),CONCATENATE(\"2 x \",VLOOKUP($CS168,$CB$17:$CD$261,3,FALSE)))","v":""},null,null,null,null,null,null,null,null,null,1.1099999999999993E-6,1.0000011099999999,1,"LKK-500,0017C",1.0000011099999999,"LKK-500,0017C",0]
[154,{"$f":"CONCATENATE(\"LKK-\",MID(datagrunnlag!H169,1,1),IF(N169/100<10,CONCATENATE(0,N169/100),N169/100),(MID(datagrunnlag!H169,2,2)))","v":"LKK-500,0017D"},{"$f":"datagrunnlag!I169","v":4},{"$f":"datagrunnlag!J169","v":27},{"$f":"datagrunnlag!K169","v":38},{"$f":"datagrunnlag!L169","v":42},{"$f":"datagrunnlag!M169","v":41},{"$f":"datagrunnlag!N169","v":42},{"$f":"datagrunnlag!O169","v":28},{"$f":"datagrunnlag!P169","v":19},{"$f":"+datagrunnlag!A169","v":"LKK"},{"$f":"+datagrunnlag!B169","v":"r"},{"$f":"IF(N169<1,0.01,(INT((N169+300-100)/(450)))*150)","v":0.01},{"$f":"IF(OR(skjermbilde!$C$3<datagrunnlag!D169,skjermbilde!$C$3>datagrunnlag!E169),0.1,100*ROUND(skjermbilde!$C$3/100,0))","v":0.1},{"$f":"+IF(skjermbilde!$C$4<>0,skjermbilde!$C$4,0.00001)","v":1.0000000000000001E-5},{"$f":"++IF(datagrunnlag!F169=\"s\",\"c\",datagrunnlag!F169)","v":"r"},{"$f":"+datagrunnlag!G169","v":2480},{"$f":"datagrunnlag!Q169","v":3.1983982458748318E-2},0,201,"r",0,0,{"$f":"IF(skjermbilde!$D$2=1,R169*($B$6*3.6/(M169*(O169/1000)))^2,2*R169*($B$6*3.6/(M169*(O169/1000)))^2)","v":0},{"$f":"IF(C169=\"\",\"\",IF(skjermbilde!$D$2=1,C169,IF(AND(skjermbilde!$D$2=2,2*C169>60),60,IF(skjermbilde!$D$2=2,2*C169))))","v":4},{"$f":"IF(skjermbilde!$D$2=1,D169,IF(AND(skjermbilde!$D$2=2,2*D169>60),60,IF(skjermbilde!$D$2=2,2*D169)))","v":27},{"$f":"IF(skjermbilde!$D$2=1,E169,IF(AND(skjermbilde!$D$2=2,2*E169>60),60,IF(skjermbilde!$D$2=2,2*E169)))","v":38},{"$f":"IF(skjermbilde!$D$2=1,F169,IF(AND(skjermbilde!$D$2=2,2*F169>60),60,IF(skjermbilde!$D$2=2,2*F169)))","v":42},{"$f":"IF(skjermbilde!$D$2=1,G169,IF(AND(skjermbilde!$D$2=2,2*G169>60),60,IF(skjermbilde!$D$2=2,2*G169)))","v":41},{"$f":"IF(skjermbilde!$D$2=1,H169,IF(AND(skjermbilde!$D$2=2,2*H169>60),60,IF(skjermbilde!$D$2=2,2*H169)))","v":42},{"$f":"IF(skjermbilde!$D$2=1,I169,IF(AND(skjermbilde!$D$2=2,2*I169>60),60,IF(skjermbilde!$D$2=2,2*I169)))","v":28},{"$f":"IF(J169=\"\",\"\",IF(skjermbilde!$D$2=1,J169,IF(AND(skjermbilde!$D$2=2,2*J169>60),60,IF(skjermbilde!$D$2=2,2*J169))))","v":19},null,null,{"$f":"+IF(ISNUMBER(skjermbilde!G$3-Y169-skjermbilde!G$6-4),skjermbilde!G$3-Y169-skjermbilde!G$6-4,0)","v":-8},{"$f":"+IF(ISNUMBER(skjermbilde!H$3-Z169-skjermbilde!H$6-4),skjermbilde!H$3-Z169-skjermbilde!H$6-4,0)","v":-31},{"$f":"+IF(ISNUMBER(skjermbilde!I$3-AA169-skjermbilde!I$6-4),skjermbilde!I$3-AA169-skjermbilde!I$6-4,0)","v":-42},{"$f":"+IF(ISNUMBER(skjermbilde!J$3-AB169-skjermbilde!J$6-4),skjermbilde!J$3-AB169-skjermbilde!J$6-4,0)","v":-46},{"$f":"+IF(ISNUMBER(skjermbilde!K$3-AC169-skjermbilde!K$6-4),skjermbilde!K$3-AC169-skjermbilde!K$6-4,0)","v":-45},{"$f":"+IF(ISNUMBER(skjermbilde!L$3-AD169-skjermbilde!L$6-4),skjermbilde!L$3-AD169-skjermbilde!L$6-4,0)","v":-46},{"$f":"+IF(ISNUMBER(skjermbilde!M$3-AE169-skjermbilde!M$6-4),skjermbilde!M$3-AE169-skjermbilde!M$6-4,0)","v":-32},{"$f":"+IF(ISNUMBER(skjermbilde!N$3-AF169-skjermbilde!N$6-4),skjermbilde!N$3-AF169-skjermbilde!N$6-4,0)","v":-23},{"$f":"IF(skjermbilde!$O$10=TRUE,10*LOG10(10^(0.1*(AI169+AI$12))+10^(0.1*(AJ169+AJ$12))+10^(0.1*(AK169+AK$12))+10^(0.1*(AL169+AL$12))+10^(0.1*(AM169+AM$12))+10^(0.1*(AN169+AN$12))+10^(0.1*(AO169+AO$12))+10^(0.1*(AP169+AP$12))),\"\")","v":""},1,1,1,1,1,1,1,1,1,1,1,{"$f":"+IF(skjermbilde!$N$10=1,1,0)","v":1},{"$f":"+IF(U169=\"r\",1,IF(M169=skjermbilde!$D$3,1,0))","v":1},{"$f":"+IF(U169=\"s\",1,IF(N169=skjermbilde!$C$3,1,IF(OR(N169<datagrunnlag!D169,N169>datagrunnlag!E169),0,0)))","v":0},{"$f":"+IF(U169=\"s\",1,IF(O169=skjermbilde!$C$4,1,0))","v":0},1,0,null,null,null,154,"",null,null,null,null,null,null,null,null,null,null,null,null,null,null,"",154,"",null,null,null,null,null,null,null,null,null,null,null,null,"",154,"",null,null,null,null,"",{"$f":"IF(skjermbilde!$D$2=1,VLOOKUP($CS169,$CB$17:$CD$261,3,FALSE),CONCATENATE(\"2 x \",VLOOKUP($CS169,$CB$17:$CD$261,3,FALSE)))","v":""},null,null,null,null,null,null,null,null,null,1.1199999999999992E-6,1.0000011200000001,1,"LKK-500,0017D",1.0000011200000001,"LKK-500,0017D",0]
[155,{"$f":"CONCATENATE(\"LKK-\",MID(datagrunnlag!H170,1,1),IF(N170/100<10,CONCATENATE(0,N170/100),N170/100),(MID(datagrunnlag!H170,2,2)))","v":"LKK-500,0017E"},{"$f":"datagrunnlag!I170","v":6},{"$f":"datagrunnlag!J170","v":28},{"$f":"datagrunnlag!K170","v":30},{"$f":"datagrunnlag!L170","v":41},{"$f":"datagrunnlag!M170","v":41},{"$f":"datagrunnlag!N170","v":41},{"$f":"datagrunnlag!O170","v":27},{"$f":"datagrunnlag!P170","v":23},{"$f":"+datagrunnlag!A170","v":"LKK"},{"$f":"+datagrunnlag!B170","v":"r"},{"$f":"IF(N170<1,0.01,(INT((N170+300-100)/(500)))*200)","v":0.01},{"$f":"IF(OR(skjermbilde!$C$3<datagrunnlag!D170,skjermbilde!$C$3>datagrunnlag!E170),0.1,100*ROUND(skjermbilde!$C$3/100,0))","v":0.1},{"$f":"+IF(skjermbilde!$C$4<>0,skjermbilde!$C$4,0.00001)","v":1.0000000000000001E-5},{"$f":"++IF(datagrunnlag!F170=\"s\",\"c\",datagrunnlag!F170)","v":"r"},{"$f":"+datagrunnlag!G170","v":2480},{"$f":"datagrunnlag!Q170","v":4.1386812978904522E-2},0,201,"r",0,0,{"$f":"IF(skjermbilde!$D$2=1,R170*($B$6*3.6/(M170*(O170/1000)))^2,2*R170*($B$6*3.6/(M170*(O170/1000)))^2)","v":0},{"$f":"IF(C170=\"\",\"\",IF(skjermbilde!$D$2=1,C170,IF(AND(skjermbilde!$D$2=2,2*C170>60),60,IF(skjermbilde!$D$2=2,2*C170))))","v":6},{"$f":"IF(skjermbilde!$D$2=1,D170,IF(AND(skjermbilde!$D$2=2,2*D170>60),60,IF(skjermbilde!$D$2=2,2*D170)))","v":28},{"$f":"IF(skjermbilde!$D$2=1,E170,IF(AND(skjermbilde!$D$2=2,2*E170>60),60,IF(skjermbilde!$D$2=2,2*E170)))","v":30},{"$f":"IF(skjermbilde!$D$2=1,F170,IF(AND(skjermbilde!$D$2=2,2*F170>60),60,IF(skjermbilde!$D$2=2,2*F170)))","v":41},{"$f":"IF(skjermbilde!$D$2=1,G170,IF(AND(skjermbilde!$D$2=2,2*G170>60),60,IF(skjermbilde!$D$2=2,2*G170)))","v":41},{"$f":"IF(skjermbilde!$D$2=1,H170,IF(AND(skjermbilde!$D$2=2,2*H170>60),60,IF(skjermbilde!$D$2=2,2*H170)))","v":41},{"$f":"IF(skjermbilde!$D$2=1,I170,IF(AND(skjermbilde!$D$2=2,2*I170>60),60,IF(skjermbilde!$D$2=2,2*I170)))","v":27},{"$f":"IF(J170=\"\",\"\",IF(skjermbilde!$D$2=1,J170,IF(AND(skjermbilde!$D$2=2,2*J170>60),60,IF(skjermbilde!$D$2=2,2*J170))))","v":23},null,null,{"$f":"+IF(ISNUMBER(skjermbilde!G$3-Y170-skjermbilde!G$6-4),skjermbilde!G$3-Y170-skjermbilde!G$6-4,0)","v":-10},{"$f":"+IF(ISNUMBER(skjermbilde!H$3-Z170-skjermbilde!H$6-4),skjermbilde!H$3-Z170-skjermbilde!H$6-4,0)","v":-32},{"$f":"+IF(ISNUMBER(skjermbilde!I$3-AA170-skjermbilde!I$6-4),skjermbilde!I$3-AA170-skjermbilde!I$6-4,0)","v":-34},{"$f":"+IF(ISNUMBER(skjermbilde!J$3-AB170-skjermbilde!J$6-4),skjermbilde!J$3-AB170-skjermbilde!J$6-4,0)","v":-45},{"$f":"+IF(ISNUMBER(skjermbilde!K$3-AC170-skjermbilde!K$6-4),skjermbilde!K$3-AC170-skjermbilde!K$6-4,0)","v":-45},{"$f":"+IF(ISNUMBER(skjermbilde!L$3-AD170-skjermbilde!L$6-4),skjermbilde!L$3-AD170-skjermbilde!L$6-4,0)","v":-45},{"$f":"+IF(ISNUMBER(skjermbilde!M$3-AE170-skjermbilde!M$6-4),skjermbilde!M$3-AE170-skjermbilde!M$6-4,0)","v":-31},{"$f":"+IF(ISNUMBER(skjermbilde!N$3-AF170-skjermbilde!N$6-4),skjermbilde!N$3-AF170-skjermbilde!N$6-4,0)","v":-27},{"$f":"IF(skjermbilde!$O$10=TRUE,10*LOG10(10^(0.1*(AI170+AI$12))+10^(0.1*(AJ170+AJ$12))+10^(0.1*(AK170+AK$12))+10^(0.1*(AL170+AL$12))+10^(0.1*(AM170+AM$12))+10^(0.1*(AN170+AN$12))+10^(0.1*(AO170+AO$12))+10^(0.1*(AP170+AP$12))),\"\")","v":""},1,1,1,1,1,1,1,1,1,1,1,{"$f":"+IF(skjermbilde!$N$10=1,1,0)","v":1},{"$f":"+IF(U170=\"r\",1,IF(M170=skjermbilde!$D$3,1,0))","v":1},{"$f":"+IF(U170=\"s\",1,IF(N170=skjermbilde!$C$3,1,IF(OR(N170<datagrunnlag!D170,N170>datagrunnlag!E170),0,0)))","v":0},{"$f":"+IF(U170=\"s\",1,IF(O170=skjermbilde!$C$4,1,0))","v":0},1,0,null,null,null,155,"",null,null,null,null,null,null,null,null,null,null,null,null,null,null,"",155,"",null,null,null,null,null,null,null,null,null,null,null,null,"",155,{"$f":"IF(ISERROR(SMALL(CB$17:CB$261,BL169)),\"\",SMALL(CB$17:CB$261,BL169))","v":""},null,null,null,null,"",{"$f":"IF(skjermbilde!$D$2=1,VLOOKUP($CS170,$CB$17:$CD$261,3,FALSE),CONCATENATE(\"2 x \",VLOOKUP($CS170,$CB$17:$CD$261,3,FALSE)))","v":""},null,null,null,null,null,null,null,null,null,1.1299999999999991E-6,1.00000113,1,"LKK-500,0017E",{"$f":"IF(ISERROR(SMALL(DJ$17:DJ$261,BL169)),\"\",SMALL(DJ$17:DJ$261,BL169))","v":1.00000113},"LKK-500,0017E",0]
[156,{"$f":"CONCATENATE(\"LKK-\",MID(datagrunnlag!H171,1,1),IF(N171/100<10,CONCATENATE(0,N171/100),N171/100),(MID(datagrunnlag!H171,2,2)))","v":"LKK-500,0019D"},{"$f":"datagrunnlag!I171","v":9},{"$f":"datagrunnlag!J171","v":40},{"$f":"datagrunnlag!K171","v":37},{"$f":"datagrunnlag!L171","v":36},{"$f":"datagrunnlag!M171","v":41},{"$f":"datagrunnlag!N171","v":42},{"$f":"datagrunnlag!O171","v":23},{"$f":"datagrunnlag!P171","v":17},{"$f":"+datagrunnlag!A171","v":"LKK"},{"$f":"+datagrunnlag!B171","v":"r"},{"$f":"IF(N171<1,0.01,(INT((N171+400-100)/(550)))*150)","v":0.01},{"$f":"IF(OR(skjermbilde!$C$3<datagrunnlag!D171,skjermbilde!$C$3>datagrunnlag!E171),0.1,100*ROUND(skjermbilde!$C$3/100,0))","v":0.1},{"$f":"+IF(skjermbilde!$C$4<>0,skjermbilde!$C$4,0.00001)","v":1.0000000000000001E-5},{"$f":"++IF(datagrunnlag!F171=\"s\",\"c\",datagrunnlag!F171)","v":"r"},{"$f":"+datagrunnlag!G171","v":2480},{"$f":"datagrunnlag!Q171","v":3.6031940816326519E-2},0,201,"r",0,0,{"$f":"IF(skjermbilde!$D$2=1,R171*($B$6*3.6/(M171*(O171/1000)))^2,2*R171*($B$6*3.6/(M171*(O171/1000)))^2)","v":0},{"$f":"IF(C171=\"\",\"\",IF(skjermbilde!$D$2=1,C171,IF(AND(skjermbilde!$D$2=2,2*C171>60),60,IF(skjermbilde!$D$2=2,2*C171))))","v":9},{"$f":"IF(skjermbilde!$D$2=1,D171,IF(AND(skjermbilde!$D$2=2,2*D171>60),60,IF(skjermbilde!$D$2=2,2*D171)))","v":40},{"$f":"IF(skjermbilde!$D$2=1,E171,IF(AND(skjermbilde!$D$2=2,2*E171>60),60,IF(skjermbilde!$D$2=2,2*E171)))","v":37},{"$f":"IF(skjermbilde!$D$2=1,F171,IF(AND(skjermbilde!$D$2=2,2*F171>60),60,IF(skjermbilde!$D$2=2,2*F171)))","v":36},{"$f":"IF(skjermbilde!$D$2=1,G171,IF(AND(skjermbilde!$D$2=2,2*G171>60),60,IF(skjermbilde!$D$2=2,2*G171)))","v":41},{"$f":"IF(skjermbilde!$D$2=1,H171,IF(AND(skjermbilde!$D$2=2,2*H171>60),60,IF(skjermbilde!$D$2=2,2*H171)))","v":42},{"$f":"IF(skjermbilde!$D$2=1,I171,IF(AND(skjermbilde!$D$2=2,2*I171>60),60,IF(skjermbilde!$D$2=2,2*I171)))","v":23},{"$f":"IF(J171=\"\",\"\",IF(skjermbilde!$D$2=1,J171,IF(AND(skjermbilde!$D$2=2,2*J171>60),60,IF(skjermbilde!$D$2=2,2*J171))))","v":17},null,null,{"$f":"+IF(ISNUMBER(skjermbilde!G$3-Y171-skjermbilde!G$6-4),skjermbilde!G$3-Y171-skjermbilde!G$6-4,0)","v":-13},{"$f":"+IF(ISNUMBER(skjermbilde!H$3-Z171-skjermbilde!H$6-4),skjermbilde!H$3-Z171-skjermbilde!H$6-4,0)","v":-44},{"$f":"+IF(ISNUMBER(skjermbilde!I$3-AA171-skjermbilde!I$6-4),skjermbilde!I$3-AA171-skjermbilde!I$6-4,0)","v":-41},{"$f":"+IF(ISNUMBER(skjermbilde!J$3-AB171-skjermbilde!J$6-4),skjermbilde!J$3-AB171-skjermbilde!J$6-4,0)","v":-40},{"$f":"+IF(ISNUMBER(skjermbilde!K$3-AC171-skjermbilde!K$6-4),skjermbilde!K$3-AC171-skjermbilde!K$6-4,0)","v":-45},{"$f":"+IF(ISNUMBER(skjermbilde!L$3-AD171-skjermbilde!L$6-4),skjermbilde!L$3-AD171-skjermbilde!L$6-4,0)","v":-46},{"$f":"+IF(ISNUMBER(skjermbilde!M$3-AE171-skjermbilde!M$6-4),skjermbilde!M$3-AE171-skjermbilde!M$6-4,0)","v":-27},{"$f":"+IF(ISNUMBER(skjermbilde!N$3-AF171-skjermbilde!N$6-4),skjermbilde!N$3-AF171-skjermbilde!N$6-4,0)","v":-21},{"$f":"IF(skjermbilde!$O$10=TRUE,10*LOG10(10^(0.1*(AI171+AI$12))+10^(0.1*(AJ171+AJ$12))+10^(0.1*(AK171+AK$12))+10^(0.1*(AL171+AL$12))+10^(0.1*(AM171+AM$12))+10^(0.1*(AN171+AN$12))+10^(0.1*(AO171+AO$12))+10^(0.1*(AP171+AP$12))),\"\")","v":""},1,1,1,1,1,1,1,1,1,1,1,{"$f":"+IF(skjermbilde!$N$10=1,1,0)","v":1},{"$f":"+IF(U171=\"r\",1,IF(M171=skjermbilde!$D$3,1,0))","v":1},{"$f":"+IF(U171=\"s\",1,IF(N171=skjermbilde!$C$3,1,IF(OR(N171<datagrunnlag!D171,N171>datagrunnlag!E171),0,0)))","v":0},{"$f":"+IF(U171=\"s\",1,IF(O171=skjermbilde!$C$4,1,0))","v":0},1,0,null,null,null,156,"",null,null,null,null,null,null,null,null,null,null,null,null,null,null,"",156,"",null,null,null,null,null,null,null,null,null,null,null,null,"",156,"",null,null,null,null,"",{"$f":"IF(skjermbilde!$D$2=1,VLOOKUP($CS171,$CB$17:$CD$261,3,FALSE),CONCATENATE(\"2 x \",VLOOKUP($CS171,$CB$17:$CD$261,3,FALSE)))","v":""},null,null,null,null,null,null,null,null,null,1.139999999999999E-6,1.00000114,1,"LKK-500,0019D",1.00000114,"LKK-500,0019D",0]
[157,{"$f":"CONCATENATE(\"LKK-\",MID(datagrunnlag!H172,1,1),IF(N172/100<10,CONCATENATE(0,N172/100),N172/100),(MID(datagrunnlag!H172,2,2)))","v":"LKK-500,0019E"},{"$f":"datagrunnlag!I172","v":10},{"$f":"datagrunnlag!J172","v":32},{"$f":"datagrunnlag!K172","v":22},{"$f":"datagrunnlag!L172","v":28},{"$f":"datagrunnlag!M172","v":41},{"$f":"datagrunnlag!N172","v":47},{"$f":"datagrunnlag!O172","v":40},{"$f":"datagrunnlag!P172","v":28},{"$f":"+datagrunnlag!A172","v":"LKK"},{"$f":"+datagrunnlag!B172","v":"r"},{"$f":"IF(N172<1,0.01,(INT((N172+400-100)/(600)))*200)","v":0.01},{"$f":"IF(OR(skjermbilde!$C$3<datagrunnlag!D172,skjermbilde!$C$3>datagrunnlag!E172),0.1,100*ROUND(skjermbilde!$C$3/100,0))","v":0.1},{"$f":"+IF(skjermbilde!$C$4<>0,skjermbilde!$C$4,0.00001)","v":1.0000000000000001E-5},{"$f":"++IF(datagrunnlag!F172=\"s\",\"c\",datagrunnlag!F172)","v":"r"},{"$f":"+datagrunnlag!G172","v":2480},{"$f":"datagrunnlag!Q172","v":3.2183118367346934E-2},0,201,"r",0,0,{"$f":"IF(skjermbilde!$D$2=1,R172*($B$6*3.6/(M172*(O172/1000)))^2,2*R172*($B$6*3.6/(M172*(O172/1000)))^2)","v":0},{"$f":"IF(C172=\"\",\"\",IF(skjermbilde!$D$2=1,C172,IF(AND(skjermbilde!$D$2=2,2*C172>60),60,IF(skjermbilde!$D$2=2,2*C172))))","v":10},{"$f":"IF(skjermbilde!$D$2=1,D172,IF(AND(skjermbilde!$D$2=2,2*D172>60),60,IF(skjermbilde!$D$2=2,2*D172)))","v":32},{"$f":"IF(skjermbilde!$D$2=1,E172,IF(AND(skjermbilde!$D$2=2,2*E172>60),60,IF(skjermbilde!$D$2=2,2*E172)))","v":22},{"$f":"IF(skjermbilde!$D$2=1,F172,IF(AND(skjermbilde!$D$2=2,2*F172>60),60,IF(skjermbilde!$D$2=2,2*F172)))","v":28},{"$f":"IF(skjermbilde!$D$2=1,G172,IF(AND(skjermbilde!$D$2=2,2*G172>60),60,IF(skjermbilde!$D$2=2,2*G172)))","v":41},{"$f":"IF(skjermbilde!$D$2=1,H172,IF(AND(skjermbilde!$D$2=2,2*H172>60),60,IF(skjermbilde!$D$2=2,2*H172)))","v":47},{"$f":"IF(skjermbilde!$D$2=1,I172,IF(AND(skjermbilde!$D$2=2,2*I172>60),60,IF(skjermbilde!$D$2=2,2*I172)))","v":40},{"$f":"IF(J172=\"\",\"\",IF(skjermbilde!$D$2=1,J172,IF(AND(skjermbilde!$D$2=2,2*J172>60),60,IF(skjermbilde!$D$2=2,2*J172))))","v":28},null,null,{"$f":"+IF(ISNUMBER(skjermbilde!G$3-Y172-skjermbilde!G$6-4),skjermbilde!G$3-Y172-skjermbilde!G$6-4,0)","v":-14},{"$f":"+IF(ISNUMBER(skjermbilde!H$3-Z172-skjermbilde!H$6-4),skjermbilde!H$3-Z172-skjermbilde!H$6-4,0)","v":-36},{"$f":"+IF(ISNUMBER(skjermbilde!I$3-AA172-skjermbilde!I$6-4),skjermbilde!I$3-AA172-skjermbilde!I$6-4,0)","v":-26},{"$f":"+IF(ISNUMBER(skjermbilde!J$3-AB172-skjermbilde!J$6-4),skjermbilde!J$3-AB172-skjermbilde!J$6-4,0)","v":-32},{"$f":"+IF(ISNUMBER(skjermbilde!K$3-AC172-skjermbilde!K$6-4),skjermbilde!K$3-AC172-skjermbilde!K$6-4,0)","v":-45},{"$f":"+IF(ISNUMBER(skjermbilde!L$3-AD172-skjermbilde!L$6-4),skjermbilde!L$3-AD172-skjermbilde!L$6-4,0)","v":-51},{"$f":"+IF(ISNUMBER(skjermbilde!M$3-AE172-skjermbilde!M$6-4),skjermbilde!M$3-AE172-skjermbilde!M$6-4,0)","v":-44},{"$f":"+IF(ISNUMBER(skjermbilde!N$3-AF172-skjermbilde!N$6-4),skjermbilde!N$3-AF172-skjermbilde!N$6-4,0)","v":-32},{"$f":"IF(skjermbilde!$O$10=TRUE,10*LOG10(10^(0.1*(AI172+AI$12))+10^(0.1*(AJ172+AJ$12))+10^(0.1*(AK172+AK$12))+10^(0.1*(AL172+AL$12))+10^(0.1*(AM172+AM$12))+10^(0.1*(AN172+AN$12))+10^(0.1*(AO172+AO$12))+10^(0.1*(AP172+AP$12))),\"\")","v":""},1,1,1,1,1,1,1,1,1,1,1,{"$f":"+IF(skjermbilde!$N$10=1,1,0)","v":1},{"$f":"+IF(U172=\"r\",1,IF(M172=skjermbilde!$D$3,1,0))","v":1},{"$f":"+IF(U172=\"s\",1,IF(N172=skjermbilde!$C$3,1,IF(OR(N172<datagrunnlag!D172,N172>datagrunnlag!E172),0,0)))","v":0},{"$f":"+IF(U172=\"s\",1,IF(O172=skjermbilde!$C$4,1,0))","v":0},1,0,null,null,null,157,"",null,null,null,null,null,null,null,null,null,null,null,null,null,null,"",157,"",null,null,null,null,null,null,null,null,null,null,null,null,"",157,"",null,null,null,null,"",{"$f":"IF(skjermbilde!$D$2=1,VLOOKUP($CS172,$CB$17:$CD$261,3,FALSE),CONCATENATE(\"2 x \",VLOOKUP($CS172,$CB$17:$CD$261,3,FALSE)))","v":""},null,null,null,null,null,null,null,null,null,1.1499999999999989E-6,1.0000011499999999,1,"LKK-500,0019E",1.0000011499999999,"LKK-500,0019E",0]
[158,{"$f":"CONCATENATE(\"LKK-\",MID(datagrunnlag!H173,1,1),IF(N173/100<10,CONCATENATE(0,N173/100),N173/100),(MID(datagrunnlag!H173,2,2)))","v":"LKK-500,0019F"},{"$f":"datagrunnlag!I173","v":9},{"$f":"datagrunnlag!J173","v":26},{"$f":"datagrunnlag!K173","v":20},{"$f":"datagrunnlag!L173","v":24},{"$f":"datagrunnlag!M173","v":36},{"$f":"datagrunnlag!N173","v":38},{"$f":"datagrunnlag!O173","v":31},{"$f":"datagrunnlag!P173","v":23},{"$f":"+datagrunnlag!A173","v":"LKK"},{"$f":"+datagrunnlag!B173","v":"r"},{"$f":"IF(N173<1,0.01,(INT((N173+400-100)/(650)))*250)","v":0.01},{"$f":"IF(OR(skjermbilde!$C$3<datagrunnlag!D173,skjermbilde!$C$3>datagrunnlag!E173),0.1,100*ROUND(skjermbilde!$C$3/100,0))","v":0.1},{"$f":"+IF(skjermbilde!$C$4<>0,skjermbilde!$C$4,0.00001)","v":1.0000000000000001E-5},{"$f":"++IF(datagrunnlag!F173=\"s\",\"c\",datagrunnlag!F173)","v":"r"},{"$f":"+datagrunnlag!G173","v":2480},{"$f":"datagrunnlag!Q173","v":3.7042677551020413E-2},0,201,"r",0,0,{"$f":"IF(skjermbilde!$D$2=1,R173*($B$6*3.6/(M173*(O173/1000)))^2,2*R173*($B$6*3.6/(M173*(O173/1000)))^2)","v":0},{"$f":"IF(C173=\"\",\"\",IF(skjermbilde!$D$2=1,C173,IF(AND(skjermbilde!$D$2=2,2*C173>60),60,IF(skjermbilde!$D$2=2,2*C173))))","v":9},{"$f":"IF(skjermbilde!$D$2=1,D173,IF(AND(skjermbilde!$D$2=2,2*D173>60),60,IF(skjermbilde!$D$2=2,2*D173)))","v":26},{"$f":"IF(skjermbilde!$D$2=1,E173,IF(AND(skjermbilde!$D$2=2,2*E173>60),60,IF(skjermbilde!$D$2=2,2*E173)))","v":20},{"$f":"IF(skjermbilde!$D$2=1,F173,IF(AND(skjermbilde!$D$2=2,2*F173>60),60,IF(skjermbilde!$D$2=2,2*F173)))","v":24},{"$f":"IF(skjermbilde!$D$2=1,G173,IF(AND(skjermbilde!$D$2=2,2*G173>60),60,IF(skjermbilde!$D$2=2,2*G173)))","v":36},{"$f":"IF(skjermbilde!$D$2=1,H173,IF(AND(skjermbilde!$D$2=2,2*H173>60),60,IF(skjermbilde!$D$2=2,2*H173)))","v":38},{"$f":"IF(skjermbilde!$D$2=1,I173,IF(AND(skjermbilde!$D$2=2,2*I173>60),60,IF(skjermbilde!$D$2=2,2*I173)))","v":31},{"$f":"IF(J173=\"\",\"\",IF(skjermbilde!$D$2=1,J173,IF(AND(skjermbilde!$D$2=2,2*J173>60),60,IF(skjermbilde!$D$2=2,2*J173))))","v":23},null,null,{"$f":"+IF(ISNUMBER(skjermbilde!G$3-Y173-skjermbilde!G$6-4),skjermbilde!G$3-Y173-skjermbilde!G$6-4,0)","v":-13},{"$f":"+IF(ISNUMBER(skjermbilde!H$3-Z173-skjermbilde!H$6-4),skjermbilde!H$3-Z173-skjermbilde!H$6-4,0)","v":-30},{"$f":"+IF(ISNUMBER(skjermbilde!I$3-AA173-skjermbilde!I$6-4),skjermbilde!I$3-AA173-skjermbilde!I$6-4,0)","v":-24},{"$f":"+IF(ISNUMBER(skjermbilde!J$3-AB173-skjermbilde!J$6-4),skjermbilde!J$3-AB173-skjermbilde!J$6-4,0)","v":-28},{"$f":"+IF(ISNUMBER(skjermbilde!K$3-AC173-skjermbilde!K$6-4),skjermbilde!K$3-AC173-skjermbilde!K$6-4,0)","v":-40},{"$f":"+IF(ISNUMBER(skjermbilde!L$3-AD173-skjermbilde!L$6-4),skjermbilde!L$3-AD173-skjermbilde!L$6-4,0)","v":-42},{"$f":"+IF(ISNUMBER(skjermbilde!M$3-AE173-skjermbilde!M$6-4),skjermbilde!M$3-AE173-skjermbilde!M$6-4,0)","v":-35},{"$f":"+IF(ISNUMBER(skjermbilde!N$3-AF173-skjermbilde!N$6-4),skjermbilde!N$3-AF173-skjermbilde!N$6-4,0)","v":-27},{"$f":"IF(skjermbilde!$O$10=TRUE,10*LOG10(10^(0.1*(AI173+AI$12))+10^(0.1*(AJ173+AJ$12))+10^(0.1*(AK173+AK$12))+10^(0.1*(AL173+AL$12))+10^(0.1*(AM173+AM$12))+10^(0.1*(AN173+AN$12))+10^(0.1*(AO173+AO$12))+10^(0.1*(AP173+AP$12))),\"\")","v":""},1,1,1,1,1,1,1,1,1,1,1,{"$f":"+IF(skjermbilde!$N$10=1,1,0)","v":1},{"$f":"+IF(U173=\"r\",1,IF(M173=skjermbilde!$D$3,1,0))","v":1},{"$f":"+IF(U173=\"s\",1,IF(N173=skjermbilde!$C$3,1,IF(OR(N173<datagrunnlag!D173,N173>datagrunnlag!E173),0,0)))","v":0},{"$f":"+IF(U173=\"s\",1,IF(O173=skjermbilde!$C$4,1,0))","v":0},1,0,null,null,null,158,"",null,null,null,null,null,null,null,null,null,null,null,null,null,null,"",158,"",null,null,null,null,null,null,null,null,null,null,null,null,"",158,"",null,null,null,null,"",{"$f":"IF(skjermbilde!$D$2=1,VLOOKUP($CS173,$CB$17:$CD$261,3,FALSE),CONCATENATE(\"2 x \",VLOOKUP($CS173,$CB$17:$CD$261,3,FALSE)))","v":""},null,null,null,null,null,null,null,null,null,1.1599999999999988E-6,1.0000011600000001,1,"LKK-500,0019F",1.0000011600000001,"LKK-500,0019F",0]
[159,{"$f":"CONCATENATE(\"LKK-V-\",IF(N174/100<10,CONCATENATE(0,N174/100),N174/100),MID(datagrunnlag!H174,1,1),(MID(datagrunnlag!H174,2,1)))","v":"LKK-V-00,0015A"},{"$f":"IF(skjermbilde!$N$10=1,datagrunnlag!I174,datagrunnlag!S174)","v":0},{"$f":"IF(skjermbilde!$N$10=1,datagrunnlag!J174,datagrunnlag!T174)","v":0},{"$f":"IF(skjermbilde!$N$10=1,datagrunnlag!K174,datagrunnlag!U174)","v":0},{"$f":"IF(skjermbilde!$N$10=1,datagrunnlag!L174,datagrunnlag!V174)","v":0},{"$f":"IF(skjermbilde!$N$10=1,datagrunnlag!M174,datagrunnlag!W174)","v":0},{"$f":"IF(skjermbilde!$N$10=1,datagrunnlag!N174,datagrunnlag!X174)","v":0},{"$f":"IF(skjermbilde!$N$10=1,datagrunnlag!O174,datagrunnlag!Y174)","v":0},{"$f":"IF(skjermbilde!$N$10=1,datagrunnlag!P174,datagrunnlag!Z174)","v":0},{"$f":"+datagrunnlag!A174","v":"LKK-V"},{"$f":"+datagrunnlag!B174","v":"r"},{"$f":"IF(N174<1,0.01,(INT((N174+200-100)/(250)))*50)","v":0.01},{"$f":"IF(OR(skjermbilde!$C$3<datagrunnlag!D174,skjermbilde!$C$3>datagrunnlag!E174),0.1,100*ROUND(skjermbilde!$C$3/100,0))","v":0.1},{"$f":"+IF(skjermbilde!$C$4<>0,skjermbilde!$C$4,0.00001)","v":1.0000000000000001E-5},{"$f":"++IF(datagrunnlag!F174=\"s\",\"c\",datagrunnlag!F174)","v":"r"},{"$f":"+CONCATENATE($E$2,\"/\",$E$3)","v":"300/400"},{"$f":"IF(skjermbilde!$N$10=1,datagrunnlag!Q174,datagrunnlag!AI174)","v":0},0,201,"r",0,0,{"$f":"IF(skjermbilde!$D$2=1,R174*($B$6*3.6/(M174*(O174/1000)))^2,2*R174*($B$6*3.6/(M174*(O174/1000)))^2)","v":0},{"$f":"IF(C174=\"\",\"\",IF(skjermbilde!$D$2=1,C174,IF(AND(skjermbilde!$D$2=2,2*C174>60),60,IF(skjermbilde!$D$2=2,2*C174))))","v":0},{"$f":"IF(skjermbilde!$D$2=1,D174,IF(AND(skjermbilde!$D$2=2,2*D174>60),60,IF(skjermbilde!$D$2=2,2*D174)))","v":0},{"$f":"IF(skjermbilde!$D$2=1,E174,IF(AND(skjermbilde!$D$2=2,2*E174>60),60,IF(skjermbilde!$D$2=2,2*E174)))","v":0},{"$f":"IF(skjermbilde!$D$2=1,F174,IF(AND(skjermbilde!$D$2=2,2*F174>60),60,IF(skjermbilde!$D$2=2,2*F174)))","v":0},{"$f":"IF(skjermbilde!$D$2=1,G174,IF(AND(skjermbilde!$D$2=2,2*G174>60),60,IF(skjermbilde!$D$2=2,2*G174)))","v":0},{"$f":"IF(skjermbilde!$D$2=1,H174,IF(AND(skjermbilde!$D$2=2,2*H174>60),60,IF(skjermbilde!$D$2=2,2*H174)))","v":0},{"$f":"IF(skjermbilde!$D$2=1,I174,IF(AND(skjermbilde!$D$2=2,2*I174>60),60,IF(skjermbilde!$D$2=2,2*I174)))","v":0},{"$f":"IF(J174=\"\",\"\",IF(skjermbilde!$D$2=1,J174,IF(AND(skjermbilde!$D$2=2,2*J174>60),60,IF(skjermbilde!$D$2=2,2*J174))))","v":0},null,null,{"$f":"+IF(ISNUMBER(skjermbilde!G$3-Y174-skjermbilde!G$6-4),skjermbilde!G$3-Y174-skjermbilde!G$6-4,0)","v":-4},{"$f":"+IF(ISNUMBER(skjermbilde!H$3-Z174-skjermbilde!H$6-4),skjermbilde!H$3-Z174-skjermbilde!H$6-4,0)","v":-4},{"$f":"+IF(ISNUMBER(skjermbilde!I$3-AA174-skjermbilde!I$6-4),skjermbilde!I$3-AA174-skjermbilde!I$6-4,0)","v":-4},{"$f":"+IF(ISNUMBER(skjermbilde!J$3-AB174-skjermbilde!J$6-4),skjermbilde!J$3-AB174-skjermbilde!J$6-4,0)","v":-4},{"$f":"+IF(ISNUMBER(skjermbilde!K$3-AC174-skjermbilde!K$6-4),skjermbilde!K$3-AC174-skjermbilde!K$6-4,0)","v":-4},{"$f":"+IF(ISNUMBER(skjermbilde!L$3-AD174-skjermbilde!L$6-4),skjermbilde!L$3-AD174-skjermbilde!L$6-4,0)","v":-4},{"$f":"+IF(ISNUMBER(skjermbilde!M$3-AE174-skjermbilde!M$6-4),skjermbilde!M$3-AE174-skjermbilde!M$6-4,0)","v":-4},{"$f":"+IF(ISNUMBER(skjermbilde!N$3-AF174-skjermbilde!N$6-4),skjermbilde!N$3-AF174-skjermbilde!N$6-4,0)","v":-4},{"$f":"IF(skjermbilde!$O$10=TRUE,10*LOG10(10^(0.1*(AI174+AI$12))+10^(0.1*(AJ174+AJ$12))+10^(0.1*(AK174+AK$12))+10^(0.1*(AL174+AL$12))+10^(0.1*(AM174+AM$12))+10^(0.1*(AN174+AN$12))+10^(0.1*(AO174+AO$12))+10^(0.1*(AP174+AP$12))),\"\")","v":""},{"$f":"+IF(AND(X174-1<T174,X174<201),1,0)","v":1},{"$f":"+IF(Y174>Y$11,1,0)","v":1},{"$f":"+IF(Z174>Z$11,1,0)","v":1},{"$f":"+IF(AA174>AA$11,1,0)","v":1},{"$f":"+IF(AB174>AB$11,1,0)","v":1},{"$f":"+IF(AC174>AC$11,1,0)","v":1},{"$f":"+IF(AD174>AD$11,1,0)","v":1},{"$f":"+IF(AE174>AE$11,1,0)","v":1},{"$f":"+IF(AF174>AF$11,1,0)","v":1},{"$f":"+IF(U174=L174,1,0)","v":1},1,{"$f":"+IF(skjermbilde!$N$10=1,0,1)","v":0},{"$f":"+IF(U174=\"r\",1,IF(M174=skjermbilde!$D$3,1,0))","v":1},{"$f":"+IF(U174=\"s\",1,IF(N174=skjermbilde!$C$3,1,IF(OR(N174<datagrunnlag!D174,N174>datagrunnlag!E174),0,0)))","v":0},{"$f":"+IF(U174=\"s\",1,IF(O174=skjermbilde!$C$4,1,0))","v":0},1,{"$f":"+IF(SUM(AR174:BG174)=16,1,0)","v":0},null,null,null,{"$f":"+A174","v":159},"",null,null,null,null,null,null,null,null,null,null,null,null,null,null,{"$f":"+IF($BH174=1,$X174+DI174,\"\")","v":""},{"$f":"+BL174","v":159},"",null,null,null,null,null,null,null,null,null,null,null,null,"",159,"",null,null,null,null,"",{"$f":"IF(skjermbilde!$D$2=1,VLOOKUP($CS174,$CB$17:$CD$261,3,FALSE),CONCATENATE(\"2 x \",VLOOKUP($CS174,$CB$17:$CD$261,3,FALSE)))","v":""},null,null,null,null,null,null,null,null,null,{"$f":"0.00000001+DI173","v":1.1699999999999988E-6},{"$f":"IF(ISNUMBER(DK174),DK174+DI174,\"\")","v":1.00000117},{"$f":"SEARCH($DL$14,B174,1)","v":1},{"$f":"IF(ISNUMBER(DK174),B174,\"\")","v":"LKK-V-00,0015A"},1.00000117,"LKK-V-00,0015A",0]
[160,{"$f":"CONCATENATE(\"LKK-V-\",IF(N175/100<10,CONCATENATE(0,N175/100),N175/100),MID(datagrunnlag!H175,1,1),(MID(datagrunnlag!H175,2,1)))","v":"LKK-V-00,0015B"},{"$f":"IF(skjermbilde!$N$10=1,datagrunnlag!I175,datagrunnlag!S175)","v":0},{"$f":"IF(skjermbilde!$N$10=1,datagrunnlag!J175,datagrunnlag!T175)","v":0},{"$f":"IF(skjermbilde!$N$10=1,datagrunnlag!K175,datagrunnlag!U175)","v":0},{"$f":"IF(skjermbilde!$N$10=1,datagrunnlag!L175,datagrunnlag!V175)","v":0},{"$f":"IF(skjermbilde!$N$10=1,datagrunnlag!M175,datagrunnlag!W175)","v":0},{"$f":"IF(skjermbilde!$N$10=1,datagrunnlag!N175,datagrunnlag!X175)","v":0},{"$f":"IF(skjermbilde!$N$10=1,datagrunnlag!O175,datagrunnlag!Y175)","v":0},{"$f":"IF(skjermbilde!$N$10=1,datagrunnlag!P175,datagrunnlag!Z175)","v":0},{"$f":"+datagrunnlag!A175","v":"LKK-V"},{"$f":"+datagrunnlag!B175","v":"r"},{"$f":"IF(N175<1,0.01,(INT((N175+200-50)/(275)))*75)","v":0.01},{"$f":"IF(OR(skjermbilde!$C$3<datagrunnlag!D175,skjermbilde!$C$3>datagrunnlag!E175),0.1,100*ROUND(skjermbilde!$C$3/100,0))","v":0.1},{"$f":"+IF(skjermbilde!$C$4<>0,skjermbilde!$C$4,0.00001)","v":1.0000000000000001E-5},{"$f":"++IF(datagrunnlag!F175=\"s\",\"c\",datagrunnlag!F175)","v":"r"},{"$f":"+CONCATENATE($E$2,\"/\",$E$3)","v":"300/400"},{"$f":"IF(skjermbilde!$N$10=1,datagrunnlag!Q175,datagrunnlag!AI175)","v":0},0,201,"r",0,0,{"$f":"IF(skjermbilde!$D$2=1,R175*($B$6*3.6/(M175*(O175/1000)))^2,2*R175*($B$6*3.6/(M175*(O175/1000)))^2)","v":0},{"$f":"IF(C175=\"\",\"\",IF(skjermbilde!$D$2=1,C175,IF(AND(skjermbilde!$D$2=2,2*C175>60),60,IF(skjermbilde!$D$2=2,2*C175))))","v":0},{"$f":"IF(skjermbilde!$D$2=1,D175,IF(AND(skjermbilde!$D$2=2,2*D175>60),60,IF(skjermbilde!$D$2=2,2*D175)))","v":0},{"$f":"IF(skjermbilde!$D$2=1,E175,IF(AND(skjermbilde!$D$2=2,2*E175>60),60,IF(skjermbilde!$D$2=2,2*E175)))","v":0},{"$f":"IF(skjermbilde!$D$2=1,F175,IF(AND(skjermbilde!$D$2=2,2*F175>60),60,IF(skjermbilde!$D$2=2,2*F175)))","v":0},{"$f":"IF(skjermbilde!$D$2=1,G175,IF(AND(skjermbilde!$D$2=2,2*G175>60),60,IF(skjermbilde!$D$2=2,2*G175)))","v":0},{"$f":"IF(skjermbilde!$D$2=1,H175,IF(AND(skjermbilde!$D$2=2,2*H175>60),60,IF(skjermbilde!$D$2=2,2*H175)))","v":0},{"$f":"IF(skjermbilde!$D$2=1,I175,IF(AND(skjermbilde!$D$2=2,2*I175>60),60,IF(skjermbilde!$D$2=2,2*I175)))","v":0},{"$f":"IF(J175=\"\",\"\",IF(skjermbilde!$D$2=1,J175,IF(AND(skjermbilde!$D$2=2,2*J175>60),60,IF(skjermbilde!$D$2=2,2*J175))))","v":0},null,null,{"$f":"+IF(ISNUMBER(skjermbilde!G$3-Y175-skjermbilde!G$6-4),skjermbilde!G$3-Y175-skjermbilde!G$6-4,0)","v":-4},{"$f":"+IF(ISNUMBER(skjermbilde!H$3-Z175-skjermbilde!H$6-4),skjermbilde!H$3-Z175-skjermbilde!H$6-4,0)","v":-4},{"$f":"+IF(ISNUMBER(skjermbilde!I$3-AA175-skjermbilde!I$6-4),skjermbilde!I$3-AA175-skjermbilde!I$6-4,0)","v":-4},{"$f":"+IF(ISNUMBER(skjermbilde!J$3-AB175-skjermbilde!J$6-4),skjermbilde!J$3-AB175-skjermbilde!J$6-4,0)","v":-4},{"$f":"+IF(ISNUMBER(skjermbilde!K$3-AC175-skjermbilde!K$6-4),skjermbilde!K$3-AC175-skjermbilde!K$6-4,0)","v":-4},{"$f":"+IF(ISNUMBER(skjermbilde!L$3-AD175-skjermbilde!L$6-4),skjermbilde!L$3-AD175-skjermbilde!L$6-4,0)","v":-4},{"$f":"+IF(ISNUMBER(skjermbilde!M$3-AE175-skjermbilde!M$6-4),skjermbilde!M$3-AE175-skjermbilde!M$6-4,0)","v":-4},{"$f":"+IF(ISNUMBER(skjermbilde!N$3-AF175-skjermbilde!N$6-4),skjermbilde!N$3-AF175-skjermbilde!N$6-4,0)","v":-4},{"$f":"IF(skjermbilde!$O$10=TRUE,10*LOG10(10^(0.1*(AI175+AI$12))+10^(0.1*(AJ175+AJ$12))+10^(0.1*(AK175+AK$12))+10^(0.1*(AL175+AL$12))+10^(0.1*(AM175+AM$12))+10^(0.1*(AN175+AN$12))+10^(0.1*(AO175+AO$12))+10^(0.1*(AP175+AP$12))),\"\")","v":""},1,1,1,1,1,1,1,1,1,1,1,{"$f":"+IF(skjermbilde!$N$10=1,0,1)","v":0},{"$f":"+IF(U175=\"r\",1,IF(M175=skjermbilde!$D$3,1,0))","v":1},{"$f":"+IF(U175=\"s\",1,IF(N175=skjermbilde!$C$3,1,IF(OR(N175<datagrunnlag!D175,N175>datagrunnlag!E175),0,0)))","v":0},{"$f":"+IF(U175=\"s\",1,IF(O175=skjermbilde!$C$4,1,0))","v":0},1,0,null,null,null,160,"",null,null,null,null,null,null,null,null,null,null,null,null,null,null,"",160,"",null,null,null,null,null,null,null,null,null,null,null,null,"",160,"",null,null,null,null,"",{"$f":"IF(skjermbilde!$D$2=1,VLOOKUP($CS175,$CB$17:$CD$261,3,FALSE),CONCATENATE(\"2 x \",VLOOKUP($CS175,$CB$17:$CD$261,3,FALSE)))","v":""},null,null,null,null,null,null,null,null,null,1.1799999999999987E-6,1.0000011799999999,1,"LKK-V-00,0015B",1.0000011799999999,"LKK-V-00,0015B",0]
[161,{"$f":"CONCATENATE(\"LKK-V-\",IF(N176/100<10,CONCATENATE(0,N176/100),N176/100),MID(datagrunnlag!H176,1,1),(MID(datagrunnlag!H176,2,1)))","v":"LKK-V-00,0015C"},{"$f":"IF(skjermbilde!$N$10=1,datagrunnlag!I176,datagrunnlag!S176)","v":0},{"$f":"IF(skjermbilde!$N$10=1,datagrunnlag!J176,datagrunnlag!T176)","v":0},{"$f":"IF(skjermbilde!$N$10=1,datagrunnlag!K176,datagrunnlag!U176)","v":0},{"$f":"IF(skjermbilde!$N$10=1,datagrunnlag!L176,datagrunnlag!V176)","v":0},{"$f":"IF(skjermbilde!$N$10=1,datagrunnlag!M176,datagrunnlag!W176)","v":0},{"$f":"IF(skjermbilde!$N$10=1,datagrunnlag!N176,datagrunnlag!X176)","v":0},{"$f":"IF(skjermbilde!$N$10=1,datagrunnlag!O176,datagrunnlag!Y176)","v":0},{"$f":"IF(skjermbilde!$N$10=1,datagrunnlag!P176,datagrunnlag!Z176)","v":0},{"$f":"+datagrunnlag!A176","v":"LKK-V"},{"$f":"+datagrunnlag!B176","v":"r"},{"$f":"IF(N176<1,0.01,(INT((N176+200-100)/(300)))*100)","v":0.01},{"$f":"IF(OR(skjermbilde!$C$3<datagrunnlag!D176,skjermbilde!$C$3>datagrunnlag!E176),0.1,100*ROUND(skjermbilde!$C$3/100,0))","v":0.1},{"$f":"+IF(skjermbilde!$C$4<>0,skjermbilde!$C$4,0.00001)","v":1.0000000000000001E-5},{"$f":"++IF(datagrunnlag!F176=\"s\",\"c\",datagrunnlag!F176)","v":"r"},"300/400",{"$f":"IF(skjermbilde!$N$10=1,datagrunnlag!Q176,datagrunnlag!AI176)","v":0},0,201,"r",0,0,{"$f":"IF(skjermbilde!$D$2=1,R176*($B$6*3.6/(M176*(O176/1000)))^2,2*R176*($B$6*3.6/(M176*(O176/1000)))^2)","v":0},{"$f":"IF(C176=\"\",\"\",IF(skjermbilde!$D$2=1,C176,IF(AND(skjermbilde!$D$2=2,2*C176>60),60,IF(skjermbilde!$D$2=2,2*C176))))","v":0},{"$f":"IF(skjermbilde!$D$2=1,D176,IF(AND(skjermbilde!$D$2=2,2*D176>60),60,IF(skjermbilde!$D$2=2,2*D176)))","v":0},{"$f":"IF(skjermbilde!$D$2=1,E176,IF(AND(skjermbilde!$D$2=2,2*E176>60),60,IF(skjermbilde!$D$2=2,2*E176)))","v":0},{"$f":"IF(skjermbilde!$D$2=1,F176,IF(AND(skjermbilde!$D$2=2,2*F176>60),60,IF(skjermbilde!$D$2=2,2*F176)))","v":0},{"$f":"IF(skjermbilde!$D$2=1,G176,IF(AND(skjermbilde!$D$2=2,2*G176>60),60,IF(skjermbilde!$D$2=2,2*G176)))","v":0},{"$f":"IF(skjermbilde!$D$2=1,H176,IF(AND(skjermbilde!$D$2=2,2*H176>60),60,IF(skjermbilde!$D$2=2,2*H176)))","v":0},{"$f":"IF(skjermbilde!$D$2=1,I176,IF(AND(skjermbilde!$D$2=2,2*I176>60),60,IF(skjermbilde!$D$2=2,2*I176)))","v":0},{"$f":"IF(J176=\"\",\"\",IF(skjermbilde!$D$2=1,J176,IF(AND(skjermbilde!$D$2=2,2*J176>60),60,IF(skjermbilde!$D$2=2,2*J176))))","v":0},null,null,{"$f":"+IF(ISNUMBER(skjermbilde!G$3-Y176-skjermbilde!G$6-4),skjermbilde!G$3-Y176-skjermbilde!G$6-4,0)","v":-4},{"$f":"+IF(ISNUMBER(skjermbilde!H$3-Z176-skjermbilde!H$6-4),skjermbilde!H$3-Z176-skjermbilde!H$6-4,0)","v":-4},{"$f":"+IF(ISNUMBER(skjermbilde!I$3-AA176-skjermbilde!I$6-4),skjermbilde!I$3-AA176-skjermbilde!I$6-4,0)","v":-4},{"$f":"+IF(ISNUMBER(skjermbilde!J$3-AB176-skjermbilde!J$6-4),skjermbilde!J$3-AB176-skjermbilde!J$6-4,0)","v":-4},{"$f":"+IF(ISNUMBER(skjermbilde!K$3-AC176-skjermbilde!K$6-4),skjermbilde!K$3-AC176-skjermbilde!K$6-4,0)","v":-4},{"$f":"+IF(ISNUMBER(skjermbilde!L$3-AD176-skjermbilde!L$6-4),skjermbilde!L$3-AD176-skjermbilde!L$6-4,0)","v":-4},{"$f":"+IF(ISNUMBER(skjermbilde!M$3-AE176-skjermbilde!M$6-4),skjermbilde!M$3-AE176-skjermbilde!M$6-4,0)","v":-4},{"$f":"+IF(ISNUMBER(skjermbilde!N$3-AF176-skjermbilde!N$6-4),skjermbilde!N$3-AF176-skjermbilde!N$6-4,0)","v":-4},{"$f":"IF(skjermbilde!$O$10=TRUE,10*LOG10(10^(0.1*(AI176+AI$12))+10^(0.1*(AJ176+AJ$12))+10^(0.1*(AK176+AK$12))+10^(0.1*(AL176+AL$12))+10^(0.1*(AM176+AM$12))+10^(0.1*(AN176+AN$12))+10^(0.1*(AO176+AO$12))+10^(0.1*(AP176+AP$12))),\"\")","v":""},1,1,1,1,1,1,1,1,1,1,1,{"$f":"+IF(skjermbilde!$N$10=1,0,1)","v":0},{"$f":"+IF(U176=\"r\",1,IF(M176=skjermbilde!$D$3,1,0))","v":1},{"$f":"+IF(U176=\"s\",1,IF(N176=skjermbilde!$C$3,1,IF(OR(N176<datagrunnlag!D176,N176>datagrunnlag!E176),0,0)))","v":0},{"$f":"+IF(U176=\"s\",1,IF(O176=skjermbilde!$C$4,1,0))","v":0},1,0,null,null,null,161,"",null,null,null,null,null,null,null,null,null,null,null,null,null,null,"",161,"",null,null,null,null,null,null,null,null,null,null,null,null,"",161,"",null,null,null,null,"",{"$f":"IF(skjermbilde!$D$2=1,VLOOKUP($CS176,$CB$17:$CD$261,3,FALSE),CONCATENATE(\"2 x \",VLOOKUP($CS176,$CB$17:$CD$261,3,FALSE)))","v":""},null,null,null,null,null,null,null,null,null,1.1899999999999986E-6,1.0000011900000001,1,"LKK-V-00,0015C",1.0000011900000001,"LKK-V-00,0015C",0]
[162,{"$f":"CONCATENATE(\"LKK-V-\",IF(N177/100<10,CONCATENATE(0,N177/100),N177/100),MID(datagrunnlag!H177,1,1),(MID(datagrunnlag!H177,2,1)))","v":"LKK-V-00,0015D"},{"$f":"IF(skjermbilde!$N$10=1,datagrunnlag!I177,datagrunnlag!S177)","v":0},{"$f":"IF(skjermbilde!$N$10=1,datagrunnlag!J177,datagrunnlag!T177)","v":0},{"$f":"IF(skjermbilde!$N$10=1,datagrunnlag!K177,datagrunnlag!U177)","v":0},{"$f":"IF(skjermbilde!$N$10=1,datagrunnlag!L177,datagrunnlag!V177)","v":0},{"$f":"IF(skjermbilde!$N$10=1,datagrunnlag!M177,datagrunnlag!W177)","v":0},{"$f":"IF(skjermbilde!$N$10=1,datagrunnlag!N177,datagrunnlag!X177)","v":0},{"$f":"IF(skjermbilde!$N$10=1,datagrunnlag!O177,datagrunnlag!Y177)","v":0},{"$f":"IF(skjermbilde!$N$10=1,datagrunnlag!P177,datagrunnlag!Z177)","v":0},{"$f":"+datagrunnlag!A177","v":"LKK-V"},{"$f":"+datagrunnlag!B177","v":"r"},{"$f":"IF(N177<1,0.01,(INT((N177+200-50)/(350)))*150)","v":0.01},{"$f":"IF(OR(skjermbilde!$C$3<datagrunnlag!D177,skjermbilde!$C$3>datagrunnlag!E177),0.1,100*ROUND(skjermbilde!$C$3/100,0))","v":0.1},{"$f":"+IF(skjermbilde!$C$4<>0,skjermbilde!$C$4,0.00001)","v":1.0000000000000001E-5},{"$f":"++IF(datagrunnlag!F177=\"s\",\"c\",datagrunnlag!F177)","v":"r"},"300/400",{"$f":"IF(skjermbilde!$N$10=1,datagrunnlag!Q177,datagrunnlag!AI177)","v":0},0,201,"r",0,0,{"$f":"IF(skjermbilde!$D$2=1,R177*($B$6*3.6/(M177*(O177/1000)))^2,2*R177*($B$6*3.6/(M177*(O177/1000)))^2)","v":0},{"$f":"IF(C177=\"\",\"\",IF(skjermbilde!$D$2=1,C177,IF(AND(skjermbilde!$D$2=2,2*C177>60),60,IF(skjermbilde!$D$2=2,2*C177))))","v":0},{"$f":"IF(skjermbilde!$D$2=1,D177,IF(AND(skjermbilde!$D$2=2,2*D177>60),60,IF(skjermbilde!$D$2=2,2*D177)))","v":0},{"$f":"IF(skjermbilde!$D$2=1,E177,IF(AND(skjermbilde!$D$2=2,2*E177>60),60,IF(skjermbilde!$D$2=2,2*E177)))","v":0},{"$f":"IF(skjermbilde!$D$2=1,F177,IF(AND(skjermbilde!$D$2=2,2*F177>60),60,IF(skjermbilde!$D$2=2,2*F177)))","v":0},{"$f":"IF(skjermbilde!$D$2=1,G177,IF(AND(skjermbilde!$D$2=2,2*G177>60),60,IF(skjermbilde!$D$2=2,2*G177)))","v":0},{"$f":"IF(skjermbilde!$D$2=1,H177,IF(AND(skjermbilde!$D$2=2,2*H177>60),60,IF(skjermbilde!$D$2=2,2*H177)))","v":0},{"$f":"IF(skjermbilde!$D$2=1,I177,IF(AND(skjermbilde!$D$2=2,2*I177>60),60,IF(skjermbilde!$D$2=2,2*I177)))","v":0},{"$f":"IF(J177=\"\",\"\",IF(skjermbilde!$D$2=1,J177,IF(AND(skjermbilde!$D$2=2,2*J177>60),60,IF(skjermbilde!$D$2=2,2*J177))))","v":0},null,null,{"$f":"+IF(ISNUMBER(skjermbilde!G$3-Y177-skjermbilde!G$6-4),skjermbilde!G$3-Y177-skjermbilde!G$6-4,0)","v":-4},{"$f":"+IF(ISNUMBER(skjermbilde!H$3-Z177-skjermbilde!H$6-4),skjermbilde!H$3-Z177-skjermbilde!H$6-4,0)","v":-4},{"$f":"+IF(ISNUMBER(skjermbilde!I$3-AA177-skjermbilde!I$6-4),skjermbilde!I$3-AA177-skjermbilde!I$6-4,0)","v":-4},{"$f":"+IF(ISNUMBER(skjermbilde!J$3-AB177-skjermbilde!J$6-4),skjermbilde!J$3-AB177-skjermbilde!J$6-4,0)","v":-4},{"$f":"+IF(ISNUMBER(skjermbilde!K$3-AC177-skjermbilde!K$6-4),skjermbilde!K$3-AC177-skjermbilde!K$6-4,0)","v":-4},{"$f":"+IF(ISNUMBER(skjermbilde!L$3-AD177-skjermbilde!L$6-4),skjermbilde!L$3-AD177-skjermbilde!L$6-4,0)","v":-4},{"$f":"+IF(ISNUMBER(skjermbilde!M$3-AE177-skjermbilde!M$6-4),skjermbilde!M$3-AE177-skjermbilde!M$6-4,0)","v":-4},{"$f":"+IF(ISNUMBER(skjermbilde!N$3-AF177-skjermbilde!N$6-4),skjermbilde!N$3-AF177-skjermbilde!N$6-4,0)","v":-4},{"$f":"IF(skjermbilde!$O$10=TRUE,10*LOG10(10^(0.1*(AI177+AI$12))+10^(0.1*(AJ177+AJ$12))+10^(0.1*(AK177+AK$12))+10^(0.1*(AL177+AL$12))+10^(0.1*(AM177+AM$12))+10^(0.1*(AN177+AN$12))+10^(0.1*(AO177+AO$12))+10^(0.1*(AP177+AP$12))),\"\")","v":""},1,1,1,1,1,1,1,1,1,1,1,{"$f":"+IF(skjermbilde!$N$10=1,0,1)","v":0},{"$f":"+IF(U177=\"r\",1,IF(M177=skjermbilde!$D$3,1,0))","v":1},{"$f":"+IF(U177=\"s\",1,IF(N177=skjermbilde!$C$3,1,IF(OR(N177<datagrunnlag!D177,N177>datagrunnlag!E177),0,0)))","v":0},{"$f":"+IF(U177=\"s\",1,IF(O177=skjermbilde!$C$4,1,0))","v":0},1,0,null,null,null,162,"",null,null,null,null,null,null,null,null,null,null,null,null,null,null,"",162,"",null,null,null,null,null,null,null,null,null,null,null,null,"",162,"",null,null,null,null,"",{"$f":"IF(skjermbilde!$D$2=1,VLOOKUP($CS177,$CB$17:$CD$261,3,FALSE),CONCATENATE(\"2 x \",VLOOKUP($CS177,$CB$17:$CD$261,3,FALSE)))","v":""},null,null,null,null,null,null,null,null,null,1.1999999999999985E-6,1.0000012,1,"LKK-V-00,0015D",1.0000012,{"$f":"VLOOKUP(DM177,DJ$17:DM$261,3,FALSE)","v":"LKK-V-00,0015D"},{"$f":"VLOOKUP(DN177,$B$17:$CQ$261,62,FALSE)","v":0}]
[163,{"$f":"CONCATENATE(\"LKK-V-\",IF(N178/100<10,CONCATENATE(0,N178/100),N178/100),MID(datagrunnlag!H178,1,1),(MID(datagrunnlag!H178,2,1)))","v":"LKK-V-00,0015E"},{"$f":"IF(skjermbilde!$N$10=1,datagrunnlag!I178,datagrunnlag!S178)","v":0},{"$f":"IF(skjermbilde!$N$10=1,datagrunnlag!J178,datagrunnlag!T178)","v":0},{"$f":"IF(skjermbilde!$N$10=1,datagrunnlag!K178,datagrunnlag!U178)","v":0},{"$f":"IF(skjermbilde!$N$10=1,datagrunnlag!L178,datagrunnlag!V178)","v":0},{"$f":"IF(skjermbilde!$N$10=1,datagrunnlag!M178,datagrunnlag!W178)","v":0},{"$f":"IF(skjermbilde!$N$10=1,datagrunnlag!N178,datagrunnlag!X178)","v":0},{"$f":"IF(skjermbilde!$N$10=1,datagrunnlag!O178,datagrunnlag!Y178)","v":0},{"$f":"IF(skjermbilde!$N$10=1,datagrunnlag!P178,datagrunnlag!Z178)","v":0},{"$f":"+datagrunnlag!A178","v":"LKK-V"},{"$f":"+datagrunnlag!B178","v":"r"},{"$f":"IF(N178<1,0.01,(INT((N178+200-100)/(400)))*200)","v":0.01},{"$f":"IF(OR(skjermbilde!$C$3<datagrunnlag!D178,skjermbilde!$C$3>datagrunnlag!E178),0.1,100*ROUND(skjermbilde!$C$3/100,0))","v":0.1},{"$f":"+IF(skjermbilde!$C$4<>0,skjermbilde!$C$4,0.00001)","v":1.0000000000000001E-5},{"$f":"++IF(datagrunnlag!F178=\"s\",\"c\",datagrunnlag!F178)","v":"r"},"300/400",{"$f":"IF(skjermbilde!$N$10=1,datagrunnlag!Q178,datagrunnlag!AI178)","v":0},0,201,"r",0,0,{"$f":"IF(skjermbilde!$D$2=1,R178*($B$6*3.6/(M178*(O178/1000)))^2,2*R178*($B$6*3.6/(M178*(O178/1000)))^2)","v":0},{"$f":"IF(C178=\"\",\"\",IF(skjermbilde!$D$2=1,C178,IF(AND(skjermbilde!$D$2=2,2*C178>60),60,IF(skjermbilde!$D$2=2,2*C178))))","v":0},{"$f":"IF(skjermbilde!$D$2=1,D178,IF(AND(skjermbilde!$D$2=2,2*D178>60),60,IF(skjermbilde!$D$2=2,2*D178)))","v":0},{"$f":"IF(skjermbilde!$D$2=1,E178,IF(AND(skjermbilde!$D$2=2,2*E178>60),60,IF(skjermbilde!$D$2=2,2*E178)))","v":0},{"$f":"IF(skjermbilde!$D$2=1,F178,IF(AND(skjermbilde!$D$2=2,2*F178>60),60,IF(skjermbilde!$D$2=2,2*F178)))","v":0},{"$f":"IF(skjermbilde!$D$2=1,G178,IF(AND(skjermbilde!$D$2=2,2*G178>60),60,IF(skjermbilde!$D$2=2,2*G178)))","v":0},{"$f":"IF(skjermbilde!$D$2=1,H178,IF(AND(skjermbilde!$D$2=2,2*H178>60),60,IF(skjermbilde!$D$2=2,2*H178)))","v":0},{"$f":"IF(skjermbilde!$D$2=1,I178,IF(AND(skjermbilde!$D$2=2,2*I178>60),60,IF(skjermbilde!$D$2=2,2*I178)))","v":0},{"$f":"IF(J178=\"\",\"\",IF(skjermbilde!$D$2=1,J178,IF(AND(skjermbilde!$D$2=2,2*J178>60),60,IF(skjermbilde!$D$2=2,2*J178))))","v":0},null,null,{"$f":"+IF(ISNUMBER(skjermbilde!G$3-Y178-skjermbilde!G$6-4),skjermbilde!G$3-Y178-skjermbilde!G$6-4,0)","v":-4},{"$f":"+IF(ISNUMBER(skjermbilde!H$3-Z178-skjermbilde!H$6-4),skjermbilde!H$3-Z178-skjermbilde!H$6-4,0)","v":-4},{"$f":"+IF(ISNUMBER(skjermbilde!I$3-AA178-skjermbilde!I$6-4),skjermbilde!I$3-AA178-skjermbilde!I$6-4,0)","v":-4},{"$f":"+IF(ISNUMBER(skjermbilde!J$3-AB178-skjermbilde!J$6-4),skjermbilde!J$3-AB178-skjermbilde!J$6-4,0)","v":-4},{"$f":"+IF(ISNUMBER(skjermbilde!K$3-AC178-skjermbilde!K$6-4),skjermbilde!K$3-AC178-skjermbilde!K$6-4,0)","v":-4},{"$f":"+IF(ISNUMBER(skjermbilde!L$3-AD178-skjermbilde!L$6-4),skjermbilde!L$3-AD178-skjermbilde!L$6-4,0)","v":-4},{"$f":"+IF(ISNUMBER(skjermbilde!M$3-AE178-skjermbilde!M$6-4),skjermbilde!M$3-AE178-skjermbilde!M$6-4,0)","v":-4},{"$f":"+IF(ISNUMBER(skjermbilde!N$3-AF178-skjermbilde!N$6-4),skjermbilde!N$3-AF178-skjermbilde!N$6-4,0)","v":-4},{"$f":"IF(skjermbilde!$O$10=TRUE,10*LOG10(10^(0.1*(AI178+AI$12))+10^(0.1*(AJ178+AJ$12))+10^(0.1*(AK178+AK$12))+10^(0.1*(AL178+AL$12))+10^(0.1*(AM178+AM$12))+10^(0.1*(AN178+AN$12))+10^(0.1*(AO178+AO$12))+10^(0.1*(AP178+AP$12))),\"\")","v":""},1,1,1,1,1,1,1,1,1,1,1,{"$f":"+IF(skjermbilde!$N$10=1,0,1)","v":0},{"$f":"+IF(U178=\"r\",1,IF(M178=skjermbilde!$D$3,1,0))","v":1},{"$f":"+IF(U178=\"s\",1,IF(N178=skjermbilde!$C$3,1,IF(OR(N178<datagrunnlag!D178,N178>datagrunnlag!E178),0,0)))","v":0},{"$f":"+IF(U178=\"s\",1,IF(O178=skjermbilde!$C$4,1,0))","v":0},1,0,null,null,null,163,"",null,null,null,null,null,null,null,null,null,null,null,null,null,null,"",163,"",null,null,null,null,null,null,null,null,null,null,null,null,"",163,"",null,null,null,null,{"$f":"+IF(VLOOKUP($CS178,$CB$17:$CD$261,2,FALSE)=2,\"\",VLOOKUP($CS178,$CB$17:$CD$261,2,FALSE))","v":""},{"$f":"IF(skjermbilde!$D$2=1,VLOOKUP($CS178,$CB$17:$CD$261,3,FALSE),CONCATENATE(\"2 x \",VLOOKUP($CS178,$CB$17:$CD$261,3,FALSE)))","v":""},null,null,null,null,null,null,null,null,null,1.2099999999999984E-6,1.00000121,1,"LKK-V-00,0015E",1.00000121,"LKK-V-00,0015E",0]
[164,{"$f":"CONCATENATE(\"LKK-V-\",IF(N179/100<10,CONCATENATE(0,N179/100),N179/100),MID(datagrunnlag!H179,1,1),(MID(datagrunnlag!H179,2,1)))","v":"LKK-V-00,0017C"},{"$f":"IF(skjermbilde!$N$10=1,datagrunnlag!I179,datagrunnlag!S179)","v":0},{"$f":"IF(skjermbilde!$N$10=1,datagrunnlag!J179,datagrunnlag!T179)","v":0},{"$f":"IF(skjermbilde!$N$10=1,datagrunnlag!K179,datagrunnlag!U179)","v":0},{"$f":"IF(skjermbilde!$N$10=1,datagrunnlag!L179,datagrunnlag!V179)","v":0},{"$f":"IF(skjermbilde!$N$10=1,datagrunnlag!M179,datagrunnlag!W179)","v":0},{"$f":"IF(skjermbilde!$N$10=1,datagrunnlag!N179,datagrunnlag!X179)","v":0},{"$f":"IF(skjermbilde!$N$10=1,datagrunnlag!O179,datagrunnlag!Y179)","v":0},{"$f":"IF(skjermbilde!$N$10=1,datagrunnlag!P179,datagrunnlag!Z179)","v":0},{"$f":"+datagrunnlag!A179","v":"LKK-V"},{"$f":"+datagrunnlag!B179","v":"r"},{"$f":"IF(N179<1,0.01,(INT((N179+300-100)/(400)))*100)","v":0.01},{"$f":"IF(OR(skjermbilde!$C$3<datagrunnlag!D179,skjermbilde!$C$3>datagrunnlag!E179),0.1,100*ROUND(skjermbilde!$C$3/100,0))","v":0.1},{"$f":"+IF(skjermbilde!$C$4<>0,skjermbilde!$C$4,0.00001)","v":1.0000000000000001E-5},{"$f":"++IF(datagrunnlag!F179=\"s\",\"c\",datagrunnlag!F179)","v":"r"},"300/400",{"$f":"IF(skjermbilde!$N$10=1,datagrunnlag!Q179,datagrunnlag!AI179)","v":0},0,201,"r",0,0,{"$f":"IF(skjermbilde!$D$2=1,R179*($B$6*3.6/(M179*(O179/1000)))^2,2*R179*($B$6*3.6/(M179*(O179/1000)))^2)","v":0},{"$f":"IF(C179=\"\",\"\",IF(skjermbilde!$D$2=1,C179,IF(AND(skjermbilde!$D$2=2,2*C179>60),60,IF(skjermbilde!$D$2=2,2*C179))))","v":0},{"$f":"IF(skjermbilde!$D$2=1,D179,IF(AND(skjermbilde!$D$2=2,2*D179>60),60,IF(skjermbilde!$D$2=2,2*D179)))","v":0},{"$f":"IF(skjermbilde!$D$2=1,E179,IF(AND(skjermbilde!$D$2=2,2*E179>60),60,IF(skjermbilde!$D$2=2,2*E179)))","v":0},{"$f":"IF(skjermbilde!$D$2=1,F179,IF(AND(skjermbilde!$D$2=2,2*F179>60),60,IF(skjermbilde!$D$2=2,2*F179)))","v":0},{"$f":"IF(skjermbilde!$D$2=1,G179,IF(AND(skjermbilde!$D$2=2,2*G179>60),60,IF(skjermbilde!$D$2=2,2*G179)))","v":0},{"$f":"IF(skjermbilde!$D$2=1,H179,IF(AND(skjermbilde!$D$2=2,2*H179>60),60,IF(skjermbilde!$D$2=2,2*H179)))","v":0},{"$f":"IF(skjermbilde!$D$2=1,I179,IF(AND(skjermbilde!$D$2=2,2*I179>60),60,IF(skjermbilde!$D$2=2,2*I179)))","v":0},{"$f":"IF(J179=\"\",\"\",IF(skjermbilde!$D$2=1,J179,IF(AND(skjermbilde!$D$2=2,2*J179>60),60,IF(skjermbilde!$D$2=2,2*J179))))","v":0},null,null,{"$f":"+IF(ISNUMBER(skjermbilde!G$3-Y179-skjermbilde!G$6-4),skjermbilde!G$3-Y179-skjermbilde!G$6-4,0)","v":-4},{"$f":"+IF(ISNUMBER(skjermbilde!H$3-Z179-skjermbilde!H$6-4),skjermbilde!H$3-Z179-skjermbilde!H$6-4,0)","v":-4},{"$f":"+IF(ISNUMBER(skjermbilde!I$3-AA179-skjermbilde!I$6-4),skjermbilde!I$3-AA179-skjermbilde!I$6-4,0)","v":-4},{"$f":"+IF(ISNUMBER(skjermbilde!J$3-AB179-skjermbilde!J$6-4),skjermbilde!J$3-AB179-skjermbilde!J$6-4,0)","v":-4},{"$f":"+IF(ISNUMBER(skjermbilde!K$3-AC179-skjermbilde!K$6-4),skjermbilde!K$3-AC179-skjermbilde!K$6-4,0)","v":-4},{"$f":"+IF(ISNUMBER(skjermbilde!L$3-AD179-skjermbilde!L$6-4),skjermbilde!L$3-AD179-skjermbilde!L$6-4,0)","v":-4},{"$f":"+IF(ISNUMBER(skjermbilde!M$3-AE179-skjermbilde!M$6-4),skjermbilde!M$3-AE179-skjermbilde!M$6-4,0)","v":-4},{"$f":"+IF(ISNUMBER(skjermbilde!N$3-AF179-skjermbilde!N$6-4),skjermbilde!N$3-AF179-skjermbilde!N$6-4,0)","v":-4},{"$f":"IF(skjermbilde!$O$10=TRUE,10*LOG10(10^(0.1*(AI179+AI$12))+10^(0.1*(AJ179+AJ$12))+10^(0.1*(AK179+AK$12))+10^(0.1*(AL179+AL$12))+10^(0.1*(AM179+AM$12))+10^(0.1*(AN179+AN$12))+10^(0.1*(AO179+AO$12))+10^(0.1*(AP179+AP$12))),\"\")","v":""},1,1,1,1,1,1,1,1,1,1,1,{"$f":"+IF(skjermbilde!$N$10=1,0,1)","v":0},{"$f":"+IF(U179=\"r\",1,IF(M179=skjermbilde!$D$3,1,0))","v":1},{"$f":"+IF(U179=\"s\",1,IF(N179=skjermbilde!$C$3,1,IF(OR(N179<datagrunnlag!D179,N179>datagrunnlag!E179),0,0)))","v":0},{"$f":"+IF(U179=\"s\",1,IF(O179=skjermbilde!$C$4,1,0))","v":0},1,0,null,null,null,164,"",null,null,null,null,null,null,null,null,null,null,null,null,null,null,"",164,"",null,null,null,null,null,null,null,null,null,null,null,null,"",164,"",null,null,null,null,"",{"$f":"IF(skjermbilde!$D$2=1,VLOOKUP($CS179,$CB$17:$CD$261,3,FALSE),CONCATENATE(\"2 x \",VLOOKUP($CS179,$CB$17:$CD$261,3,FALSE)))","v":""},null,null,null,null,null,null,null,null,null,1.2199999999999983E-6,1.0000012199999999,1,"LKK-V-00,0017C",1.0000012199999999,"LKK-V-00,0017C",0]
[165,{"$f":"CONCATENATE(\"LKK-V-\",IF(N180/100<10,CONCATENATE(0,N180/100),N180/100),MID(datagrunnlag!H180,1,1),(MID(datagrunnlag!H180,2,1)))","v":"LKK-V-00,0017D"},{"$f":"IF(skjermbilde!$N$10=1,datagrunnlag!I180,datagrunnlag!S180)","v":0},{"$f":"IF(skjermbilde!$N$10=1,datagrunnlag!J180,datagrunnlag!T180)","v":0},{"$f":"IF(skjermbilde!$N$10=1,datagrunnlag!K180,datagrunnlag!U180)","v":0},{"$f":"IF(skjermbilde!$N$10=1,datagrunnlag!L180,datagrunnlag!V180)","v":0},{"$f":"IF(skjermbilde!$N$10=1,datagrunnlag!M180,datagrunnlag!W180)","v":0},{"$f":"IF(skjermbilde!$N$10=1,datagrunnlag!N180,datagrunnlag!X180)","v":0},{"$f":"IF(skjermbilde!$N$10=1,datagrunnlag!O180,datagrunnlag!Y180)","v":0},{"$f":"IF(skjermbilde!$N$10=1,datagrunnlag!P180,datagrunnlag!Z180)","v":0},{"$f":"+datagrunnlag!A180","v":"LKK-V"},{"$f":"+datagrunnlag!B180","v":"r"},{"$f":"IF(N180<1,0.01,(INT((N180+300-100)/(450)))*150)","v":0.01},{"$f":"IF(OR(skjermbilde!$C$3<datagrunnlag!D180,skjermbilde!$C$3>datagrunnlag!E180),0.1,100*ROUND(skjermbilde!$C$3/100,0))","v":0.1},{"$f":"+IF(skjermbilde!$C$4<>0,skjermbilde!$C$4,0.00001)","v":1.0000000000000001E-5},{"$f":"++IF(datagrunnlag!F180=\"s\",\"c\",datagrunnlag!F180)","v":"r"},"300/400",{"$f":"IF(skjermbilde!$N$10=1,datagrunnlag!Q180,datagrunnlag!AI180)","v":0},0,201,"r",0,0,{"$f":"IF(skjermbilde!$D$2=1,R180*($B$6*3.6/(M180*(O180/1000)))^2,2*R180*($B$6*3.6/(M180*(O180/1000)))^2)","v":0},{"$f":"IF(C180=\"\",\"\",IF(skjermbilde!$D$2=1,C180,IF(AND(skjermbilde!$D$2=2,2*C180>60),60,IF(skjermbilde!$D$2=2,2*C180))))","v":0},{"$f":"IF(skjermbilde!$D$2=1,D180,IF(AND(skjermbilde!$D$2=2,2*D180>60),60,IF(skjermbilde!$D$2=2,2*D180)))","v":0},{"$f":"IF(skjermbilde!$D$2=1,E180,IF(AND(skjermbilde!$D$2=2,2*E180>60),60,IF(skjermbilde!$D$2=2,2*E180)))","v":0},{"$f":"IF(skjermbilde!$D$2=1,F180,IF(AND(skjermbilde!$D$2=2,2*F180>60),60,IF(skjermbilde!$D$2=2,2*F180)))","v":0},{"$f":"IF(skjermbilde!$D$2=1,G180,IF(AND(skjermbilde!$D$2=2,2*G180>60),60,IF(skjermbilde!$D$2=2,2*G180)))","v":0},{"$f":"IF(skjermbilde!$D$2=1,H180,IF(AND(skjermbilde!$D$2=2,2*H180>60),60,IF(skjermbilde!$D$2=2,2*H180)))","v":0},{"$f":"IF(skjermbilde!$D$2=1,I180,IF(AND(skjermbilde!$D$2=2,2*I180>60),60,IF(skjermbilde!$D$2=2,2*I180)))","v":0},{"$f":"IF(J180=\"\",\"\",IF(skjermbilde!$D$2=1,J180,IF(AND(skjermbilde!$D$2=2,2*J180>60),60,IF(skjermbilde!$D$2=2,2*J180))))","v":0},null,null,{"$f":"+IF(ISNUMBER(skjermbilde!G$3-Y180-skjermbilde!G$6-4),skjermbilde!G$3-Y180-skjermbilde!G$6-4,0)","v":-4},{"$f":"+IF(ISNUMBER(skjermbilde!H$3-Z180-skjermbilde!H$6-4),skjermbilde!H$3-Z180-skjermbilde!H$6-4,0)","v":-4},{"$f":"+IF(ISNUMBER(skjermbilde!I$3-AA180-skjermbilde!I$6-4),skjermbilde!I$3-AA180-skjermbilde!I$6-4,0)","v":-4},{"$f":"+IF(ISNUMBER(skjermbilde!J$3-AB180-skjermbilde!J$6-4),skjermbilde!J$3-AB180-skjermbilde!J$6-4,0)","v":-4},{"$f":"+IF(ISNUMBER(skjermbilde!K$3-AC180-skjermbilde!K$6-4),skjermbilde!K$3-AC180-skjermbilde!K$6-4,0)","v":-4},{"$f":"+IF(ISNUMBER(skjermbilde!L$3-AD180-skjermbilde!L$6-4),skjermbilde!L$3-AD180-skjermbilde!L$6-4,0)","v":-4},{"$f":"+IF(ISNUMBER(skjermbilde!M$3-AE180-skjermbilde!M$6-4),skjermbilde!M$3-AE180-skjermbilde!M$6-4,0)","v":-4},{"$f":"+IF(ISNUMBER(skjermbilde!N$3-AF180-skjermbilde!N$6-4),skjermbilde!N$3-AF180-skjermbilde!N$6-4,0)","v":-4},{"$f":"IF(skjermbilde!$O$10=TRUE,10*LOG10(10^(0.1*(AI180+AI$12))+10^(0.1*(AJ180+AJ$12))+10^(0.1*(AK180+AK$12))+10^(0.1*(AL180+AL$12))+10^(0.1*(AM180+AM$12))+10^(0.1*(AN180+AN$12))+10^(0.1*(AO180+AO$12))+10^(0.1*(AP180+AP$12))),\"\")","v":""},1,1,1,1,1,1,1,1,1,1,1,{"$f":"+IF(skjermbilde!$N$10=1,0,1)","v":0},{"$f":"+IF(U180=\"r\",1,IF(M180=skjermbilde!$D$3,1,0))","v":1},{"$f":"+IF(U180=\"s\",1,IF(N180=skjermbilde!$C$3,1,IF(OR(N180<datagrunnlag!D180,N180>datagrunnlag!E180),0,0)))","v":0},{"$f":"+IF(U180=\"s\",1,IF(O180=skjermbilde!$C$4,1,0))","v":0},1,0,null,null,null,165,"",null,null,null,null,null,null,null,null,null,null,null,null,null,null,"",165,"",null,null,null,null,null,null,null,null,null,null,null,null,"",165,"",null,null,null,null,"",{"$f":"IF(skjermbilde!$D$2=1,VLOOKUP($CS180,$CB$17:$CD$261,3,FALSE),CONCATENATE(\"2 x \",VLOOKUP($CS180,$CB$17:$CD$261,3,FALSE)))","v":""},null,null,null,null,null,null,null,null,null,1.2299999999999982E-6,1.0000012300000001,1,"LKK-V-00,0017D",1.0000012300000001,"LKK-V-00,0017D",0]
[166,{"$f":"CONCATENATE(\"LKK-V-\",IF(N181/100<10,CONCATENATE(0,N181/100),N181/100),MID(datagrunnlag!H181,1,1),(MID(datagrunnlag!H181,2,1)))","v":"LKK-V-00,0017E"},{"$f":"IF(skjermbilde!$N$10=1,datagrunnlag!I181,datagrunnlag!S181)","v":0},{"$f":"IF(skjermbilde!$N$10=1,datagrunnlag!J181,datagrunnlag!T181)","v":0},{"$f":"IF(skjermbilde!$N$10=1,datagrunnlag!K181,datagrunnlag!U181)","v":0},{"$f":"IF(skjermbilde!$N$10=1,datagrunnlag!L181,datagrunnlag!V181)","v":0},{"$f":"IF(skjermbilde!$N$10=1,datagrunnlag!M181,datagrunnlag!W181)","v":0},{"$f":"IF(skjermbilde!$N$10=1,datagrunnlag!N181,datagrunnlag!X181)","v":0},{"$f":"IF(skjermbilde!$N$10=1,datagrunnlag!O181,datagrunnlag!Y181)","v":0},{"$f":"IF(skjermbilde!$N$10=1,datagrunnlag!P181,datagrunnlag!Z181)","v":0},{"$f":"+datagrunnlag!A181","v":"LKK-V"},{"$f":"+datagrunnlag!B181","v":"r"},{"$f":"IF(N181<1,0.01,(INT((N181+300-100)/(500)))*200)","v":0.01},{"$f":"IF(OR(skjermbilde!$C$3<datagrunnlag!D181,skjermbilde!$C$3>datagrunnlag!E181),0.1,100*ROUND(skjermbilde!$C$3/100,0))","v":0.1},{"$f":"+IF(skjermbilde!$C$4<>0,skjermbilde!$C$4,0.00001)","v":1.0000000000000001E-5},{"$f":"++IF(datagrunnlag!F181=\"s\",\"c\",datagrunnlag!F181)","v":"r"},"300/400",{"$f":"IF(skjermbilde!$N$10=1,datagrunnlag!Q181,datagrunnlag!AI181)","v":0},0,201,"r",0,0,{"$f":"IF(skjermbilde!$D$2=1,R181*($B$6*3.6/(M181*(O181/1000)))^2,2*R181*($B$6*3.6/(M181*(O181/1000)))^2)","v":0},{"$f":"IF(C181=\"\",\"\",IF(skjermbilde!$D$2=1,C181,IF(AND(skjermbilde!$D$2=2,2*C181>60),60,IF(skjermbilde!$D$2=2,2*C181))))","v":0},{"$f":"IF(skjermbilde!$D$2=1,D181,IF(AND(skjermbilde!$D$2=2,2*D181>60),60,IF(skjermbilde!$D$2=2,2*D181)))","v":0},{"$f":"IF(skjermbilde!$D$2=1,E181,IF(AND(skjermbilde!$D$2=2,2*E181>60),60,IF(skjermbilde!$D$2=2,2*E181)))","v":0},{"$f":"IF(skjermbilde!$D$2=1,F181,IF(AND(skjermbilde!$D$2=2,2*F181>60),60,IF(skjermbilde!$D$2=2,2*F181)))","v":0},{"$f":"IF(skjermbilde!$D$2=1,G181,IF(AND(skjermbilde!$D$2=2,2*G181>60),60,IF(skjermbilde!$D$2=2,2*G181)))","v":0},{"$f":"IF(skjermbilde!$D$2=1,H181,IF(AND(skjermbilde!$D$2=2,2*H181>60),60,IF(skjermbilde!$D$2=2,2*H181)))","v":0},{"$f":"IF(skjermbilde!$D$2=1,I181,IF(AND(skjermbilde!$D$2=2,2*I181>60),60,IF(skjermbilde!$D$2=2,2*I181)))","v":0},{"$f":"IF(J181=\"\",\"\",IF(skjermbilde!$D$2=1,J181,IF(AND(skjermbilde!$D$2=2,2*J181>60),60,IF(skjermbilde!$D$2=2,2*J181))))","v":0},null,null,{"$f":"+IF(ISNUMBER(skjermbilde!G$3-Y181-skjermbilde!G$6-4),skjermbilde!G$3-Y181-skjermbilde!G$6-4,0)","v":-4},{"$f":"+IF(ISNUMBER(skjermbilde!H$3-Z181-skjermbilde!H$6-4),skjermbilde!H$3-Z181-skjermbilde!H$6-4,0)","v":-4},{"$f":"+IF(ISNUMBER(skjermbilde!I$3-AA181-skjermbilde!I$6-4),skjermbilde!I$3-AA181-skjermbilde!I$6-4,0)","v":-4},{"$f":"+IF(ISNUMBER(skjermbilde!J$3-AB181-skjermbilde!J$6-4),skjermbilde!J$3-AB181-skjermbilde!J$6-4,0)","v":-4},{"$f":"+IF(ISNUMBER(skjermbilde!K$3-AC181-skjermbilde!K$6-4),skjermbilde!K$3-AC181-skjermbilde!K$6-4,0)","v":-4},{"$f":"+IF(ISNUMBER(skjermbilde!L$3-AD181-skjermbilde!L$6-4),skjermbilde!L$3-AD181-skjermbilde!L$6-4,0)","v":-4},{"$f":"+IF(ISNUMBER(skjermbilde!M$3-AE181-skjermbilde!M$6-4),skjermbilde!M$3-AE181-skjermbilde!M$6-4,0)","v":-4},{"$f":"+IF(ISNUMBER(skjermbilde!N$3-AF181-skjermbilde!N$6-4),skjermbilde!N$3-AF181-skjermbilde!N$6-4,0)","v":-4},{"$f":"IF(skjermbilde!$O$10=TRUE,10*LOG10(10^(0.1*(AI181+AI$12))+10^(0.1*(AJ181+AJ$12))+10^(0.1*(AK181+AK$12))+10^(0.1*(AL181+AL$12))+10^(0.1*(AM181+AM$12))+10^(0.1*(AN181+AN$12))+10^(0.1*(AO181+AO$12))+10^(0.1*(AP181+AP$12))),\"\")","v":""},1,1,1,1,1,1,1,1,1,1,1,{"$f":"+IF(skjermbilde!$N$10=1,0,1)","v":0},{"$f":"+IF(U181=\"r\",1,IF(M181=skjermbilde!$D$3,1,0))","v":1},{"$f":"+IF(U181=\"s\",1,IF(N181=skjermbilde!$C$3,1,IF(OR(N181<datagrunnlag!D181,N181>datagrunnlag!E181),0,0)))","v":0},{"$f":"+IF(U181=\"s\",1,IF(O181=skjermbilde!$C$4,1,0))","v":0},1,0,null,null,null,166,"",null,null,null,null,null,null,null,null,null,null,null,null,null,null,"",166,"",null,null,null,null,null,null,null,null,null,null,null,null,"",166,"",null,null,null,null,"",{"$f":"IF(skjermbilde!$D$2=1,VLOOKUP($CS181,$CB$17:$CD$261,3,FALSE),CONCATENATE(\"2 x \",VLOOKUP($CS181,$CB$17:$CD$261,3,FALSE)))","v":""},null,null,null,null,null,null,null,null,null,1.2399999999999981E-6,1.00000124,1,"LKK-V-00,0017E",1.00000124,"LKK-V-00,0017E",0]
[167,{"$f":"CONCATENATE(\"LKK-V-\",IF(N182/100<10,CONCATENATE(0,N182/100),N182/100),MID(datagrunnlag!H182,1,1),(MID(datagrunnlag!H182,2,1)))","v":"LKK-V-00,0019D"},{"$f":"IF(skjermbilde!$N$10=1,datagrunnlag!I182,datagrunnlag!S182)","v":0},{"$f":"IF(skjermbilde!$N$10=1,datagrunnlag!J182,datagrunnlag!T182)","v":0},{"$f":"IF(skjermbilde!$N$10=1,datagrunnlag!K182,datagrunnlag!U182)","v":0},{"$f":"IF(skjermbilde!$N$10=1,datagrunnlag!L182,datagrunnlag!V182)","v":0},{"$f":"IF(skjermbilde!$N$10=1,datagrunnlag!M182,datagrunnlag!W182)","v":0},{"$f":"IF(skjermbilde!$N$10=1,datagrunnlag!N182,datagrunnlag!X182)","v":0},{"$f":"IF(skjermbilde!$N$10=1,datagrunnlag!O182,datagrunnlag!Y182)","v":0},{"$f":"IF(skjermbilde!$N$10=1,datagrunnlag!P182,datagrunnlag!Z182)","v":0},{"$f":"+datagrunnlag!A182","v":"LKK-V"},{"$f":"+datagrunnlag!B182","v":"r"},{"$f":"IF(N182<1,0.01,(INT((N182+400-100)/(550)))*150)","v":0.01},{"$f":"IF(OR(skjermbilde!$C$3<datagrunnlag!D182,skjermbilde!$C$3>datagrunnlag!E182),0.1,100*ROUND(skjermbilde!$C$3/100,0))","v":0.1},{"$f":"+IF(skjermbilde!$C$4<>0,skjermbilde!$C$4,0.00001)","v":1.0000000000000001E-5},{"$f":"++IF(datagrunnlag!F182=\"s\",\"c\",datagrunnlag!F182)","v":"r"},"300/400",{"$f":"IF(skjermbilde!$N$10=1,datagrunnlag!Q182,datagrunnlag!AI182)","v":0},0,201,"r",0,0,{"$f":"IF(skjermbilde!$D$2=1,R182*($B$6*3.6/(M182*(O182/1000)))^2,2*R182*($B$6*3.6/(M182*(O182/1000)))^2)","v":0},{"$f":"IF(C182=\"\",\"\",IF(skjermbilde!$D$2=1,C182,IF(AND(skjermbilde!$D$2=2,2*C182>60),60,IF(skjermbilde!$D$2=2,2*C182))))","v":0},{"$f":"IF(skjermbilde!$D$2=1,D182,IF(AND(skjermbilde!$D$2=2,2*D182>60),60,IF(skjermbilde!$D$2=2,2*D182)))","v":0},{"$f":"IF(skjermbilde!$D$2=1,E182,IF(AND(skjermbilde!$D$2=2,2*E182>60),60,IF(skjermbilde!$D$2=2,2*E182)))","v":0},{"$f":"IF(skjermbilde!$D$2=1,F182,IF(AND(skjermbilde!$D$2=2,2*F182>60),60,IF(skjermbilde!$D$2=2,2*F182)))","v":0},{"$f":"IF(skjermbilde!$D$2=1,G182,IF(AND(skjermbilde!$D$2=2,2*G182>60),60,IF(skjermbilde!$D$2=2,2*G182)))","v":0},{"$f":"IF(skjermbilde!$D$2=1,H182,IF(AND(skjermbilde!$D$2=2,2*H182>60),60,IF(skjermbilde!$D$2=2,2*H182)))","v":0},{"$f":"IF(skjermbilde!$D$2=1,I182,IF(AND(skjermbilde!$D$2=2,2*I182>60),60,IF(skjermbilde!$D$2=2,2*I182)))","v":0},{"$f":"IF(J182=\"\",\"\",IF(skjermbilde!$D$2=1,J182,IF(AND(skjermbilde!$D$2=2,2*J182>60),60,IF(skjermbilde!$D$2=2,2*J182))))","v":0},null,null,{"$f":"+IF(ISNUMBER(skjermbilde!G$3-Y182-skjermbilde!G$6-4),skjermbilde!G$3-Y182-skjermbilde!G$6-4,0)","v":-4},{"$f":"+IF(ISNUMBER(skjermbilde!H$3-Z182-skjermbilde!H$6-4),skjermbilde!H$3-Z182-skjermbilde!H$6-4,0)","v":-4},{"$f":"+IF(ISNUMBER(skjermbilde!I$3-AA182-skjermbilde!I$6-4),skjermbilde!I$3-AA182-skjermbilde!I$6-4,0)","v":-4},{"$f":"+IF(ISNUMBER(skjermbilde!J$3-AB182-skjermbilde!J$6-4),skjermbilde!J$3-AB182-skjermbilde!J$6-4,0)","v":-4},{"$f":"+IF(ISNUMBER(skjermbilde!K$3-AC182-skjermbilde!K$6-4),skjermbilde!K$3-AC182-skjermbilde!K$6-4,0)","v":-4},{"$f":"+IF(ISNUMBER(skjermbilde!L$3-AD182-skjermbilde!L$6-4),skjermbilde!L$3-AD182-skjermbilde!L$6-4,0)","v":-4},{"$f":"+IF(ISNUMBER(skjermbilde!M$3-AE182-skjermbilde!M$6-4),skjermbilde!M$3-AE182-skjermbilde!M$6-4,0)","v":-4},{"$f":"+IF(ISNUMBER(skjermbilde!N$3-AF182-skjermbilde!N$6-4),skjermbilde!N$3-AF182-skjermbilde!N$6-4,0)","v":-4},{"$f":"IF(skjermbilde!$O$10=TRUE,10*LOG10(10^(0.1*(AI182+AI$12))+10^(0.1*(AJ182+AJ$12))+10^(0.1*(AK182+AK$12))+10^(0.1*(AL182+AL$12))+10^(0.1*(AM182+AM$12))+10^(0.1*(AN182+AN$12))+10^(0.1*(AO182+AO$12))+10^(0.1*(AP182+AP$12))),\"\")","v":""},1,1,1,1,1,1,1,1,1,1,1,{"$f":"+IF(skjermbilde!$N$10=1,0,1)","v":0},{"$f":"+IF(U182=\"r\",1,IF(M182=skjermbilde!$D$3,1,0))","v":1},{"$f":"+IF(U182=\"s\",1,IF(N182=skjermbilde!$C$3,1,IF(OR(N182<datagrunnlag!D182,N182>datagrunnlag!E182),0,0)))","v":0},{"$f":"+IF(U182=\"s\",1,IF(O182=skjermbilde!$C$4,1,0))","v":0},1,0,null,null,null,167,"",null,null,null,null,null,null,null,null,null,null,null,null,null,null,"",167,"",null,null,null,null,null,null,null,null,null,null,null,null,"",167,"",null,null,null,null,"",{"$f":"IF(skjermbilde!$D$2=1,VLOOKUP($CS182,$CB$17:$CD$261,3,FALSE),CONCATENATE(\"2 x \",VLOOKUP($CS182,$CB$17:$CD$261,3,FALSE)))","v":""},null,null,null,null,null,null,null,null,null,1.249999999999998E-6,1.00000125,1,"LKK-V-00,0019D",1.00000125,"LKK-V-00,0019D",0]
[168,{"$f":"CONCATENATE(\"LKK-V-\",IF(N183/100<10,CONCATENATE(0,N183/100),N183/100),MID(datagrunnlag!H183,1,1),(MID(datagrunnlag!H183,2,1)))","v":"LKK-V-00,0019E"},{"$f":"IF(skjermbilde!$N$10=1,datagrunnlag!I183,datagrunnlag!S183)","v":0},{"$f":"IF(skjermbilde!$N$10=1,datagrunnlag!J183,datagrunnlag!T183)","v":0},{"$f":"IF(skjermbilde!$N$10=1,datagrunnlag!K183,datagrunnlag!U183)","v":0},{"$f":"IF(skjermbilde!$N$10=1,datagrunnlag!L183,datagrunnlag!V183)","v":0},{"$f":"IF(skjermbilde!$N$10=1,datagrunnlag!M183,datagrunnlag!W183)","v":0},{"$f":"IF(skjermbilde!$N$10=1,datagrunnlag!N183,datagrunnlag!X183)","v":0},{"$f":"IF(skjermbilde!$N$10=1,datagrunnlag!O183,datagrunnlag!Y183)","v":0},{"$f":"IF(skjermbilde!$N$10=1,datagrunnlag!P183,datagrunnlag!Z183)","v":0},{"$f":"+datagrunnlag!A183","v":"LKK-V"},{"$f":"+datagrunnlag!B183","v":"r"},{"$f":"IF(N183<1,0.01,(INT((N183+400-100)/(600)))*200)","v":0.01},{"$f":"IF(OR(skjermbilde!$C$3<datagrunnlag!D183,skjermbilde!$C$3>datagrunnlag!E183),0.1,100*ROUND(skjermbilde!$C$3/100,0))","v":0.1},{"$f":"+IF(skjermbilde!$C$4<>0,skjermbilde!$C$4,0.00001)","v":1.0000000000000001E-5},{"$f":"++IF(datagrunnlag!F183=\"s\",\"c\",datagrunnlag!F183)","v":"r"},"300/400",{"$f":"IF(skjermbilde!$N$10=1,datagrunnlag!Q183,datagrunnlag!AI183)","v":0},0,201,"r",0,0,{"$f":"IF(skjermbilde!$D$2=1,R183*($B$6*3.6/(M183*(O183/1000)))^2,2*R183*($B$6*3.6/(M183*(O183/1000)))^2)","v":0},{"$f":"IF(C183=\"\",\"\",IF(skjermbilde!$D$2=1,C183,IF(AND(skjermbilde!$D$2=2,2*C183>60),60,IF(skjermbilde!$D$2=2,2*C183))))","v":0},{"$f":"IF(skjermbilde!$D$2=1,D183,IF(AND(skjermbilde!$D$2=2,2*D183>60),60,IF(skjermbilde!$D$2=2,2*D183)))","v":0},{"$f":"IF(skjermbilde!$D$2=1,E183,IF(AND(skjermbilde!$D$2=2,2*E183>60),60,IF(skjermbilde!$D$2=2,2*E183)))","v":0},{"$f":"IF(skjermbilde!$D$2=1,F183,IF(AND(skjermbilde!$D$2=2,2*F183>60),60,IF(skjermbilde!$D$2=2,2*F183)))","v":0},{"$f":"IF(skjermbilde!$D$2=1,G183,IF(AND(skjermbilde!$D$2=2,2*G183>60),60,IF(skjermbilde!$D$2=2,2*G183)))","v":0},{"$f":"IF(skjermbilde!$D$2=1,H183,IF(AND(skjermbilde!$D$2=2,2*H183>60),60,IF(skjermbilde!$D$2=2,2*H183)))","v":0},{"$f":"IF(skjermbilde!$D$2=1,I183,IF(AND(skjermbilde!$D$2=2,2*I183>60),60,IF(skjermbilde!$D$2=2,2*I183)))","v":0},{"$f":"IF(J183=\"\",\"\",IF(skjermbilde!$D$2=1,J183,IF(AND(skjermbilde!$D$2=2,2*J183>60),60,IF(skjermbilde!$D$2=2,2*J183))))","v":0},null,null,{"$f":"+IF(ISNUMBER(skjermbilde!G$3-Y183-skjermbilde!G$6-4),skjermbilde!G$3-Y183-skjermbilde!G$6-4,0)","v":-4},{"$f":"+IF(ISNUMBER(skjermbilde!H$3-Z183-skjermbilde!H$6-4),skjermbilde!H$3-Z183-skjermbilde!H$6-4,0)","v":-4},{"$f":"+IF(ISNUMBER(skjermbilde!I$3-AA183-skjermbilde!I$6-4),skjermbilde!I$3-AA183-skjermbilde!I$6-4,0)","v":-4},{"$f":"+IF(ISNUMBER(skjermbilde!J$3-AB183-skjermbilde!J$6-4),skjermbilde!J$3-AB183-skjermbilde!J$6-4,0)","v":-4},{"$f":"+IF(ISNUMBER(skjermbilde!K$3-AC183-skjermbilde!K$6-4),skjermbilde!K$3-AC183-skjermbilde!K$6-4,0)","v":-4},{"$f":"+IF(ISNUMBER(skjermbilde!L$3-AD183-skjermbilde!L$6-4),skjermbilde!L$3-AD183-skjermbilde!L$6-4,0)","v":-4},{"$f":"+IF(ISNUMBER(skjermbilde!M$3-AE183-skjermbilde!M$6-4),skjermbilde!M$3-AE183-skjermbilde!M$6-4,0)","v":-4},{"$f":"+IF(ISNUMBER(skjermbilde!N$3-AF183-skjermbilde!N$6-4),skjermbilde!N$3-AF183-skjermbilde!N$6-4,0)","v":-4},{"$f":"IF(skjermbilde!$O$10=TRUE,10*LOG10(10^(0.1*(AI183+AI$12))+10^(0.1*(AJ183+AJ$12))+10^(0.1*(AK183+AK$12))+10^(0.1*(AL183+AL$12))+10^(0.1*(AM183+AM$12))+10^(0.1*(AN183+AN$12))+10^(0.1*(AO183+AO$12))+10^(0.1*(AP183+AP$12))),\"\")","v":""},1,1,1,1,1,1,1,1,1,1,1,{"$f":"+IF(skjermbilde!$N$10=1,0,1)","v":0},{"$f":"+IF(U183=\"r\",1,IF(M183=skjermbilde!$D$3,1,0))","v":1},{"$f":"+IF(U183=\"s\",1,IF(N183=skjermbilde!$C$3,1,IF(OR(N183<datagrunnlag!D183,N183>datagrunnlag!E183),0,0)))","v":0},{"$f":"+IF(U183=\"s\",1,IF(O183=skjermbilde!$C$4,1,0))","v":0},1,0,null,null,null,168,"",null,null,null,null,null,null,null,null,null,null,null,null,null,null,"",168,"",null,null,null,null,null,null,null,null,null,null,null,null,"",168,"",null,null,null,null,"",{"$f":"IF(skjermbilde!$D$2=1,VLOOKUP($CS183,$CB$17:$CD$261,3,FALSE),CONCATENATE(\"2 x \",VLOOKUP($CS183,$CB$17:$CD$261,3,FALSE)))","v":""},null,null,null,null,null,null,null,null,null,1.2599999999999979E-6,1.0000012599999999,1,"LKK-V-00,0019E",1.0000012599999999,"LKK-V-00,0019E",0]
[169,{"$f":"CONCATENATE(\"LKK-V-\",IF(N184/100<10,CONCATENATE(0,N184/100),N184/100),MID(datagrunnlag!H184,1,1),(MID(datagrunnlag!H184,2,1)))","v":"LKK-V-00,0019F"},{"$f":"IF(skjermbilde!$N$10=1,datagrunnlag!I184,datagrunnlag!S184)","v":0},{"$f":"IF(skjermbilde!$N$10=1,datagrunnlag!J184,datagrunnlag!T184)","v":0},{"$f":"IF(skjermbilde!$N$10=1,datagrunnlag!K184,datagrunnlag!U184)","v":0},{"$f":"IF(skjermbilde!$N$10=1,datagrunnlag!L184,datagrunnlag!V184)","v":0},{"$f":"IF(skjermbilde!$N$10=1,datagrunnlag!M184,datagrunnlag!W184)","v":0},{"$f":"IF(skjermbilde!$N$10=1,datagrunnlag!N184,datagrunnlag!X184)","v":0},{"$f":"IF(skjermbilde!$N$10=1,datagrunnlag!O184,datagrunnlag!Y184)","v":0},{"$f":"IF(skjermbilde!$N$10=1,datagrunnlag!P184,datagrunnlag!Z184)","v":0},{"$f":"+datagrunnlag!A184","v":"LKK-V"},{"$f":"+datagrunnlag!B184","v":"r"},{"$f":"IF(N184<1,0.01,(INT((N184+400-100)/(650)))*250)","v":0.01},{"$f":"IF(OR(skjermbilde!$C$3<datagrunnlag!D184,skjermbilde!$C$3>datagrunnlag!E184),0.1,100*ROUND(skjermbilde!$C$3/100,0))","v":0.1},{"$f":"+IF(skjermbilde!$C$4<>0,skjermbilde!$C$4,0.00001)","v":1.0000000000000001E-5},{"$f":"++IF(datagrunnlag!F184=\"s\",\"c\",datagrunnlag!F184)","v":"r"},"300/400",{"$f":"IF(skjermbilde!$N$10=1,datagrunnlag!Q184,datagrunnlag!AI184)","v":0},0,201,"r",0,0,{"$f":"IF(skjermbilde!$D$2=1,R184*($B$6*3.6/(M184*(O184/1000)))^2,2*R184*($B$6*3.6/(M184*(O184/1000)))^2)","v":0},{"$f":"IF(C184=\"\",\"\",IF(skjermbilde!$D$2=1,C184,IF(AND(skjermbilde!$D$2=2,2*C184>60),60,IF(skjermbilde!$D$2=2,2*C184))))","v":0},{"$f":"IF(skjermbilde!$D$2=1,D184,IF(AND(skjermbilde!$D$2=2,2*D184>60),60,IF(skjermbilde!$D$2=2,2*D184)))","v":0},{"$f":"IF(skjermbilde!$D$2=1,E184,IF(AND(skjermbilde!$D$2=2,2*E184>60),60,IF(skjermbilde!$D$2=2,2*E184)))","v":0},{"$f":"IF(skjermbilde!$D$2=1,F184,IF(AND(skjermbilde!$D$2=2,2*F184>60),60,IF(skjermbilde!$D$2=2,2*F184)))","v":0},{"$f":"IF(skjermbilde!$D$2=1,G184,IF(AND(skjermbilde!$D$2=2,2*G184>60),60,IF(skjermbilde!$D$2=2,2*G184)))","v":0},{"$f":"IF(skjermbilde!$D$2=1,H184,IF(AND(skjermbilde!$D$2=2,2*H184>60),60,IF(skjermbilde!$D$2=2,2*H184)))","v":0},{"$f":"IF(skjermbilde!$D$2=1,I184,IF(AND(skjermbilde!$D$2=2,2*I184>60),60,IF(skjermbilde!$D$2=2,2*I184)))","v":0},{"$f":"IF(J184=\"\",\"\",IF(skjermbilde!$D$2=1,J184,IF(AND(skjermbilde!$D$2=2,2*J184>60),60,IF(skjermbilde!$D$2=2,2*J184))))","v":0},null,null,{"$f":"+IF(ISNUMBER(skjermbilde!G$3-Y184-skjermbilde!G$6-4),skjermbilde!G$3-Y184-skjermbilde!G$6-4,0)","v":-4},{"$f":"+IF(ISNUMBER(skjermbilde!H$3-Z184-skjermbilde!H$6-4),skjermbilde!H$3-Z184-skjermbilde!H$6-4,0)","v":-4},{"$f":"+IF(ISNUMBER(skjermbilde!I$3-AA184-skjermbilde!I$6-4),skjermbilde!I$3-AA184-skjermbilde!I$6-4,0)","v":-4},{"$f":"+IF(ISNUMBER(skjermbilde!J$3-AB184-skjermbilde!J$6-4),skjermbilde!J$3-AB184-skjermbilde!J$6-4,0)","v":-4},{"$f":"+IF(ISNUMBER(skjermbilde!K$3-AC184-skjermbilde!K$6-4),skjermbilde!K$3-AC184-skjermbilde!K$6-4,0)","v":-4},{"$f":"+IF(ISNUMBER(skjermbilde!L$3-AD184-skjermbilde!L$6-4),skjermbilde!L$3-AD184-skjermbilde!L$6-4,0)","v":-4},{"$f":"+IF(ISNUMBER(skjermbilde!M$3-AE184-skjermbilde!M$6-4),skjermbilde!M$3-AE184-skjermbilde!M$6-4,0)","v":-4},{"$f":"+IF(ISNUMBER(skjermbilde!N$3-AF184-skjermbilde!N$6-4),skjermbilde!N$3-AF184-skjermbilde!N$6-4,0)","v":-4},{"$f":"IF(skjermbilde!$O$10=TRUE,10*LOG10(10^(0.1*(AI184+AI$12))+10^(0.1*(AJ184+AJ$12))+10^(0.1*(AK184+AK$12))+10^(0.1*(AL184+AL$12))+10^(0.1*(AM184+AM$12))+10^(0.1*(AN184+AN$12))+10^(0.1*(AO184+AO$12))+10^(0.1*(AP184+AP$12))),\"\")","v":""},1,1,1,1,1,1,1,1,1,1,1,{"$f":"+IF(skjermbilde!$N$10=1,0,1)","v":0},{"$f":"+IF(U184=\"r\",1,IF(M184=skjermbilde!$D$3,1,0))","v":1},{"$f":"+IF(U184=\"s\",1,IF(N184=skjermbilde!$C$3,1,IF(OR(N184<datagrunnlag!D184,N184>datagrunnlag!E184),0,0)))","v":0},{"$f":"+IF(U184=\"s\",1,IF(O184=skjermbilde!$C$4,1,0))","v":0},1,0,null,null,null,169,"",null,null,null,null,null,null,null,null,null,null,null,null,null,null,"",169,"",null,null,null,null,null,null,null,null,null,null,null,null,"",169,"",null,null,null,null,"",{"$f":"IF(skjermbilde!$D$2=1,VLOOKUP($CS184,$CB$17:$CD$261,3,FALSE),CONCATENATE(\"2 x \",VLOOKUP($CS184,$CB$17:$CD$261,3,FALSE)))","v":""},null,null,null,null,null,null,null,null,null,1.2699999999999978E-6,1.0000012700000001,1,"LKK-V-00,0019F",1.0000012700000001,"LKK-V-00,0019F",0]

{"sheet":"liste","index":9,"n_rows":52,"n_cols":21,"rows_kept":52,"cut":false,"hidden":false,"merged":[]}
[]
[]
[null,null,null,{"$f":"+tekst!A2","v":"Lyddempervalg 5.0"},null,null,null,null,null,null,null,{"$f":"+tekst!A76","v":"Fjern siste"},null,null,null,null,{"$f":"+tekst!A77","v":"Tøm liste"}]
[null,{"$f":"+tekst!A71","v":"Dato"},{"$f":"+tekst!A72","v":"Tid"},{"$f":"+tekst!A50","v":"Anslutningsform:"},{"$f":"+tekst!A24","v":"Lyddemperkode"},{"$f":"+tekst!A37","v":"Bredde"},{"$f":"+tekst!A36","v":"Høyde"},{"$f":"+tekst!A28","v":"Lengde"},"Ød",{"$f":"+tekst!A11","v":"Luftmengde"},null,"Dp",{"$f":"+tekst!A14","v":"Lyddempning:"},null,null,null,null,null,null,null,{"$f":"+tekst!A74","v":"Valgfri tekst"}]
[null,null,null,null,null,"mm","mm","mm","mm",null,null,"Pa",63,125,250,500,"1k","2k","4k","8k"]
[null,{"$f":"IF('skjult liste'!B4=\"\",\"\",'skjult liste'!B4)","v":""},{"$f":"IF('skjult liste'!C4=\"\",\"\",'skjult liste'!C4)","v":""},{"$f":"IF('skjult liste'!D4=\"\",\"\",'skjult liste'!D4)","v":""},{"$f":"IF('skjult liste'!E4=\"\",\"\",'skjult liste'!E4)","v":""},{"$f":"IF('skjult liste'!F4=\"\",\"\",'skjult liste'!F4)","v":""},{"$f":"IF('skjult liste'!G4=\"\",\"\",'skjult liste'!G4)","v":""},{"$f":"IF('skjult liste'!H4=\"\",\"\",'skjult liste'!H4)","v":""},{"$f":"IF('skjult liste'!I4=\"\",\"\",'skjult liste'!I4)","v":""},{"$f":"IF('skjult liste'!J4=\"\",\"\",'skjult liste'!J4)","v":""},{"$f":"IF('skjult liste'!K4=\"\",\"\",'skjult liste'!K4)","v":""},{"$f":"IF('skjult liste'!L4=\"\",\"\",'skjult liste'!L4)","v":""},{"$f":"IF('skjult liste'!M4=\"\",\"\",'skjult liste'!M4)","v":""},{"$f":"IF('skjult liste'!N4=\"\",\"\",'skjult liste'!N4)","v":""},{"$f":"IF('skjult liste'!O4=\"\",\"\",'skjult liste'!O4)","v":""},{"$f":"IF('skjult liste'!P4=\"\",\"\",'skjult liste'!P4)","v":""},{"$f":"IF('skjult liste'!Q4=\"\",\"\",'skjult liste'!Q4)","v":""},{"$f":"IF('skjult liste'!R4=\"\",\"\",'skjult liste'!R4)","v":""},{"$f":"IF('skjult liste'!S4=\"\",\"\",'skjult liste'!S4)","v":""},{"$f":"IF('skjult liste'!T4=\"\",\"\",'skjult liste'!T4)","v":""}]
[null,{"$f":"IF('skjult liste'!B5=\"\",\"\",'skjult liste'!B5)","v":""},{"$f":"IF('skjult liste'!C5=\"\",\"\",'skjult liste'!C5)","v":""},{"$f":"IF('skjult liste'!D5=\"\",\"\",'skjult liste'!D5)","v":""},{"$f":"IF('skjult liste'!E5=\"\",\"\",'skjult liste'!E5)","v":""},{"$f":"IF('skjult liste'!F5=\"\",\"\",'skjult liste'!F5)","v":""},{"$f":"IF('skjult liste'!G5=\"\",\"\",'skjult liste'!G5)","v":""},{"$f":"IF('skjult liste'!H5=\"\",\"\",'skjult liste'!H5)","v":""},{"$f":"IF('skjult liste'!I5=\"\",\"\",'skjult liste'!I5)","v":""},{"$f":"IF('skjult liste'!J5=\"\",\"\",'skjult liste'!J5)","v":""},{"$f":"IF('skjult liste'!K5=\"\",\"\",'skjult liste'!K5)","v":""},{"$f":"IF('skjult liste'!L5=\"\",\"\",'skjult liste'!L5)","v":""},{"$f":"IF('skjult liste'!M5=\"\",\"\",'skjult liste'!M5)","v":""},{"$f":"IF('skjult liste'!N5=\"\",\"\",'skjult liste'!N5)","v":""},{"$f":"IF('skjult liste'!O5=\"\",\"\",'skjult liste'!O5)","v":""},{"$f":"IF('skjult liste'!P5=\"\",\"\",'skjult liste'!P5)","v":""},{"$f":"IF('skjult liste'!Q5=\"\",\"\",'skjult liste'!Q5)","v":""},{"$f":"IF('skjult liste'!R5=\"\",\"\",'skjult liste'!R5)","v":""},{"$f":"IF('skjult liste'!S5=\"\",\"\",'skjult liste'!S5)","v":""},{"$f":"IF('skjult liste'!T5=\"\",\"\",'skjult liste'!T5)","v":""}]
[null,{"$f":"IF('skjult liste'!B6=\"\",\"\",'skjult liste'!B6)","v":""},{"$f":"IF('skjult liste'!C6=\"\",\"\",'skjult liste'!C6)","v":""},{"$f":"IF('skjult liste'!D6=\"\",\"\",'skjult liste'!D6)","v":""},{"$f":"IF('skjult liste'!E6=\"\",\"\",'skjult liste'!E6)","v":""},{"$f":"IF('skjult liste'!F6=\"\",\"\",'skjult liste'!F6)","v":""},{"$f":"IF('skjult liste'!G6=\"\",\"\",'skjult liste'!G6)","v":""},{"$f":"IF('skjult liste'!H6=\"\",\"\",'skjult liste'!H6)","v":""},{"$f":"IF('skjult liste'!I6=\"\",\"\",'skjult liste'!I6)","v":""},{"$f":"IF('skjult liste'!J6=\"\",\"\",'skjult liste'!J6)","v":""},{"$f":"IF('skjult liste'!K6=\"\",\"\",'skjult liste'!K6)","v":""},{"$f":"IF('skjult liste'!L6=\"\",\"\",'skjult liste'!L6)","v":""},{"$f":"IF('skjult liste'!M6=\"\",\"\",'skjult liste'!M6)","v":""},{"$f":"IF('skjult liste'!N6=\"\",\"\",'skjult liste'!N6)","v":""},{"$f":"IF('skjult liste'!O6=\"\",\"\",'skjult liste'!O6)","v":""},{"$f":"IF('skjult liste'!P6=\"\",\"\",'skjult liste'!P6)","v":""},{"$f":"IF('skjult liste'!Q6=\"\",\"\",'skjult liste'!Q6)","v":""},{"$f":"IF('skjult liste'!R6=\"\",\"\",'skjult liste'!R6)","v":""},{"$f":"IF('skjult liste'!S6=\"\",\"\",'skjult liste'!S6)","v":""},{"$f":"IF('skjult liste'!T6=\"\",\"\",'skjult liste'!T6)","v":""}]
[null,{"$f":"IF('skjult liste'!B7=\"\",\"\",'skjult liste'!B7)","v":""},{"$f":"IF('skjult liste'!C7=\"\",\"\",'skjult liste'!C7)","v":""},{"$f":"IF('skjult liste'!D7=\"\",\"\",'skjult liste'!D7)","v":""},{"$f":"IF('skjult liste'!E7=\"\",\"\",'skjult liste'!E7)","v":""},{"$f":"IF('skjult liste'!F7=\"\",\"\",'skjult liste'!F7)","v":""},{"$f":"IF('skjult liste'!G7=\"\",\"\",'skjult liste'!G7)","v":""},{"$f":"IF('skjult liste'!H7=\"\",\"\",'skjult liste'!H7)","v":""},{"$f":"IF('skjult liste'!I7=\"\",\"\",'skjult liste'!I7)","v":""},{"$f":"IF('skjult liste'!J7=\"\",\"\",'skjult liste'!J7)","v":""},{"$f":"IF('skjult liste'!K7=\"\",\"\",'skjult liste'!K7)","v":""},{"$f":"IF('skjult liste'!L7=\"\",\"\",'skjult liste'!L7)","v":""},{"$f":"IF('skjult liste'!M7=\"\",\"\",'skjult liste'!M7)","v":""},{"$f":"IF('skjult liste'!N7=\"\",\"\",'skjult liste'!N7)","v":""},{"$f":"IF('skjult liste'!O7=\"\",\"\",'skjult liste'!O7)","v":""},{"$f":"IF('skjult liste'!P7=\"\",\"\",'skjult liste'!P7)","v":""},{"$f":"IF('skjult liste'!Q7=\"\",\"\",'skjult liste'!Q7)","v":""},{"$f":"IF('skjult liste'!R7=\"\",\"\",'skjult liste'!R7)","v":""},{"$f":"IF('skjult liste'!S7=\"\",\"\",'skjult liste'!S7)","v":""},{"$f":"IF('skjult liste'!T7=\"\",\"\",'skjult liste'!T7)","v":""}]
[null,{"$f":"IF('skjult liste'!B8=\"\",\"\",'skjult liste'!B8)","v":""},{"$f":"IF('skjult liste'!C8=\"\",\"\",'skjult liste'!C8)","v":""},{"$f":"IF('skjult liste'!D8=\"\",\"\",'skjult liste'!D8)","v":""},{"$f":"IF('skjult liste'!E8=\"\",\"\",'skjult liste'!E8)","v":""},{"$f":"IF('skjult liste'!F8=\"\",\"\",'skjult liste'!F8)","v":""},{"$f":"IF('skjult liste'!G8=\"\",\"\",'skjult liste'!G8)","v":""},{"$f":"IF('skjult liste'!H8=\"\",\"\",'skjult liste'!H8)","v":""},{"$f":"IF('skjult liste'!I8=\"\",\"\",'skjult liste'!I8)","v":""},{"$f":"IF('skjult liste'!J8=\"\",\"\",'skjult liste'!J8)","v":""},{"$f":"IF('skjult liste'!K8=\"\",\"\",'skjult liste'!K8)","v":""},{"$f":"IF('skjult liste'!L8=\"\",\"\",'skjult liste'!L8)","v":""},{"$f":"IF('skjult liste'!M8=\"\",\"\",'skjult liste'!M8)","v":""},{"$f":"IF('skjult liste'!N8=\"\",\"\",'skjult liste'!N8)","v":""},{"$f":"IF('skjult liste'!O8=\"\",\"\",'skjult liste'!O8)","v":""},{"$f":"IF('skjult liste'!P8=\"\",\"\",'skjult liste'!P8)","v":""},{"$f":"IF('skjult liste'!Q8=\"\",\"\",'skjult liste'!Q8)","v":""},{"$f":"IF('skjult liste'!R8=\"\",\"\",'skjult liste'!R8)","v":""},{"$f":"IF('skjult liste'!S8=\"\",\"\",'skjult liste'!S8)","v":""},{"$f":"IF('skjult liste'!T8=\"\",\"\",'skjult liste'!T8)","v":""}]
[null,{"$f":"IF('skjult liste'!B9=\"\",\"\",'skjult liste'!B9)","v":""},{"$f":"IF('skjult liste'!C9=\"\",\"\",'skjult liste'!C9)","v":""},{"$f":"IF('skjult liste'!D9=\"\",\"\",'skjult liste'!D9)","v":""},{"$f":"IF('skjult liste'!E9=\"\",\"\",'skjult liste'!E9)","v":""},{"$f":"IF('skjult liste'!F9=\"\",\"\",'skjult liste'!F9)","v":""},{"$f":"IF('skjult liste'!G9=\"\",\"\",'skjult liste'!G9)","v":""},{"$f":"IF('skjult liste'!H9=\"\",\"\",'skjult liste'!H9)","v":""},{"$f":"IF('skjult liste'!I9=\"\",\"\",'skjult liste'!I9)","v":""},{"$f":"IF('skjult liste'!J9=\"\",\"\",'skjult liste'!J9)","v":""},{"$f":"IF('skjult liste'!K9=\"\",\"\",'skjult liste'!K9)","v":""},{"$f":"IF('skjult liste'!L9=\"\",\"\",'skjult liste'!L9)","v":""},{"$f":"IF('skjult liste'!M9=\"\",\"\",'skjult liste'!M9)","v":""},{"$f":"IF('skjult liste'!N9=\"\",\"\",'skjult liste'!N9)","v":""},{"$f":"IF('skjult liste'!O9=\"\",\"\",'skjult liste'!O9)","v":""},{"$f":"IF('skjult liste'!P9=\"\",\"\",'skjult liste'!P9)","v":""},{"$f":"IF('skjult liste'!Q9=\"\",\"\",'skjult liste'!Q9)","v":""},{"$f":"IF('skjult liste'!R9=\"\",\"\",'skjult liste'!R9)","v":""},{"$f":"IF('skjult liste'!S9=\"\",\"\",'skjult liste'!S9)","v":""},{"$f":"IF('skjult liste'!T9=\"\",\"\",'skjult liste'!T9)","v":""}]
[null,{"$f":"IF('skjult liste'!B10=\"\",\"\",'skjult liste'!B10)","v":""},{"$f":"IF('skjult liste'!C10=\"\",\"\",'skjult liste'!C10)","v":""},{"$f":"IF('skjult liste'!D10=\"\",\"\",'skjult liste'!D10)","v":""},{"$f":"IF('skjult liste'!E10=\"\",\"\",'skjult liste'!E10)","v":""},{"$f":"IF('skjult liste'!F10=\"\",\"\",'skjult liste'!F10)","v":""},{"$f":"IF('skjult liste'!G10=\"\",\"\",'skjult liste'!G10)","v":""},{"$f":"IF('skjult liste'!H10=\"\",\"\",'skjult liste'!H10)","v":""},{"$f":"IF('skjult liste'!I10=\"\",\"\",'skjult liste'!I10)","v":""},{"$f":"IF('skjult liste'!J10=\"\",\"\",'skjult liste'!J10)","v":""},{"$f":"IF('skjult liste'!K10=\"\",\"\",'skjult liste'!K10)","v":""},{"$f":"IF('skjult liste'!L10=\"\",\"\",'skjult liste'!L10)","v":""},{"$f":"IF('skjult liste'!M10=\"\",\"\",'skjult liste'!M10)","v":""},{"$f":"IF('skjult liste'!N10=\"\",\"\",'skjult liste'!N10)","v":""},{"$f":"IF('skjult liste'!O10=\"\",\"\",'skjult liste'!O10)","v":""},{"$f":"IF('skjult liste'!P10=\"\",\"\",'skjult liste'!P10)","v":""},{"$f":"IF('skjult liste'!Q10=\"\",\"\",'skjult liste'!Q10)","v":""},{"$f":"IF('skjult liste'!R10=\"\",\"\",'skjult liste'!R10)","v":""},{"$f":"IF('skjult liste'!S10=\"\",\"\",'skjult liste'!S10)","v":""},{"$f":"IF('skjult liste'!T10=\"\",\"\",'skjult liste'!T10)","v":""}]
[null,{"$f":"IF('skjult liste'!B11=\"\",\"\",'skjult liste'!B11)","v":""},{"$f":"IF('skjult liste'!C11=\"\",\"\",'skjult liste'!C11)","v":""},{"$f":"IF('skjult liste'!D11=\"\",\"\",'skjult liste'!D11)","v":""},{"$f":"IF('skjult liste'!E11=\"\",\"\",'skjult liste'!E11)","v":""},{"$f":"IF('skjult liste'!F11=\"\",\"\",'skjult liste'!F11)","v":""},{"$f":"IF('skjult liste'!G11=\"\",\"\",'skjult liste'!G11)","v":""},{"$f":"IF('skjult liste'!H11=\"\",\"\",'skjult liste'!H11)","v":""},{"$f":"IF('skjult liste'!I11=\"\",\"\",'skjult liste'!I11)","v":""},{"$f":"IF('skjult liste'!J11=\"\",\"\",'skjult liste'!J11)","v":""},{"$f":"IF('skjult liste'!K11=\"\",\"\",'skjult liste'!K11)","v":""},{"$f":"IF('skjult liste'!L11=\"\",\"\",'skjult liste'!L11)","v":""},{"$f":"IF('skjult liste'!M11=\"\",\"\",'skjult liste'!M11)","v":""},{"$f":"IF('skjult liste'!N11=\"\",\"\",'skjult liste'!N11)","v":""},{"$f":"IF('skjult liste'!O11=\"\",\"\",'skjult liste'!O11)","v":""},{"$f":"IF('skjult liste'!P11=\"\",\"\",'skjult liste'!P11)","v":""},{"$f":"IF('skjult liste'!Q11=\"\",\"\",'skjult liste'!Q11)","v":""},{"$f":"IF('skjult liste'!R11=\"\",\"\",'skjult liste'!R11)","v":""},{"$f":"IF('skjult liste'!S11=\"\",\"\",'skjult liste'!S11)","v":""},{"$f":"IF('skjult liste'!T11=\"\",\"\",'skjult liste'!T11)","v":""}]
[null,{"$f":"IF('skjult liste'!B12=\"\",\"\",'skjult liste'!B12)","v":""},{"$f":"IF('skjult liste'!C12=\"\",\"\",'skjult liste'!C12)","v":""},{"$f":"IF('skjult liste'!D12=\"\",\"\",'skjult liste'!D12)","v":""},{"$f":"IF('skjult liste'!E12=\"\",\"\",'skjult liste'!E12)","v":""},{"$f":"IF('skjult liste'!F12=\"\",\"\",'skjult liste'!F12)","v":""},{"$f":"IF('skjult liste'!G12=\"\",\"\",'skjult liste'!G12)","v":""},{"$f":"IF('skjult liste'!H12=\"\",\"\",'skjult liste'!H12)","v":""},{"$f":"IF('skjult liste'!I12=\"\",\"\",'skjult liste'!I12)","v":""},{"$f":"IF('skjult liste'!J12=\"\",\"\",'skjult liste'!J12)","v":""},{"$f":"IF('skjult liste'!K12=\"\",\"\",'skjult liste'!K12)","v":""},{"$f":"IF('skjult liste'!L12=\"\",\"\",'skjult liste'!L12)","v":""},{"$f":"IF('skjult liste'!M12=\"\",\"\",'skjult liste'!M12)","v":""},{"$f":"IF('skjult liste'!N12=\"\",\"\",'skjult liste'!N12)","v":""},{"$f":"IF('skjult liste'!O12=\"\",\"\",'skjult liste'!O12)","v":""},{"$f":"IF('skjult liste'!P12=\"\",\"\",'skjult liste'!P12)","v":""},{"$f":"IF('skjult liste'!Q12=\"\",\"\",'skjult liste'!Q12)","v":""},{"$f":"IF('skjult liste'!R12=\"\",\"\",'skjult liste'!R12)","v":""},{"$f":"IF('skjult liste'!S12=\"\",\"\",'skjult liste'!S12)","v":""},{"$f":"IF('skjult liste'!T12=\"\",\"\",'skjult liste'!T12)","v":""}]
[null,{"$f":"IF('skjult liste'!B13=\"\",\"\",'skjult liste'!B13)","v":""},{"$f":"IF('skjult liste'!C13=\"\",\"\",'skjult liste'!C13)","v":""},{"$f":"IF('skjult liste'!D13=\"\",\"\",'skjult liste'!D13)","v":""},{"$f":"IF('skjult liste'!E13=\"\",\"\",'skjult liste'!E13)","v":""},{"$f":"IF('skjult liste'!F13=\"\",\"\",'skjult liste'!F13)","v":""},{"$f":"IF('skjult liste'!G13=\"\",\"\",'skjult liste'!G13)","v":""},{"$f":"IF('skjult liste'!H13=\"\",\"\",'skjult liste'!H13)","v":""},{"$f":"IF('skjult liste'!I13=\"\",\"\",'skjult liste'!I13)","v":""},{"$f":"IF('skjult liste'!J13=\"\",\"\",'skjult liste'!J13)","v":""},{"$f":"IF('skjult liste'!K13=\"\",\"\",'skjult liste'!K13)","v":""},{"$f":"IF('skjult liste'!L13=\"\",\"\",'skjult liste'!L13)","v":""},{"$f":"IF('skjult liste'!M13=\"\",\"\",'skjult liste'!M13)","v":""},{"$f":"IF('skjult liste'!N13=\"\",\"\",'skjult liste'!N13)","v":""},{"$f":"IF('skjult liste'!O13=\"\",\"\",'skjult liste'!O13)","v":""},{"$f":"IF('skjult liste'!P13=\"\",\"\",'skjult liste'!P13)","v":""},{"$f":"IF('skjult liste'!Q13=\"\",\"\",'skjult liste'!Q13)","v":""},{"$f":"IF('skjult liste'!R13=\"\",\"\",'skjult liste'!R13)","v":""},{"$f":"IF('skjult liste'!S13=\"\",\"\",'skjult liste'!S13)","v":""},{"$f":"IF('skjult liste'!T13=\"\",\"\",'skjult liste'!T13)","v":""}]
[null,{"$f":"IF('skjult liste'!B14=\"\",\"\",'skjult liste'!B14)","v":""},{"$f":"IF('skjult liste'!C14=\"\",\"\",'skjult liste'!C14)","v":""},{"$f":"IF('skjult liste'!D14=\"\",\"\",'skjult liste'!D14)","v":""},{"$f":"IF('skjult liste'!E14=\"\",\"\",'skjult liste'!E14)","v":""},{"$f":"IF('skjult liste'!F14=\"\",\"\",'skjult liste'!F14)","v":""},{"$f":"IF('skjult liste'!G14=\"\",\"\",'skjult liste'!G14)","v":""},{"$f":"IF('skjult liste'!H14=\"\",\"\",'skjult liste'!H14)","v":""},{"$f":"IF('skjult liste'!I14=\"\",\"\",'skjult liste'!I14)","v":""},{"$f":"IF('skjult liste'!J14=\"\",\"\",'skjult liste'!J14)","v":""},{"$f":"IF('skjult liste'!K14=\"\",\"\",'skjult liste'!K14)","v":""},{"$f":"IF('skjult liste'!L14=\"\",\"\",'skjult liste'!L14)","v":""},{"$f":"IF('skjult liste'!M14=\"\",\"\",'skjult liste'!M14)","v":""},{"$f":"IF('skjult liste'!N14=\"\",\"\",'skjult liste'!N14)","v":""},{"$f":"IF('skjult liste'!O14=\"\",\"\",'skjult liste'!O14)","v":""},{"$f":"IF('skjult liste'!P14=\"\",\"\",'skjult liste'!P14)","v":""},{"$f":"IF('skjult liste'!Q14=\"\",\"\",'skjult liste'!Q14)","v":""},{"$f":"IF('skjult liste'!R14=\"\",\"\",'skjult liste'!R14)","v":""},{"$f":"IF('skjult liste'!S14=\"\",\"\",'skjult liste'!S14)","v":""},{"$f":"IF('skjult liste'!T14=\"\",\"\",'skjult liste'!T14)","v":""}]
[null,{"$f":"IF('skjult liste'!B15=\"\",\"\",'skjult liste'!B15)","v":""},{"$f":"IF('skjult liste'!C15=\"\",\"\",'skjult liste'!C15)","v":""},{"$f":"IF('skjult liste'!D15=\"\",\"\",'skjult liste'!D15)","v":""},{"$f":"IF('skjult liste'!E15=\"\",\"\",'skjult liste'!E15)","v":""},{"$f":"IF('skjult liste'!F15=\"\",\"\",'skjult liste'!F15)","v":""},{"$f":"IF('skjult liste'!G15=\"\",\"\",'skjult liste'!G15)","v":""},{"$f":"IF('skjult liste'!H15=\"\",\"\",'skjult liste'!H15)","v":""},{"$f":"IF('skjult liste'!I15=\"\",\"\",'skjult liste'!I15)","v":""},{"$f":"IF('skjult liste'!J15=\"\",\"\",'skjult liste'!J15)","v":""},{"$f":"IF('skjult liste'!K15=\"\",\"\",'skjult liste'!K15)","v":""},{"$f":"IF('skjult liste'!L15=\"\",\"\",'skjult liste'!L15)","v":""},{"$f":"IF('skjult liste'!M15=\"\",\"\",'skjult liste'!M15)","v":""},{"$f":"IF('skjult liste'!N15=\"\",\"\",'skjult liste'!N15)","v":""},{"$f":"IF('skjult liste'!O15=\"\",\"\",'skjult liste'!O15)","v":""},{"$f":"IF('skjult liste'!P15=\"\",\"\",'skjult liste'!P15)","v":""},{"$f":"IF('skjult liste'!Q15=\"\",\"\",'skjult liste'!Q15)","v":""},{"$f":"IF('skjult liste'!R15=\"\",\"\",'skjult liste'!R15)","v":""},{"$f":"IF('skjult liste'!S15=\"\",\"\",'skjult liste'!S15)","v":""},{"$f":"IF('skjult liste'!T15=\"\",\"\",'skjult liste'!T15)","v":""}]
[null,{"$f":"IF('skjult liste'!B16=\"\",\"\",'skjult liste'!B16)","v":""},{"$f":"IF('skjult liste'!C16=\"\",\"\",'skjult liste'!C16)","v":""},{"$f":"IF('skjult liste'!D16=\"\",\"\",'skjult liste'!D16)","v":""},{"$f":"IF('skjult liste'!E16=\"\",\"\",'skjult liste'!E16)","v":""},{"$f":"IF('skjult liste'!F16=\"\",\"\",'skjult liste'!F16)","v":""},{"$f":"IF('skjult liste'!G16=\"\",\"\",'skjult liste'!G16)","v":""},{"$f":"IF('skjult liste'!H16=\"\",\"\",'skjult liste'!H16)","v":""},{"$f":"IF('skjult liste'!I16=\"\",\"\",'skjult liste'!I16)","v":""},{"$f":"IF('skjult liste'!J16=\"\",\"\",'skjult liste'!J16)","v":""},{"$f":"IF('skjult liste'!K16=\"\",\"\",'skjult liste'!K16)","v":""},{"$f":"IF('skjult liste'!L16=\"\",\"\",'skjult liste'!L16)","v":""},{"$f":"IF('skjult liste'!M16=\"\",\"\",'skjult liste'!M16)","v":""},{"$f":"IF('skjult liste'!N16=\"\",\"\",'skjult liste'!N16)","v":""},{"$f":"IF('skjult liste'!O16=\"\",\"\",'skjult liste'!O16)","v":""},{"$f":"IF('skjult liste'!P16=\"\",\"\",'skjult liste'!P16)","v":""},{"$f":"IF('skjult liste'!Q16=\"\",\"\",'skjult liste'!Q16)","v":""},{"$f":"IF('skjult liste'!R16=\"\",\"\",'skjult liste'!R16)","v":""},{"$f":"IF('skjult liste'!S16=\"\",\"\",'skjult liste'!S16)","v":""},{"$f":"IF('skjult liste'!T16=\"\",\"\",'skjult liste'!T16)","v":""}]
[null,{"$f":"IF('skjult liste'!B17=\"\",\"\",'skjult liste'!B17)","v":""},{"$f":"IF('skjult liste'!C17=\"\",\"\",'skjult liste'!C17)","v":""},{"$f":"IF('skjult liste'!D17=\"\",\"\",'skjult liste'!D17)","v":""},{"$f":"IF('skjult liste'!E17=\"\",\"\",'skjult liste'!E17)","v":""},{"$f":"IF('skjult liste'!F17=\"\",\"\",'skjult liste'!F17)","v":""},{"$f":"IF('skjult liste'!G17=\"\",\"\",'skjult liste'!G17)","v":""},{"$f":"IF('skjult liste'!H17=\"\",\"\",'skjult liste'!H17)","v":""},{"$f":"IF('skjult liste'!I17=\"\",\"\",'skjult liste'!I17)","v":""},{"$f":"IF('skjult liste'!J17=\"\",\"\",'skjult liste'!J17)","v":""},{"$f":"IF('skjult liste'!K17=\"\",\"\",'skjult liste'!K17)","v":""},{"$f":"IF('skjult liste'!L17=\"\",\"\",'skjult liste'!L17)","v":""},{"$f":"IF('skjult liste'!M17=\"\",\"\",'skjult liste'!M17)","v":""},{"$f":"IF('skjult liste'!N17=\"\",\"\",'skjult liste'!N17)","v":""},{"$f":"IF('skjult liste'!O17=\"\",\"\",'skjult liste'!O17)","v":""},{"$f":"IF('skjult liste'!P17=\"\",\"\",'skjult liste'!P17)","v":""},{"$f":"IF('skjult liste'!Q17=\"\",\"\",'skjult liste'!Q17)","v":""},{"$f":"IF('skjult liste'!R17=\"\",\"\",'skjult liste'!R17)","v":""},{"$f":"IF('skjult liste'!S17=\"\",\"\",'skjult liste'!S17)","v":""},{"$f":"IF('skjult liste'!T17=\"\",\"\",'skjult liste'!T17)","v":""}]
[null,{"$f":"IF('skjult liste'!B18=\"\",\"\",'skjult liste'!B18)","v":""},{"$f":"IF('skjult liste'!C18=\"\",\"\",'skjult liste'!C18)","v":""},{"$f":"IF('skjult liste'!D18=\"\",\"\",'skjult liste'!D18)","v":""},{"$f":"IF('skjult liste'!E18=\"\",\"\",'skjult liste'!E18)","v":""},{"$f":"IF('skjult liste'!F18=\"\",\"\",'skjult liste'!F18)","v":""},{"$f":"IF('skjult liste'!G18=\"\",\"\",'skjult liste'!G18)","v":""},{"$f":"IF('skjult liste'!H18=\"\",\"\",'skjult liste'!H18)","v":""},{"$f":"IF('skjult liste'!I18=\"\",\"\",'skjult liste'!I18)","v":""},{"$f":"IF('skjult liste'!J18=\"\",\"\",'skjult liste'!J18)","v":""},{"$f":"IF('skjult liste'!K18=\"\",\"\",'skjult liste'!K18)","v":""},{"$f":"IF('skjult liste'!L18=\"\",\"\",'skjult liste'!L18)","v":""},{"$f":"IF('skjult liste'!M18=\"\",\"\",'skjult liste'!M18)","v":""},{"$f":"IF('skjult liste'!N18=\"\",\"\",'skjult liste'!N18)","v":""},{"$f":"IF('skjult liste'!O18=\"\",\"\",'skjult liste'!O18)","v":""},{"$f":"IF('skjult liste'!P18=\"\",\"\",'skjult liste'!P18)","v":""},{"$f":"IF('skjult liste'!Q18=\"\",\"\",'skjult liste'!Q18)","v":""},{"$f":"IF('skjult liste'!R18=\"\",\"\",'skjult liste'!R18)","v":""},{"$f":"IF('skjult liste'!S18=\"\",\"\",'skjult liste'!S18)","v":""},{"$f":"IF('skjult liste'!T18=\"\",\"\",'skjult liste'!T18)","v":""}]
[null,{"$f":"IF('skjult liste'!B19=\"\",\"\",'skjult liste'!B19)","v":""},{"$f":"IF('skjult liste'!C19=\"\",\"\",'skjult liste'!C19)","v":""},{"$f":"IF('skjult liste'!D19=\"\",\"\",'skjult liste'!D19)","v":""},{"$f":"IF('skjult liste'!E19=\"\",\"\",'skjult liste'!E19)","v":""},{"$f":"IF('skjult liste'!F19=\"\",\"\",'skjult liste'!F19)","v":""},{"$f":"IF('skjult liste'!G19=\"\",\"\",'skjult liste'!G19)","v":""},{"$f":"IF('skjult liste'!H19=\"\",\"\",'skjult liste'!H19)","v":""},{"$f":"IF('skjult liste'!I19=\"\",\"\",'skjult liste'!I19)","v":""},{"$f":"IF('skjult liste'!J19=\"\",\"\",'skjult liste'!J19)","v":""},{"$f":"IF('skjult liste'!K19=\"\",\"\",'skjult liste'!K19)","v":""},{"$f":"IF('skjult liste'!L19=\"\",\"\",'skjult liste'!L19)","v":""},{"$f":"IF('skjult liste'!M19=\"\",\"\",'skjult liste'!M19)","v":""},{"$f":"IF('skjult liste'!N19=\"\",\"\",'skjult liste'!N19)","v":""},{"$f":"IF('skjult liste'!O19=\"\",\"\",'skjult liste'!O19)","v":""},{"$f":"IF('skjult liste'!P19=\"\",\"\",'skjult liste'!P19)","v":""},{"$f":"IF('skjult liste'!Q19=\"\",\"\",'skjult liste'!Q19)","v":""},{"$f":"IF('skjult liste'!R19=\"\",\"\",'skjult liste'!R19)","v":""},{"$f":"IF('skjult liste'!S19=\"\",\"\",'skjult liste'!S19)","v":""},{"$f":"IF('skjult liste'!T19=\"\",\"\",'skjult liste'!T19)","v":""}]
[null,{"$f":"IF('skjult liste'!B20=\"\",\"\",'skjult liste'!B20)","v":""},{"$f":"IF('skjult liste'!C20=\"\",\"\",'skjult liste'!C20)","v":""},{"$f":"IF('skjult liste'!D20=\"\",\"\",'skjult liste'!D20)","v":""},{"$f":"IF('skjult liste'!E20=\"\",\"\",'skjult liste'!E20)","v":""},{"$f":"IF('skjult liste'!F20=\"\",\"\",'skjult liste'!F20)","v":""},{"$f":"IF('skjult liste'!G20=\"\",\"\",'skjult liste'!G20)","v":""},{"$f":"IF('skjult liste'!H20=\"\",\"\",'skjult liste'!H20)","v":""},{"$f":"IF('skjult liste'!I20=\"\",\"\",'skjult liste'!I20)","v":""},{"$f":"IF('skjult liste'!J20=\"\",\"\",'skjult liste'!J20)","v":""},{"$f":"IF('skjult liste'!K20=\"\",\"\",'skjult liste'!K20)","v":""},{"$f":"IF('skjult liste'!L20=\"\",\"\",'skjult liste'!L20)","v":""},{"$f":"IF('skjult liste'!M20=\"\",\"\",'skjult liste'!M20)","v":""},{"$f":"IF('skjult liste'!N20=\"\",\"\",'skjult liste'!N20)","v":""},{"$f":"IF('skjult liste'!O20=\"\",\"\",'skjult liste'!O20)","v":""},{"$f":"IF('skjult liste'!P20=\"\",\"\",'skjult liste'!P20)","v":""},{"$f":"IF('skjult liste'!Q20=\"\",\"\",'skjult liste'!Q20)","v":""},{"$f":"IF('skjult liste'!R20=\"\",\"\",'skjult liste'!R20)","v":""},{"$f":"IF('skjult liste'!S20=\"\",\"\",'skjult liste'!S20)","v":""},{"$f":"IF('skjult liste'!T20=\"\",\"\",'skjult liste'!T20)","v":""}]
[null,{"$f":"IF('skjult liste'!B21=\"\",\"\",'skjult liste'!B21)","v":""},{"$f":"IF('skjult liste'!C21=\"\",\"\",'skjult liste'!C21)","v":""},{"$f":"IF('skjult liste'!D21=\"\",\"\",'skjult liste'!D21)","v":""},{"$f":"IF('skjult liste'!E21=\"\",\"\",'skjult liste'!E21)","v":""},{"$f":"IF('skjult liste'!F21=\"\",\"\",'skjult liste'!F21)","v":""},{"$f":"IF('skjult liste'!G21=\"\",\"\",'skjult liste'!G21)","v":""},{"$f":"IF('skjult liste'!H21=\"\",\"\",'skjult liste'!H21)","v":""},{"$f":"IF('skjult liste'!I21=\"\",\"\",'skjult liste'!I21)","v":""},{"$f":"IF('skjult liste'!J21=\"\",\"\",'skjult liste'!J21)","v":""},{"$f":"IF('skjult liste'!K21=\"\",\"\",'skjult liste'!K21)","v":""},{"$f":"IF('skjult liste'!L21=\"\",\"\",'skjult liste'!L21)","v":""},{"$f":"IF('skjult liste'!M21=\"\",\"\",'skjult liste'!M21)","v":""},{"$f":"IF('skjult liste'!N21=\"\",\"\",'skjult liste'!N21)","v":""},{"$f":"IF('skjult liste'!O21=\"\",\"\",'skjult liste'!O21)","v":""},{"$f":"IF('skjult liste'!P21=\"\",\"\",'skjult liste'!P21)","v":""},{"$f":"IF('skjult liste'!Q21=\"\",\"\",'skjult liste'!Q21)","v":""},{"$f":"IF('skjult liste'!R21=\"\",\"\",'skjult liste'!R21)","v":""},{"$f":"IF('skjult liste'!S21=\"\",\"\",'skjult liste'!S21)","v":""},{"$f":"IF('skjult liste'!T21=\"\",\"\",'skjult liste'!T21)","v":""}]
[null,{"$f":"IF('skjult liste'!B22=\"\",\"\",'skjult liste'!B22)","v":""},{"$f":"IF('skjult liste'!C22=\"\",\"\",'skjult liste'!C22)","v":""},{"$f":"IF('skjult liste'!D22=\"\",\"\",'skjult liste'!D22)","v":""},{"$f":"IF('skjult liste'!E22=\"\",\"\",'skjult liste'!E22)","v":""},{"$f":"IF('skjult liste'!F22=\"\",\"\",'skjult liste'!F22)","v":""},{"$f":"IF('skjult liste'!G22=\"\",\"\",'skjult liste'!G22)","v":""},{"$f":"IF('skjult liste'!H22=\"\",\"\",'skjult liste'!H22)","v":""},{"$f":"IF('skjult liste'!I22=\"\",\"\",'skjult liste'!I22)","v":""},{"$f":"IF('skjult liste'!J22=\"\",\"\",'skjult liste'!J22)","v":""},{"$f":"IF('skjult liste'!K22=\"\",\"\",'skjult liste'!K22)","v":""},{"$f":"IF('skjult liste'!L22=\"\",\"\",'skjult liste'!L22)","v":""},{"$f":"IF('skjult liste'!M22=\"\",\"\",'skjult liste'!M22)","v":""},{"$f":"IF('skjult liste'!N22=\"\",\"\",'skjult liste'!N22)","v":""},{"$f":"IF('skjult liste'!O22=\"\",\"\",'skjult liste'!O22)","v":""},{"$f":"IF('skjult liste'!P22=\"\",\"\",'skjult liste'!P22)","v":""},{"$f":"IF('skjult liste'!Q22=\"\",\"\",'skjult liste'!Q22)","v":""},{"$f":"IF('skjult liste'!R22=\"\",\"\",'skjult liste'!R22)","v":""},{"$f":"IF('skjult liste'!S22=\"\",\"\",'skjult liste'!S22)","v":""},{"$f":"IF('skjult liste'!T22=\"\",\"\",'skjult liste'!T22)","v":""}]
[null,{"$f":"IF('skjult liste'!B23=\"\",\"\",'skjult liste'!B23)","v":""},{"$f":"IF('skjult liste'!C23=\"\",\"\",'skjult liste'!C23)","v":""},{"$f":"IF('skjult liste'!D23=\"\",\"\",'skjult liste'!D23)","v":""},{"$f":"IF('skjult liste'!E23=\"\",\"\",'skjult liste'!E23)","v":""},{"$f":"IF('skjult liste'!F23=\"\",\"\",'skjult liste'!F23)","v":""},{"$f":"IF('skjult liste'!G23=\"\",\"\",'skjult liste'!G23)","v":""},{"$f":"IF('skjult liste'!H23=\"\",\"\",'skjult liste'!H23)","v":""},{"$f":"IF('skjult liste'!I23=\"\",\"\",'skjult liste'!I23)","v":""},{"$f":"IF('skjult liste'!J23=\"\",\"\",'skjult liste'!J23)","v":""},{"$f":"IF('skjult liste'!K23=\"\",\"\",'skjult liste'!K23)","v":""},{"$f":"IF('skjult liste'!L23=\"\",\"\",'skjult liste'!L23)","v":""},{"$f":"IF('skjult liste'!M23=\"\",\"\",'skjult liste'!M23)","v":""},{"$f":"IF('skjult liste'!N23=\"\",\"\",'skjult liste'!N23)","v":""},{"$f":"IF('skjult liste'!O23=\"\",\"\",'skjult liste'!O23)","v":""},{"$f":"IF('skjult liste'!P23=\"\",\"\",'skjult liste'!P23)","v":""},{"$f":"IF('skjult liste'!Q23=\"\",\"\",'skjult liste'!Q23)","v":""},{"$f":"IF('skjult liste'!R23=\"\",\"\",'skjult liste'!R23)","v":""},{"$f":"IF('skjult liste'!S23=\"\",\"\",'skjult liste'!S23)","v":""},{"$f":"IF('skjult liste'!T23=\"\",\"\",'skjult liste'!T23)","v":""}]
[null,{"$f":"IF('skjult liste'!B24=\"\",\"\",'skjult liste'!B24)","v":""},{"$f":"IF('skjult liste'!C24=\"\",\"\",'skjult liste'!C24)","v":""},{"$f":"IF('skjult liste'!D24=\"\",\"\",'skjult liste'!D24)","v":""},{"$f":"IF('skjult liste'!E24=\"\",\"\",'skjult liste'!E24)","v":""},{"$f":"IF('skjult liste'!F24=\"\",\"\",'skjult liste'!F24)","v":""},{"$f":"IF('skjult liste'!G24=\"\",\"\",'skjult liste'!G24)","v":""},{"$f":"IF('skjult liste'!H24=\"\",\"\",'skjult liste'!H24)","v":""},{"$f":"IF('skjult liste'!I24=\"\",\"\",'skjult liste'!I24)","v":""},{"$f":"IF('skjult liste'!J24=\"\",\"\",'skjult liste'!J24)","v":""},{"$f":"IF('skjult liste'!K24=\"\",\"\",'skjult liste'!K24)","v":""},{"$f":"IF('skjult liste'!L24=\"\",\"\",'skjult liste'!L24)","v":""},{"$f":"IF('skjult liste'!M24=\"\",\"\",'skjult liste'!M24)","v":""},{"$f":"IF('skjult liste'!N24=\"\",\"\",'skjult liste'!N24)","v":""},{"$f":"IF('skjult liste'!O24=\"\",\"\",'skjult liste'!O24)","v":""},{"$f":"IF('skjult liste'!P24=\"\",\"\",'skjult liste'!P24)","v":""},{"$f":"IF('skjult liste'!Q24=\"\",\"\",'skjult liste'!Q24)","v":""},{"$f":"IF('skjult liste'!R24=\"\",\"\",'skjult liste'!R24)","v":""},{"$f":"IF('skjult liste'!S24=\"\",\"\",'skjult liste'!S24)","v":""},{"$f":"IF('skjult liste'!T24=\"\",\"\",'skjult liste'!T24)","v":""}]
[null,{"$f":"IF('skjult liste'!B25=\"\",\"\",'skjult liste'!B25)","v":""},{"$f":"IF('skjult liste'!C25=\"\",\"\",'skjult liste'!C25)","v":""},{"$f":"IF('skjult liste'!D25=\"\",\"\",'skjult liste'!D25)","v":""},{"$f":"IF('skjult liste'!E25=\"\",\"\",'skjult liste'!E25)","v":""},{"$f":"IF('skjult liste'!F25=\"\",\"\",'skjult liste'!F25)","v":""},{"$f":"IF('skjult liste'!G25=\"\",\"\",'skjult liste'!G25)","v":""},{"$f":"IF('skjult liste'!H25=\"\",\"\",'skjult liste'!H25)","v":""},{"$f":"IF('skjult liste'!I25=\"\",\"\",'skjult liste'!I25)","v":""},{"$f":"IF('skjult liste'!J25=\"\",\"\",'skjult liste'!J25)","v":""},{"$f":"IF('skjult liste'!K25=\"\",\"\",'skjult liste'!K25)","v":""},{"$f":"IF('skjult liste'!L25=\"\",\"\",'skjult liste'!L25)","v":""},{"$f":"IF('skjult liste'!M25=\"\",\"\",'skjult liste'!M25)","v":""},{"$f":"IF('skjult liste'!N25=\"\",\"\",'skjult liste'!N25)","v":""},{"$f":"IF('skjult liste'!O25=\"\",\"\",'skjult liste'!O25)","v":""},{"$f":"IF('skjult liste'!P25=\"\",\"\",'skjult liste'!P25)","v":""},{"$f":"IF('skjult liste'!Q25=\"\",\"\",'skjult liste'!Q25)","v":""},{"$f":"IF('skjult liste'!R25=\"\",\"\",'skjult liste'!R25)","v":""},{"$f":"IF('skjult liste'!S25=\"\",\"\",'skjult liste'!S25)","v":""},{"$f":"IF('skjult liste'!T25=\"\",\"\",'skjult liste'!T25)","v":""}]
[null,{"$f":"IF('skjult liste'!B26=\"\",\"\",'skjult liste'!B26)","v":""},{"$f":"IF('skjult liste'!C26=\"\",\"\",'skjult liste'!C26)","v":""},{"$f":"IF('skjult liste'!D26=\"\",\"\",'skjult liste'!D26)","v":""},{"$f":"IF('skjult liste'!E26=\"\",\"\",'skjult liste'!E26)","v":""},{"$f":"IF('skjult liste'!F26=\"\",\"\",'skjult liste'!F26)","v":""},{"$f":"IF('skjult liste'!G26=\"\",\"\",'skjult liste'!G26)","v":""},{"$f":"IF('skjult liste'!H26=\"\",\"\",'skjult liste'!H26)","v":""},{"$f":"IF('skjult liste'!I26=\"\",\"\",'skjult liste'!I26)","v":""},{"$f":"IF('skjult liste'!J26=\"\",\"\",'skjult liste'!J26)","v":""},{"$f":"IF('skjult liste'!K26=\"\",\"\",'skjult liste'!K26)","v":""},{"$f":"IF('skjult liste'!L26=\"\",\"\",'skjult liste'!L26)","v":""},{"$f":"IF('skjult liste'!M26=\"\",\"\",'skjult liste'!M26)","v":""},{"$f":"IF('skjult liste'!N26=\"\",\"\",'skjult liste'!N26)","v":""},{"$f":"IF('skjult liste'!O26=\"\",\"\",'skjult liste'!O26)","v":""},{"$f":"IF('skjult liste'!P26=\"\",\"\",'skjult liste'!P26)","v":""},{"$f":"IF('skjult liste'!Q26=\"\",\"\",'skjult liste'!Q26)","v":""},{"$f":"IF('skjult liste'!R26=\"\",\"\",'skjult liste'!R26)","v":""},{"$f":"IF('skjult liste'!S26=\"\",\"\",'skjult liste'!S26)","v":""},{"$f":"IF('skjult liste'!T26=\"\",\"\",'skjult liste'!T26)","v":""}]
[null,{"$f":"IF('skjult liste'!B27=\"\",\"\",'skjult liste'!B27)","v":""},{"$f":"IF('skjult liste'!C27=\"\",\"\",'skjult liste'!C27)","v":""},{"$f":"IF('skjult liste'!D27=\"\",\"\",'skjult liste'!D27)","v":""},{"$f":"IF('skjult liste'!E27=\"\",\"\",'skjult liste'!E27)","v":""},{"$f":"IF('skjult liste'!F27=\"\",\"\",'skjult liste'!F27)","v":""},{"$f":"IF('skjult liste'!G27=\"\",\"\",'skjult liste'!G27)","v":""},{"$f":"IF('skjult liste'!H27=\"\",\"\",'skjult liste'!H27)","v":""},{"$f":"IF('skjult liste'!I27=\"\",\"\",'skjult liste'!I27)","v":""},{"$f":"IF('skjult liste'!J27=\"\",\"\",'skjult liste'!J27)","v":""},{"$f":"IF('skjult liste'!K27=\"\",\"\",'skjult liste'!K27)","v":""},{"$f":"IF('skjult liste'!L27=\"\",\"\",'skjult liste'!L27)","v":""},{"$f":"IF('skjult liste'!M27=\"\",\"\",'skjult liste'!M27)","v":""},{"$f":"IF('skjult liste'!N27=\"\",\"\",'skjult liste'!N27)","v":""},{"$f":"IF('skjult liste'!O27=\"\",\"\",'skjult liste'!O27)","v":""},{"$f":"IF('skjult liste'!P27=\"\",\"\",'skjult liste'!P27)","v":""},{"$f":"IF('skjult liste'!Q27=\"\",\"\",'skjult liste'!Q27)","v":""},{"$f":"IF('skjult liste'!R27=\"\",\"\",'skjult liste'!R27)","v":""},{"$f":"IF('skjult liste'!S27=\"\",\"\",'skjult liste'!S27)","v":""},{"$f":"IF('skjult liste'!T27=\"\",\"\",'skjult liste'!T27)","v":""}]
[null,{"$f":"IF('skjult liste'!B28=\"\",\"\",'skjult liste'!B28)","v":""},{"$f":"IF('skjult liste'!C28=\"\",\"\",'skjult liste'!C28)","v":""},{"$f":"IF('skjult liste'!D28=\"\",\"\",'skjult liste'!D28)","v":""},{"$f":"IF('skjult liste'!E28=\"\",\"\",'skjult liste'!E28)","v":""},{"$f":"IF('skjult liste'!F28=\"\",\"\",'skjult liste'!F28)","v":""},{"$f":"IF('skjult liste'!G28=\"\",\"\",'skjult liste'!G28)","v":""},{"$f":"IF('skjult liste'!H28=\"\",\"\",'skjult liste'!H28)","v":""},{"$f":"IF('skjult liste'!I28=\"\",\"\",'skjult liste'!I28)","v":""},{"$f":"IF('skjult liste'!J28=\"\",\"\",'skjult liste'!J28)","v":""},{"$f":"IF('skjult liste'!K28=\"\",\"\",'skjult liste'!K28)","v":""},{"$f":"IF('skjult liste'!L28=\"\",\"\",'skjult liste'!L28)","v":""},{"$f":"IF('skjult liste'!M28=\"\",\"\",'skjult liste'!M28)","v":""},{"$f":"IF('skjult liste'!N28=\"\",\"\",'skjult liste'!N28)","v":""},{"$f":"IF('skjult liste'!O28=\"\",\"\",'skjult liste'!O28)","v":""},{"$f":"IF('skjult liste'!P28=\"\",\"\",'skjult liste'!P28)","v":""},{"$f":"IF('skjult liste'!Q28=\"\",\"\",'skjult liste'!Q28)","v":""},{"$f":"IF('skjult liste'!R28=\"\",\"\",'skjult liste'!R28)","v":""},{"$f":"IF('skjult liste'!S28=\"\",\"\",'skjult liste'!S28)","v":""},{"$f":"IF('skjult liste'!T28=\"\",\"\",'skjult liste'!T28)","v":""}]
[null,{"$f":"IF('skjult liste'!B29=\"\",\"\",'skjult liste'!B29)","v":""},{"$f":"IF('skjult liste'!C29=\"\",\"\",'skjult liste'!C29)","v":""},{"$f":"IF('skjult liste'!D29=\"\",\"\",'skjult liste'!D29)","v":""},{"$f":"IF('skjult liste'!E29=\"\",\"\",'skjult liste'!E29)","v":""},{"$f":"IF('skjult liste'!F29=\"\",\"\",'skjult liste'!F29)","v":""},{"$f":"IF('skjult liste'!G29=\"\",\"\",'skjult liste'!G29)","v":""},{"$f":"IF('skjult liste'!H29=\"\",\"\",'skjult liste'!H29)","v":""},{"$f":"IF('skjult liste'!I29=\"\",\"\",'skjult liste'!I29)","v":""},{"$f":"IF('skjult liste'!J29=\"\",\"\",'skjult liste'!J29)","v":""},{"$f":"IF('skjult liste'!K29=\"\",\"\",'skjult liste'!K29)","v":""},{"$f":"IF('skjult liste'!L29=\"\",\"\",'skjult liste'!L29)","v":""},{"$f":"IF('skjult liste'!M29=\"\",\"\",'skjult liste'!M29)","v":""},{"$f":"IF('skjult liste'!N29=\"\",\"\",'skjult liste'!N29)","v":""},{"$f":"IF('skjult liste'!O29=\"\",\"\",'skjult liste'!O29)","v":""},{"$f":"IF('skjult liste'!P29=\"\",\"\",'skjult liste'!P29)","v":""},{"$f":"IF('skjult liste'!Q29=\"\",\"\",'skjult liste'!Q29)","v":""},{"$f":"IF('skjult liste'!R29=\"\",\"\",'skjult liste'!R29)","v":""},{"$f":"IF('skjult liste'!S29=\"\",\"\",'skjult liste'!S29)","v":""},{"$f":"IF('skjult liste'!T29=\"\",\"\",'skjult liste'!T29)","v":""}]
[null,{"$f":"IF('skjult liste'!B30=\"\",\"\",'skjult liste'!B30)","v":""},{"$f":"IF('skjult liste'!C30=\"\",\"\",'skjult liste'!C30)","v":""},{"$f":"IF('skjult liste'!D30=\"\",\"\",'skjult liste'!D30)","v":""},{"$f":"IF('skjult liste'!E30=\"\",\"\",'skjult liste'!E30)","v":""},{"$f":"IF('skjult liste'!F30=\"\",\"\",'skjult liste'!F30)","v":""},{"$f":"IF('skjult liste'!G30=\"\",\"\",'skjult liste'!G30)","v":""},{"$f":"IF('skjult liste'!H30=\"\",\"\",'skjult liste'!H30)","v":""},{"$f":"IF('skjult liste'!I30=\"\",\"\",'skjult liste'!I30)","v":""},{"$f":"IF('skjult liste'!J30=\"\",\"\",'skjult liste'!J30)","v":""},{"$f":"IF('skjult liste'!K30=\"\",\"\",'skjult liste'!K30)","v":""},{"$f":"IF('skjult liste'!L30=\"\",\"\",'skjult liste'!L30)","v":""},{"$f":"IF('skjult liste'!M30=\"\",\"\",'skjult liste'!M30)","v":""},{"$f":"IF('skjult liste'!N30=\"\",\"\",'skjult liste'!N30)","v":""},{"$f":"IF('skjult liste'!O30=\"\",\"\",'skjult liste'!O30)","v":""},{"$f":"IF('skjult liste'!P30=\"\",\"\",'skjult liste'!P30)","v":""},{"$f":"IF('skjult liste'!Q30=\"\",\"\",'skjult liste'!Q30)","v":""},{"$f":"IF('skjult liste'!R30=\"\",\"\",'skjult liste'!R30)","v":""},{"$f":"IF('skjult liste'!S30=\"\",\"\",'skjult liste'!S30)","v":""},{"$f":"IF('skjult liste'!T30=\"\",\"\",'skjult liste'!T30)","v":""}]
[null,{"$f":"IF('skjult liste'!B31=\"\",\"\",'skjult liste'!B31)","v":""},{"$f":"IF('skjult liste'!C31=\"\",\"\",'skjult liste'!C31)","v":""},{"$f":"IF('skjult liste'!D31=\"\",\"\",'skjult liste'!D31)","v":""},{"$f":"IF('skjult liste'!E31=\"\",\"\",'skjult liste'!E31)","v":""},{"$f":"IF('skjult liste'!F31=\"\",\"\",'skjult liste'!F31)","v":""},{"$f":"IF('skjult liste'!G31=\"\",\"\",'skjult liste'!G31)","v":""},{"$f":"IF('skjult liste'!H31=\"\",\"\",'skjult liste'!H31)","v":""},{"$f":"IF('skjult liste'!I31=\"\",\"\",'skjult liste'!I31)","v":""},{"$f":"IF('skjult liste'!J31=\"\",\"\",'skjult liste'!J31)","v":""},{"$f":"IF('skjult liste'!K31=\"\",\"\",'skjult liste'!K31)","v":""},{"$f":"IF('skjult liste'!L31=\"\",\"\",'skjult liste'!L31)","v":""},{"$f":"IF('skjult liste'!M31=\"\",\"\",'skjult liste'!M31)","v":""},{"$f":"IF('skjult liste'!N31=\"\",\"\",'skjult liste'!N31)","v":""},{"$f":"IF('skjult liste'!O31=\"\",\"\",'skjult liste'!O31)","v":""},{"$f":"IF('skjult liste'!P31=\"\",\"\",'skjult liste'!P31)","v":""},{"$f":"IF('skjult liste'!Q31=\"\",\"\",'skjult liste'!Q31)","v":""},{"$f":"IF('skjult liste'!R31=\"\",\"\",'skjult liste'!R31)","v":""},{"$f":"IF('skjult liste'!S31=\"\",\"\",'skjult liste'!S31)","v":""},{"$f":"IF('skjult liste'!T31=\"\",\"\",'skjult liste'!T31)","v":""}]
[null,{"$f":"IF('skjult liste'!B32=\"\",\"\",'skjult liste'!B32)","v":""},{"$f":"IF('skjult liste'!C32=\"\",\"\",'skjult liste'!C32)","v":""},{"$f":"IF('skjult liste'!D32=\"\",\"\",'skjult liste'!D32)","v":""},{"$f":"IF('skjult liste'!E32=\"\",\"\",'skjult liste'!E32)","v":""},{"$f":"IF('skjult liste'!F32=\"\",\"\",'skjult liste'!F32)","v":""},{"$f":"IF('skjult liste'!G32=\"\",\"\",'skjult liste'!G32)","v":""},{"$f":"IF('skjult liste'!H32=\"\",\"\",'skjult liste'!H32)","v":""},{"$f":"IF('skjult liste'!I32=\"\",\"\",'skjult liste'!I32)","v":""},{"$f":"IF('skjult liste'!J32=\"\",\"\",'skjult liste'!J32)","v":""},{"$f":"IF('skjult liste'!K32=\"\",\"\",'skjult liste'!K32)","v":""},{"$f":"IF('skjult liste'!L32=\"\",\"\",'skjult liste'!L32)","v":""},{"$f":"IF('skjult liste'!M32=\"\",\"\",'skjult liste'!M32)","v":""},{"$f":"IF('skjult liste'!N32=\"\",\"\",'skjult liste'!N32)","v":""},{"$f":"IF('skjult liste'!O32=\"\",\"\",'skjult liste'!O32)","v":""},{"$f":"IF('skjult liste'!P32=\"\",\"\",'skjult liste'!P32)","v":""},{"$f":"IF('skjult liste'!Q32=\"\",\"\",'skjult liste'!Q32)","v":""},{"$f":"IF('skjult liste'!R32=\"\",\"\",'skjult liste'!R32)","v":""},{"$f":"IF('skjult liste'!S32=\"\",\"\",'skjult liste'!S32)","v":""},{"$f":"IF('skjult liste'!T32=\"\",\"\",'skjult liste'!T32)","v":""}]
[null,{"$f":"IF('skjult liste'!B33=\"\",\"\",'skjult liste'!B33)","v":""},{"$f":"IF('skjult liste'!C33=\"\",\"\",'skjult liste'!C33)","v":""},{"$f":"IF('skjult liste'!D33=\"\",\"\",'skjult liste'!D33)","v":""},{"$f":"IF('skjult liste'!E33=\"\",\"\",'skjult liste'!E33)","v":""},{"$f":"IF('skjult liste'!F33=\"\",\"\",'skjult liste'!F33)","v":""},{"$f":"IF('skjult liste'!G33=\"\",\"\",'skjult liste'!G33)","v":""},{"$f":"IF('skjult liste'!H33=\"\",\"\",'skjult liste'!H33)","v":""},{"$f":"IF('skjult liste'!I33=\"\",\"\",'skjult liste'!I33)","v":""},{"$f":"IF('skjult liste'!J33=\"\",\"\",'skjult liste'!J33)","v":""},{"$f":"IF('skjult liste'!K33=\"\",\"\",'skjult liste'!K33)","v":""},{"$f":"IF('skjult liste'!L33=\"\",\"\",'skjult liste'!L33)","v":""},{"$f":"IF('skjult liste'!M33=\"\",\"\",'skjult liste'!M33)","v":""},{"$f":"IF('skjult liste'!N33=\"\",\"\",'skjult liste'!N33)","v":""},{"$f":"IF('skjult liste'!O33=\"\",\"\",'skjult liste'!O33)","v":""},{"$f":"IF('skjult liste'!P33=\"\",\"\",'skjult liste'!P33)","v":""},{"$f":"IF('skjult liste'!Q33=\"\",\"\",'skjult liste'!Q33)","v":""},{"$f":"IF('skjult liste'!R33=\"\",\"\",'skjult liste'!R33)","v":""},{"$f":"IF('skjult liste'!S33=\"\",\"\",'skjult liste'!S33)","v":""},{"$f":"IF('skjult liste'!T33=\"\",\"\",'skjult liste'!T33)","v":""}]
[null,{"$f":"IF('skjult liste'!B34=\"\",\"\",'skjult liste'!B34)","v":""},{"$f":"IF('skjult liste'!C34=\"\",\"\",'skjult liste'!C34)","v":""},{"$f":"IF('skjult liste'!D34=\"\",\"\",'skjult liste'!D34)","v":""},{"$f":"IF('skjult liste'!E34=\"\",\"\",'skjult liste'!E34)","v":""},{"$f":"IF('skjult liste'!F34=\"\",\"\",'skjult liste'!F34)","v":""},{"$f":"IF('skjult liste'!G34=\"\",\"\",'skjult liste'!G34)","v":""},{"$f":"IF('skjult liste'!H34=\"\",\"\",'skjult liste'!H34)","v":""},{"$f":"IF('skjult liste'!I34=\"\",\"\",'skjult liste'!I34)","v":""},{"$f":"IF('skjult liste'!J34=\"\",\"\",'skjult liste'!J34)","v":""},{"$f":"IF('skjult liste'!K34=\"\",\"\",'skjult liste'!K34)","v":""},{"$f":"IF('skjult liste'!L34=\"\",\"\",'skjult liste'!L34)","v":""},{"$f":"IF('skjult liste'!M34=\"\",\"\",'skjult liste'!M34)","v":""},{"$f":"IF('skjult liste'!N34=\"\",\"\",'skjult liste'!N34)","v":""},{"$f":"IF('skjult liste'!O34=\"\",\"\",'skjult liste'!O34)","v":""},{"$f":"IF('skjult liste'!P34=\"\",\"\",'skjult liste'!P34)","v":""},{"$f":"IF('skjult liste'!Q34=\"\",\"\",'skjult liste'!Q34)","v":""},{"$f":"IF('skjult liste'!R34=\"\",\"\",'skjult liste'!R34)","v":""},{"$f":"IF('skjult liste'!S34=\"\",\"\",'skjult liste'!S34)","v":""},{"$f":"IF('skjult liste'!T34=\"\",\"\",'skjult liste'!T34)","v":""}]
[null,{"$f":"IF('skjult liste'!B35=\"\",\"\",'skjult liste'!B35)","v":""},{"$f":"IF('skjult liste'!C35=\"\",\"\",'skjult liste'!C35)","v":""},{"$f":"IF('skjult liste'!D35=\"\",\"\",'skjult liste'!D35)","v":""},{"$f":"IF('skjult liste'!E35=\"\",\"\",'skjult liste'!E35)","v":""},{"$f":"IF('skjult liste'!F35=\"\",\"\",'skjult liste'!F35)","v":""},{"$f":"IF('skjult liste'!G35=\"\",\"\",'skjult liste'!G35)","v":""},{"$f":"IF('skjult liste'!H35=\"\",\"\",'skjult liste'!H35)","v":""},{"$f":"IF('skjult liste'!I35=\"\",\"\",'skjult liste'!I35)","v":""},{"$f":"IF('skjult liste'!J35=\"\",\"\",'skjult liste'!J35)","v":""},{"$f":"IF('skjult liste'!K35=\"\",\"\",'skjult liste'!K35)","v":""},{"$f":"IF('skjult liste'!L35=\"\",\"\",'skjult liste'!L35)","v":""},{"$f":"IF('skjult liste'!M35=\"\",\"\",'skjult liste'!M35)","v":""},{"$f":"IF('skjult liste'!N35=\"\",\"\",'skjult liste'!N35)","v":""},{"$f":"IF('skjult liste'!O35=\"\",\"\",'skjult liste'!O35)","v":""},{"$f":"IF('skjult liste'!P35=\"\",\"\",'skjult liste'!P35)","v":""},{"$f":"IF('skjult liste'!Q35=\"\",\"\",'skjult liste'!Q35)","v":""},{"$f":"IF('skjult liste'!R35=\"\",\"\",'skjult liste'!R35)","v":""},{"$f":"IF('skjult liste'!S35=\"\",\"\",'skjult liste'!S35)","v":""},{"$f":"IF('skjult liste'!T35=\"\",\"\",'skjult liste'!T35)","v":""}]
[null,{"$f":"IF('skjult liste'!B36=\"\",\"\",'skjult liste'!B36)","v":""},{"$f":"IF('skjult liste'!C36=\"\",\"\",'skjult liste'!C36)","v":""},{"$f":"IF('skjult liste'!D36=\"\",\"\",'skjult liste'!D36)","v":""},{"$f":"IF('skjult liste'!E36=\"\",\"\",'skjult liste'!E36)","v":""},{"$f":"IF('skjult liste'!F36=\"\",\"\",'skjult liste'!F36)","v":""},{"$f":"IF('skjult liste'!G36=\"\",\"\",'skjult liste'!G36)","v":""},{"$f":"IF('skjult liste'!H36=\"\",\"\",'skjult liste'!H36)","v":""},{"$f":"IF('skjult liste'!I36=\"\",\"\",'skjult liste'!I36)","v":""},{"$f":"IF('skjult liste'!J36=\"\",\"\",'skjult liste'!J36)","v":""},{"$f":"IF('skjult liste'!K36=\"\",\"\",'skjult liste'!K36)","v":""},{"$f":"IF('skjult liste'!L36=\"\",\"\",'skjult liste'!L36)","v":""},{"$f":"IF('skjult liste'!M36=\"\",\"\",'skjult liste'!M36)","v":""},{"$f":"IF('skjult liste'!N36=\"\",\"\",'skjult liste'!N36)","v":""},{"$f":"IF('skjult liste'!O36=\"\",\"\",'skjult liste'!O36)","v":""},{"$f":"IF('skjult liste'!P36=\"\",\"\",'skjult liste'!P36)","v":""},{"$f":"IF('skjult liste'!Q36=\"\",\"\",'skjult liste'!Q36)","v":""},{"$f":"IF('skjult liste'!R36=\"\",\"\",'skjult liste'!R36)","v":""},{"$f":"IF('skjult liste'!S36=\"\",\"\",'skjult liste'!S36)","v":""},{"$f":"IF('skjult liste'!T36=\"\",\"\",'skjult liste'!T36)","v":""}]
[null,{"$f":"IF('skjult liste'!B37=\"\",\"\",'skjult liste'!B37)","v":""},{"$f":"IF('skjult liste'!C37=\"\",\"\",'skjult liste'!C37)","v":""},{"$f":"IF('skjult liste'!D37=\"\",\"\",'skjult liste'!D37)","v":""},{"$f":"IF('skjult liste'!E37=\"\",\"\",'skjult liste'!E37)","v":""},{"$f":"IF('skjult liste'!F37=\"\",\"\",'skjult liste'!F37)","v":""},{"$f":"IF('skjult liste'!G37=\"\",\"\",'skjult liste'!G37)","v":""},{"$f":"IF('skjult liste'!H37=\"\",\"\",'skjult liste'!H37)","v":""},{"$f":"IF('skjult liste'!I37=\"\",\"\",'skjult liste'!I37)","v":""},{"$f":"IF('skjult liste'!J37=\"\",\"\",'skjult liste'!J37)","v":""},{"$f":"IF('skjult liste'!K37=\"\",\"\",'skjult liste'!K37)","v":""},{"$f":"IF('skjult liste'!L37=\"\",\"\",'skjult liste'!L37)","v":""},{"$f":"IF('skjult liste'!M37=\"\",\"\",'skjult liste'!M37)","v":""},{"$f":"IF('skjult liste'!N37=\"\",\"\",'skjult liste'!N37)","v":""},{"$f":"IF('skjult liste'!O37=\"\",\"\",'skjult liste'!O37)","v":""},{"$f":"IF('skjult liste'!P37=\"\",\"\",'skjult liste'!P37)","v":""},{"$f":"IF('skjult liste'!Q37=\"\",\"\",'skjult liste'!Q37)","v":""},{"$f":"IF('skjult liste'!R37=\"\",\"\",'skjult liste'!R37)","v":""},{"$f":"IF('skjult liste'!S37=\"\",\"\",'skjult liste'!S37)","v":""},{"$f":"IF('skjult liste'!T37=\"\",\"\",'skjult liste'!T37)","v":""}]
[null,{"$f":"IF('skjult liste'!B38=\"\",\"\",'skjult liste'!B38)","v":""},{"$f":"IF('skjult liste'!C38=\"\",\"\",'skjult liste'!C38)","v":""},{"$f":"IF('skjult liste'!D38=\"\",\"\",'skjult liste'!D38)","v":""},{"$f":"IF('skjult liste'!E38=\"\",\"\",'skjult liste'!E38)","v":""},{"$f":"IF('skjult liste'!F38=\"\",\"\",'skjult liste'!F38)","v":""},{"$f":"IF('skjult liste'!G38=\"\",\"\",'skjult liste'!G38)","v":""},{"$f":"IF('skjult liste'!H38=\"\",\"\",'skjult liste'!H38)","v":""},{"$f":"IF('skjult liste'!I38=\"\",\"\",'skjult liste'!I38)","v":""},{"$f":"IF('skjult liste'!J38=\"\",\"\",'skjult liste'!J38)","v":""},{"$f":"IF('skjult liste'!K38=\"\",\"\",'skjult liste'!K38)","v":""},{"$f":"IF('skjult liste'!L38=\"\",\"\",'skjult liste'!L38)","v":""},{"$f":"IF('skjult liste'!M38=\"\",\"\",'skjult liste'!M38)","v":""},{"$f":"IF('skjult liste'!N38=\"\",\"\",'skjult liste'!N38)","v":""},{"$f":"IF('skjult liste'!O38=\"\",\"\",'skjult liste'!O38)","v":""},{"$f":"IF('skjult liste'!P38=\"\",\"\",'skjult liste'!P38)","v":""},{"$f":"IF('skjult liste'!Q38=\"\",\"\",'skjult liste'!Q38)","v":""},{"$f":"IF('skjult liste'!R38=\"\",\"\",'skjult liste'!R38)","v":""},{"$f":"IF('skjult liste'!S38=\"\",\"\",'skjult liste'!S38)","v":""},{"$f":"IF('skjult liste'!T38=\"\",\"\",'skjult liste'!T38)","v":""}]
[null,{"$f":"IF('skjult liste'!B39=\"\",\"\",'skjult liste'!B39)","v":""},{"$f":"IF('skjult liste'!C39=\"\",\"\",'skjult liste'!C39)","v":""},{"$f":"IF('skjult liste'!D39=\"\",\"\",'skjult liste'!D39)","v":""},{"$f":"IF('skjult liste'!E39=\"\",\"\",'skjult liste'!E39)","v":""},{"$f":"IF('skjult liste'!F39=\"\",\"\",'skjult liste'!F39)","v":""},{"$f":"IF('skjult liste'!G39=\"\",\"\",'skjult liste'!G39)","v":""},{"$f":"IF('skjult liste'!H39=\"\",\"\",'skjult liste'!H39)","v":""},{"$f":"IF('skjult liste'!I39=\"\",\"\",'skjult liste'!I39)","v":""},{"$f":"IF('skjult liste'!J39=\"\",\"\",'skjult liste'!J39)","v":""},{"$f":"IF('skjult liste'!K39=\"\",\"\",'skjult liste'!K39)","v":""},{"$f":"IF('skjult liste'!L39=\"\",\"\",'skjult liste'!L39)","v":""},{"$f":"IF('skjult liste'!M39=\"\",\"\",'skjult liste'!M39)","v":""},{"$f":"IF('skjult liste'!N39=\"\",\"\",'skjult liste'!N39)","v":""},{"$f":"IF('skjult liste'!O39=\"\",\"\",'skjult liste'!O39)","v":""},{"$f":"IF('skjult liste'!P39=\"\",\"\",'skjult liste'!P39)","v":""},{"$f":"IF('skjult liste'!Q39=\"\",\"\",'skjult liste'!Q39)","v":""},{"$f":"IF('skjult liste'!R39=\"\",\"\",'skjult liste'!R39)","v":""},{"$f":"IF('skjult liste'!S39=\"\",\"\",'skjult liste'!S39)","v":""},{"$f":"IF('skjult liste'!T39=\"\",\"\",'skjult liste'!T39)","v":""}]
[null,{"$f":"IF('skjult liste'!B40=\"\",\"\",'skjult liste'!B40)","v":""},{"$f":"IF('skjult liste'!C40=\"\",\"\",'skjult liste'!C40)","v":""},{"$f":"IF('skjult liste'!D40=\"\",\"\",'skjult liste'!D40)","v":""},{"$f":"IF('skjult liste'!E40=\"\",\"\",'skjult liste'!E40)","v":""},{"$f":"IF('skjult liste'!F40=\"\",\"\",'skjult liste'!F40)","v":""},{"$f":"IF('skjult liste'!G40=\"\",\"\",'skjult liste'!G40)","v":""},{"$f":"IF('skjult liste'!H40=\"\",\"\",'skjult liste'!H40)","v":""},{"$f":"IF('skjult liste'!I40=\"\",\"\",'skjult liste'!I40)","v":""},{"$f":"IF('skjult liste'!J40=\"\",\"\",'skjult liste'!J40)","v":""},{"$f":"IF('skjult liste'!K40=\"\",\"\",'skjult liste'!K40)","v":""},{"$f":"IF('skjult liste'!L40=\"\",\"\",'skjult liste'!L40)","v":""},{"$f":"IF('skjult liste'!M40=\"\",\"\",'skjult liste'!M40)","v":""},{"$f":"IF('skjult liste'!N40=\"\",\"\",'skjult liste'!N40)","v":""},{"$f":"IF('skjult liste'!O40=\"\",\"\",'skjult liste'!O40)","v":""},{"$f":"IF('skjult liste'!P40=\"\",\"\",'skjult liste'!P40)","v":""},{"$f":"IF('skjult liste'!Q40=\"\",\"\",'skjult liste'!Q40)","v":""},{"$f":"IF('skjult liste'!R40=\"\",\"\",'skjult liste'!R40)","v":""},{"$f":"IF('skjult liste'!S40=\"\",\"\",'skjult liste'!S40)","v":""},{"$f":"IF('skjult liste'!T40=\"\",\"\",'skjult liste'!T40)","v":""}]
[null,{"$f":"IF('skjult liste'!B41=\"\",\"\",'skjult liste'!B41)","v":""},{"$f":"IF('skjult liste'!C41=\"\",\"\",'skjult liste'!C41)","v":""},{"$f":"IF('skjult liste'!D41=\"\",\"\",'skjult liste'!D41)","v":""},{"$f":"IF('skjult liste'!E41=\"\",\"\",'skjult liste'!E41)","v":""},{"$f":"IF('skjult liste'!F41=\"\",\"\",'skjult liste'!F41)","v":""},{"$f":"IF('skjult liste'!G41=\"\",\"\",'skjult liste'!G41)","v":""},{"$f":"IF('skjult liste'!H41=\"\",\"\",'skjult liste'!H41)","v":""},{"$f":"IF('skjult liste'!I41=\"\",\"\",'skjult liste'!I41)","v":""},{"$f":"IF('skjult liste'!J41=\"\",\"\",'skjult liste'!J41)","v":""},{"$f":"IF('skjult liste'!K41=\"\",\"\",'skjult liste'!K41)","v":""},{"$f":"IF('skjult liste'!L41=\"\",\"\",'skjult liste'!L41)","v":""},{"$f":"IF('skjult liste'!M41=\"\",\"\",'skjult liste'!M41)","v":""},{"$f":"IF('skjult liste'!N41=\"\",\"\",'skjult liste'!N41)","v":""},{"$f":"IF('skjult liste'!O41=\"\",\"\",'skjult liste'!O41)","v":""},{"$f":"IF('skjult liste'!P41=\"\",\"\",'skjult liste'!P41)","v":""},{"$f":"IF('skjult liste'!Q41=\"\",\"\",'skjult liste'!Q41)","v":""},{"$f":"IF('skjult liste'!R41=\"\",\"\",'skjult liste'!R41)","v":""},{"$f":"IF('skjult liste'!S41=\"\",\"\",'skjult liste'!S41)","v":""},{"$f":"IF('skjult liste'!T41=\"\",\"\",'skjult liste'!T41)","v":""}]
[null,{"$f":"IF('skjult liste'!B42=\"\",\"\",'skjult liste'!B42)","v":""},{"$f":"IF('skjult liste'!C42=\"\",\"\",'skjult liste'!C42)","v":""},{"$f":"IF('skjult liste'!D42=\"\",\"\",'skjult liste'!D42)","v":""},{"$f":"IF('skjult liste'!E42=\"\",\"\",'skjult liste'!E42)","v":""},{"$f":"IF('skjult liste'!F42=\"\",\"\",'skjult liste'!F42)","v":""},{"$f":"IF('skjult liste'!G42=\"\",\"\",'skjult liste'!G42)","v":""},{"$f":"IF('skjult liste'!H42=\"\",\"\",'skjult liste'!H42)","v":""},{"$f":"IF('skjult liste'!I42=\"\",\"\",'skjult liste'!I42)","v":""},{"$f":"IF('skjult liste'!J42=\"\",\"\",'skjult liste'!J42)","v":""},{"$f":"IF('skjult liste'!K42=\"\",\"\",'skjult liste'!K42)","v":""},{"$f":"IF('skjult liste'!L42=\"\",\"\",'skjult liste'!L42)","v":""},{"$f":"IF('skjult liste'!M42=\"\",\"\",'skjult liste'!M42)","v":""},{"$f":"IF('skjult liste'!N42=\"\",\"\",'skjult liste'!N42)","v":""},{"$f":"IF('skjult liste'!O42=\"\",\"\",'skjult liste'!O42)","v":""},{"$f":"IF('skjult liste'!P42=\"\",\"\",'skjult liste'!P42)","v":""},{"$f":"IF('skjult liste'!Q42=\"\",\"\",'skjult liste'!Q42)","v":""},{"$f":"IF('skjult liste'!R42=\"\",\"\",'skjult liste'!R42)","v":""},{"$f":"IF('skjult liste'!S42=\"\",\"\",'skjult liste'!S42)","v":""},{"$f":"IF('skjult liste'!T42=\"\",\"\",'skjult liste'!T42)","v":""}]
[null,{"$f":"IF('skjult liste'!B43=\"\",\"\",'skjult liste'!B43)","v":""},{"$f":"IF('skjult liste'!C43=\"\",\"\",'skjult liste'!C43)","v":""},{"$f":"IF('skjult liste'!D43=\"\",\"\",'skjult liste'!D43)","v":""},{"$f":"IF('skjult liste'!E43=\"\",\"\",'skjult liste'!E43)","v":""},{"$f":"IF('skjult liste'!F43=\"\",\"\",'skjult liste'!F43)","v":""},{"$f":"IF('skjult liste'!G43=\"\",\"\",'skjult liste'!G43)","v":""},{"$f":"IF('skjult liste'!H43=\"\",\"\",'skjult liste'!H43)","v":""},{"$f":"IF('skjult liste'!I43=\"\",\"\",'skjult liste'!I43)","v":""},{"$f":"IF('skjult liste'!J43=\"\",\"\",'skjult liste'!J43)","v":""},{"$f":"IF('skjult liste'!K43=\"\",\"\",'skjult liste'!K43)","v":""},{"$f":"IF('skjult liste'!L43=\"\",\"\",'skjult liste'!L43)","v":""},{"$f":"IF('skjult liste'!M43=\"\",\"\",'skjult liste'!M43)","v":""},{"$f":"IF('skjult liste'!N43=\"\",\"\",'skjult liste'!N43)","v":""},{"$f":"IF('skjult liste'!O43=\"\",\"\",'skjult liste'!O43)","v":""},{"$f":"IF('skjult liste'!P43=\"\",\"\",'skjult liste'!P43)","v":""},{"$f":"IF('skjult liste'!Q43=\"\",\"\",'skjult liste'!Q43)","v":""},{"$f":"IF('skjult liste'!R43=\"\",\"\",'skjult liste'!R43)","v":""},{"$f":"IF('skjult liste'!S43=\"\",\"\",'skjult liste'!S43)","v":""},{"$f":"IF('skjult liste'!T43=\"\",\"\",'skjult liste'!T43)","v":""}]
[null,{"$f":"IF('skjult liste'!B44=\"\",\"\",'skjult liste'!B44)","v":""},{"$f":"IF('skjult liste'!C44=\"\",\"\",'skjult liste'!C44)","v":""},{"$f":"IF('skjult liste'!D44=\"\",\"\",'skjult liste'!D44)","v":""},{"$f":"IF('skjult liste'!E44=\"\",\"\",'skjult liste'!E44)","v":""},{"$f":"IF('skjult liste'!F44=\"\",\"\",'skjult liste'!F44)","v":""},{"$f":"IF('skjult liste'!G44=\"\",\"\",'skjult liste'!G44)","v":""},{"$f":"IF('skjult liste'!H44=\"\",\"\",'skjult liste'!H44)","v":""},{"$f":"IF('skjult liste'!I44=\"\",\"\",'skjult liste'!I44)","v":""},{"$f":"IF('skjult liste'!J44=\"\",\"\",'skjult liste'!J44)","v":""},{"$f":"IF('skjult liste'!K44=\"\",\"\",'skjult liste'!K44)","v":""},{"$f":"IF('skjult liste'!L44=\"\",\"\",'skjult liste'!L44)","v":""},{"$f":"IF('skjult liste'!M44=\"\",\"\",'skjult liste'!M44)","v":""},{"$f":"IF('skjult liste'!N44=\"\",\"\",'skjult liste'!N44)","v":""},{"$f":"IF('skjult liste'!O44=\"\",\"\",'skjult liste'!O44)","v":""},{"$f":"IF('skjult liste'!P44=\"\",\"\",'skjult liste'!P44)","v":""},{"$f":"IF('skjult liste'!Q44=\"\",\"\",'skjult liste'!Q44)","v":""},{"$f":"IF('skjult liste'!R44=\"\",\"\",'skjult liste'!R44)","v":""},{"$f":"IF('skjult liste'!S44=\"\",\"\",'skjult liste'!S44)","v":""},{"$f":"IF('skjult liste'!T44=\"\",\"\",'skjult liste'!T44)","v":""}]
[null,{"$f":"IF('skjult liste'!B45=\"\",\"\",'skjult liste'!B45)","v":""},{"$f":"IF('skjult liste'!C45=\"\",\"\",'skjult liste'!C45)","v":""},{"$f":"IF('skjult liste'!D45=\"\",\"\",'skjult liste'!D45)","v":""},{"$f":"IF('skjult liste'!E45=\"\",\"\",'skjult liste'!E45)","v":""},{"$f":"IF('skjult liste'!F45=\"\",\"\",'skjult liste'!F45)","v":""},{"$f":"IF('skjult liste'!G45=\"\",\"\",'skjult liste'!G45)","v":""},{"$f":"IF('skjult liste'!H45=\"\",\"\",'skjult liste'!H45)","v":""},{"$f":"IF('skjult liste'!I45=\"\",\"\",'skjult liste'!I45)","v":""},{"$f":"IF('skjult liste'!J45=\"\",\"\",'skjult liste'!J45)","v":""},{"$f":"IF('skjult liste'!K45=\"\",\"\",'skjult liste'!K45)","v":""},{"$f":"IF('skjult liste'!L45=\"\",\"\",'skjult liste'!L45)","v":""},{"$f":"IF('skjult liste'!M45=\"\",\"\",'skjult liste'!M45)","v":""},{"$f":"IF('skjult liste'!N45=\"\",\"\",'skjult liste'!N45)","v":""},{"$f":"IF('skjult liste'!O45=\"\",\"\",'skjult liste'!O45)","v":""},{"$f":"IF('skjult liste'!P45=\"\",\"\",'skjult liste'!P45)","v":""},{"$f":"IF('skjult liste'!Q45=\"\",\"\",'skjult liste'!Q45)","v":""},{"$f":"IF('skjult liste'!R45=\"\",\"\",'skjult liste'!R45)","v":""},{"$f":"IF('skjult liste'!S45=\"\",\"\",'skjult liste'!S45)","v":""},{"$f":"IF('skjult liste'!T45=\"\",\"\",'skjult liste'!T45)","v":""}]
[null,{"$f":"IF('skjult liste'!B46=\"\",\"\",'skjult liste'!B46)","v":""},{"$f":"IF('skjult liste'!C46=\"\",\"\",'skjult liste'!C46)","v":""},{"$f":"IF('skjult liste'!D46=\"\",\"\",'skjult liste'!D46)","v":""},{"$f":"IF('skjult liste'!E46=\"\",\"\",'skjult liste'!E46)","v":""},{"$f":"IF('skjult liste'!F46=\"\",\"\",'skjult liste'!F46)","v":""},{"$f":"IF('skjult liste'!G46=\"\",\"\",'skjult liste'!G46)","v":""},{"$f":"IF('skjult liste'!H46=\"\",\"\",'skjult liste'!H46)","v":""},{"$f":"IF('skjult liste'!I46=\"\",\"\",'skjult liste'!I46)","v":""},{"$f":"IF('skjult liste'!J46=\"\",\"\",'skjult liste'!J46)","v":""},{"$f":"IF('skjult liste'!K46=\"\",\"\",'skjult liste'!K46)","v":""},{"$f":"IF('skjult liste'!L46=\"\",\"\",'skjult liste'!L46)","v":""},{"$f":"IF('skjult liste'!M46=\"\",\"\",'skjult liste'!M46)","v":""},{"$f":"IF('skjult liste'!N46=\"\",\"\",'skjult liste'!N46)","v":""},{"$f":"IF('skjult liste'!O46=\"\",\"\",'skjult liste'!O46)","v":""},{"$f":"IF('skjult liste'!P46=\"\",\"\",'skjult liste'!P46)","v":""},{"$f":"IF('skjult liste'!Q46=\"\",\"\",'skjult liste'!Q46)","v":""},{"$f":"IF('skjult liste'!R46=\"\",\"\",'skjult liste'!R46)","v":""},{"$f":"IF('skjult liste'!S46=\"\",\"\",'skjult liste'!S46)","v":""},{"$f":"IF('skjult liste'!T46=\"\",\"\",'skjult liste'!T46)","v":""}]
[null,{"$f":"IF('skjult liste'!B47=\"\",\"\",'skjult liste'!B47)","v":""},{"$f":"IF('skjult liste'!C47=\"\",\"\",'skjult liste'!C47)","v":""},{"$f":"IF('skjult liste'!D47=\"\",\"\",'skjult liste'!D47)","v":""},{"$f":"IF('skjult liste'!E47=\"\",\"\",'skjult liste'!E47)","v":""},{"$f":"IF('skjult liste'!F47=\"\",\"\",'skjult liste'!F47)","v":""},{"$f":"IF('skjult liste'!G47=\"\",\"\",'skjult liste'!G47)","v":""},{"$f":"IF('skjult liste'!H47=\"\",\"\",'skjult liste'!H47)","v":""},{"$f":"IF('skjult liste'!I47=\"\",\"\",'skjult liste'!I47)","v":""},{"$f":"IF('skjult liste'!J47=\"\",\"\",'skjult liste'!J47)","v":""},{"$f":"IF('skjult liste'!K47=\"\",\"\",'skjult liste'!K47)","v":""},{"$f":"IF('skjult liste'!L47=\"\",\"\",'skjult liste'!L47)","v":""},{"$f":"IF('skjult liste'!M47=\"\",\"\",'skjult liste'!M47)","v":""},{"$f":"IF('skjult liste'!N47=\"\",\"\",'skjult liste'!N47)","v":""},{"$f":"IF('skjult liste'!O47=\"\",\"\",'skjult liste'!O47)","v":""},{"$f":"IF('skjult liste'!P47=\"\",\"\",'skjult liste'!P47)","v":""},{"$f":"IF('skjult liste'!Q47=\"\",\"\",'skjult liste'!Q47)","v":""},{"$f":"IF('skjult liste'!R47=\"\",\"\",'skjult liste'!R47)","v":""},{"$f":"IF('skjult liste'!S47=\"\",\"\",'skjult liste'!S47)","v":""},{"$f":"IF('skjult liste'!T47=\"\",\"\",'skjult liste'!T47)","v":""}]
[null,{"$f":"IF('skjult liste'!B48=\"\",\"\",'skjult liste'!B48)","v":""},{"$f":"IF('skjult liste'!C48=\"\",\"\",'skjult liste'!C48)","v":""},{"$f":"IF('skjult liste'!D48=\"\",\"\",'skjult liste'!D48)","v":""},{"$f":"IF('skjult liste'!E48=\"\",\"\",'skjult liste'!E48)","v":""},{"$f":"IF('skjult liste'!F48=\"\",\"\",'skjult liste'!F48)","v":""},{"$f":"IF('skjult liste'!G48=\"\",\"\",'skjult liste'!G48)","v":""},{"$f":"IF('skjult liste'!H48=\"\",\"\",'skjult liste'!H48)","v":""},{"$f":"IF('skjult liste'!I48=\"\",\"\",'skjult liste'!I48)","v":""},{"$f":"IF('skjult liste'!J48=\"\",\"\",'skjult liste'!J48)","v":""},{"$f":"IF('skjult liste'!K48=\"\",\"\",'skjult liste'!K48)","v":""},{"$f":"IF('skjult liste'!L48=\"\",\"\",'skjult liste'!L48)","v":""},{"$f":"IF('skjult liste'!M48=\"\",\"\",'skjult liste'!M48)","v":""},{"$f":"IF('skjult liste'!N48=\"\",\"\",'skjult liste'!N48)","v":""},{"$f":"IF('skjult liste'!O48=\"\",\"\",'skjult liste'!O48)","v":""},{"$f":"IF('skjult liste'!P48=\"\",\"\",'skjult liste'!P48)","v":""},{"$f":"IF('skjult liste'!Q48=\"\",\"\",'skjult liste'!Q48)","v":""},{"$f":"IF('skjult liste'!R48=\"\",\"\",'skjult liste'!R48)","v":""},{"$f":"IF('skjult liste'!S48=\"\",\"\",'skjult liste'!S48)","v":""},{"$f":"IF('skjult liste'!T48=\"\",\"\",'skjult liste'!T48)","v":""}]
[null,{"$f":"IF('skjult liste'!B49=\"\",\"\",'skjult liste'!B49)","v":""},{"$f":"IF('skjult liste'!C49=\"\",\"\",'skjult liste'!C49)","v":""},{"$f":"IF('skjult liste'!D49=\"\",\"\",'skjult liste'!D49)","v":""},{"$f":"IF('skjult liste'!E49=\"\",\"\",'skjult liste'!E49)","v":""},{"$f":"IF('skjult liste'!F49=\"\",\"\",'skjult liste'!F49)","v":""},{"$f":"IF('skjult liste'!G49=\"\",\"\",'skjult liste'!G49)","v":""},{"$f":"IF('skjult liste'!H49=\"\",\"\",'skjult liste'!H49)","v":""},{"$f":"IF('skjult liste'!I49=\"\",\"\",'skjult liste'!I49)","v":""},{"$f":"IF('skjult liste'!J49=\"\",\"\",'skjult liste'!J49)","v":""},{"$f":"IF('skjult liste'!K49=\"\",\"\",'skjult liste'!K49)","v":""},{"$f":"IF('skjult liste'!L49=\"\",\"\",'skjult liste'!L49)","v":""},{"$f":"IF('skjult liste'!M49=\"\",\"\",'skjult liste'!M49)","v":""},{"$f":"IF('skjult liste'!N49=\"\",\"\",'skjult liste'!N49)","v":""},{"$f":"IF('skjult liste'!O49=\"\",\"\",'skjult liste'!O49)","v":""},{"$f":"IF('skjult liste'!P49=\"\",\"\",'skjult liste'!P49)","v":""},{"$f":"IF('skjult liste'!Q49=\"\",\"\",'skjult liste'!Q49)","v":""},{"$f":"IF('skjult liste'!R49=\"\",\"\",'skjult liste'!R49)","v":""},{"$f":"IF('skjult liste'!S49=\"\",\"\",'skjult liste'!S49)","v":""},{"$f":"IF('skjult liste'!T49=\"\",\"\",'skjult liste'!T49)","v":""}]
[null,{"$f":"IF('skjult liste'!B50=\"\",\"\",'skjult liste'!B50)","v":""},{"$f":"IF('skjult liste'!C50=\"\",\"\",'skjult liste'!C50)","v":""},{"$f":"IF('skjult liste'!D50=\"\",\"\",'skjult liste'!D50)","v":""},{"$f":"IF('skjult liste'!E50=\"\",\"\",'skjult liste'!E50)","v":""},{"$f":"IF('skjult liste'!F50=\"\",\"\",'skjult liste'!F50)","v":""},{"$f":"IF('skjult liste'!G50=\"\",\"\",'skjult liste'!G50)","v":""},{"$f":"IF('skjult liste'!H50=\"\",\"\",'skjult liste'!H50)","v":""},{"$f":"IF('skjult liste'!I50=\"\",\"\",'skjult liste'!I50)","v":""},{"$f":"IF('skjult liste'!J50=\"\",\"\",'skjult liste'!J50)","v":""},{"$f":"IF('skjult liste'!K50=\"\",\"\",'skjult liste'!K50)","v":""},{"$f":"IF('skjult liste'!L50=\"\",\"\",'skjult liste'!L50)","v":""},{"$f":"IF('skjult liste'!M50=\"\",\"\",'skjult liste'!M50)","v":""},{"$f":"IF('skjult liste'!N50=\"\",\"\",'skjult liste'!N50)","v":""},{"$f":"IF('skjult liste'!O50=\"\",\"\",'skjult liste'!O50)","v":""},{"$f":"IF('skjult liste'!P50=\"\",\"\",'skjult liste'!P50)","v":""},{"$f":"IF('skjult liste'!Q50=\"\",\"\",'skjult liste'!Q50)","v":""},{"$f":"IF('skjult liste'!R50=\"\",\"\",'skjult liste'!R50)","v":""},{"$f":"IF('skjult liste'!S50=\"\",\"\",'skjult liste'!S50)","v":""},{"$f":"IF('skjult liste'!T50=\"\",\"\",'skjult liste'!T50)","v":""}]

{"sheet":"tekst","index":10,"n_rows":131,"n_cols":5,"rows_kept":131,"cut":false,"hidden":true,"merged":[]}
["Tekstliste lenket til skjermbilde","svensk","engelsk"]
["Lyddempervalg 5.0","Ljuddämparval 5.0","Attenuator selection 5.0"]
["Anslutningsform","Typ av anslutning:","Connection type"]
["Sirkulær","Cirkulär","Circular"]
["Rektangulær","Rektangulär","Rectangular"]
["Bredde [mm]","Bredd","Width"]
["Høyde [mm]","Höjd","Height"]
["Lengde [mm]","Längd","Length"]
["Anslutningsdiameter","Anslutningsdiameter","Connection diameter"]
["Utvendig form","Tvärsnitt","Shape"]
["Luftmengde","Flöde","Volume flow"]
["Maksimalt trykktap","Maximalt tryckfall","Max. pressure loss"]
["Trykktap","Tryckfall:","Pressure loss:"]
["Lyddempning:","Ljuddämpning:","Insertion loss:"]
["Dempere funnet:","Funna dämpare: ","Dampers found: "]
[" = valgfri utfylling","Ej obligatorisk uppgift"," = not mandatory"]
["Valgt lyddemper:","Vald ljuddämpare:","Chosen attenuator:"]
["Lydkrav etter demper","Ljudkrav efter dämpare:","According to N level"]
["Dempebehov","Dämpbehov","Requirement:"]
["Toleranse:","Tollerans","Tolerance"]
["Tilleggsdempning:","Extra dämpmaterial:","Additional attenuation"]
[" = må fylles ut","Måste anges"," = input data"]
["Kopier data","Kopiera data","Copy data"]
["Lyddemperkode","Ljuddämparkod","Attenuator code"]
["Trykktap","Tryckfall","Pressure loss"]
["Lyddempning [dB]","Ljuddämpning (dB)","Insertion loss [dB]"]
["Lp","Lp","Lp"]
["Lengde","Längd","Length"]
["Antall lyddempere i serie:","Antal ljuddämpare i serie:","Number of attenuators "]
["Utviklet av:","Utvecklat av:","Developed by"]
["Antall","Antal","Number"]
["Søk etter:","Sök efter:","Search for:"]
["Dato:","Datum:","Date:"]
["Dempere som oppfyller kravene","Dämpare vilka uppfyller kraven","Attenuators fulfilling requirments"]
[]
["Høyde","Höjd","Height"]
["Bredde","Bredd","Width"]
["Sortér etter:","Sortera efter:","Sort by:"]
["Programmet kan kjøres med Microsoft ® Excel 97 SR-1 eller nyere.","Programmet kan köras med Microsoft Excel 97 SR-1 eller nyare","Recommended MS Exel 97 SR-1 or later version"]
["Klikk \"U/I\"","Klikka \"U/I\"","Klick \"U/I\""]
[null," "," "]
[null," "," "]
[null," "," "]
[null," "," "]
[null," "," "]
[null," "," "]
[null," "," "]
["Prosjekt:","Projekt:","Project:"]
["System:","System:","System:"]
["Anslutningsform:","Anslutningsform:","Connection type:"]
["Anslutningsdiameter:","Anslutningsdiameter:","Connection diameter:"]
["Maksimal bredde:","Maximal bredd:","Max width:"]
["Maksimal høyde:","Maximal höjd:","Max height:"]
["Maksimal lengde:","Maximalt längd:","Length"]
["Maksimalt trykktap:","Maximalt tryckfall:","Max pressure loss:"]
["Luftmengde:","Flöde:","Air flow rate:"]
["Dempningskrav:","Dämpningskrav:","Attenuation requirement:"]
["Resultatliste sortert etter trykktap:","Resultatlista sorterad efter tryckfall:","Resultatlista sorterad efter tryckfall:"]
["Resultatliste sortert etter lydtrykknivå:","Resultatlista sorterad efter ljudtryck:","Resultatlista sorterad efter ljudtryck:"]
["Viftestøy:","Fläktljud:","Fan noise:"]
["Krav:","Krav:","Requirement:"]
["Lydeffektnivå etter demper:","Ljudeffektsnivå efter dämpare:","Resulting sound power level, Lw:"]
[]
[]
["Trykktapsdata gjelder vist strømningsretning","Trycktap er given for visad flödesriktning.","Pressure loss is given for shown air flow direction"]
["Demping for LKK-V er kun indikative data","För LKK-V anges inte nogranne data.","For LKK-V insertion loss is indicative data only"]
["Kopiér bilde","Kopiera bild","Copy picture"]
["Kopiér tekst","Kopiera text","Copy text"]
["Kopiér bilde (side)","Kopiera bild (sida)","Copy picture (page)"]
[]
["Dato","Datum","Date"]
["Tid","Tid","Time"]
["Anslutningsform","Anslutningsform","Connection type"]
["Valgfri tekst","Valfri text","Optional text"]
["Legg til liste","överför till lista","Add to list"]
["Fjern siste","Stryka ut sista","Remove last"]
["Tøm liste","Rensa lista","Clear list"]
["Vis liste","Visa lista","View list"]
["Ulenkede tekstlister"]
[null,null,null,"finnes i celleformler"]
[null,null,null,"fra","til"]
["sirkulær",null,null,"b2"]
["rektangulær",null,null,"b2"]
["ikke gyldig",null,null,"b2"]
[]
[]
[]
[null,null,null,"finnes i betinget formatering for celle"]
[null,null,null,"fra","til"]
["Bredde:",null,null,"b3","c4"]
["Anslutningsdiameter:",null,null,"b3","c4"]
["Bredde:",null,null,"b9","c9"]
["Anslutningsdiameter:",null,null,"b9","c9"]
[]
[null,null,null,"finnes i validering"]
[null,null,null,"fra","til"]
["Ugyldig verdi",null,null,"b4","c4"]
["Sirkulær"]
["Rektangulær"]
["Maksimalt trykktap må være minst 1 Pa"]
["Det finnes ikke lyddempere i denne dimensjonen"]
["Tillatt avvik fra krav i ett eller flere oktavbånd [dB]",null,null,"g7"]
["Dempning fra lyddemper til rom, inkl. dempning i ventil",null,null,"g6","n6"]
[]
[null,null,null,"finnes i knapper"]
[]
["Dempebehov [dB]"]
["Sirkulær"]
["Rektangulær"]
["Antall lyddempere i serie"]
["Lukk"]
["Fjern alt"]
["Forenklet beregning av A-veid lydtrykknivå i rom"]
["Sorter etter"]
["Stor liste"]
["Liten liste"]
["Tilbake til"]
[]
["Angi viftestøy"]
["Lydtrykknivå"]
["Trykktap"]
["Liste"]
["Valgt demper"]
[null,null,null,"finnes i merknader"]
[null,null,null,"celle"]
[]
[]
[]
[]
["Edit 31.10.2017 av VHT"]
["Vis strektegning"]

{"sheet":"datagrunnlag","index":11,"n_rows":184,"n_cols":37,"rows_kept":184,"cut":false,"hidden":true,"merged":[]}
[]
["type","anslutning","dim","bredde","høyde","form","lengde","kode","lyddempning",null,null,null,null,null,null,null,"Trykktapskoeffisient",null,"lyddempning",null,null,null,null,null,null,null,"lyddempning",null,null,null,null,null,null,null,"Trykktapskoeffisient"]
[null,null,null,"LKK:",null,null,null,null,63,125,250,500,"1k","2k","4k","8k","k",null,63,125,250,500,"1k","2k","4k","8k",63,125,250,500,"1k","2k","4k","8k","k"]
[null,null,null,"min B","maksB",null,null,null,"standard rett uførelse",null,null,null,null,null,null,null,null,null,"Vinkelutførelse",null,null,null,null,null,null,null,"Tillegg for vinkelbein"]
[]
[]
[]
[]
[]
[]
[]
[]
[]
[]
[]
[]
["LSR"]
["LSR"]
["LSR"]
["LSR"]
["LSR"]
["LSR"]
["LSR"]
["LSR"]
["LSR"]
["LSR"]
["LSR"]
["LSR"]
["LSR"]
["LSR"]
["LSR"]
["LSR"]
["LSR"]
["LSR"]
["LEV","s",100,null,null,"s",500,"LEV-100-500",4.9472982351298516,13.333590198739353,17.345881708147957,27.401013997925425,41.523440292573781,42.825648997135907,33.083953417301856,15.836880517573309,7.2600430621751018E-3," Pa=k*(l/s)^2"]
["LEV","s",125,null,null,"s",500,"LEV-125-500",2.3780006329788943,7.4145219092810075,10.304088486309011,22.127676136097811,35.693798026045933,33.448225624652594,21.543455765875255,7.5948080537265561,2.2819342559587674E-3," Pa=k*(l/s)^2"]
["LEV","s",160,null,null,"s",500,"LEV-160-500",0.93502825671579248,5.4539707896198699,8.5863423507747711,18.599150319406672,29.898765348918609,25.516813709704849,13.794675527313432,5.639034857628177,7.7530621957146151E-4," Pa=k*(l/s)^2"]
["LEV","s",200,null,null,"s",500,"LEV-200-500",1,4.2585836655154523,6.7417510042569981,14.905331855371312,22.834738886602338,17.209247213464693,8.6479285100991881,4.4076158502485256,2.2604056443748357E-4," Pa=k*(l/s)^2"]
["LEV","s",250,null,null,"s",500,"LEV-250-500",0.59693042895748072,3.2023566059728519,6.1472500578564038,13.237605229635632,18.520667688567048,11.75057818525972,5.9377280940068244,2.9150650753915057,1.0320966951470556E-4," Pa=k*(l/s)^2"]
["LEV","s",315,null,null,"s",500,"LEV-315-500",1.5695024859839983,1.5224204953928737,5.1056925545533485,11.028208668037946,13.110954372291415,6.6203958940370642,3.9660734252275636,3.7906259967855078,2.8302754643223959E-5," Pa=k*(l/s)^2"]
["LEV","s",400,null,null,"s",500,"LEV-400-500",1,0.88340937307216361,4.2546560423310034,9.7282086680379489,8.623449887998051,4.402981073242449,2.2595583205450884,2.6323047869470551,7.9999999999999996E-6," Pa=k*(l/s)^2"]
["LEV","s",100,null,null,"s",1000,"LEV-100-1000",6.1735670225749182,16.320618714807935,27.432608527349423,43.345376000144071,50,50,40.480230657040899,25.789836155373436,9.0474226221045895E-3," Pa=k*(l/s)^2"]
["LEV","s",125,null,null,"s",1000,"LEV-125-1000",1,11.01047317797299,19.485211578826217,37.715252559069363,50,50,36.222874054117568,14.214180377235856,2.6451689637323641E-3," Pa=k*(l/s)^2"]
["LEV","s",160,null,null,"s",1000,"LEV-160-1000",1,7.7681553545563506,14.549742732091627,33.132748797184291,50,48.982304950778051,23.588867092679344,9.6850161798852969,1.0796861960310905E-3," Pa=k*(l/s)^2"]
["LEV","s",200,null,null,"s",1000,"LEV-200-1000",1,7.7873160525607101,12.709791645043801,28.078904655458963,45.689607789663178,34.789226359256638,15.304369136708493,7.6695024859839993,2.6878112684983581E-4," Pa=k*(l/s)^2"]
["LEV","s",250,null,null,"s",1000,"LEV-250-1000",1,5.2190102523621427,10.857490643598952,24.197847800539961,41.35591377948419,25.880935832943027,9.5086333894036343,4.7010255486907511,1.1843146599758212E-4," Pa=k*(l/s)^2"]
["LEV","s",315,null,null,"s",1000,"LEV-315-1000",1.2269940644402342,2.7736996850555466,9.4497239022304012,20.922238198912495,27.605087425749005,14.353588707399034,6.6764466264325542,5.4212700324621128,3.046948469256975E-5," Pa=k*(l/s)^2"]
["LEV","s",400,null,null,"s",1000,"LEV-400-1000",3.1157717836689809,2.4660716718543201,7.8186516472398058,17.980848899911678,18.213022525876259,8.3484603855642696,4.6970321125762036,4.4986817204788663,1.0000000000000001E-5," Pa=k*(l/s)^2"]
["LEV","s",500,null,null,"s",1000,"LEV-500-1000",3,2,6,11,10,7,5,5,4.5000000000000001E-6," Pa=k*(l/s)^2"]
["LEV","s",630,null,null,"s",1000,"LEV-630-1000",1,2,4,11,9,5,4,4,1.7799999999999999E-6," Pa=k*(l/s)^2"]
["LKR","s",100,null,null,"r",300,"LKR-100-300",1,3.2763529504902267,5.2168607572207479,9.3851647636652178,12.70929221933384,19.915552376369906,22.978444820844146,9.6354575422799584,6.0000000000000001E-3," Pa=k*(l/s)^2",1,1,5.8384288321783986,7.912206001569853,19.721738729871237,25.827128037874139,22.875702634084814,19.411111364613483,1,1,5.8384288321783986,7.912206001569853,19.721738729871237,25.827128037874139,22.875702634084814,19.411111364613483,2.8686209417687195E-2]
["LKR","s",125,null,null,"r",300,"LKR-125-300",1,5.8291414044463083,5.0412754225770406,10.03331591953334,14.067565243952531,21.522214105622936,18.125080295995861,9.6682572868970329,2.4354851269797815E-3," Pa=k*(l/s)^2",1.8648299984806345,5.1234532708925222,7.2645373686531727,11.290109843554664,20.927551733541566,23.923372017460956,21.769504123620273,21.425506489695621,1.8648299984806345,5.1234532708925222,7.2645373686531727,11.290109843554664,20.927551733541566,23.923372017460956,21.769504123620273,21.425506489695621,1.0908503785894558E-2]
["LKR","s",160,null,null,"r",300,"LKR-160-300",2,5.8683772201107516,5.2688708440608432,8.4844523899174558,15.560860310410533,21.155277566918976,13.736774952143982,8.5086801090612063,6.5000000000000008E-4," Pa=k*(l/s)^2",0.8613028885467735,3.6677951167166691,2.8416073346700976,11.933266969179909,20.037642570579209,18.609539399079619,18.006104041163262,16.270733231205785,0.8613028885467735,3.6677951167166691,2.8416073346700976,11.933266969179909,20.037642570579209,18.609539399079619,18.006104041163262,16.270733231205785,4.8774942828200196E-3]
["LKR","s",200,null,null,"r",300,"LKR-200-300",1,1.8947050487046755,3.4315491619456697,6.9691993380650628,14.072266959683715,14.285966241469534,10.435858061558484,8.4586384957641343,1.7888890493882397E-4," Pa=k*(l/s)^2",3.7106415216721533,4.4338736400456984,3.5383802644392386,13.380123296141042,15.003257026682622,13.534367310390106,13.597388441046352,13.320222542094314,3.7106415216721533,4.4338736400456984,3.5383802644392386,13.380123296141042,15.003257026682622,13.534367310390106,13.597388441046352,13.320222542094314,1.2522223345717677E-3]
["LKR","s",250,null,null,"r",300,"LKR-250-300",2,3.3329763779068267,5.9380530268043952,9.4272232551131392,15.37623549069033,12.789341356222275,9.7724128071640788,8.357169695280259,1.5306122448979591E-4," Pa=k*(l/s)^2",3.1566014959244173,0.86677106201958298,5.5424966813453382,15.15084319328963,13.068865323111174,12.126168897880763,11.287728216843821,10.850280940026948,3.1566014959244173,0.86677106201958298,5.5424966813453382,15.15084319328963,13.068865323111174,12.126168897880763,11.287728216843821,10.850280940026948,1.041870064362477E-3]
["LKR","s",100,null,null,"r",600,"LKR-100-600",2,7.2943349252588607,10.044807799817315,16.561804284527845,22.706360657359767,34.492332078197762,43.488095913618679,20.375297210587334,7.4999999999999997E-3," Pa=k*(l/s)^2",1,4.6029895529367293,8.6864588818325892,13.809096144011097,31.497664549518845,42.480777258841087,45.19603788927143,40,1,4.6029895529367293,8.6864588818325892,13.809096144011097,31.497664549518845,42.480777258841087,45.19603788927143,40,2.9831526633369364E-2]
["LKR","s",125,null,null,"r",600,"LKR-125-600",2.3899656380478298,8.6406572869326972,10.32039878566539,17.901745403626354,26.112160970426661,38.609170296402702,35.660323138952243,17.218556422884721,3.0142968110334497E-3," Pa=k*(l/s)^2",1,10.304090965269703,11.78361229686992,18.937602098691009,34.308751273598858,44.330296210279592,42.041651672545285,36,1,10.304090965269703,11.78361229686992,18.937602098691009,34.308751273598858,44.330296210279592,42.041651672545285,36,1.0864647855333722E-2]
["LKR","s",160,null,null,"r",600,"LKR-160-600",2.9,8.6099654469001674,10.34411017537305,16.459948373469679,27.789958581511979,44.930297721269881,25.636499283338683,15.115921606274508,6.7909731660694133E-4," Pa=k*(l/s)^2",3.0371777766032864,11.763758461256817,7.4160205029741508,19.96699785874419,35.107272346617897,45.782515201966412,35.510719330337317,28.727478792590059,3.0371777766032864,11.763758461256817,7.4160205029741508,19.96699785874419,35.107272346617897,45.782515201966412,35.510719330337317,28.727478792590059,4.0751020252575831E-3]
["LKR","s",200,null,null,"r",600,"LKR-200-600",3.3644973909096225,4.323453270892518,7.0371638299846335,13.274918548517087,23.887807212732678,33.823085480160834,17.492388572186492,11.856084109307625,2.1645555014455808E-4," Pa=k*(l/s)^2",8.1393591884939482,5.259498598543221,7.1508446010450166,19.074723506348082,28.811828991482706,32.707057768212692,27.329648062126463,24.31343353688753,8.1393591884939482,5.259498598543221,7.1508446010450166,19.074723506348082,28.811828991482706,32.707057768212692,27.329648062126463,24.31343353688753,1.4151853284577521E-3]
["LKR","s",250,null,null,"r",600,"LKR-250-600",2,6.5970252815701089,10.545874084820586,16.532815378628747,27.136546497718484,27.395063588842202,16.628823917128418,11.941341467408266,1.7142857142857143E-4," Pa=k*(l/s)^2",7.2530203998516409,3.931219660032093,10.332465053821831,22.992475596773794,30.852836425262808,27.863892920226505,24.383440006823946,22.275975129739777,7.2530203998516409,3.931219660032093,10.332465053821831,22.992475596773794,30.852836425262808,27.863892920226505,24.383440006823946,22.275975129739777,1.1544444954901642E-3]
["LKR","s",315,null,null,"r",600,"LKR-315-600",1,1.8627420353142639,7.2230278804173498,13.194755965719997,24.983501740049554,39.520879515362104,27.143676172324778,18.354129002097068,8.177561696580964E-5," Pa=k*(l/s)^2",9.4641383851968008,1.369502485984003,8.7244663028079028,21.051728819791684,28.114418286974274,37.583722168222529,30.248457942566539,27.27542327415502,9.4641383851968008,1.369502485984003,8.7244663028079028,21.051728819791684,28.114418286974274,37.583722168222529,30.248457942566539,27.27542327415502,3.8052170737786861E-4]
["LKR","s",400,null,null,"r",600,"LKR-400-600",2,4.6423187217804687,7.256851738905655,12.140821261434731,24.310672354514594,29.651683056209496,18.255479273182139,11.285040924894993,3.9588932472692331E-5," Pa=k*(l/s)^2",3.5694381073109218,3.2700885884424142,12.348777963184656,17.738052708159135,27.000782495054935,30.734367310390112,25.65834711835506,22.922169194054302,3.5694381073109218,3.2700885884424142,12.348777963184656,17.738052708159135,27.000782495054935,30.734367310390112,25.65834711835506,22.922169194054302,1.3950729446576726E-4]
["LKR","s",500,null,null,"r",600,"LKR-500-600",2,4.6880959136186746,8.7047829279992026,15.995551862909398,26.007029940808589,26.258200019320178,18.62398535908191,10.88083294497247,2.5555555555555554E-5," Pa=k*(l/s)^2",2.7751626093622352,4.4781889627352314,9.229127400506643,19.924675793851478,31.545107991408106,28.123931033847885,25.204416180695425,24.50484854268278,2.7751626093622352,4.4781889627352314,9.229127400506643,19.924675793851478,31.545107991408106,28.123931033847885,25.204416180695425,24.50484854268278,8.4333333333333328E-5]
["LKR","s",630,null,null,"r",600,"LKR-630-600",1.1903774892379182,6.0565329574784208,8.1909806172300073,14.945210656109705,24.555277566918971,18.402642256111438,13.200864630485636,8.9228210401019652,8.3333333333333337E-6," Pa=k*(l/s)^2",0,0,0,0,0,0,0,0,0,0,0,0,0,0,0,0,0]
[]
[]
[]
["LKR","s",100,null,null,"r",900,"LKR-100-900",2,5.5336037698290674,13.467900800516261,22.920318430596048,33.615467451247312,49.394328017122064,49.997156672249901,26.621662341095252,6.2103623516186817E-3," Pa=k*(l/s)^2",1,4.630198459552525,9.8273275467335033,18.944734804082309,38.308064110734598,50,50,44,1,4.630198459552525,9.8273275467335033,18.944734804082309,38.308064110734598,50,50,44,2.8210221795592249E-2]
["LKR","s",125,null,null,"r",900,"LKR-125-900",3,13.982778710423528,14.155842250651478,23.610927801138381,34.882855274063054,50,46.474791929153945,23.681137946927745,3.3155382815005198E-3," Pa=k*(l/s)^2",1,9.9368918952894418,13.964894492700255,24.876994427590851,44.479181054459445,50,50,40,1,9.9368918952894418,13.964894492700255,24.876994427590851,44.479181054459445,50,50,40,1.1526035895403476E-2]
["LKR","s",160,null,null,"r",900,"LKR-160-900",3.1754991898062217,11.981473648699852,15.216860757220754,22.915714689625698,35.935112451721423,50,33.988184995878285,21.027308546774044,8.8000000000000003E-4," Pa=k*(l/s)^2",1.4228210401019616,12.198000968378437,9.7849454688004176,26.240565553578961,43.288981577824018,50,45.549904692868097,34.651181135283721,1.4228210401019616,12.198000968378437,9.7849454688004176,26.240565553578961,43.288981577824018,50,45.549904692868097,34.651181135283721,4.0532186973130267E-3]
["LKR","s",200,null,null,"r",900,"LKR-200-900",4,7.9139466960551275,11.667781954206244,18.224075303952119,31.910146758682227,45.749443339518479,22.087873238325749,16.355869476184242,2.3525273446039035E-4," Pa=k*(l/s)^2",5.2316360006592086,8.3713075463220434,8.7310969417637487,24.027878107545941,38.058562581473858,46.301435175692411,35.297025281570107,30.175423274155019,5.2316360006592086,8.3713075463220434,8.7310969417637487,24.027878107545941,38.058562581473858,46.301435175692411,35.297025281570107,30.175423274155019,1.4412670272356022E-3,null,{"$f":"+AVERAGE(Q90,Q66)","v":{"$error":"#DIV/0!"}}]
["LKR","s",250,null,null,"r",900,"LKR-250-900",3,7.5691173264190494,13.24351312083092,22.633117581481841,38.865774107302421,36.344051906146959,21.700493367462638,13.948682404191741,1.8979591836734697E-4," Pa=k*(l/s)^2",9,4.5203958940370761,12.811611260240676,28.530375077770323,42.672162481939544,38.854969533646162,31.678701695563973,28.09013371327671,9,4.5203958940370761,12.811611260240676,28.530375077770323,42.672162481939544,38.854969533646162,31.678701695563973,28.09013371327671,9.9134924399045142E-4]
["LKR","s",315,null,null,"r",900,"LKR-315-900",3,4.6068697418708489,10.167310043896903,19.072491103364445,32.47723111927521,50,34.136277720226758,22.370026053172737,9.4352215962336685E-5," Pa=k*(l/s)^2",9.3068958143408267,3.4435200533839443,11.398857180271293,26.507812690618351,38.061922515890785,50,42.017849077436502,36.105692554553357,9.3068958143408267,3.4435200533839443,11.398857180271293,26.507812690618351,38.061922515890785,50,42.017849077436502,36.105692554553357,3.885736067133945E-4]
["LKR","s",400,null,null,"r",900,"LKR-400-900",3,5.6899220021970827,10.15933194106,17.169099580178219,31.512689199463935,38.481010306892557,23.6027797807646,14.110641521672157,4.125E-5," Pa=k*(l/s)^2",5.9633666508679886,5.5423187217804752,13.982409815607893,23.540478173394309,35.632996705592113,44.153593045244797,35.345271639961723,30.972412807164076,5.9633666508679886,5.5423187217804752,13.982409815607893,23.540478173394309,35.632996705592113,44.153593045244797,35.345271639961723,30.972412807164076,1.2608619456246062E-4]
["LKR","s",500,null,null,"r",900,"LKR-500-900",3,6.6259367299624259,11.757267025754885,21.351853599945933,35.594762759628466,35.393906691516115,24.330118328214134,14.202763175600765,2.6666666666666667E-5," Pa=k*(l/s)^2",6.201286192349988,6.6316232022351187,19.657249109238307,24.122958083731383,34.800436950589294,38.690634743319414,29.781547454703073,26.143962634754409,6.201286192349988,6.6316232022351187,19.657249109238307,24.122958083731383,34.800436950589294,38.690634743319414,29.781547454703073,26.143962634754409,9.8327295603651023E-5]
["LKR","s",630,null,null,"r",900,"LKR-630-900",4,6.2270357029432502,10.157548941800407,18.858953115347862,33.314246671511484,23.794762759628462,16.240660700186908,10.7330781488395,8.6666666666666661E-6," Pa=k*(l/s)^2",3.2415958327502157,6.5793067605627433,18.562698287062116,21.783218440619457,26.543327440699503,28.633078148839495,23.534870887914185,22.099232505544386,3.2415958327502157,6.5793067605627433,18.562698287062116,21.783218440619457,26.543327440699503,28.633078148839495,23.534870887914185,22.099232505544386,3.7861525815594017E-5]
[]
[]
[]
["LKR","s",100,null,null,"r",1200,"LKR-100-1200",3,10.018346122196402,17.377366476076425,29.754862721758183,42.942305909884993,50,50,35.800986634284804,9.4999999999999998E-3," Pa=k*(l/s)^2",5.1784513424897618,8.1785998261865203,16.095392060180366,27.613925666864112,49.825002638800058,50,50,46,5.1784513424897618,8.1785998261865203,16.095392060180366,27.613925666864112,49.825002638800058,50,50,46,2.9012659E-2]
["LKR","s",125,null,null,"r",1200,"LKR-125-1200",4,12.574620390989892,17.452836425262795,32.055871146713748,41.12894243421141,50,50,29.366106430339784,3.9970710272136554E-3," Pa=k*(l/s)^2",2.5979583158756903,15.969879340251907,17.736917651160581,33.634771774749836,50,50,50,42,2.5979583158756903,15.969879340251907,17.736917651160581,33.634771774749836,50,50,50,42,1.1598375437384812E-2]
["LKR","s",160,null,null,"r",1200,"LKR-160-1200",4,14.035563194969118,18.172433658543078,26.874224052179283,38.945490396617814,50,40.103370870833039,24.562803105147385,1.0300000000000001E-3," Pa=k*(l/s)^2",3.5943349252588614,12.050316221239699,13.157643060667974,31.22725853876436,50,50,50,37.285211578826214,3.5943349252588614,12.050316221239699,13.157643060667974,31.22725853876436,50,50,50,37.285211578826214,4.2438913486715427E-3]
["LKR","s",200,null,null,"r",1200,"LKR-200-1200",4,8.6006977028013107,13.5590836868178,20.869961491351052,37.393334462498572,50,27.174767342493986,18.953915383333246,2.6967703179169901E-4," Pa=k*(l/s)^2",8.2712438987168593,9.4130819397960348,11.530971513351517,28.947916318426699,48.063057758817152,50,41.331125363639842,33.928926603747634,8.2712438987168593,9.4130819397960348,11.530971513351517,28.947916318426699,48.063057758817152,50,41.331125363639842,33.928926603747634,1.5777539914535294E-3]
["LKR","s",250,null,null,"r",1200,"LKR-250-1200",4,10.216374878737211,19.294463720879587,27.144854137128377,40.474795169080735,45.983843686751342,27.394991515323724,17.759042445512669,2.1224489795918368E-4," Pa=k*(l/s)^2",10.692959963670281,5.5726354221636809,16.7603861798042,35.661172158437573,49.832456577961338,50,38.874819545644073,32.223372017460953,10.692959963670281,5.5726354221636809,16.7603861798042,35.661172158437573,49.832456577961338,50,38.874819545644073,32.223372017460953,8.9535500000000002E-4]
["LKR","s",315,null,null,"r",1200,"LKR-315-1200",4,8,16,25,41,50,45,32,1.0027172693378487E-4," Pa=k*(l/s)^2",13.899512974180983,4.3147678334084407,13.795862654406841,32.186440700543486,45.546176908142129,50,47.995356411652054,42.799927531845256,13.899512974180983,4.3147678334084407,13.795862654406841,32.186440700543486,45.546176908142129,50,47.995356411652054,42.799927531845256,3.6985584672831684E-4]
["LKR","s",400,null,null,"r",1200,"LKR-400-1200",4,7.4882715356262111,13.24961390171741,23.243591646565875,35.368006031740208,36.050651098302801,27.965117604036202,15.534320593899647,4.2324486594604924E-5," Pa=k*(l/s)^2",9.6209482245220315,7.449830769297801,16.601300796552046,30.186438677938433,47.87078851180717,50,45.653412056438569,36.939459468463994,9.6209482245220315,7.449830769297801,16.601300796552046,30.186438677938433,47.87078851180717,50,45.653412056438569,36.939459468463994,1.3278273422639406E-4]
["LKR","s",500,null,null,"r",1200,"LKR-500-1200",5,8,16,30,44,46,29,18,2.4454358459804645E-5," Pa=k*(l/s)^2",8.1510164084915786,7.8706418891589216,24.820551979209039,31.941203225844124,40.340653257938079,50,41.981955795398704,34.829103999927092,8.1510164084915786,7.8706418891589216,24.820551979209039,31.941203225844124,40.340653257938079,50,41.981955795398704,34.829103999927092,1.1314887220900166E-4]
["LKR","s",630,null,null,"r",1200,"LKR-630-1200",6,8.5688617257082083,15.079547980599733,27.08921011555374,44.35535753818727,32.749940175887403,20.883019235503347,14.327478792590059,8.3074326596222713E-6," Pa=k*(l/s)^2",4.899470389455117,9.0338638260770061,23.843961149970308,29.963057758817161,40.095507609277057,40.664893279991517,32.911781648365576,29.026857888639167,4.899470389455117,9.0338638260770061,23.843961149970308,29.963057758817161,40.095507609277057,40.664893279991517,32.911781648365576,29.026857888639167,3.1873934138141498E-5]
[]
[]
[]
["LKR","s",800,null,null,"r",1500,"LKR-800-1500",7,10,16,30,50,35,25,14,7.9999999999999996E-6," Pa=k*(l/s)^2",0,0,0,0,0,0,0,0,0,0,0,0,0,0,0,0,0]
["LKR","s",1000,null,null,"r",1500,"LKR-1000-1500",7,10,17,30,46,35,25,18,4.1999999999999996E-6," Pa=k*(l/s)^2",0,0,0,0,0,0,0,0,0,0,0,0,0,0,0,0,0]
["LKR","s",1250,null,null,"r",1500,"LKR-1250-1500",8,11,19,33,47,38,28,21,1.7E-6," Pa=k*(l/s)^2",0,0,0,0,0,0,0,0,0,0,0,0,0,0,0,0,0]
["LKL","r",null,null,150,"r",640,null,1,0.58311345666638847,3.3475634717849667,12.14672587509444,19.350316221239702,11.750669828421715,8.7292826750459103,5.9184465077937851,649923.19999999995,"Pa=k * ((l/s)/(b*h))^2"]
["LKL","r",null,null,150,"r",1000,null,1.6566593887193783,1.9500916366698124,6.3989833593585388,16.597533222290252,26.987350416751802,16.951614800911219,11.136690124484012,7.8440826641340724,743570,"Pa=k * ((l/s)/(b*h))^2"]
["LKL","r",null,null,150,"r",1240,null,2.3133187774387562,3.3170698166732357,9.4504032469321118,21.048340569486065,34.624384612263903,22.152559773400725,13.544097573922114,9.7697188204743597,806001.2,"Pa=k * ((l/s)/(b*h))^2"]
["LKL","r",null,null,150,"r",1500,null,2.9699781661581346,4.6840479966766599,12.501823134505683,25.499147916681878,42.261418807776003,27.353504745890231,15.951505023360216,11.695354976814647,873635,"Pa=k * ((l/s)/(b*h))^2"]
["LKL","r",null,null,200,"r",640,null,1.7187213067208331,2.2335046157491729,6.6254494262989203,13.090053922928277,14.590846904680514,8.3948225476698131,7.1025004903382483,6.6976800541022508,649923.19999999995,"Pa=k * ((l/s)/(b*h))^2"]
["LKL","r",null,null,200,"r",1000,null,5.0630240312959316,4.3869638929505568,9.4833497240015028,16.906642993031436,20.812446577771663,11.737014194009374,8.6341159493867821,7.5428127523479995,743570,"Pa=k * ((l/s)/(b*h))^2"]
["LKL","r",null,null,200,"r",1240,null,8.407326755871031,6.5404231701519411,12.341250021704084,20.723232063134599,27.034046250862815,15.079205840348937,10.165731408435317,8.3879454505937492,806001.2,"Pa=k * ((l/s)/(b*h))^2"]
["LKL","r",null,null,200,"r",1500,null,11.75162948044613,8.6938824473533245,15.199150319406666,24.539821133237758,33.255645923953963,18.421397486688498,11.697346867483851,9.233078148839498,873635,"Pa=k * ((l/s)/(b*h))^2"]
["LKL","r",null,null,250,"r",640,null,1,3.0136675932083303,7.163394950969221,12.557417263369853,11.814905141976249,7.2994703894551138,5.99065338103612,6.7531901647918557,649923.19999999995,"Pa=k * ((l/s)/(b*h))^2"]
["LKL","r",null,null,250,"r",1000,null,1,4.6787940945980875,9.7795396311403824,17.598282656522187,16.592756075506351,9.7920690544735134,7.2898594325661499,7.6997111101387885,743570,"Pa=k * ((l/s)/(b*h))^2"]
["LKL","r",null,null,250,"r",1240,null,1,6.3439205959878446,12.395684311311543,22.639148049674521,21.370607009036451,12.284667719491914,8.5890654840961798,8.6462320554857222,806001.2,"Pa=k * ((l/s)/(b*h))^2"]
["LKL","r",null,null,250,"r",1500,null,1,8.0090470973776018,15.011828991482703,27.680013442826855,26.148457942566552,14.777266384510312,9.8882715356262096,9.5927530008326549,873635,"Pa=k * ((l/s)/(b*h))^2"]
["LKL","r",null,null,300,"r",640,null,1,2.0677796520876863,6.6648944927002614,11.513445991805673,9.7149051419762404,6.1172057317222803,5.5558422506514802,5.7899220021970832,649923.19999999995,"Pa=k * ((l/s)/(b*h))^2"]
["LKL","r",null,null,300,"r",1000,null,1,3.878912054958926,9.2937551273648857,16.194046337234184,13.552416192853991,7.8429485828647811,6.4773023477990908,6.6340043994828219,743570,"Pa=k * ((l/s)/(b*h))^2"]
["LKL","r",null,null,300,"r",1240,null,1,5.6900444578301652,11.922615762029512,20.874646682662696,17.389927243731741,9.5686914340072828,7.3987624449467013,7.4780867967685616,806001.2,"Pa=k * ((l/s)/(b*h))^2"]
["LKL","r",null,null,300,"r",1500,null,1,7.5011768607014053,14.551476396694136,25.555247028091209,21.227438294609492,11.294434285149784,8.3202225420943119,8.3221691940543003,873635,"Pa=k * ((l/s)/(b*h))^2"]
["LKL","r",null,null,350,"r",640,null,1.645494891609125,1.6189255535446343,5.8722699133547085,11.548863811661185,17.903062956181099,13.157359460976416,7.7500652739814573,5.4261203877718254,649923.19999999995,"Pa=k * ((l/s)/(b*h))^2"]
["LKL","r",null,null,350,"r",1000,null,2.7480397369983205,3.003317011185997,8.444725164029407,15.747726957738699,25.374356122452323,17.639070510454641,10.080943017127867,6.7468374370566204,743570,"Pa=k * ((l/s)/(b*h))^2"]
["LKL","r",null,null,350,"r",1240,null,3.850584582387516,4.38770846882736,11.017180414704107,19.946590103816209,32.845649288723543,22.120781559932862,12.411820760274278,8.0675544863414146,806001.2,"Pa=k * ((l/s)/(b*h))^2"]
["LKL","r",null,null,350,"r",1500,null,4.9531294277767115,5.7720999264687229,13.589635665378806,24.145453249893723,40.316942454994766,26.602492609411087,14.742698503420687,9.3882715356262096,873635,"Pa=k * ((l/s)/(b*h))^2"]
["LKL","r",null,null,400,"r",640,null,0.53359019873935198,1.9516326493757692,5.7377308034227603,11.299107182234012,16.695356411652046,11.521414084408539,6.6500652739814567,5.3330781488394958,649923.19999999995,"Pa=k * ((l/s)/(b*h))^2"]
["LKL","r",null,null,400,"r",1000,null,1.4068782816911338,3.5339519985588739,8.1863921651040883,14.964962697826115,23.555382260665954,14.85661071935195,8.3650501242350881,6.477008568633055,743570,"Pa=k * ((l/s)/(b*h))^2"]
["LKL","r",null,null,400,"r",1240,null,2.2801663646429153,5.1162713477419786,10.635053526785414,18.63081821341822,30.415408109679866,18.19180735429536,10.08003497448872,7.6209389884266141,806001.2,"Pa=k * ((l/s)/(b*h))^2"]
["LKL","r",null,null,400,"r",1500,null,3.1534544475946973,6.6985906969250832,13.083714888466742,22.296673729010323,37.275433958693775,21.527003989238771,11.795019824742353,8.7648694082201732,873635,"Pa=k * ((l/s)/(b*h))^2"]
["LKK","r",null,600,1600,"r",640,"15A (lengde + baffel og spalt)",2,7,19,26,42,40,23,18,2.7674130410633432E-2,"Pa=k*((m³/h)/(B*(H/1000)))^2"]
["LKK","r",null,600,2000,"r",640,"15B (lengde + baffel og spalt)",2,6,17,20,29,27,17,12,2.823623213732513E-2,"Pa=k*((m³/h)/(B*(H/1000)))^2"]
["LKK","r",null,600,3000,"r",640,"15C (lengde + baffel og spalt)",2,5,14,19,28,22,14,9,2.3633584647264502E-2,"Pa=k*((m³/h)/(B*(H/1000)))^2"]
["LKK","r",null,600,3000,"r",640,"15D (lengde + baffel og spalt)",2,5,10,14,17,12,7,5,2.3320639935303904E-2,"Pa=k*((m³/h)/(B*(H/1000)))^2"]
["LKK","r",null,1000,3000,"r",640,"15E (lengde + baffel og spalt)",2,2,8,11,13,10,5,4,1.4710618898964375E-2,"Pa=k*((m³/h)/(B*(H/1000)))^2"]
["LKK","r",null,1000,3000,"r",640,"17C (lengde + baffel og spalt)",2,8,14,17,24,19,12,8,2.8898018828043704E-2,"Pa=k*((m³/h)/(B*(H/1000)))^2"]
["LKK","r",null,1000,3000,"r",640,"17D (lengde + baffel og spalt)",2,7,11,13,16,13,8,5,2.2211098929686333E-2,"Pa=k*((m³/h)/(B*(H/1000)))^2"]
["LKK","r",null,1200,3000,"r",640,"17E (lengde + baffel og spalt)",2,7,8,11,14,12,8,7,2.8740842346461477E-2,"Pa=k*((m³/h)/(B*(H/1000)))^2"]
["LKK","r",null,1400,3000,"r",640,"19D (lengde + baffel og spalt)",6,17,18,16,20,25,16,12,2.5022181122448979E-2,"Pa=k*((m³/h)/(B*(H/1000)))^2"]
["LKK","r",null,1500,3000,"r",640,"19E (lengde + baffel og spalt)",6,11,9,10,17,24,18,13,2.2349387755102042E-2,"Pa=k*((m³/h)/(B*(H/1000)))^2"]
["LKK","r",null,1600,3000,"r",640,"19F (lengde + baffel og spalt)",4,10,7,8,14,21,18,9,2.5724081632653065E-2,"Pa=k*((m³/h)/(B*(H/1000)))^2"]
["LKK","r",null,600,1600,"r",1240,"25A (lengde + baffel og spalt)",2,14,38,37,50,49,36,26,3.3208956492760115E-2,"Pa=k*((m³/h)/(B*(H/1000)))^2"]
["LKK","r",null,600,2000,"r",1240,"25B (lengde + baffel og spalt)",2,13,30,32,42,44,29,20,3.3883478564790154E-2,"Pa=k*((m³/h)/(B*(H/1000)))^2"]
["LKK","r",null,600,3000,"r",1240,"25C (lengde + baffel og spalt)",2,9,25,31,41,38,23,14,2.83603015767174E-2,"Pa=k*((m³/h)/(B*(H/1000)))^2"]
["LKK","r",null,600,3000,"r",1240,"25D (lengde + baffel og spalt)",2,11,18,24,30,24,13,8,2.7984767922364685E-2,"Pa=k*((m³/h)/(B*(H/1000)))^2"]
["LKK","r",null,1000,3000,"r",1240,"25E (lengde + baffel og spalt)",2,6,15,19,24,18,9,6,1.7652742678757251E-2,"Pa=k*((m³/h)/(B*(H/1000)))^2"]
["LKK","r",null,1000,3000,"r",1240,"27C (lengde + baffel og spalt)",3,18,24,31,42,36,21,13,3.4677622593652445E-2,"Pa=k*((m³/h)/(B*(H/1000)))^2"]
["LKK","r",null,1000,3000,"r",1240,"27D (lengde + baffel og spalt)",2,13,17,23,29,24,13,8,2.6653318715623601E-2,"Pa=k*((m³/h)/(B*(H/1000)))^2"]
["LKK","r",null,1200,3000,"r",1240,"27E (lengde + baffel og spalt)",3,14,14,20,24,19,12,9,3.4489010815753771E-2,"Pa=k*((m³/h)/(B*(H/1000)))^2"]
["LKK","r",null,1400,3000,"r",1240,"29D (lengde + baffel og spalt)",7,28,23,23,29,34,17,14,3.0026617346938771E-2,"Pa=k*((m³/h)/(B*(H/1000)))^2"]
["LKK","r",null,1500,3000,"r",1240,"29E (lengde + baffel og spalt)",7,19,13,15,25,34,22,18,2.6819265306122449E-2,"Pa=k*((m³/h)/(B*(H/1000)))^2"]
["LKK","r",null,1600,3000,"r",1240,"29F (lengde + baffel og spalt)",7,14,12,13,21,27,20,14,3.0868897959183676E-2,"Pa=k*((m³/h)/(B*(H/1000)))^2"]
["LKK","r",null,600,1600,"r",1500,"35A (lengde + baffel og spalt)",2,17,44,47,50,50,44,37,3.542288692561079E-2,"Pa=k*((m³/h)/(B*(H/1000)))^2"]
["LKK","r",null,600,2000,"r",1500,"35B (lengde + baffel og spalt)",2,16,38,43,42,46,38,27,3.6142377135776164E-2,"Pa=k*((m³/h)/(B*(H/1000)))^2"]
["LKK","r",null,600,3000,"r",1500,"35C (lengde + baffel og spalt)",2,11,31,41,50,48,30,19,3.0250988348498559E-2,"Pa=k*((m³/h)/(B*(H/1000)))^2"]
["LKK","r",null,600,3000,"r",1500,"35D (lengde + baffel og spalt)",2,12,23,31,38,29,17,11,2.9850419117188998E-2,"Pa=k*((m³/h)/(B*(H/1000)))^2"]
["LKK","r",null,1000,3000,"r",1500,"35E (lengde + baffel og spalt)",2,6,19,24,30,22,12,8,1.8829592190674399E-2,"Pa=k*((m³/h)/(B*(H/1000)))^2"]
["LKK","r",null,1000,3000,"r",1500,"37C (lengde + baffel og spalt)",5,20,31,41,42,41,27,17,3.6989464099895938E-2,"Pa=k*((m³/h)/(B*(H/1000)))^2"]
["LKK","r",null,1000,3000,"r",1500,"37D (lengde + baffel og spalt)",2,16,23,29,39,30,17,11,2.8430206629998508E-2,"Pa=k*((m³/h)/(B*(H/1000)))^2"]
["LKK","r",null,1200,3000,"r",1500,"37E (lengde + baffel og spalt)",4,17,17,27,31,25,17,14,3.6788278203470685E-2,"Pa=k*((m³/h)/(B*(H/1000)))^2"]
["LKK","r",null,1400,3000,"r",1500,"39D (lengde + baffel og spalt)",8,31,27,26,33,37,20,14,3.2028391836734685E-2,"Pa=k*((m³/h)/(B*(H/1000)))^2"]
["LKK","r",null,1500,3000,"r",1500,"39E (lengde + baffel og spalt)",9,22,15,17,29,37,26,21,2.8607216326530609E-2,"Pa=k*((m³/h)/(B*(H/1000)))^2"]
["LKK","r",null,1600,3000,"r",1500,"39F (lengde + baffel og spalt)",8,18,13,15,25,29,24,16,3.2926824489795919E-2,"Pa=k*((m³/h)/(B*(H/1000)))^2"]
["LKK","r",null,600,1600,"r",1880,"45A (lengde + baffel og spalt)",3,21,50,47,50,50,44,44,3.7636817358461465E-2,"Pa=k*((m³/h)/(B*(H/1000)))^2"]
["LKK","r",null,600,2000,"r",1880,"45B (lengde + baffel og spalt)",3,19,45,43,42,46,42,34,3.8401275706762175E-2,"Pa=k*((m³/h)/(B*(H/1000)))^2"]
["LKK","r",null,600,3000,"r",1880,"45C (lengde + baffel og spalt)",3,14,37,50,50,48,38,24,3.2141675120279718E-2,"Pa=k*((m³/h)/(B*(H/1000)))^2"]
["LKK","r",null,600,3000,"r",1880,"45D (lengde + baffel og spalt)",2,15,29,39,41,36,21,14,3.171607031201331E-2,"Pa=k*((m³/h)/(B*(H/1000)))^2"]
["LKK","r",null,1000,3000,"r",1880,"45E (lengde + baffel og spalt)",2,8,23,31,38,28,15,10,2.0006441702591551E-2,"Pa=k*((m³/h)/(B*(H/1000)))^2"]
["LKK","r",null,1000,3000,"r",1880,"47C (lengde + baffel og spalt)",6,25,39,41,42,41,34,22,3.9301305606139439E-2,"Pa=k*((m³/h)/(B*(H/1000)))^2"]
["LKK","r",null,1000,3000,"r",1880,"47D (lengde + baffel og spalt)",3,21,29,37,41,38,22,14,3.0207094544373411E-2,"Pa=k*((m³/h)/(B*(H/1000)))^2"]
["LKK","r",null,1200,3000,"r",1880,"47E (lengde + baffel og spalt)",5,22,22,36,40,31,21,17,3.9087545591187607E-2,"Pa=k*((m³/h)/(B*(H/1000)))^2"]
["LKK","r",null,1400,3000,"r",1880,"49D (lengde + baffel og spalt)",9,33,31,30,37,40,22,16,3.4030166326530609E-2,"Pa=k*((m³/h)/(B*(H/1000)))^2",null,null,null,null,null,null,null,null,"Total ekstra vinkelbeinlengde:",null,null,null,null,null,{"$f":"+UI!J14+UI!J15-200","v":500}]
["LKK","r",null,1500,3000,"r",1880,"49E (lengde + baffel og spalt)",9,25,17,20,32,41,35,23,3.0395167346938774E-2,"Pa=k*((m³/h)/(B*(H/1000)))^2",null,null,null,null,null,null,null,null,"(2 x 100 mm er med i utg.punktet)"]
["LKK","r",null,1600,3000,"r",1880,"49F (lengde + baffel og spalt)",9,22,16,18,29,32,29,18,3.498475102040817E-2,"Pa=k*((m³/h)/(B*(H/1000)))^2",null,null,null,null,null,null,null,null,"dB/mm>100"]
["LKK","r",null,600,1600,"r",2480,"55A (lengde + baffel og spalt)",4,28,50,47,50,50,44,44,3.985074779131214E-2,"Pa=k*((m³/h)/(B*(H/1000)))^2",9.8765031493402002,13.020733666642087,32.815260341602638,44.116065197227705,50,50,50,47.891460315578904,{"$f":"+I163/$G163","v":1.6129032258064516E-3},{"$f":"+J163/$G163","v":1.1290322580645161E-2},{"$f":"+K163/$G163","v":2.0161290322580645E-2},{"$f":"+L163/$G163","v":1.8951612903225806E-2},{"$f":"+M163/$G163","v":2.0161290322580645E-2},{"$f":"+N163/$G163","v":2.0161290322580645E-2},{"$f":"+O163/$G163","v":1.7741935483870968E-2},{"$f":"+P163/$G163","v":1.7741935483870968E-2}]
["LKK","r",null,600,2000,"r",2480,"55B (lengde + baffel og spalt)",4,26,50,43,42,46,42,41,4.0660174277748186E-2,"Pa=k*((m³/h)/(B*(H/1000)))^2",9.7221691940542971,12.17692515434862,26.587277191418007,42.582005399120206,50,50,45.297310755938753,43.125331567235818,{"$f":"+I164/$G164","v":1.6129032258064516E-3},1.0483870967741936E-2,2.0161290322580645E-2,1.7338709677419354E-2,1.6935483870967744E-2,1.8548387096774192E-2,1.6935483870967744E-2,1.653225806451613E-2]
["LKK","r",null,600,3000,"r",2480,"55C (lengde + baffel og spalt)",4,18,46,50,50,48,45,31,3.4032361892060881E-2,"Pa=k*((m³/h)/(B*(H/1000)))^2",7.0221691940542978,8.5365786086483499,22.237834161899215,35.513309188948227,42.265440897192242,48.531309864629314,36.870449976215426,35.360742474664292,1.6129032258064516E-3,7.2580645161290326E-3,1.8548387096774192E-2,2.0161290322580645E-2,2.0161290322580645E-2,1.935483870967742E-2,1.8145161290322582E-2,1.2500000000000001E-2]
["LKK","r",null,600,3000,"r",2480,"55D (lengde + baffel og spalt)",2,20,38,42,41,41,27,18,3.3581721506837622E-2,"Pa=k*((m³/h)/(B*(H/1000)))^2",6.7907907477306173,9.6736264432920898,19.69539206018036,33.791420576987434,39.018446507793783,38.76576544513334,27.769096144011101,29.581473648699848,8.0645161290322581E-4,8.0645161290322578E-3,1.532258064516129E-2,1.6935483870967744E-2,1.653225806451613E-2,1.653225806451613E-2,1.0887096774193548E-2,7.2580645161290326E-3]
["LKK","r",null,1000,3000,"r",2480,"55E (lengde + baffel og spalt)",2,11,31,41,41,37,20,13,2.1183291214508699E-2,"Pa=k*((m³/h)/(B*(H/1000)))^2",5.7856936213771846,5.5218036206257377,16.301339961237495,28.399636238225593,31.352474812555069,28.150349393708396,21.769621159522814,26.425506489695621,8.0645161290322581E-4,4.435483870967742E-3,1.2500000000000001E-2,1.653225806451613E-2,1.653225806451613E-2,1.4919354838709677E-2,8.0645161290322578E-3,5.2419354838709681E-3]
["LKK","r",null,1000,3000,"r",2480,"57C (lengde + baffel og spalt)",7,33,50,41,42,41,41,32,4.1613147112382932E-2,"Pa=k*((m³/h)/(B*(H/1000)))^2",8.545541514739373,14.630546874382922,27.192529510837204,44.86611337734135,50,50,38.549033228108094,37.094705048704682,2.8225806451612902E-3,1.3306451612903225E-2,2.0161290322580645E-2,1.653225806451613E-2,1.6935483870967744E-2,1.653225806451613E-2,1.653225806451613E-2,1.2903225806451613E-2]
["LKK","r",null,1000,3000,"r",2480,"57D (lengde + baffel og spalt)",4,27,38,42,41,42,28,19,3.1983982458748318E-2,"Pa=k*((m³/h)/(B*(H/1000)))^2",7.6781131707778689,9.3538859686012454,19.295117023131738,32.214048128950402,40.383440006823939,37.16454473765674,27.61901609095889,29.670659225583442,1.6129032258064516E-3,1.0887096774193548E-2,1.532258064516129E-2,1.6935483870967744E-2,1.653225806451613E-2,1.6935483870967744E-2,1.1290322580645161E-2,7.6612903225806448E-3]
["LKK","r",null,1200,3000,"r",2480,"57E (lengde + baffel og spalt)",6,28,30,41,41,41,27,23,4.1386812978904522E-2,"Pa=k*((m³/h)/(B*(H/1000)))^2",8.8207126739256783,11.678468873587224,22.860632349848196,33.690063730997053,32.29822698081955,28.993762388541235,22.898628100077779,27.611114528449974,2.4193548387096775E-3,1.1290322580645161E-2,1.2096774193548387E-2,1.653225806451613E-2,1.653225806451613E-2,1.653225806451613E-2,1.0887096774193548E-2,9.2741935483870962E-3]
["LKK","r",null,1400,3000,"r",2480,"59D (lengde + baffel og spalt)",9,40,37,36,41,42,23,17,3.6031940816326519E-2,"Pa=k*((m³/h)/(B*(H/1000)))^2",17,20,25,32,40,48.68,32.159999999999997,37.6,3.6290322580645163E-3,1.6129032258064516E-2,1.4919354838709677E-2,1.4516129032258065E-2,1.653225806451613E-2,1.6935483870967744E-2,9.2741935483870962E-3,6.8548387096774195E-3]
["LKK","r",null,1500,3000,"r",2480,"59E (lengde + baffel og spalt)",10,32,22,28,41,47,40,28,3.2183118367346934E-2,"Pa=k*((m³/h)/(B*(H/1000)))^2",16,16,21,27,33,44.68,33.159999999999997,36.6,4.0322580645161289E-3,1.2903225806451613E-2,8.870967741935484E-3,1.1290322580645161E-2,1.653225806451613E-2,1.8951612903225806E-2,1.6129032258064516E-2,1.1290322580645161E-2]
["LKK","r",null,1600,3000,"r",2480,"59F (lengde + baffel og spalt)",9,26,20,24,36,38,31,23,3.7042677551020413E-2,"Pa=k*((m³/h)/(B*(H/1000)))^2",15,12,20,24,29,37.68,31.16,32.6,3.6290322580645163E-3,1.0483870967741936E-2,8.0645161290322578E-3,9.6774193548387101E-3,1.4516129032258065E-2,1.532258064516129E-2,1.2500000000000001E-2,9.2741935483870962E-3]
["LKK-V","r",null,600,1600,"r",null,"5A (baffel og spalt)",null,null,null,null,null,null,null,null,null,null,{"$f":"+IF(S163+AA174>50,50,S163+AA174)","v":10.682954762243426},{"$f":"+IF(T163+AB174>50,50,T163+AB174)","v":18.665894956964667},{"$f":"+IF(U163+AC174>50,50,U163+AC174)","v":42.895905502892958},{"$f":"+IF(V163+AD174>50,50,V163+AD174)","v":50},{"$f":"+IF(W163+AE174>50,50,W163+AE174)","v":50},{"$f":"+IF(X163+AF174>50,50,X163+AF174)","v":50},{"$f":"+IF(Y163+AG174>50,50,Y163+AG174)","v":50},{"$f":"+IF(Z163+AH174>50,50,Z163+AH174)","v":50},{"$f":"+$AG$160*AA163","v":0.80645161290322576},5.6451612903225801,10.080645161290322,9.4758064516129039,10.080645161290322,10.080645161290322,8.870967741935484,8.870967741935484,0.12095876478172751]
["LKK-V","r",null,600,2000,"r",null,"5B (baffel og spalt)",null,null,null,null,null,null,null,null,null,null,{"$f":"+IF(S164+AA175>50,50,S164+AA175)","v":10.528620806957523},17.418860638219588,36.667922352708331,50,50,50,50,50,0.80645161290322576,5.241935483870968,10.080645161290322,8.6693548387096762,8.4677419354838719,9.2741935483870961,8.4677419354838719,8.2661290322580641,0.10165043569437048]
["LKK-V","r",null,600,3000,"r",null,"5C (baffel og spalt)",null,null,null,null,null,null,null,null,null,null,7.8286208069575238,12.165610866712866,31.512027710286311,45.593954350238548,50,50,45.943030621376721,41.610742474664292,0.80645161290322576,3.6290322580645165,9.2741935483870961,10.080645161290322,10.080645161290322,9.67741935483871,9.0725806451612918,6.25,7.1509309712640245E-2]
["LKK-V","r",null,600,3000,"r",null,"5D (baffel og spalt)",null,null,null,null,null,null,null,null,null,null,7.1940165541822303,13.705884507808218,27.356682382761004,42.259162512471306,47.284575540051847,47.031894477391404,33.212644531107877,33.210505906764368,0.40322580645161288,4.032258064516129,7.661290322580645,8.4677419354838719,8.2661290322580641,8.2661290322580641,5.443548387096774,3.6290322580645165,6.7788429088310731E-2]
["LKK-V","r",null,1000,3000,"r",null,"5E (baffel og spalt)",null,null,null,null,null,null,null,null,null,null,6.1889194278287976,7.7395455561096087,22.551339961237495,36.665765270483661,39.618603844813137,35.610026813063236,25.801879224038942,29.046474231631105,0.40322580645161288,2.217741935483871,6.25,8.2661290322580641,8.2661290322580641,7.459677419354839,4.032258064516129,2.620967741935484,6.5079317255082536E-2]
["LKK-V","r",null,1000,3000,"r",null,"7C (baffel og spalt)",null,null,null,null,null,null,null,null,null,null,9.9568318373200171,21.283772680834534,37.273174672127524,50,50,50,46.815162260366158,43.54631795193049,1.411290322580645,6.6532258064516121,10.080645161290322,8.2661290322580641,8.4677419354838719,8.2661290322580641,8.2661290322580641,6.4516129032258061,7.6289076658794905E-2]
["LKK-V","r",null,1000,3000,"r",null,"7D (baffel og spalt)",null,null,null,null,null,null,null,null,null,null,8.484564783681094,14.797434355698019,26.956407345712382,40.681790064434274,48.649569039082003,45.632286673140612,33.264177381281471,33.501304386873763,0.80645161290322576,5.443548387096774,7.661290322580645,8.4677419354838719,8.2661290322580641,8.4677419354838719,5.6451612903225801,3.8306451612903225,6.2191077003121729E-2]
["LKK-V","r",null,1200,3000,"r",null,"7E (baffel og spalt)",null,null,null,null,null,null,null,null,null,null,10.030390093280516,17.323630163909804,28.909019446622388,41.956192763255117,40.564356013077614,37.259891420799299,28.342176487174555,32.248211302643526,1.2096774193548387,5.6451612903225801,6.0483870967741931,8.2661290322580641,8.2661290322580641,8.2661290322580641,5.443548387096774,4.637096774193548,8.5648046700189523E-2]
["LKK-V","r",null,1400,3000,"r",null,"9D (baffel og spalt)",null,null,null,null,null,null,null,null,null,null,18.81451612903226,28.064516129032256,32.45967741935484,39.258064516129032,48.266129032258064,50,36.797096774193548,41.027419354838713,1.8145161290322582,8.064516129032258,7.459677419354839,7.2580645161290329,8.2661290322580641,8.4677419354838719,4.637096774193548,3.42741935483871,7.5066543367346944E-2]
["LKK-V","r",null,1500,3000,"r",null,"9E (baffel og spalt)",null,null,null,null,null,null,null,null,null,null,18.016129032258064,22.451612903225808,25.435483870967744,32.645161290322577,41.266129032258064,50,41.224516129032253,42.245161290322585,{"$f":"+$AG$160*AA172","v":2.0161290322580645},6.4516129032258061,4.435483870967742,5.6451612903225801,8.2661290322580641,9.4758064516129039,8.064516129032258,5.6451612903225801,6.7048163265306132E-2]
["LKK-V","r",null,1600,3000,"r",null,"9F (baffel og spalt)",null,null,null,null,null,null,null,null,null,null,16.81451612903226,17.241935483870968,24.032258064516128,28.838709677419356,36.258064516129032,45.341290322580647,37.409999999999997,37.237096774193546,{"$f":"+$AG$160*AA173","v":1.8145161290322582},5.241935483870968,4.032258064516129,4.838709677419355,7.2580645161290329,7.661290322580645,6.25,4.637096774193548,7.7172244897959194E-2]

{"sheet":"rullegardinmenyer","index":12,"n_rows":40,"n_cols":2,"rows_kept":40,"cut":false,"hidden":true,"merged":[]}
[]
["Dimensjon","bredde"]
[125,150]
[125,200]
[160,250]
[200,300]
[250,350]
[315,400]
[400,450]
[500,500]
[630,550]
[null,600]
[null,650]
[null,700]
[null,750]
[null,800]
[null,850]
[null,900]
[null,950]
[null,1000]
[null,1100]
[null,1200]
[null,1300]
[null,1400]
[null,1500]
[null,1600]
[null,1700]
[null,1800]
[null,1900]
[null,2000]
[null,2100]
[null,2200]
[null,2300]
[null,2400]
[null,2500]
[null,2600]
[null,2700]
[null,2800]
[null,2900]
[null,3000]

{"sheet":"Betingede formater","index":13,"n_rows":8,"n_cols":4,"rows_kept":8,"cut":false,"hidden":true,"merged":[]}
["Oversikt over betinget formatering"]
[]
["Celler/ område",null,"dersom","format"]
["fra","til"]
["b3","c4","sirk/rekt","grått"]
["b6","c6","b/c7 er angitt","hvit"]
["f3","m5","avh. av dempn.input"]
["b15","o26","antall lyddempere"]

{"sheet":"knapper","index":14,"n_rows":9,"n_cols":3,"rows_kept":9,"cut":false,"hidden":false,"merged":[]}
["rekt=1/ sirk=2",1]
["A-verdi i rom:",true]
["antall i serie:",null,{"$f":"+IF(skjermbilde!D2=2,\"x2\",\"\")","v":""}]
[null,1]
["Sorter etter: 1 = dp /24 = Lp",1]
[]
["2 = l/s, 1 = m³/h",1]
["vinkel = 1, rett = 2"]
["to i serie = 2, én = 1"]

{"sheet":"UI","index":15,"n_rows":15,"n_cols":10,"rows_kept":15,"cut":false,"hidden":false,"merged":[]}
[]
[]
[]
[]
[]
[]
[]
[]
[]
[]
[]
[]
[]
[null,null,null,null,null,null,null,null,"U =",300]
[null,null,null,null,null,null,null,null,"I =",400]

{"sheet":"LSR","index":16,"n_rows":0,"n_cols":0,"rows_kept":0,"cut":false,"hidden":false,"merged":[]}

{"sheet":"LEV","index":17,"n_rows":0,"n_cols":0,"rows_kept":0,"cut":false,"hidden":false,"merged":[]}

{"sheet":"LKR","index":18,"n_rows":0,"n_cols":0,"rows_kept":0,"cut":false,"hidden":false,"merged":[]}

{"sheet":"LKRV","index":19,"n_rows":0,"n_cols":0,"rows_kept":0,"cut":false,"hidden":false,"merged":[]}

{"sheet":"LKL","index":20,"n_rows":0,"n_cols":0,"rows_kept":0,"cut":false,"hidden":false,"merged":[]}

{"sheet":"LKK","index":21,"n_rows":0,"n_cols":0,"rows_kept":0,"cut":false,"hidden":false,"merged":[]}

{"sheet":"LKKV","index":22,"n_rows":0,"n_cols":0,"rows_kept":0,"cut":false,"hidden":false,"merged":[]}